{"text_format":"1","workbook":"xlsx","n_sheets":18,"sheets":["基本入力画面","説明書","内訳明細書作成作業選択画面","請求明細書作成作業選択画面","内訳明細書入力画面","内訳明細印刷（取極め用）","内訳明細出力（取極め用）","請求明細書入力印刷画面","請求明細書入力印刷画面_保存","請求明細印刷（取極め用）","請求書表紙納品検収書入力印刷画面","請求書表紙印刷（取極め用）1","請求書表紙印刷（取極め用）2","請求書表紙印刷（取極め用）3","納品・検収書印刷（取極め用）1","納品・検収書印刷（取極め用）2","納品・検収書印刷（取極め用）3","設定"],"not_rendered":{"charts":0,"images":0,"macros":1,"external_links":0,"defined_names":26,"comments":1,"pivot_tables":0},"unopened":[],"bounds":{"document_bytes":16777216,"sheet_cells":100000,"rows_first":2000,"rows_last":500,"rows_between":2000,"halvings":0,"cell_chars":16384,"cell_head_chars":4096},"cells_cut":0,"cells_raw":0,"read":"whole","date_system":"1900"}

{"sheet":"基本入力画面","index":0,"n_rows":28,"n_cols":26,"rows_kept":28,"cut":false,"hidden":false,"merged":[[26,9,26,12],[20,17,20,18],[21,17,21,19],[14,4,14,18],[22,6,22,9],[22,3,22,5],[21,4,21,9],[21,11,21,12],[21,13,21,16],[26,5,26,7],[17,3,17,23],[20,14,20,15],[20,4,20,9],[24,4,24,16],[12,10,12,11],[20,11,20,12],[0,2,0,23],[12,4,12,5],[12,7,12,8],[1,2,1,23],[8,8,8,10],[2,3,2,23],[8,5,8,6],[6,4,6,16],[4,4,4,16],[10,4,10,18],[12,15,12,17]]}
[null,null,"基本入力画面"]
[null,null,"＊白抜き部分を入力して下さい。"]
[null,null,null,"契約時入力"]
[]
[null,null,null,"会　　社　　名",null,null,null,null,null,null,null,null,null,null,null,null,null,"（全角２０文字以内）"]
[]
[null,null,null,"支店・営業所名",null,null,null,null,null,null,null,null,null,null,null,null,null,"（全角２０文字以内）"]
[]
[null,null,null,"住　　　　　　所","〒",null,null,"-"]
[]
[null,null,null,null,null,null,null,null,null,null,null,null,null,null,null,null,null,null,null,"（全角２５文字以内）"]
[]
[null,null,null,"電　話　番　号",null,null,"-",null,null,"-"]
[]
[null,null,null,"工事名称入力",null,null,null,null,null,null,null,null,null,null,null,null,null,null,null,"（全角２５文字以内【半角文字不可】）"]
[]
[]
[null,null,null,"請求時入力"]
[null,null,null,"以下の項目は請求時必須です。注文書を参照のうえ、入力してください。"]
[]
[null,null,null,"注文No.",null,null,null,null,null,null,"－",null,null,"－",null,null,"－"]
[null,null,null,null,"(  工 事 番 号  ）",null,null,null,null,null,null,"(枝番）",null,"(発注番号）",null,null,null,"(変更回数）"]
[null,null,null,"仕入先コード入力",null,null,null,null,null,null,"（６桁）"]
[]
[null,null,null,"注文件名",null,null,null,null,null,null,null,null,null,null,null,null,null,"（全角２０文字以内【半角文字不可】）"]
[]
[null,null,null,"注文区分",null,null,null,null,null,null,null,null,null,null,null,null,null,null,null,null,null,null,null,null,null,false]
[null,null,null,null,null,null,null,null,null,null,null,null,null,null,null,null,null,null,null,null,null,null,null,null,null,false]

{"sheet":"説明書","index":1,"n_rows":15,"n_cols":5,"rows_kept":15,"cut":false,"hidden":false,"merged":[[14,2,14,4]]}
[]
[null,"【契約時】"]
[null,"提出様式","内訳明細書（取極め用）"]
[null,"提出部数","２部提出してください。"]
[null,"注意事項","右上部に、「住所」、「会社名」を記載してください。\n（但し、基本入力画面で入力した場合、転記されます。）"]
[null,null,"金額欄は、必ず「税別金額合計」、「消費税額」、「税込金額合計」を記載してください。"]
[null,null,"変更の場合は、「現在内容」と「変更後内容」を記載してください。"]
[]
[null,"【請求時】"]
[null,"提出様式","請求書（取極め用）","請求明細書（取極め用）","納品・検収書（取極め用）"]
[null,"提出部数","３部提出してください。","３部提出してください。","１部提出してください。"]
[null,"注意事項","太枠内は必ず記載してください。（注文書参照）","右上部に、「住所」、「会社名」を記載してください。\n（但し、基本入力画面で入力した場合、転記されます。）","太枠内は必ず記載してください。（注文書参照）"]
[null,null,null,"最下段には「注文№」を記載してください。\n（但し、基本入力画面で入力した場合、転記されます。）","作業所にて検収押印後、返却いたします。"]
[null,null,null,"金額欄は、必ず「税別金額合計」、「消費税額」、「税込金額合計」を記載してください。"]
[null,"提出期限","毎月月末日締切り、翌月５日までに作業所必着でお願いします。"]

{"sheet":"内訳明細書作成作業選択画面","index":2,"n_rows":16,"n_cols":7,"rows_kept":16,"cut":false,"hidden":true,"merged":[[11,5,14,11],[15,5,18,11],[2,4,2,5],[5,4,6,11],[7,5,10,11],[2,6,2,11]]}
[]
[]
[null,null,null,null,"工事名：",null,{"$f":"IF(基本入力画面!E15=\"\",\"\",基本入力画面!E15)","v":""}]
[]
[]
[null,null,null,null,"内訳明細書作成作業選択"]
[]
[null,null,null,null,null,"新規契約用内訳明細書を作成する場合"]
[]
[]
[]
[null,null,null,null,null,"変更契約用内訳明細書を作成する場合\n（単価変更の時は、更新操作が含まれます。）"]
[]
[]
[]
[null,null,null,null,null,"保存作業の継続や内容確認を行う場合"]

{"sheet":"請求明細書作成作業選択画面","index":3,"n_rows":16,"n_cols":7,"rows_kept":16,"cut":false,"hidden":true,"merged":[[11,5,14,11],[15,5,18,11],[2,4,2,5],[5,4,6,11],[7,5,10,11],[2,6,2,11]]}
[]
[]
[null,null,null,null,"工事名：",null,{"$f":"IF(基本入力画面!E15=\"\",\"\",基本入力画面!E15)","v":""}]
[]
[]
[null,null,null,null,"請求明細書作成作業選択"]
[]
[null,null,null,null,null,"第１回目の出来高請求を行う場合"]
[]
[]
[]
[null,null,null,null,null,"第2回目以降の出来高請求を行う場合\n（請求累計金額更新されます。）"]
[]
[]
[]
[null,null,null,null,null,"保存作業の継続や内容確認を行う場合"]

{"sheet":"内訳明細書入力画面","index":4,"n_rows":325,"n_cols":22,"rows_kept":325,"cut":false,"hidden":true,"merged":[[39,19,39,20],[39,21,39,22],[39,1,39,6],[39,7,39,11],[39,15,39,16],[39,17,39,18],[35,1,35,6],[35,7,35,11],[35,15,35,16],[35,17,35,18],[36,1,36,6],[36,7,36,11],[36,15,36,16],[36,17,36,18],[37,19,37,20],[37,21,37,22],[38,19,38,20],[38,21,38,22],[35,19,35,20],[35,21,35,22],[36,19,36,20],[36,21,36,22],[38,15,38,16],[38,17,38,18],[37,15,37,16],[37,17,37,18],[37,1,37,6],[37,7,37,11],[38,1,38,6],[38,7,38,11],[30,7,30,11],[30,15,30,16],[30,17,30,18],[30,19,30,20],[30,21,30,22],[32,7,32,11],[32,15,32,16],[32,17,32,18],[31,1,31,6],[31,7,31,11],[31,15,31,16],[31,17,31,18],[33,19,33,20],[33,21,33,22],[34,19,34,20],[34,21,34,22],[31,19,31,20],[31,21,31,22],[32,19,32,20],[32,21,32,22],[34,15,34,16],[34,17,34,18],[33,15,33,16],[33,17,33,18],[33,1,33,6],[33,7,33,11],[34,1,34,6],[34,7,34,11],[25,0,39,0],[25,1,25,6],[25,7,25,11],[25,15,25,16],[27,1,27,6],[27,7,27,11],[27,15,27,16],[29,1,29,6],[29,7,29,11],[29,15,29,16],[25,17,25,18],[25,19,25,20],[25,21,25,22],[26,1,26,6],[26,7,26,11],[26,15,26,16],[26,17,26,18],[26,19,26,20],[26,21,26,22],[27,17,27,18],[27,19,27,20],[27,21,27,22],[28,1,28,6],[28,7,28,11],[28,15,28,16],[28,17,28,18],[28,19,28,20],[28,21,28,22],[29,17,29,18],[29,19,29,20],[29,21,29,22],[30,1,30,6],[52,21,52,22],[53,19,53,20],[53,21,53,22],[50,17,50,18],[50,19,50,20],[50,21,50,22],[51,19,51,20],[51,21,51,22],[52,15,52,16],[52,17,52,18],[54,19,54,20],[52,7,52,11],[53,1,53,6],[53,7,53,11],[53,15,53,16],[52,19,52,20],[54,21,54,22],[54,1,54,6],[54,7,54,11],[54,15,54,16],[54,17,54,18],[53,17,53,18],[47,19,47,20],[47,21,47,22],[47,7,47,11],[47,15,47,16],[47,17,47,18],[48,7,48,11],[49,1,49,6],[49,7,49,11],[49,15,49,16],[48,19,48,20],[48,21,48,22],[49,19,49,20],[49,21,49,22],[49,17,49,18],[48,15,48,16],[48,17,48,18],[51,1,51,6],[51,7,51,11],[51,15,51,16],[51,17,51,18],[50,1,50,6],[50,7,50,11],[50,15,50,16],[43,19,43,20],[43,21,43,22],[44,21,44,22],[45,1,45,6],[45,7,45,11],[45,15,45,16],[45,17,45,18],[45,19,45,20],[45,21,45,22],[46,1,46,6],[46,7,46,11],[46,15,46,16],[46,17,46,18],[44,17,44,18],[44,19,44,20],[46,19,46,20],[46,21,46,22],[69,19,69,20],[69,21,69,22],[69,1,69,6],[69,7,69,11],[69,15,69,16],[69,17,69,18],[40,0,54,0],[40,1,40,6],[40,7,40,11],[40,15,40,16],[42,1,42,6],[42,7,42,11],[42,15,42,16],[44,1,44,6],[44,7,44,11],[44,15,44,16],[40,17,40,18],[40,19,40,20],[40,21,40,22],[41,1,41,6],[41,7,41,11],[41,15,41,16],[41,17,41,18],[41,19,41,20],[41,21,41,22],[42,17,42,18],[42,19,42,20],[42,21,42,22],[43,1,43,6],[43,7,43,11],[43,15,43,16],[43,17,43,18],[66,7,66,11],[61,21,61,22],[62,19,62,20],[62,21,62,22],[65,17,65,18],[64,21,64,22],[65,21,65,22],[66,19,66,20],[66,21,66,22],[65,19,65,20],[65,7,65,11],[65,15,65,16],[66,15,66,16],[66,17,66,18],[68,19,68,20],[68,21,68,22],[67,21,67,22],[68,7,68,11],[68,15,68,16],[68,17,68,18],[67,15,67,16],[67,17,67,18],[67,19,67,20],[67,7,67,11],[55,0,69,0],[55,1,55,6],[55,7,55,11],[55,15,55,16],[57,1,57,6],[59,17,59,18],[59,19,59,20],[57,17,57,18],[57,19,57,20],[57,21,57,22],[58,1,58,6],[58,7,58,11],[58,15,58,16],[58,17,58,18],[58,19,58,20],[63,1,63,6],[63,7,63,11],[63,15,63,16],[63,17,63,18],[59,21,59,22],[60,1,60,6],[60,7,60,11],[60,15,60,16],[60,17,60,18],[60,19,60,20],[63,21,63,22],[61,7,61,11],[61,15,61,16],[61,17,61,18],[62,7,62,11],[62,15,62,16],[62,17,62,18],[305,15,305,16],[305,17,305,18],[306,1,306,6],[306,7,306,11],[306,15,306,16],[306,17,306,18],[307,19,307,20],[307,21,307,22],[308,19,308,20],[308,21,308,22],[305,19,305,20],[305,21,305,22],[306,19,306,20],[306,21,306,22],[309,21,309,22],[309,1,309,6],[309,7,309,11],[309,15,309,16],[309,17,309,18],[308,15,308,16],[308,17,308,18],[308,1,308,6],[308,7,308,11],[309,19,309,20],[307,15,307,16],[307,17,307,18],[307,1,307,6],[307,7,307,11],[301,15,301,16],[301,17,301,18],[302,1,302,6],[302,7,302,11],[302,15,302,16],[302,17,302,18],[303,19,303,20],[303,21,303,22],[304,19,304,20],[304,21,304,22],[301,19,301,20],[301,21,301,22],[302,19,302,20],[302,21,302,22],[304,15,304,16],[304,17,304,18],[303,15,303,16],[303,17,303,18],[303,1,303,6],[303,7,303,11],[304,1,304,6],[304,7,304,11],[297,15,297,16],[297,17,297,18],[298,1,298,6],[298,7,298,11],[298,15,298,16],[298,17,298,18],[299,19,299,20],[299,21,299,22],[300,19,300,20],[300,21,300,22],[297,19,297,20],[297,21,297,22],[298,19,298,20],[298,21,298,22],[300,15,300,16],[300,17,300,18],[299,15,299,16],[299,17,299,18],[299,1,299,6],[299,7,299,11],[300,1,300,6],[300,7,300,11],[292,19,292,20],[292,21,292,22],[292,1,292,6],[292,7,292,11],[292,15,292,16],[292,17,292,18],[294,1,294,6],[294,7,294,11],[294,15,294,16],[294,17,294,18],[293,1,293,6],[293,7,293,11],[293,15,293,16],[293,17,293,18],[293,19,293,20],[293,21,293,22],[295,0,309,0],[295,1,295,6],[295,7,295,11],[295,15,295,16],[295,17,295,18],[295,19,295,20],[296,1,296,6],[296,15,296,16],[296,17,296,18],[296,19,296,20],[296,21,296,22],[294,19,294,20],[294,21,294,22],[295,21,295,22],[297,1,297,6],[297,7,297,11],[289,19,289,20],[289,21,289,22],[291,15,291,16],[291,17,291,18],[289,15,289,16],[289,17,289,18],[288,15,288,16],[288,17,288,18],[290,19,290,20],[290,21,290,22],[291,19,291,20],[291,21,291,22],[290,1,290,6],[290,7,290,11],[290,15,290,16],[290,17,290,18],[291,1,291,6],[291,7,291,11],[287,15,287,16],[287,17,287,18],[285,15,285,16],[285,17,285,18],[284,15,284,16],[284,17,284,18],[286,19,286,20],[286,21,286,22],[287,19,287,20],[287,21,287,22],[286,1,286,6],[286,7,286,11],[286,15,286,16],[286,17,286,18],[287,1,287,6],[287,7,287,11],[288,1,288,6],[288,7,288,11],[288,19,288,20],[288,21,288,22],[282,19,282,20],[282,21,282,22],[283,19,283,20],[283,21,283,22],[282,1,282,6],[282,7,282,11],[282,15,282,16],[282,17,282,18],[283,1,283,6],[283,7,283,11],[284,1,284,6],[284,7,284,11],[285,1,285,6],[285,7,285,11],[284,19,284,20],[284,21,284,22],[285,19,285,20],[285,21,285,22],[277,19,277,20],[277,21,277,22],[277,1,277,6],[277,7,277,11],[277,15,277,16],[277,17,277,18],[279,1,279,6],[279,7,279,11],[279,15,279,16],[279,17,279,18],[278,1,278,6],[278,7,278,11],[278,15,278,16],[278,17,278,18],[278,19,278,20],[278,21,278,22],[280,0,294,0],[280,1,280,6],[280,7,280,11],[280,15,280,16],[280,17,280,18],[280,19,280,20],[281,1,281,6],[281,15,281,16],[283,15,283,16],[283,17,283,18],[281,17,281,18],[281,19,281,20],[281,21,281,22],[279,19,279,20],[279,21,279,22],[280,21,280,22],[273,21,273,22],[271,15,271,16],[276,15,276,16],[276,17,276,18],[274,19,274,20],[274,21,274,22],[273,1,273,6],[273,7,273,11],[274,1,274,6],[274,7,274,11],[274,15,274,16],[274,17,274,18],[275,19,275,20],[275,21,275,22],[276,19,276,20],[276,21,276,22],[275,1,275,6],[275,7,275,11],[275,15,275,16],[275,17,275,18],[276,1,276,6],[276,7,276,11],[324,7,324,11],[317,7,317,11],[271,7,271,11],[323,7,323,11],[318,7,318,11],[266,19,266,20],[266,21,266,22],[267,17,267,18],[267,19,267,20],[267,21,267,22],[265,0,279,0],[265,1,265,6],[265,7,265,11],[265,15,265,16],[267,1,267,6],[270,21,270,22],[269,17,269,18],[269,19,269,20],[268,1,268,6],[268,7,268,11],[268,15,268,16],[268,17,268,18],[271,17,271,18],[271,19,271,20],[271,21,271,22],[268,19,268,20],[268,21,268,22],[270,1,270,6],[270,7,270,11],[270,15,270,16],[270,17,270,18],[270,19,270,20],[232,7,232,11],[233,7,233,11],[234,7,234,11],[235,7,235,11],[236,7,236,11],[237,7,237,11],[238,7,238,11],[239,7,239,11],[242,7,242,11],[244,7,244,11],[245,7,245,11],[246,7,246,11],[247,7,247,11],[248,7,248,11],[249,7,249,11],[311,7,311,11],[312,7,312,11],[272,7,272,11],[281,7,281,11],[296,7,296,11],[310,7,310,11],[267,7,267,11],[269,7,269,11],[289,7,289,11],[301,7,301,11],[305,7,305,11],[202,7,202,11],[203,7,203,11],[204,7,204,11],[205,7,205,11],[221,7,221,11],[222,7,222,11],[223,7,223,11],[224,7,224,11],[208,7,208,11],[209,7,209,11],[210,7,210,11],[213,7,213,11],[211,7,211,11],[212,7,212,11],[229,7,229,11],[230,7,230,11],[231,7,231,11],[227,7,227,11],[218,7,218,11],[219,7,219,11],[220,7,220,11],[228,7,228,11],[225,7,225,11],[226,7,226,11],[176,7,176,11],[177,7,177,11],[162,7,162,11],[163,7,163,11],[164,7,164,11],[165,7,165,11],[166,7,166,11],[167,7,167,11],[168,7,168,11],[169,7,169,11],[170,7,170,11],[171,7,171,11],[172,7,172,11],[173,7,173,11],[174,7,174,11],[175,7,175,11],[190,7,190,11],[178,7,178,11],[179,7,179,11],[180,7,180,11],[183,7,183,11],[181,7,181,11],[182,7,182,11],[184,7,184,11],[185,7,185,11],[186,7,186,11],[187,7,187,11],[188,7,188,11],[189,7,189,11],[127,7,127,11],[128,7,128,11],[129,7,129,11],[130,7,130,11],[137,7,137,11],[132,7,132,11],[133,7,133,11],[134,7,134,11],[135,7,135,11],[138,7,138,11],[136,7,136,11],[160,7,160,11],[161,7,161,11],[142,7,142,11],[143,7,143,11],[144,7,144,11],[145,7,145,11],[146,7,146,11],[147,7,147,11],[148,7,148,11],[149,7,149,11],[154,7,154,11],[155,7,155,11],[156,7,156,11],[157,7,157,11],[158,7,158,11],[159,7,159,11],[152,7,152,11],[153,7,153,11],[96,7,96,11],[97,7,97,11],[98,7,98,11],[99,7,99,11],[100,7,100,11],[111,7,111,11],[101,7,101,11],[103,7,103,11],[104,7,104,11],[74,7,74,11],[94,7,94,11],[95,7,95,11],[81,7,81,11],[82,7,82,11],[83,7,83,11],[84,7,84,11],[85,7,85,11],[86,7,86,11],[87,7,87,11],[107,7,107,11],[108,7,108,11],[109,7,109,11],[110,7,110,11],[102,7,102,11],[105,7,105,11],[106,7,106,11],[310,1,310,6],[238,1,238,6],[239,1,239,6],[240,1,240,6],[243,1,243,6],[324,1,324,6],[320,1,320,6],[321,1,321,6],[322,1,322,6],[323,1,323,6],[313,1,313,6],[314,1,314,6],[315,1,315,6],[316,1,316,6],[115,7,115,11],[116,7,116,11],[117,7,117,11],[131,7,131,11],[120,7,120,11],[123,7,123,11],[121,7,121,11],[122,7,122,11],[311,1,311,6],[254,1,254,6],[257,1,257,6],[260,1,260,6],[263,1,263,6],[271,1,271,6],[272,1,272,6],[125,7,125,11],[126,7,126,11],[266,1,266,6],[112,7,112,11],[113,7,113,11],[118,7,118,11],[119,7,119,11],[114,7,114,11],[230,1,230,6],[231,1,231,6],[232,1,232,6],[233,1,233,6],[234,1,234,6],[235,1,235,6],[241,1,241,6],[242,1,242,6],[244,1,244,6],[245,1,245,6],[246,1,246,6],[247,1,247,6],[216,1,216,6],[217,1,217,6],[218,1,218,6],[219,1,219,6],[155,1,155,6],[156,1,156,6],[157,1,157,6],[158,1,158,6],[159,1,159,6],[176,1,176,6],[177,1,177,6],[162,1,162,6],[163,1,163,6],[164,1,164,6],[165,1,165,6],[269,1,269,6],[289,1,289,6],[301,1,301,6],[305,1,305,6],[186,1,186,6],[187,1,187,6],[188,1,188,6],[189,1,189,6],[206,1,206,6],[207,1,207,6],[192,1,192,6],[193,1,193,6],[194,1,194,6],[195,1,195,6],[200,1,200,6],[201,1,201,6],[202,1,202,6],[203,1,203,6],[204,1,204,6],[205,1,205,6],[220,1,220,6],[208,1,208,6],[209,1,209,6],[210,1,210,6],[213,1,213,6],[211,1,211,6],[212,1,212,6],[214,1,214,6],[215,1,215,6],[248,1,248,6],[249,1,249,6],[229,1,229,6],[170,1,170,6],[171,1,171,6],[172,1,172,6],[173,1,173,6],[174,1,174,6],[175,1,175,6],[97,1,97,6],[98,1,98,6],[99,1,99,6],[116,1,116,6],[117,1,117,6],[102,1,102,6],[103,1,103,6],[104,1,104,6],[105,1,105,6],[110,1,110,6],[111,1,111,6],[112,1,112,6],[113,1,113,6],[114,1,114,6],[115,1,115,6],[130,1,130,6],[131,1,131,6],[118,1,118,6],[119,1,119,6],[120,1,120,6],[123,1,123,6],[121,1,121,6],[122,1,122,6],[124,1,124,6],[125,1,125,6],[126,1,126,6],[127,1,127,6],[128,1,128,6],[129,1,129,6],[1,1,1,9],[6,1,6,2],[3,3,3,11],[10,7,10,11],[15,1,15,6],[47,1,47,6],[48,1,48,6],[52,1,52,6],[32,1,32,6],[22,1,22,6],[11,1,11,6],[12,1,12,6],[13,1,13,6],[14,1,14,6],[18,1,18,6],[65,1,65,6],[68,1,68,6],[67,1,67,6],[66,1,66,6],[23,1,23,6],[24,1,24,6],[61,1,61,6],[64,1,64,6],[56,1,56,6],[62,1,62,6],[6,4,6,5],[3,1,3,2],[57,7,57,11],[59,1,59,6],[59,7,59,11],[56,7,56,11],[64,7,64,11],[8,0,9,0],[10,0,24,0],[10,15,10,16],[12,15,12,16],[14,15,14,16],[16,15,16,16],[8,14,9,14],[8,1,9,6],[8,7,9,11],[8,15,8,18],[8,19,8,22],[9,19,9,20],[9,21,9,22],[9,15,9,16],[9,17,9,18],[8,12,8,13],[19,1,19,6],[20,1,20,6],[21,1,21,6],[10,1,10,6],[16,1,16,6],[17,19,17,20],[15,15,15,16],[15,17,15,18],[15,19,15,20],[17,1,17,6],[16,7,16,11],[16,17,16,18],[18,17,18,18],[10,19,10,20],[10,21,10,22],[12,19,12,20],[12,21,12,22],[10,17,10,18],[12,17,12,18],[14,17,14,18],[15,21,15,22],[13,17,13,18],[11,15,11,16],[11,17,11,18],[11,19,11,20],[11,21,11,22],[17,21,17,22],[17,17,17,18],[13,19,13,20],[13,21,13,22],[14,21,14,22],[14,19,14,20],[13,15,13,16],[20,21,20,22],[21,15,21,16],[21,17,21,18],[21,19,21,20],[21,21,21,22],[20,15,20,16],[20,17,20,18],[20,19,20,20],[18,21,18,22],[18,15,18,16],[16,19,16,20],[19,15,19,16],[19,17,19,18],[19,19,19,20],[19,21,19,22],[16,21,16,22],[17,15,17,16],[18,19,18,20],[70,0,84,0],[70,15,70,16],[70,17,70,18],[70,19,70,20],[72,15,72,16],[72,17,72,18],[70,1,70,6],[71,1,71,6],[76,1,76,6],[77,1,77,6],[22,21,22,22],[23,15,23,16],[23,17,23,18],[23,19,23,20],[23,21,23,22],[22,15,22,16],[22,17,22,18],[22,19,22,20],[78,1,78,6],[79,1,79,6],[72,1,72,6],[73,1,73,6],[74,1,74,6],[75,1,75,6],[80,1,80,6],[81,1,81,6],[82,1,82,6],[83,1,83,6],[84,1,84,6],[57,15,57,16],[59,15,59,16],[58,21,58,22],[73,15,73,16],[73,17,73,18],[73,19,73,20],[73,21,73,22],[70,21,70,22],[71,15,71,16],[71,17,71,18],[71,21,71,22],[71,19,71,20],[75,15,75,16],[72,19,72,20],[75,17,75,18],[75,19,75,20],[74,15,74,16],[72,21,72,22],[24,15,24,16],[24,17,24,18],[24,19,24,20],[24,21,24,22],[55,17,55,18],[55,19,55,20],[55,21,55,22],[56,21,56,22],[60,21,60,22],[56,15,56,16],[56,17,56,18],[56,19,56,20],[63,19,63,20],[61,19,61,20],[64,15,64,16],[64,17,64,18],[64,19,64,20],[77,21,77,22],[78,15,78,16],[78,17,78,18],[78,19,78,20],[78,21,78,22],[79,21,79,22],[79,15,79,16],[77,15,77,16],[77,17,77,18],[77,19,77,20],[76,15,76,16],[76,17,76,18],[76,19,76,20],[79,17,79,18],[79,19,79,20],[76,21,76,22],[74,17,74,18],[74,19,74,20],[74,21,74,22],[75,21,75,22],[83,21,83,22],[84,15,84,16],[84,17,84,18],[84,19,84,20],[84,21,84,22],[83,15,83,16],[83,17,83,18],[83,19,83,20],[80,15,80,16],[80,17,80,18],[80,19,80,20],[80,21,80,22],[81,17,81,18],[81,19,81,20],[81,21,81,22],[82,15,82,16],[82,17,82,18],[82,19,82,20],[82,21,82,22],[81,15,81,16],[89,19,89,20],[89,21,89,22],[90,15,90,16],[90,17,90,18],[90,19,90,20],[90,21,90,22],[87,19,87,20],[87,21,87,22],[88,15,88,16],[88,17,88,18],[88,19,88,20],[88,21,88,22],[85,19,85,20],[85,21,85,22],[86,15,86,16],[86,17,86,18],[86,19,86,20],[86,21,86,22],[85,15,85,16],[85,17,85,18],[87,15,87,16],[87,17,87,18],[89,15,89,16],[89,17,89,18],[96,15,96,16],[96,17,96,18],[96,19,96,20],[96,21,96,22],[94,15,94,16],[97,21,97,22],[95,21,95,22],[94,21,94,22],[92,21,92,22],[95,15,95,16],[95,17,95,18],[95,19,95,20],[94,17,94,18],[94,19,94,20],[91,19,91,20],[93,21,93,22],[93,15,93,16],[91,21,91,22],[92,15,92,16],[93,19,93,20],[92,17,92,18],[92,19,92,20]],"merged_total":1927,"flags":["merged_cut"]}
[]
[null,"内　訳　明　細　書　（取極め用）　入力画面",null,null,null,null,null,null,null,null,null,null,null,{"$f":"削除コメント","v":""}]
[]
[null,"工事名称：",null,{"$f":"IF(基本入力画面!E15=\"\",\"\",基本入力画面!E15)","v":""},null,null,null,null,null,null,null,null,null,"（カーソルのある画面頁の下に１頁挿入されます）"]
[]
[]
[null,"印刷部数選択",null,null,"印刷最終頁",null,{"$f":"最終頁","v":0},null,null,null,null,null,null,"（20頁以降に追加されます）"]
[]
["頁","工事種目／品目",null,null,null,null,null,"規格／仕様／寸法／メーカー名",null,null,null,null,"数　　量",null,"単位","単　　価",null,null,null,"金　　額"]
[null,null,null,null,null,null,null,null,null,null,null,null,"現在","変更後",null,"現在",null,"変更後",null,"現在",null,"変更後"]
[{"$f":"((ROW()-11)+15)/15","v":1},null,null,null,null,null,null,null,null,null,null,null,null,null,null,null,null,null,null,{"$f":"IF(P11=\"\",\"\",ROUNDDOWN(N(M11)*N(P11),0))","v":""},null,{"$f":"IF(R11=\"\",\"\",ROUNDDOWN(N(N11)*N(R11),0))","v":""}]
[null,null,null,null,null,null,null,null,null,null,null,null,null,null,null,null,null,null,null,{"$f":"IF(P12=\"\",\"\",ROUNDDOWN(N(M12)*N(P12),0))","v":""},null,{"$f":"IF(R12=\"\",\"\",ROUNDDOWN(N(N12)*N(R12),0))","v":""}]
[null,null,null,null,null,null,null,null,null,null,null,null,null,null,null,null,null,null,null,{"$f":"IF(P13=\"\",\"\",ROUNDDOWN(N(M13)*N(P13),0))","v":""},null,{"$f":"IF(R13=\"\",\"\",ROUNDDOWN(N(N13)*N(R13),0))","v":""}]
[null,null,null,null,null,null,null,null,null,null,null,null,null,null,null,null,null,null,null,{"$f":"IF(P14=\"\",\"\",ROUNDDOWN(N(M14)*N(P14),0))","v":""},null,{"$f":"IF(R14=\"\",\"\",ROUNDDOWN(N(N14)*N(R14),0))","v":""}]
[null,null,null,null,null,null,null,null,null,null,null,null,null,null,null,null,null,null,null,{"$f":"IF(P15=\"\",\"\",ROUNDDOWN(N(M15)*N(P15),0))","v":""},null,{"$f":"IF(R15=\"\",\"\",ROUNDDOWN(N(N15)*N(R15),0))","v":""}]
[null,null,null,null,null,null,null,null,null,null,null,null,null,null,null,null,null,null,null,{"$f":"IF(P16=\"\",\"\",ROUNDDOWN(N(M16)*N(P16),0))","v":""},null,{"$f":"IF(R16=\"\",\"\",ROUNDDOWN(N(N16)*N(R16),0))","v":""}]
[null,null,null,null,null,null,null,null,null,null,null,null,null,null,null,null,null,null,null,"",null,""]
[null,null,null,null,null,null,null,null,null,null,null,null,null,null,null,null,null,null,null,"",null,""]
[null,null,null,null,null,null,null,null,null,null,null,null,null,null,null,null,null,null,null,"",null,""]
[null,null,null,null,null,null,null,null,null,null,null,null,null,null,null,null,null,null,null,"",null,""]
[null,null,null,null,null,null,null,null,null,null,null,null,null,null,null,null,null,null,null,"",null,""]
[null,null,null,null,null,null,null,null,null,null,null,null,null,null,null,null,null,null,null,"",null,""]
[null,null,null,null,null,null,null,null,null,null,null,null,null,null,null,null,null,null,null,"",null,""]
[null,null,null,null,null,null,null,null,null,null,null,null,null,null,null,null,null,null,null,"",null,""]
[null,null,null,null,null,null,null,null,null,null,null,null,null,null,null,null,null,null,null,"",null,""]
[{"$f":"((ROW()-11)+15)/15","v":2},null,null,null,null,null,null,null,null,null,null,null,null,null,null,null,null,null,null,"",null,""]
[null,null,null,null,null,null,null,null,null,null,null,null,null,null,null,null,null,null,null,"",null,""]
[null,null,null,null,null,null,null,null,null,null,null,null,null,null,null,null,null,null,null,"",null,""]
[null,null,null,null,null,null,null,null,null,null,null,null,null,null,null,null,null,null,null,"",null,""]
[null,null,null,null,null,null,null,null,null,null,null,null,null,null,null,null,null,null,null,"",null,""]
[null,null,null,null,null,null,null,null,null,null,null,null,null,null,null,null,null,null,null,"",null,""]
[null,null,null,null,null,null,null,null,null,null,null,null,null,null,null,null,null,null,null,"",null,""]
[null,null,null,null,null,null,null,null,null,null,null,null,null,null,null,null,null,null,null,"",null,""]
[null,null,null,null,null,null,null,null,null,null,null,null,null,null,null,null,null,null,null,"",null,""]
[null,null,null,null,null,null,null,null,null,null,null,null,null,null,null,null,null,null,null,"",null,""]
[null,null,null,null,null,null,null,null,null,null,null,null,null,null,null,null,null,null,null,"",null,""]
[null,null,null,null,null,null,null,null,null,null,null,null,null,null,null,null,null,null,null,"",null,""]
[null,null,null,null,null,null,null,null,null,null,null,null,null,null,null,null,null,null,null,"",null,""]
[null,null,null,null,null,null,null,null,null,null,null,null,null,null,null,null,null,null,null,"",null,""]
[null,null,null,null,null,null,null,null,null,null,null,null,null,null,null,null,null,null,null,"",null,""]
[{"$f":"((ROW()-11)+15)/15","v":3},null,null,null,null,null,null,null,null,null,null,null,null,null,null,null,null,null,null,"",null,""]
[null,null,null,null,null,null,null,null,null,null,null,null,null,null,null,null,null,null,null,"",null,""]
[null,null,null,null,null,null,null,null,null,null,null,null,null,null,null,null,null,null,null,"",null,""]
[null,null,null,null,null,null,null,null,null,null,null,null,null,null,null,null,null,null,null,"",null,""]
[null,null,null,null,null,null,null,null,null,null,null,null,null,null,null,null,null,null,null,"",null,""]
[null,null,null,null,null,null,null,null,null,null,null,null,null,null,null,null,null,null,null,"",null,""]
[null,null,null,null,null,null,null,null,null,null,null,null,null,null,null,null,null,null,null,"",null,""]
[null,null,null,null,null,null,null,null,null,null,null,null,null,null,null,null,null,null,null,"",null,""]
[null,null,null,null,null,null,null,null,null,null,null,null,null,null,null,null,null,null,null,"",null,""]
[null,null,null,null,null,null,null,null,null,null,null,null,null,null,null,null,null,null,null,"",null,""]
[null,null,null,null,null,null,null,null,null,null,null,null,null,null,null,null,null,null,null,"",null,""]
[null,null,null,null,null,null,null,null,null,null,null,null,null,null,null,null,null,null,null,"",null,""]
[null,null,null,null,null,null,null,null,null,null,null,null,null,null,null,null,null,null,null,"",null,""]
[null,null,null,null,null,null,null,null,null,null,null,null,null,null,null,null,null,null,null,"",null,""]
[null,null,null,null,null,null,null,null,null,null,null,null,null,null,null,null,null,null,null,"",null,""]
[{"$f":"((ROW()-11)+15)/15","v":4},null,null,null,null,null,null,null,null,null,null,null,null,null,null,null,null,null,null,"",null,""]
[null,null,null,null,null,null,null,null,null,null,null,null,null,null,null,null,null,null,null,"",null,""]
[null,null,null,null,null,null,null,null,null,null,null,null,null,null,null,null,null,null,null,"",null,""]
[null,null,null,null,null,null,null,null,null,null,null,null,null,null,null,null,null,null,null,"",null,""]
[null,null,null,null,null,null,null,null,null,null,null,null,null,null,null,null,null,null,null,"",null,""]
[null,null,null,null,null,null,null,null,null,null,null,null,null,null,null,null,null,null,null,"",null,""]
[null,null,null,null,null,null,null,null,null,null,null,null,null,null,null,null,null,null,null,"",null,""]
[null,null,null,null,null,null,null,null,null,null,null,null,null,null,null,null,null,null,null,"",null,""]
[null,null,null,null,null,null,null,null,null,null,null,null,null,null,null,null,null,null,null,"",null,""]
[null,null,null,null,null,null,null,null,null,null,null,null,null,null,null,null,null,null,null,"",null,""]
[null,null,null,null,null,null,null,null,null,null,null,null,null,null,null,null,null,null,null,"",null,""]
[null,null,null,null,null,null,null,null,null,null,null,null,null,null,null,null,null,null,null,"",null,""]
[null,null,null,null,null,null,null,null,null,null,null,null,null,null,null,null,null,null,null,"",null,""]
[null,null,null,null,null,null,null,null,null,null,null,null,null,null,null,null,null,null,null,"",null,""]
[null,null,null,null,null,null,null,null,null,null,null,null,null,null,null,null,null,null,null,"",null,""]
[{"$f":"((ROW()-11)+15)/15","v":5},null,null,null,null,null,null,null,null,null,null,null,null,null,null,null,null,null,null,"",null,""]
[null,null,null,null,null,null,null,null,null,null,null,null,null,null,null,null,null,null,null,"",null,""]
[null,null,null,null,null,null,null,null,null,null,null,null,null,null,null,null,null,null,null,"",null,""]
[null,null,null,null,null,null,null,null,null,null,null,null,null,null,null,null,null,null,null,"",null,""]
[null,null,null,null,null,null,null,null,null,null,null,null,null,null,null,null,null,null,null,"",null,""]
[null,null,null,null,null,null,null,null,null,null,null,null,null,null,null,null,null,null,null,"",null,""]
[null,null,null,null,null,null,null,null,null,null,null,null,null,null,null,null,null,null,null,"",null,""]
[null,null,null,null,null,null,null,null,null,null,null,null,null,null,null,null,null,null,null,"",null,""]
[null,null,null,null,null,null,null,null,null,null,null,null,null,null,null,null,null,null,null,"",null,""]
[null,null,null,null,null,null,null,null,null,null,null,null,null,null,null,null,null,null,null,"",null,""]
[null,null,null,null,null,null,null,null,null,null,null,null,null,null,null,null,null,null,null,"",null,""]
[null,null,null,null,null,null,null,null,null,null,null,null,null,null,null,null,null,null,null,"",null,""]
[null,null,null,null,null,null,null,null,null,null,null,null,null,null,null,null,null,null,null,"",null,""]
[null,null,null,null,null,null,null,null,null,null,null,null,null,null,null,null,null,null,null,"",null,""]
[null,null,null,null,null,null,null,null,null,null,null,null,null,null,null,null,null,null,null,"",null,""]
[{"$f":"((ROW()-11)+15)/15","v":6},null,null,null,null,null,null,null,null,null,null,null,null,null,null,null,null,null,null,"",null,""]
[null,null,null,null,null,null,null,null,null,null,null,null,null,null,null,null,null,null,null,"",null,""]
[null,null,null,null,null,null,null,null,null,null,null,null,null,null,null,null,null,null,null,"",null,""]
[null,null,null,null,null,null,null,null,null,null,null,null,null,null,null,null,null,null,null,"",null,""]
[null,null,null,null,null,null,null,null,null,null,null,null,null,null,null,null,null,null,null,"",null,""]
[null,null,null,null,null,null,null,null,null,null,null,null,null,null,null,null,null,null,null,"",null,""]
[null,null,null,null,null,null,null,null,null,null,null,null,null,null,null,null,null,null,null,"",null,""]
[null,null,null,null,null,null,null,null,null,null,null,null,null,null,null,null,null,null,null,"",null,""]
[null,null,null,null,null,null,null,null,null,null,null,null,null,null,null,null,null,null,null,"",null,""]
[null,null,null,null,null,null,null,null,null,null,null,null,null,null,null,null,null,null,null,{"$f":"IF(P95=\"\",\"\",ROUNDDOWN(N(M95)*N(P95),0))","v":""},null,{"$f":"IF(R95=\"\",\"\",ROUNDDOWN(N(N95)*N(R95),0))","v":""}]
[null,null,null,null,null,null,null,null,null,null,null,null,null,null,null,null,null,null,null,"",null,""]
[null,null,null,null,null,null,null,null,null,null,null,null,null,null,null,null,null,null,null,"",null,""]
[null,null,null,null,null,null,null,null,null,null,null,null,null,null,null,null,null,null,null,"",null,""]
[null,null,null,null,null,null,null,null,null,null,null,null,null,null,null,null,null,null,null,"",null,""]
[null,null,null,null,null,null,null,null,null,null,null,null,null,null,null,null,null,null,null,"",null,""]
[{"$f":"((ROW()-11)+15)/15","v":7},null,null,null,null,null,null,null,null,null,null,null,null,null,null,null,null,null,null,"",null,""]
[null,null,null,null,null,null,null,null,null,null,null,null,null,null,null,null,null,null,null,"",null,""]
[null,null,null,null,null,null,null,null,null,null,null,null,null,null,null,null,null,null,null,"",null,""]
[null,null,null,null,null,null,null,null,null,null,null,null,null,null,null,null,null,null,null,"",null,""]
[null,null,null,null,null,null,null,null,null,null,null,null,null,null,null,null,null,null,null,"",null,""]
[null,null,null,null,null,null,null,null,null,null,null,null,null,null,null,null,null,null,null,"",null,""]
[null,null,null,null,null,null,null,null,null,null,null,null,null,null,null,null,null,null,null,"",null,""]
[null,null,null,null,null,null,null,null,null,null,null,null,null,null,null,null,null,null,null,"",null,""]
[null,null,null,null,null,null,null,null,null,null,null,null,null,null,null,null,null,null,null,"",null,""]
[null,null,null,null,null,null,null,null,null,null,null,null,null,null,null,null,null,null,null,"",null,""]
[null,null,null,null,null,null,null,null,null,null,null,null,null,null,null,null,null,null,null,"",null,""]
[null,null,null,null,null,null,null,null,null,null,null,null,null,null,null,null,null,null,null,"",null,""]
[null,null,null,null,null,null,null,null,null,null,null,null,null,null,null,null,null,null,null,"",null,""]
[null,null,null,null,null,null,null,null,null,null,null,null,null,null,null,null,null,null,null,"",null,""]
[null,null,null,null,null,null,null,null,null,null,null,null,null,null,null,null,null,null,null,"",null,""]
[{"$f":"((ROW()-11)+15)/15","v":8},null,null,null,null,null,null,null,null,null,null,null,null,null,null,null,null,null,null,"",null,""]
[null,null,null,null,null,null,null,null,null,null,null,null,null,null,null,null,null,null,null,"",null,""]
[null,null,null,null,null,null,null,null,null,null,null,null,null,null,null,null,null,null,null,"",null,""]
[null,null,null,null,null,null,null,null,null,null,null,null,null,null,null,null,null,null,null,"",null,""]
[null,null,null,null,null,null,null,null,null,null,null,null,null,null,null,null,null,null,null,"",null,""]
[null,null,null,null,null,null,null,null,null,null,null,null,null,null,null,null,null,null,null,"",null,""]
[null,null,null,null,null,null,null,null,null,null,null,null,null,null,null,null,null,null,null,"",null,""]
[null,null,null,null,null,null,null,null,null,null,null,null,null,null,null,null,null,null,null,"",null,""]
[null,null,null,null,null,null,null,null,null,null,null,null,null,null,null,null,null,null,null,"",null,""]
[null,null,null,null,null,null,null,null,null,null,null,null,null,null,null,null,null,null,null,"",null,""]
[null,null,null,null,null,null,null,null,null,null,null,null,null,null,null,null,null,null,null,"",null,""]
[null,null,null,null,null,null,null,null,null,null,null,null,null,null,null,null,null,null,null,"",null,""]
[null,null,null,null,null,null,null,null,null,null,null,null,null,null,null,null,null,null,null,"",null,""]
[null,null,null,null,null,null,null,null,null,null,null,null,null,null,null,null,null,null,null,"",null,""]
[null,null,null,null,null,null,null,null,null,null,null,null,null,null,null,null,null,null,null,"",null,""]
[{"$f":"((ROW()-11)+15)/15","v":9},null,null,null,null,null,null,null,null,null,null,null,null,null,null,null,null,null,null,"",null,""]
[null,null,null,null,null,null,null,null,null,null,null,null,null,null,null,null,null,null,null,"",null,""]
[null,null,null,null,null,null,null,null,null,null,null,null,null,null,null,null,null,null,null,"",null,""]
[null,null,null,null,null,null,null,null,null,null,null,null,null,null,null,null,null,null,null,"",null,""]
[null,null,null,null,null,null,null,null,null,null,null,null,null,null,null,null,null,null,null,"",null,""]
[null,null,null,null,null,null,null,null,null,null,null,null,null,null,null,null,null,null,null,"",null,""]
[null,null,null,null,null,null,null,null,null,null,null,null,null,null,null,null,null,null,null,"",null,""]
[null,null,null,null,null,null,null,null,null,null,null,null,null,null,null,null,null,null,null,"",null,""]
[null,null,null,null,null,null,null,null,null,null,null,null,null,null,null,null,null,null,null,"",null,""]
[null,null,null,null,null,null,null,null,null,null,null,null,null,null,null,null,null,null,null,"",null,""]
[null,null,null,null,null,null,null,null,null,null,null,null,null,null,null,null,null,null,null,"",null,""]
[null,null,null,null,null,null,null,null,null,null,null,null,null,null,null,null,null,null,null,"",null,""]
[null,null,null,null,null,null,null,null,null,null,null,null,null,null,null,null,null,null,null,"",null,""]
[null,null,null,null,null,null,null,null,null,null,null,null,null,null,null,null,null,null,null,"",null,""]
[null,null,null,null,null,null,null,null,null,null,null,null,null,null,null,null,null,null,null,"",null,""]
[{"$f":"((ROW()-11)+15)/15","v":10},null,null,null,null,null,null,null,null,null,null,null,null,null,null,null,null,null,null,"",null,""]
[null,null,null,null,null,null,null,null,null,null,null,null,null,null,null,null,null,null,null,"",null,""]
[null,null,null,null,null,null,null,null,null,null,null,null,null,null,null,null,null,null,null,"",null,""]
[null,null,null,null,null,null,null,null,null,null,null,null,null,null,null,null,null,null,null,"",null,""]
[null,null,null,null,null,null,null,null,null,null,null,null,null,null,null,null,null,null,null,"",null,""]
[null,null,null,null,null,null,null,null,null,null,null,null,null,null,null,null,null,null,null,"",null,""]
[null,null,null,null,null,null,null,null,null,null,null,null,null,null,null,null,null,null,null,"",null,""]
[null,null,null,null,null,null,null,null,null,null,null,null,null,null,null,null,null,null,null,"",null,""]
[null,null,null,null,null,null,null,null,null,null,null,null,null,null,null,null,null,null,null,"",null,""]
[null,null,null,null,null,null,null,null,null,null,null,null,null,null,null,null,null,null,null,"",null,""]
[null,null,null,null,null,null,null,null,null,null,null,null,null,null,null,null,null,null,null,"",null,""]
[null,null,null,null,null,null,null,null,null,null,null,null,null,null,null,null,null,null,null,"",null,""]
[null,null,null,null,null,null,null,null,null,null,null,null,null,null,null,null,null,null,null,"",null,""]
[null,null,null,null,null,null,null,null,null,null,null,null,null,null,null,null,null,null,null,{"$f":"IF(P159=\"\",\"\",ROUNDDOWN(N(M159)*N(P159),0))","v":""},null,{"$f":"IF(R159=\"\",\"\",ROUNDDOWN(N(N159)*N(R159),0))","v":""}]
[null,null,null,null,null,null,null,null,null,null,null,null,null,null,null,null,null,null,null,"",null,""]
[{"$f":"((ROW()-11)+15)/15","v":11},null,null,null,null,null,null,null,null,null,null,null,null,null,null,null,null,null,null,"",null,""]
[null,null,null,null,null,null,null,null,null,null,null,null,null,null,null,null,null,null,null,"",null,""]
[null,null,null,null,null,null,null,null,null,null,null,null,null,null,null,null,null,null,null,"",null,""]
[null,null,null,null,null,null,null,null,null,null,null,null,null,null,null,null,null,null,null,"",null,""]
[null,null,null,null,null,null,null,null,null,null,null,null,null,null,null,null,null,null,null,"",null,""]
[null,null,null,null,null,null,null,null,null,null,null,null,null,null,null,null,null,null,null,"",null,""]
[null,null,null,null,null,null,null,null,null,null,null,null,null,null,null,null,null,null,null,"",null,""]
[null,null,null,null,null,null,null,null,null,null,null,null,null,null,null,null,null,null,null,"",null,""]
[null,null,null,null,null,null,null,null,null,null,null,null,null,null,null,null,null,null,null,"",null,""]
[null,null,null,null,null,null,null,null,null,null,null,null,null,null,null,null,null,null,null,"",null,""]
[null,null,null,null,null,null,null,null,null,null,null,null,null,null,null,null,null,null,null,"",null,""]
[null,null,null,null,null,null,null,null,null,null,null,null,null,null,null,null,null,null,null,"",null,""]
[null,null,null,null,null,null,null,null,null,null,null,null,null,null,null,null,null,null,null,"",null,""]
[null,null,null,null,null,null,null,null,null,null,null,null,null,null,null,null,null,null,null,"",null,""]
[null,null,null,null,null,null,null,null,null,null,null,null,null,null,null,null,null,null,null,"",null,""]
[{"$f":"((ROW()-11)+15)/15","v":12},null,null,null,null,null,null,null,null,null,null,null,null,null,null,null,null,null,null,"",null,""]
[null,null,null,null,null,null,null,null,null,null,null,null,null,null,null,null,null,null,null,"",null,""]
[null,null,null,null,null,null,null,null,null,null,null,null,null,null,null,null,null,null,null,"",null,""]
[null,null,null,null,null,null,null,null,null,null,null,null,null,null,null,null,null,null,null,"",null,""]
[null,null,null,null,null,null,null,null,null,null,null,null,null,null,null,null,null,null,null,"",null,""]
[null,null,null,null,null,null,null,null,null,null,null,null,null,null,null,null,null,null,null,"",null,""]
[null,null,null,null,null,null,null,null,null,null,null,null,null,null,null,null,null,null,null,"",null,""]
[null,null,null,null,null,null,null,null,null,null,null,null,null,null,null,null,null,null,null,"",null,""]
[null,null,null,null,null,null,null,null,null,null,null,null,null,null,null,null,null,null,null,"",null,""]
[null,null,null,null,null,null,null,null,null,null,null,null,null,null,null,null,null,null,null,"",null,""]
[null,null,null,null,null,null,null,null,null,null,null,null,null,null,null,null,null,null,null,"",null,""]
[null,null,null,null,null,null,null,null,null,null,null,null,null,null,null,null,null,null,null,"",null,""]
[null,null,null,null,null,null,null,null,null,null,null,null,null,null,null,null,null,null,null,"",null,""]
[null,null,null,null,null,null,null,null,null,null,null,null,null,null,null,null,null,null,null,"",null,""]
[null,null,null,null,null,null,null,null,null,null,null,null,null,null,null,null,null,null,null,"",null,""]
[{"$f":"((ROW()-11)+15)/15","v":13},null,null,null,null,null,null,null,null,null,null,null,null,null,null,null,null,null,null,"",null,""]
[null,null,null,null,null,null,null,null,null,null,null,null,null,null,null,null,null,null,null,"",null,""]
[null,null,null,null,null,null,null,null,null,null,null,null,null,null,null,null,null,null,null,"",null,""]
[null,null,null,null,null,null,null,null,null,null,null,null,null,null,null,null,null,null,null,"",null,""]
[null,null,null,null,null,null,null,null,null,null,null,null,null,null,null,null,null,null,null,"",null,""]
[null,null,null,null,null,null,null,null,null,null,null,null,null,null,null,null,null,null,null,"",null,""]
[null,null,null,null,null,null,null,null,null,null,null,null,null,null,null,null,null,null,null,"",null,""]
[null,null,null,null,null,null,null,null,null,null,null,null,null,null,null,null,null,null,null,"",null,""]
[null,null,null,null,null,null,null,null,null,null,null,null,null,null,null,null,null,null,null,"",null,""]
[null,null,null,null,null,null,null,null,null,null,null,null,null,null,null,null,null,null,null,"",null,""]
[null,null,null,null,null,null,null,null,null,null,null,null,null,null,null,null,null,null,null,"",null,""]
[null,null,null,null,null,null,null,null,null,null,null,null,null,null,null,null,null,null,null,"",null,""]
[null,null,null,null,null,null,null,null,null,null,null,null,null,null,null,null,null,null,null,"",null,""]
[null,null,null,null,null,null,null,null,null,null,null,null,null,null,null,null,null,null,null,"",null,""]
[null,null,null,null,null,null,null,null,null,null,null,null,null,null,null,null,null,null,null,"",null,""]
[{"$f":"((ROW()-11)+15)/15","v":14},null,null,null,null,null,null,null,null,null,null,null,null,null,null,null,null,null,null,"",null,""]
[null,null,null,null,null,null,null,null,null,null,null,null,null,null,null,null,null,null,null,"",null,""]
[null,null,null,null,null,null,null,null,null,null,null,null,null,null,null,null,null,null,null,"",null,""]
[null,null,null,null,null,null,null,null,null,null,null,null,null,null,null,null,null,null,null,"",null,""]
[null,null,null,null,null,null,null,null,null,null,null,null,null,null,null,null,null,null,null,"",null,""]
[null,null,null,null,null,null,null,null,null,null,null,null,null,null,null,null,null,null,null,"",null,""]
[null,null,null,null,null,null,null,null,null,null,null,null,null,null,null,null,null,null,null,"",null,""]
[null,null,null,null,null,null,null,null,null,null,null,null,null,null,null,null,null,null,null,"",null,""]
[null,null,null,null,null,null,null,null,null,null,null,null,null,null,null,null,null,null,null,"",null,""]
[null,null,null,null,null,null,null,null,null,null,null,null,null,null,null,null,null,null,null,"",null,""]
[null,null,null,null,null,null,null,null,null,null,null,null,null,null,null,null,null,null,null,"",null,""]
[null,null,null,null,null,null,null,null,null,null,null,null,null,null,null,null,null,null,null,"",null,""]
[null,null,null,null,null,null,null,null,null,null,null,null,null,null,null,null,null,null,null,"",null,""]
[null,null,null,null,null,null,null,null,null,null,null,null,null,null,null,null,null,null,null,"",null,""]
[null,null,null,null,null,null,null,null,null,null,null,null,null,null,null,null,null,null,null,"",null,""]
[{"$f":"((ROW()-11)+15)/15","v":15},null,null,null,null,null,null,null,null,null,null,null,null,null,null,null,null,null,null,"",null,""]
[null,null,null,null,null,null,null,null,null,null,null,null,null,null,null,null,null,null,null,"",null,""]
[null,null,null,null,null,null,null,null,null,null,null,null,null,null,null,null,null,null,null,{"$f":"IF(P223=\"\",\"\",ROUNDDOWN(N(M223)*N(P223),0))","v":""},null,{"$f":"IF(R223=\"\",\"\",ROUNDDOWN(N(N223)*N(R223),0))","v":""}]
[null,null,null,null,null,null,null,null,null,null,null,null,null,null,null,null,null,null,null,"",null,""]
[null,null,null,null,null,null,null,null,null,null,null,null,null,null,null,null,null,null,null,"",null,""]
[null,null,null,null,null,null,null,null,null,null,null,null,null,null,null,null,null,null,null,"",null,""]
[null,null,null,null,null,null,null,null,null,null,null,null,null,null,null,null,null,null,null,"",null,""]
[null,null,null,null,null,null,null,null,null,null,null,null,null,null,null,null,null,null,null,"",null,""]
[null,null,null,null,null,null,null,null,null,null,null,null,null,null,null,null,null,null,null,"",null,""]
[null,null,null,null,null,null,null,null,null,null,null,null,null,null,null,null,null,null,null,"",null,""]
[null,null,null,null,null,null,null,null,null,null,null,null,null,null,null,null,null,null,null,"",null,""]
[null,null,null,null,null,null,null,null,null,null,null,null,null,null,null,null,null,null,null,"",null,""]
[null,null,null,null,null,null,null,null,null,null,null,null,null,null,null,null,null,null,null,"",null,""]
[null,null,null,null,null,null,null,null,null,null,null,null,null,null,null,null,null,null,null,"",null,""]
[null,null,null,null,null,null,null,null,null,null,null,null,null,null,null,null,null,null,null,"",null,""]
[{"$f":"((ROW()-11)+15)/15","v":16},null,null,null,null,null,null,null,null,null,null,null,null,null,null,null,null,null,null,"",null,""]
[null,null,null,null,null,null,null,null,null,null,null,null,null,null,null,null,null,null,null,"",null,""]
[null,null,null,null,null,null,null,null,null,null,null,null,null,null,null,null,null,null,null,"",null,""]
[null,null,null,null,null,null,null,null,null,null,null,null,null,null,null,null,null,null,null,"",null,""]
[null,null,null,null,null,null,null,null,null,null,null,null,null,null,null,null,null,null,null,"",null,""]
[null,null,null,null,null,null,null,null,null,null,null,null,null,null,null,null,null,null,null,"",null,""]
[null,null,null,null,null,null,null,null,null,null,null,null,null,null,null,null,null,null,null,"",null,""]
[null,null,null,null,null,null,null,null,null,null,null,null,null,null,null,null,null,null,null,"",null,""]
[null,null,null,null,null,null,null,null,null,null,null,null,null,null,null,null,null,null,null,"",null,""]
[null,null,null,null,null,null,null,null,null,null,null,null,null,null,null,null,null,null,null,"",null,""]
[null,null,null,null,null,null,null,null,null,null,null,null,null,null,null,null,null,null,null,"",null,""]
[null,null,null,null,null,null,null,null,null,null,null,null,null,null,null,null,null,null,null,"",null,""]
[null,null,null,null,null,null,null,null,null,null,null,null,null,null,null,null,null,null,null,"",null,""]
[null,null,null,null,null,null,null,null,null,null,null,null,null,null,null,null,null,null,null,"",null,""]
[null,null,null,null,null,null,null,null,null,null,null,null,null,null,null,null,null,null,null,"",null,""]
[{"$f":"((ROW()-11)+15)/15","v":17},null,null,null,null,null,null,null,null,null,null,null,null,null,null,null,null,null,null,"",null,""]
[null,null,null,null,null,null,null,null,null,null,null,null,null,null,null,null,null,null,null,"",null,""]
[null,null,null,null,null,null,null,null,null,null,null,null,null,null,null,null,null,null,null,"",null,""]
[null,null,null,null,null,null,null,null,null,null,null,null,null,null,null,null,null,null,null,"",null,""]
[null,null,null,null,null,null,null,null,null,null,null,null,null,null,null,null,null,null,null,"",null,""]
[null,null,null,null,null,null,null,null,null,null,null,null,null,null,null,null,null,null,null,"",null,""]
[null,null,null,null,null,null,null,null,null,null,null,null,null,null,null,null,null,null,null,"",null,""]
[null,null,null,null,null,null,null,null,null,null,null,null,null,null,null,null,null,null,null,"",null,""]
[null,null,null,null,null,null,null,null,null,null,null,null,null,null,null,null,null,null,null,"",null,""]
[null,null,null,null,null,null,null,null,null,null,null,null,null,null,null,null,null,null,null,"",null,""]
[null,null,null,null,null,null,null,null,null,null,null,null,null,null,null,null,null,null,null,"",null,""]
[null,null,null,null,null,null,null,null,null,null,null,null,null,null,null,null,null,null,null,"",null,""]
[null,null,null,null,null,null,null,null,null,null,null,null,null,null,null,null,null,null,null,"",null,""]
[null,null,null,null,null,null,null,null,null,null,null,null,null,null,null,null,null,null,null,"",null,""]
[null,null,null,null,null,null,null,null,null,null,null,null,null,null,null,null,null,null,null,"",null,""]
[{"$f":"((ROW()-11)+15)/15","v":18},null,null,null,null,null,null,null,null,null,null,null,null,null,null,null,null,null,null,{"$f":"IF(P266=\"\",\"\",ROUNDDOWN(N(M266)*N(P266),0))","v":""},null,{"$f":"IF(R266=\"\",\"\",ROUNDDOWN(N(N266)*N(R266),0))","v":""}]
[null,null,null,null,null,null,null,null,null,null,null,null,null,null,null,null,null,null,null,"",null,""]
[null,null,null,null,null,null,null,null,null,null,null,null,null,null,null,null,null,null,null,"",null,""]
[null,null,null,null,null,null,null,null,null,null,null,null,null,null,null,null,null,null,null,"",null,""]
[null,null,null,null,null,null,null,null,null,null,null,null,null,null,null,null,null,null,null,"",null,""]
[null,null,null,null,null,null,null,null,null,null,null,null,null,null,null,null,null,null,null,"",null,""]
[null,null,null,null,null,null,null,null,null,null,null,null,null,null,null,null,null,null,null,"",null,""]
[null,null,null,null,null,null,null,null,null,null,null,null,null,null,null,null,null,null,null,"",null,""]
[null,null,null,null,null,null,null,null,null,null,null,null,null,null,null,null,null,null,null,"",null,""]
[null,null,null,null,null,null,null,null,null,null,null,null,null,null,null,null,null,null,null,"",null,""]
[null,null,null,null,null,null,null,null,null,null,null,null,null,null,null,null,null,null,null,"",null,""]
[null,null,null,null,null,null,null,null,null,null,null,null,null,null,null,null,null,null,null,"",null,""]
[null,null,null,null,null,null,null,null,null,null,null,null,null,null,null,null,null,null,null,"",null,""]
[null,null,null,null,null,null,null,null,null,null,null,null,null,null,null,null,null,null,null,"",null,""]
[null,null,null,null,null,null,null,null,null,null,null,null,null,null,null,null,null,null,null,"",null,""]
[{"$f":"((ROW()-11)+15)/15","v":19},null,null,null,null,null,null,null,null,null,null,null,null,null,null,null,null,null,null,"",null,""]
[null,null,null,null,null,null,null,null,null,null,null,null,null,null,null,null,null,null,null,"",null,""]
[null,null,null,null,null,null,null,null,null,null,null,null,null,null,null,null,null,null,null,"",null,""]
[null,null,null,null,null,null,null,null,null,null,null,null,null,null,null,null,null,null,null,"",null,""]
[null,null,null,null,null,null,null,null,null,null,null,null,null,null,null,null,null,null,null,"",null,""]
[null,null,null,null,null,null,null,null,null,null,null,null,null,null,null,null,null,null,null,"",null,""]
[null,null,null,null,null,null,null,null,null,null,null,null,null,null,null,null,null,null,null,"",null,""]
[null,null,null,null,null,null,null,null,null,null,null,null,null,null,null,null,null,null,null,"",null,""]
[null,null,null,null,null,null,null,null,null,null,null,null,null,null,null,null,null,null,null,"",null,""]
[null,null,null,null,null,null,null,null,null,null,null,null,null,null,null,null,null,null,null,"",null,""]
[null,null,null,null,null,null,null,null,null,null,null,null,null,null,null,null,null,null,null,"",null,""]
[null,null,null,null,null,null,null,null,null,null,null,null,null,null,null,null,null,null,null,"",null,""]
[null,null,null,null,null,null,null,null,null,null,null,null,null,null,null,null,null,null,null,"",null,""]
[null,null,null,null,null,null,null,null,null,null,null,null,null,null,null,null,null,null,null,"",null,""]
[null,null,null,null,null,null,null,null,null,null,null,null,null,null,null,null,null,null,null,"",null,""]
[{"$f":"((ROW()-11)+15)/15","v":20},null,null,null,null,null,null,null,null,null,null,null,null,null,null,null,null,null,null,"",null,""]
[null,null,null,null,null,null,null,null,null,null,null,null,null,null,null,null,null,null,null,"",null,""]
[null,null,null,null,null,null,null,null,null,null,null,null,null,null,null,null,null,null,null,"",null,""]
[null,null,null,null,null,null,null,null,null,null,null,null,null,null,null,null,null,null,null,"",null,""]
[null,null,null,null,null,null,null,null,null,null,null,null,null,null,null,null,null,null,null,"",null,""]
[null,null,null,null,null,null,null,null,null,null,null,null,null,null,null,null,null,null,null,"",null,""]
[null,null,null,null,null,null,null,null,null,null,null,null,null,null,null,null,null,null,null,"",null,""]
[null,null,null,null,null,null,null,null,null,null,null,null,null,null,null,null,null,null,null,"",null,""]
[null,null,null,null,null,null,null,null,null,null,null,null,null,null,null,null,null,null,null,"",null,""]
[null,null,null,null,null,null,null,null,null,null,null,null,null,null,null,null,null,null,null,"",null,""]
[null,null,null,null,null,null,null,null,null,null,null,null,null,null,null,null,null,null,null,"",null,""]
[null,null,null,null,null,null,null,null,null,null,null,null,null,null,null,null,null,null,null,"",null,""]
[null,null,null,null,null,null,null,null,null,null,null,null,null,null,null,null,null,null,null,"",null,""]
[null,null,null,null,null,null,null,null,null,null,null,null,null,null,null,null,null,null,null,"",null,""]
[null,null,null,null,null,null,null,null,null,null,null,null,null,null,null,null,null,null,null,"",null,""]
[{"$f":"((ROW()-11)+15)/15","v":21},null,null,null,null,null,null,null,null,null,null,null,null,null,null,null,null,null,null,{"$f":"IF(P311=\"\",\"\",ROUNDDOWN(N(M311)*N(P311),0))","v":""},null,{"$f":"IF(R311=\"\",\"\",ROUNDDOWN(N(N311)*N(R311),0))","v":""}]
[null,null,null,null,null,null,null,null,null,null,null,null,null,null,null,null,null,null,null,"",null,""]
[null,null,null,null,null,null,null,null,null,null,null,null,null,null,null,null,null,null,null,"",null,""]
[null,null,null,null,null,null,null,null,null,null,null,null,null,null,null,null,null,null,null,"",null,""]
[null,null,null,null,null,null,null,null,null,null,null,null,null,null,null,null,null,null,null,"",null,""]
[null,null,null,null,null,null,null,null,null,null,null,null,null,null,null,null,null,null,null,"",null,""]
[null,null,null,null,null,null,null,null,null,null,null,null,null,null,null,null,null,null,null,"",null,""]
[null,null,null,null,null,null,null,null,null,null,null,null,null,null,null,null,null,null,null,"",null,""]
[null,null,null,null,null,null,null,null,null,null,null,null,null,null,null,null,null,null,null,"",null,""]
[null,null,null,null,null,null,null,null,null,null,null,null,null,null,null,null,null,null,null,"",null,""]
[null,null,null,null,null,null,null,null,null,null,null,null,null,null,null,null,null,null,null,"",null,""]
[null,null,null,null,null,null,null,null,null,null,null,null,null,null,null,null,null,null,null,"",null,""]
[null,null,null,null,null,null,null,null,null,null,null,null,null,null,null,null,null,null,null,"",null,""]
[null,null,null,null,null,null,null,null,null,null,null,null,null,null,null,null,null,null,null,"",null,""]
[null,null,null,null,null,null,null,null,null,null,null,null,null,null,null,null,null,null,null,"",null,""]

{"sheet":"内訳明細印刷（取極め用）","index":5,"n_rows":24,"n_cols":73,"rows_kept":24,"cut":false,"hidden":true,"merged":[[3,4,3,28],[6,36,6,39],[1,0,1,32],[6,40,6,44],[3,38,3,49],[2,36,2,49],[3,0,3,3],[6,45,6,49],[5,0,6,10],[5,29,6,31],[5,21,5,28],[6,21,6,24],[6,25,6,28],[5,11,6,20],[5,32,5,39],[3,34,3,37],[7,0,7,10],[7,11,7,20],[7,21,7,24],[7,25,7,28],[8,0,8,10],[8,21,8,24],[8,25,8,28],[8,29,8,31],[8,45,8,49],[7,29,7,31],[7,32,7,35],[7,36,7,39],[8,32,8,35],[8,40,8,44],[8,11,8,20],[9,0,9,10],[11,32,11,35],[13,0,13,10],[12,32,12,35],[12,36,12,39],[12,40,12,44],[12,0,12,10],[12,21,12,24],[13,25,13,28],[13,29,13,31],[11,0,11,10],[10,32,10,35],[10,36,10,39],[10,0,10,10],[10,21,10,24],[10,25,10,28],[10,29,10,31],[11,11,11,20],[10,11,10,20],[9,21,9,24],[9,25,9,28],[9,29,9,31],[9,32,9,35],[9,11,9,20],[14,0,14,10],[15,29,15,31],[15,21,15,24],[15,25,15,28],[15,11,15,20],[15,0,15,10],[14,21,14,24],[14,25,14,28],[14,29,14,31],[17,0,17,10],[17,29,17,31],[18,0,18,10],[18,21,18,24],[18,11,18,20],[17,11,17,20],[13,36,13,39],[13,40,13,44],[13,45,13,49],[16,36,16,39],[16,0,16,10],[16,21,16,24],[16,29,16,31],[16,11,16,20],[13,32,13,35],[16,32,16,35],[15,45,15,49],[14,36,14,39],[14,40,14,44],[15,36,15,39],[15,40,15,44],[14,32,14,35],[14,45,14,49],[15,32,15,35],[19,0,19,10],[21,11,21,20],[19,21,19,24],[19,25,19,28],[21,21,21,24],[21,29,21,31],[20,11,20,20],[21,0,21,10],[20,0,20,10],[20,21,20,24],[21,32,21,35],[20,25,20,28],[20,29,20,31],[21,25,21,28],[20,32,20,35],[16,25,16,28],[17,21,17,24],[17,25,17,28],[19,11,19,20],[18,25,18,28],[18,29,18,31],[19,29,19,31],[19,32,19,35],[18,32,18,35],[12,11,12,20],[13,11,13,20],[14,11,14,20],[19,36,19,39],[19,40,19,44],[11,21,11,24],[11,25,11,28],[11,29,11,31],[17,32,17,35],[18,40,18,44],[13,21,13,24],[18,36,18,39],[17,36,17,39],[11,36,11,39],[11,40,11,44],[12,25,12,28],[12,29,12,31],[21,40,21,44],[18,45,18,49],[17,40,17,44],[20,45,20,49],[21,45,21,49],[19,45,19,49],[17,45,17,49],[23,47,23,48],[20,36,20,39],[20,40,20,44],[21,36,21,39],[23,40,23,42],[23,43,23,44],[0,40,0,41],[0,33,0,35],[2,33,2,35],[1,33,1,35],[0,37,0,38],[1,36,1,49],[16,45,16,49],[16,40,16,44],[12,45,12,49],[11,45,11,49],[5,40,5,49],[6,32,6,35],[10,45,10,49],[9,36,9,39],[9,40,9,44],[9,45,9,49],[10,40,10,44],[7,45,7,49],[7,40,7,44],[8,36,8,39]]}
[null,null,null,null,null,null,null,null,null,null,null,null,null,null,null,null,null,null,null,null,null,null,null,null,null,null,null,null,null,null,null,null,null,"住       所",null,null,"〒",{"$f":"IF(BA1=\"\",\"\",BA1)","v":""},null,"－",{"$f":"IF(BB1=\"\",\"\",BB1)","v":""},null,null,null,null,null,null,null,null,null,null,"郵便番号"]
["内 訳 明 細 書 　（取極め用）",null,null,null,null,null,null,null,null,null,null,null,null,null,null,null,null,null,null,null,null,null,null,null,null,null,null,null,null,null,null,null,null,null,null,null,{"$f":"IF(BA2=\"\",\"\",BA2)","v":""},null,null,null,null,null,null,null,null,null,null,null,null,null,null,"住所"]
[null,null,null,null,null,null,null,null,null,null,null,null,null,null,null,null,null,null,null,null,null,null,null,null,null,null,null,null,null,null,null,null,null,"会  社  名",null,null,{"$f":"IF(BA3=\"\",\"\",BA3)","v":""},null,null,null,null,null,null,null,null,null,null,null,null,null,null,"会社名"]
["工事名称：",null,null,null,{"$f":"IF(BA4=\"\",\"\",BA4)","v":""},null,null,null,null,null,null,null,null,null,null,null,null,null,null,null,null,null,null,null,null,null,null,null,null,null,null,null,null,null,"支店・営業所名",null,null,null,{"$f":"IF(BC4=\"\",\"\",BC4)","v":""},null,null,null,null,null,null,null,null,null,null,null,null,"工事名称",null,"支店営業"]
[null,null,null,null,null,null,null,null,null,null,null,null,null,null,null,null,null,null,null,null,null,null,null,null,null,null,null,null,null,null,null,null,null,null,null,null,null,null,null,null,null,null,null,null,null,null,null,null,null,null,null,null,null,null,null,null,null,null,null,null,null,null,null,"数　量",null,null,"単　価",null,null,null,"金　額"]
["工事種目／品目",null,null,null,null,null,null,null,null,null,null,"規格／仕様／寸法／メーカー名",null,null,null,null,null,null,null,null,null,"数　量",null,null,null,null,null,null,null,"単位",null,null,"単　価",null,null,null,null,null,null,null,"金　額",null,null,null,null,null,null,null,null,null,null,null,"工事種目／品目",null,null,null,null,null,"規格／仕様／寸法／メーカー名",null,null,null,null,"現在","変更後","単位","現在",null,"変更後",null,"現在",null,"変更後"]
[null,null,null,null,null,null,null,null,null,null,null,null,null,null,null,null,null,null,null,null,null,"現在",null,null,null,"変更後",null,null,null,null,null,null,"現在",null,null,null,"変更後",null,null,null,"現在",null,null,null,null,"変更後",null,null,null,null,null,"明細1"]
[{"$f":"IF(BA7=\"\",\"\",BA7)","v":""},null,null,null,null,null,null,null,null,null,null,{"$f":"IF(BG7=\"\",\"\",BG7)","v":""},null,null,null,null,null,null,null,null,null,{"$f":"IF(BL7=\"\",\"\",BL7)","v":""},null,null,null,{"$f":"IF(BM7=\"\",\"\",BM7)","v":""},null,null,null,{"$f":"IF(BN7=\"\",\"\",BN7)","v":""},null,null,{"$f":"IF(BO7=\"\",\"\",BO7)","v":""},null,null,null,{"$f":"IF(BQ7=\"\",\"\",BQ7)","v":""},null,null,null,{"$f":"IF(BS7=\"\",\"\",BS7)","v":""},null,null,null,null,{"$f":"IF(BU7=\"\",\"\",BU7)","v":""},null,null,null,null,null,"明細2"]
[{"$f":"IF(BA8=\"\",\"\",BA8)","v":""},null,null,null,null,null,null,null,null,null,null,{"$f":"IF(BG8=\"\",\"\",BG8)","v":""},null,null,null,null,null,null,null,null,null,{"$f":"IF(BL8=\"\",\"\",BL8)","v":""},null,null,null,{"$f":"IF(BM8=\"\",\"\",BM8)","v":""},null,null,null,{"$f":"IF(BN8=\"\",\"\",BN8)","v":""},null,null,{"$f":"IF(BO8=\"\",\"\",BO8)","v":""},null,null,null,{"$f":"IF(BQ8=\"\",\"\",BQ8)","v":""},null,null,null,{"$f":"IF(BS8=\"\",\"\",BS8)","v":""},null,null,null,null,{"$f":"IF(BU8=\"\",\"\",BU8)","v":""},null,null,null,null,null,"明細3"]
["",null,null,null,null,null,null,null,null,null,null,"",null,null,null,null,null,null,null,null,null,"",null,null,null,"",null,null,null,"",null,null,"",null,null,null,"",null,null,null,"",null,null,null,null,"",null,null,null,null,null,"明細4"]
["",null,null,null,null,null,null,null,null,null,null,"",null,null,null,null,null,null,null,null,null,"",null,null,null,"",null,null,null,"",null,null,"",null,null,null,"",null,null,null,"",null,null,null,null,"",null,null,null,null,null,"明細5"]
["",null,null,null,null,null,null,null,null,null,null,"",null,null,null,null,null,null,null,null,null,"",null,null,null,"",null,null,null,"",null,null,"",null,null,null,"",null,null,null,"",null,null,null,null,"",null,null,null,null,null,"明細6"]
["",null,null,null,null,null,null,null,null,null,null,"",null,null,null,null,null,null,null,null,null,"",null,null,null,"",null,null,null,"",null,null,"",null,null,null,"",null,null,null,"",null,null,null,null,"",null,null,null,null,null,"明細7"]
["",null,null,null,null,null,null,null,null,null,null,"",null,null,null,null,null,null,null,null,null,"",null,null,null,"",null,null,null,"",null,null,"",null,null,null,"",null,null,null,"",null,null,null,null,"",null,null,null,null,null,"明細8"]
["",null,null,null,null,null,null,null,null,null,null,"",null,null,null,null,null,null,null,null,null,"",null,null,null,"",null,null,null,"",null,null,"",null,null,null,"",null,null,null,"",null,null,null,null,"",null,null,null,null,null,"明細9"]
["",null,null,null,null,null,null,null,null,null,null,"",null,null,null,null,null,null,null,null,null,"",null,null,null,"",null,null,null,"",null,null,"",null,null,null,"",null,null,null,"",null,null,null,null,"",null,null,null,null,null,"明細10"]
["",null,null,null,null,null,null,null,null,null,null,"",null,null,null,null,null,null,null,null,null,"",null,null,null,"",null,null,null,"",null,null,"",null,null,null,"",null,null,null,"",null,null,null,null,"",null,null,null,null,null,"明細11"]
["",null,null,null,null,null,null,null,null,null,null,"",null,null,null,null,null,null,null,null,null,"",null,null,null,"",null,null,null,"",null,null,"",null,null,null,"",null,null,null,"",null,null,null,null,"",null,null,null,null,null,"明細12"]
["",null,null,null,null,null,null,null,null,null,null,"",null,null,null,null,null,null,null,null,null,"",null,null,null,"",null,null,null,"",null,null,"",null,null,null,"",null,null,null,"",null,null,null,null,"",null,null,null,null,null,"明細13"]
["",null,null,null,null,null,null,null,null,null,null,"",null,null,null,null,null,null,null,null,null,"",null,null,null,"",null,null,null,"",null,null,"",null,null,null,"",null,null,null,"",null,null,null,null,"",null,null,null,null,null,"明細14"]
["",null,null,null,null,null,null,null,null,null,null,"",null,null,null,null,null,null,null,null,null,"",null,null,null,"",null,null,null,"",null,null,"",null,null,null,"",null,null,null,"",null,null,null,null,"",null,null,null,null,null,"明細15"]
["",null,null,null,null,null,null,null,null,null,null,"",null,null,null,null,null,null,null,null,null,"",null,null,null,"",null,null,null,"",null,null,"",null,null,null,"",null,null,null,"",null,null,null,null,""]
[null,null,null,null,null,null,null,null,null,null,null,null,null,null,null,null,null,null,null,null,null,null,null,null,null,null,null,null,null,null,null,null,null,null,null,null,null,null,null,null,null,null,null,null,null,null,null,null,null,null,null,"頁"]
[null,null,null,null,null,null,null,null,null,null,null,null,null,null,null,null,null,null,null,null,null,null,null,null,null,null,null,null,null,null,null,null,null,null,null,null,null,null,null,null,{"$f":"IF(BA23=\"\",\"\",BA23)","v":""},null,null,"頁中",null,"／",null,{"$f":"IF(BB23=\"\",\"\",BB23)","v":""},null,"頁"]

{"sheet":"内訳明細出力（取極め用）","index":6,"n_rows":8,"n_cols":33,"rows_kept":8,"cut":false,"hidden":true,"merged":[[3,7,3,9],[2,7,2,9],[1,7,1,9],[7,0,7,1],[5,0,6,1],[5,2,6,2],[5,5,6,5]]}
[null,null,null,null,null,null,"住       所 ","〒 999 － 9999"]
["　　内 訳 明 細 書 　（取極め用）"]
["契約№： ",null,null,null,null,null,"会  社  名 "]
["工事名称： ",null,null,null,null,null,"支店・営業所名"]
[]
["工事種目／品目",null,"規格／仕様／寸法／メーカー名","数　量",null,"単位","単　価",null,"金　額",null,null,"総頁",null,null,null,null,null,null,null,null,null,null,null,"数　量",null,null,"単　価",null,null,null,"金　額"]
[null,null,null,"現在","変更後",null,"現在","変更後","現在","変更後",null,null,"工事種目／品目",null,null,null,null,null,"規格／仕様／寸法／メーカー名",null,null,null,null,"現在","変更後","単位","現在",null,"変更後",null,"現在",null,"変更後"]
[{"$f":"IF(M8=\"\",\"\",M8)","v":""},null,null,null,null,null,null,null,null,null,null,"明細"]

{"sheet":"請求明細書入力印刷画面","index":7,"n_rows":325,"n_cols":50,"rows_kept":325,"cut":false,"hidden":true,"merged":[[39,33,39,36],[39,45,39,48],[39,49,39,52],[38,41,38,44],[38,45,38,48],[38,1,38,13],[38,14,38,17],[38,18,38,20],[38,21,38,24],[38,25,38,28],[38,29,38,32],[39,25,39,28],[39,29,39,32],[39,37,39,40],[39,41,39,44],[39,1,39,13],[39,14,39,17],[39,18,39,20],[39,21,39,24],[36,37,36,40],[36,1,36,13],[36,14,36,17],[36,18,36,20],[36,21,36,24],[37,33,37,36],[36,25,36,28],[36,29,36,32],[36,33,36,36],[37,25,37,28],[38,49,38,52],[37,37,37,40],[37,41,37,44],[37,45,37,48],[37,49,37,52],[37,1,37,13],[37,14,37,17],[37,18,37,20],[37,21,37,24],[37,29,37,32],[38,33,38,36],[38,37,38,40],[36,41,36,44],[36,45,36,48],[36,49,36,52],[35,33,35,36],[35,45,35,48],[35,49,35,52],[34,41,34,44],[34,45,34,48],[34,1,34,13],[34,14,34,17],[34,18,34,20],[34,21,34,24],[34,25,34,28],[34,29,34,32],[35,25,35,28],[35,29,35,32],[35,37,35,40],[35,41,35,44],[35,1,35,13],[35,14,35,17],[35,18,35,20],[35,21,35,24],[32,37,32,40],[32,1,32,13],[32,14,32,17],[32,18,32,20],[32,21,32,24],[33,33,33,36],[32,25,32,28],[32,29,32,32],[32,33,32,36],[33,25,33,28],[34,49,34,52],[33,37,33,40],[33,41,33,44],[33,45,33,48],[33,49,33,52],[33,1,33,13],[33,14,33,17],[33,18,33,20],[33,21,33,24],[33,29,33,32],[34,33,34,36],[34,37,34,40],[32,41,32,44],[32,45,32,48],[32,49,32,52],[31,33,31,36],[31,45,31,48],[31,49,31,52],[30,41,30,44],[30,45,30,48],[30,1,30,13],[30,14,30,17],[30,18,30,20],[30,21,30,24],[30,25,30,28],[30,29,30,32],[31,25,31,28],[31,29,31,32],[31,37,31,40],[31,41,31,44],[31,1,31,13],[31,14,31,17],[31,18,31,20],[31,21,31,24],[28,29,28,32],[28,33,28,36],[29,25,29,28],[30,49,30,52],[29,37,29,40],[29,41,29,44],[29,45,29,48],[29,49,29,52],[29,1,29,13],[29,14,29,17],[29,18,29,20],[29,21,29,24],[29,29,29,32],[30,33,30,36],[30,37,30,40],[28,41,28,44],[28,45,28,48],[28,49,28,52],[25,45,25,48],[25,49,25,52],[25,0,39,0],[25,1,25,13],[25,14,25,17],[25,18,25,20],[26,1,26,13],[26,14,26,17],[26,18,26,20],[27,1,27,13],[25,21,25,24],[25,25,25,28],[25,29,25,32],[25,33,25,36],[25,37,25,40],[25,41,25,44],[27,45,27,48],[27,49,27,52],[26,21,26,24],[26,25,26,28],[26,29,26,32],[26,33,26,36],[26,37,26,40],[26,41,26,44],[26,45,26,48],[26,49,26,52],[27,21,27,24],[27,25,27,28],[27,29,27,32],[27,33,27,36],[27,37,27,40],[27,41,27,44],[54,33,54,36],[54,45,54,48],[54,49,54,52],[53,41,53,44],[53,45,53,48],[53,49,53,52],[52,37,52,40],[54,1,54,13],[54,14,54,17],[54,18,54,20],[54,21,54,24],[53,1,53,13],[53,14,53,17],[53,18,53,20],[53,21,53,24],[27,14,27,17],[27,18,27,20],[54,25,54,28],[54,29,54,32],[54,37,54,40],[54,41,54,44],[53,25,53,28],[53,29,53,32],[53,33,53,36],[53,37,53,40],[28,37,28,40],[28,1,28,13],[28,14,28,17],[28,18,28,20],[28,21,28,24],[29,33,29,36],[28,25,28,28],[51,37,51,40],[51,1,51,13],[51,14,51,17],[51,18,51,20],[51,21,51,24],[52,33,52,36],[51,25,51,28],[51,29,51,32],[51,33,51,36],[52,25,52,28],[52,41,52,44],[52,45,52,48],[52,49,52,52],[52,1,52,13],[52,14,52,17],[52,18,52,20],[52,21,52,24],[52,29,52,32],[51,41,51,44],[51,45,51,48],[51,49,51,52],[50,33,50,36],[50,45,50,48],[50,49,50,52],[49,41,49,44],[49,45,49,48],[49,1,49,13],[49,14,49,17],[49,18,49,20],[49,21,49,24],[49,25,49,28],[49,29,49,32],[50,25,50,28],[50,29,50,32],[50,37,50,40],[50,41,50,44],[50,1,50,13],[50,14,50,17],[50,18,50,20],[50,21,50,24],[47,37,47,40],[47,1,47,13],[47,14,47,17],[47,18,47,20],[47,21,47,24],[48,33,48,36],[47,25,47,28],[47,29,47,32],[47,33,47,36],[48,25,48,28],[49,49,49,52],[48,37,48,40],[48,41,48,44],[48,45,48,48],[48,49,48,52],[48,1,48,13],[48,14,48,17],[48,18,48,20],[48,21,48,24],[48,29,48,32],[49,33,49,36],[49,37,49,40],[47,41,47,44],[47,45,47,48],[47,49,47,52],[46,33,46,36],[46,45,46,48],[46,49,46,52],[45,41,45,44],[45,45,45,48],[45,1,45,13],[45,14,45,17],[45,18,45,20],[45,21,45,24],[45,25,45,28],[45,29,45,32],[46,25,46,28],[46,29,46,32],[46,37,46,40],[46,41,46,44],[46,1,46,13],[46,14,46,17],[46,18,46,20],[46,21,46,24],[43,29,43,32],[43,33,43,36],[44,25,44,28],[45,49,45,52],[44,37,44,40],[44,41,44,44],[44,45,44,48],[44,49,44,52],[44,1,44,13],[44,14,44,17],[44,18,44,20],[44,21,44,24],[44,29,44,32],[45,33,45,36],[45,37,45,40],[43,41,43,44],[43,45,43,48],[43,49,43,52],[40,45,40,48],[40,49,40,52],[40,0,54,0],[40,1,40,13],[40,14,40,17],[40,18,40,20],[41,1,41,13],[41,14,41,17],[41,18,41,20],[42,1,42,13],[40,21,40,24],[40,25,40,28],[40,29,40,32],[40,33,40,36],[40,37,40,40],[40,41,40,44],[42,45,42,48],[42,49,42,52],[41,21,41,24],[41,25,41,28],[41,29,41,32],[41,33,41,36],[41,37,41,40],[41,41,41,44],[41,45,41,48],[41,49,41,52],[42,21,42,24],[42,25,42,28],[42,29,42,32],[42,33,42,36],[42,37,42,40],[42,41,42,44],[69,33,69,36],[69,45,69,48],[69,49,69,52],[68,41,68,44],[68,45,68,48],[68,49,68,52],[67,37,67,40],[69,1,69,13],[69,14,69,17],[69,18,69,20],[69,21,69,24],[68,1,68,13],[68,14,68,17],[68,18,68,20],[68,21,68,24],[42,14,42,17],[42,18,42,20],[69,25,69,28],[69,29,69,32],[69,37,69,40],[69,41,69,44],[68,25,68,28],[68,29,68,32],[68,33,68,36],[68,37,68,40],[43,37,43,40],[43,1,43,13],[43,14,43,17],[43,18,43,20],[43,21,43,24],[44,33,44,36],[43,25,43,28],[66,37,66,40],[66,1,66,13],[66,14,66,17],[66,18,66,20],[66,21,66,24],[67,33,67,36],[66,25,66,28],[66,29,66,32],[66,33,66,36],[67,25,67,28],[67,41,67,44],[67,45,67,48],[67,49,67,52],[67,1,67,13],[67,14,67,17],[67,18,67,20],[67,21,67,24],[67,29,67,32],[66,41,66,44],[66,45,66,48],[66,49,66,52],[65,33,65,36],[65,45,65,48],[65,49,65,52],[64,41,64,44],[64,45,64,48],[64,1,64,13],[64,14,64,17],[64,18,64,20],[64,21,64,24],[64,25,64,28],[64,29,64,32],[65,25,65,28],[65,29,65,32],[65,37,65,40],[65,41,65,44],[65,1,65,13],[65,14,65,17],[65,18,65,20],[65,21,65,24],[62,37,62,40],[62,1,62,13],[62,14,62,17],[62,18,62,20],[62,21,62,24],[63,33,63,36],[62,25,62,28],[62,29,62,32],[62,33,62,36],[63,25,63,28],[64,49,64,52],[63,37,63,40],[63,41,63,44],[63,45,63,48],[63,49,63,52],[63,1,63,13],[63,14,63,17],[63,18,63,20],[63,21,63,24],[63,29,63,32],[64,33,64,36],[64,37,64,40],[62,41,62,44],[62,45,62,48],[62,49,62,52],[59,18,59,20],[59,21,59,24],[59,29,59,32],[60,33,60,36],[60,37,60,40],[58,41,58,44],[58,45,58,48],[58,49,58,52],[61,33,61,36],[61,45,61,48],[61,49,61,52],[60,41,60,44],[60,45,60,48],[60,1,60,13],[60,14,60,17],[60,18,60,20],[60,21,60,24],[60,25,60,28],[60,29,60,32],[61,25,61,28],[61,29,61,32],[61,37,61,40],[61,41,61,44],[61,1,61,13],[61,14,61,17],[61,18,61,20],[61,21,61,24],[55,0,69,0],[55,1,55,13],[55,14,55,17],[55,18,55,20],[56,1,56,13],[56,14,56,17],[56,18,56,20],[57,1,57,13],[55,21,55,24],[55,25,55,28],[55,29,55,32],[55,33,55,36],[55,37,55,40],[55,41,55,44],[57,45,57,48],[57,49,57,52],[56,21,56,24],[56,25,56,28],[56,29,56,32],[56,33,56,36],[56,37,56,40],[56,41,56,44],[56,45,56,48],[56,49,56,52],[57,21,57,24],[57,25,57,28],[57,29,57,32],[57,33,57,36],[57,37,57,40],[57,41,57,44],[58,37,58,40],[58,1,58,13],[309,33,309,36],[309,45,309,48],[309,49,309,52],[308,41,308,44],[308,45,308,48],[308,49,308,52],[307,37,307,40],[309,1,309,13],[309,14,309,17],[309,18,309,20],[309,21,309,24],[308,1,308,13],[308,14,308,17],[308,18,308,20],[308,21,308,24],[57,14,57,17],[57,18,57,20],[309,25,309,28],[309,29,309,32],[309,37,309,40],[309,41,309,44],[308,25,308,28],[308,29,308,32],[308,33,308,36],[308,37,308,40],[58,14,58,17],[58,18,58,20],[58,21,58,24],[59,33,59,36],[58,25,58,28],[58,29,58,32],[58,33,58,36],[306,37,306,40],[306,1,306,13],[306,14,306,17],[306,18,306,20],[306,21,306,24],[307,33,307,36],[306,25,306,28],[306,29,306,32],[306,33,306,36],[307,25,307,28],[307,41,307,44],[307,45,307,48],[307,49,307,52],[307,1,307,13],[307,14,307,17],[307,18,307,20],[307,21,307,24],[307,29,307,32],[306,41,306,44],[306,45,306,48],[306,49,306,52],[305,33,305,36],[305,45,305,48],[305,49,305,52],[304,41,304,44],[304,45,304,48],[304,1,304,13],[304,14,304,17],[304,18,304,20],[304,21,304,24],[304,25,304,28],[304,29,304,32],[305,25,305,28],[305,29,305,32],[305,37,305,40],[305,41,305,44],[305,1,305,13],[305,14,305,17],[305,18,305,20],[305,21,305,24],[302,37,302,40],[302,1,302,13],[302,14,302,17],[302,18,302,20],[302,21,302,24],[303,33,303,36],[302,25,302,28],[302,29,302,32],[302,33,302,36],[303,25,303,28],[304,49,304,52],[303,37,303,40],[303,41,303,44],[303,45,303,48],[303,49,303,52],[303,1,303,13],[303,14,303,17],[303,18,303,20],[303,21,303,24],[303,29,303,32],[304,33,304,36],[304,37,304,40],[302,41,302,44],[302,45,302,48],[302,49,302,52],[301,33,301,36],[301,45,301,48],[301,49,301,52],[300,41,300,44],[300,45,300,48],[300,1,300,13],[300,14,300,17],[300,18,300,20],[300,21,300,24],[300,25,300,28],[300,29,300,32],[301,25,301,28],[301,29,301,32],[301,37,301,40],[301,41,301,44],[301,1,301,13],[301,14,301,17],[301,18,301,20],[301,21,301,24],[297,21,297,24],[297,25,297,28],[297,29,297,32],[297,33,297,36],[297,37,297,40],[297,41,297,44],[298,37,298,40],[298,1,298,13],[298,14,298,17],[298,18,298,20],[298,21,298,24],[299,33,299,36],[298,25,298,28],[298,29,298,32],[298,33,298,36],[299,25,299,28],[300,49,300,52],[299,37,299,40],[299,41,299,44],[299,45,299,48],[299,49,299,52],[299,1,299,13],[299,14,299,17],[299,18,299,20],[299,21,299,24],[299,29,299,32],[300,33,300,36],[300,37,300,40],[298,41,298,44],[298,45,298,48],[298,49,298,52],[297,14,297,17],[297,18,297,20],[294,25,294,28],[294,29,294,32],[294,37,294,40],[294,41,294,44],[295,45,295,48],[295,49,295,52],[295,0,309,0],[295,1,295,13],[295,14,295,17],[295,18,295,20],[296,1,296,13],[296,14,296,17],[296,18,296,20],[297,1,297,13],[295,21,295,24],[295,25,295,28],[295,29,295,32],[295,33,295,36],[295,37,295,40],[295,41,295,44],[297,45,297,48],[297,49,297,52],[296,21,296,24],[296,25,296,28],[296,29,296,32],[296,33,296,36],[296,37,296,40],[296,41,296,44],[296,45,296,48],[296,49,296,52],[280,0,294,0],[293,25,293,28],[293,29,293,32],[293,33,293,36],[293,37,293,40],[291,41,291,44],[291,45,291,48],[292,33,292,36],[291,25,291,28],[291,29,291,32],[291,33,291,36],[292,49,292,52],[294,1,294,13],[294,14,294,17],[294,18,294,20],[294,21,294,24],[293,1,293,13],[293,14,293,17],[293,18,293,20],[293,21,293,24],[291,49,291,52],[292,1,292,13],[292,14,292,17],[292,18,292,20],[292,21,292,24],[291,37,291,40],[291,1,291,13],[291,14,291,17],[291,18,291,20],[291,21,291,24],[290,33,290,36],[290,45,290,48],[290,49,290,52],[289,41,289,44],[289,45,289,48],[289,49,289,52],[286,41,286,44],[294,33,294,36],[294,45,294,48],[294,49,294,52],[293,41,293,44],[293,45,293,48],[293,49,293,52],[292,37,292,40],[292,41,292,44],[292,45,292,48],[290,1,290,13],[290,14,290,17],[290,18,290,20],[290,21,290,24],[289,1,289,13],[289,14,289,17],[289,18,289,20],[289,21,289,24],[292,25,292,28],[292,29,292,32],[290,25,290,28],[290,29,290,32],[290,37,290,40],[290,41,290,44],[287,29,287,32],[287,33,287,36],[288,29,288,32],[286,25,286,28],[286,29,286,32],[286,37,286,40],[288,49,288,52],[288,1,288,13],[288,14,288,17],[288,18,288,20],[288,21,288,24],[287,37,287,40],[287,1,287,13],[287,14,287,17],[287,18,287,20],[287,21,287,24],[287,49,287,52],[284,37,284,40],[284,41,284,44],[284,45,284,48],[284,49,284,52],[284,1,284,13],[284,14,284,17],[284,18,284,20],[284,21,284,24],[283,1,283,13],[283,14,283,17],[283,18,283,20],[283,21,283,24],[283,49,283,52],[286,33,286,36],[286,45,286,48],[286,49,286,52],[285,41,285,44],[285,45,285,48],[285,49,285,52],[285,25,285,28],[285,29,285,32],[285,33,285,36],[285,37,285,40],[283,41,283,44],[283,45,283,48],[284,33,284,36],[283,25,283,28],[283,29,283,32],[283,33,283,36],[286,1,286,13],[286,14,286,17],[286,18,286,20],[286,21,286,24],[285,1,285,13],[280,1,280,13],[280,14,280,17],[280,18,280,20],[281,1,281,13],[281,14,281,17],[281,18,281,20],[282,1,282,13],[282,14,282,17],[282,18,282,20],[281,45,281,48],[284,25,284,28],[284,29,284,32],[288,37,288,40],[288,41,288,44],[288,45,288,48],[289,25,289,28],[289,29,289,32],[289,33,289,36],[289,37,289,40],[287,41,287,44],[287,45,287,48],[288,33,288,36],[287,25,287,28],[282,21,282,24],[282,25,282,28],[282,29,282,32],[282,33,282,36],[285,14,285,17],[285,18,285,20],[285,21,285,24],[288,25,288,28],[283,37,283,40],[281,49,281,52],[280,21,280,24],[280,25,280,28],[280,29,280,32],[280,33,280,36],[280,37,280,40],[280,41,280,44],[280,45,280,48],[280,49,280,52],[282,37,282,40],[282,41,282,44],[282,45,282,48],[282,49,282,52],[281,21,281,24],[281,25,281,28],[281,29,281,32],[281,33,281,36],[281,37,281,40],[281,41,281,44],[279,33,279,36],[279,45,279,48],[279,49,279,52],[278,41,278,44],[278,45,278,48],[278,1,278,13],[278,14,278,17],[278,18,278,20],[278,21,278,24],[278,25,278,28],[278,29,278,32],[279,25,279,28],[279,29,279,32],[279,37,279,40],[279,41,279,44],[279,1,279,13],[279,14,279,17],[279,18,279,20],[279,21,279,24],[276,37,276,40],[276,1,276,13],[276,14,276,17],[276,18,276,20],[276,21,276,24],[277,33,277,36],[276,25,276,28],[276,29,276,32],[276,33,276,36],[277,25,277,28],[278,49,278,52],[277,37,277,40],[277,41,277,44],[277,45,277,48],[277,49,277,52],[277,1,277,13],[277,14,277,17],[277,18,277,20],[277,21,277,24],[277,29,277,32],[278,33,278,36],[278,37,278,40],[276,41,276,44],[276,45,276,48],[276,49,276,52],[274,49,274,52],[273,37,273,40],[273,41,273,44],[273,45,273,48],[273,49,273,52],[273,1,273,13],[273,14,273,17],[273,18,273,20],[273,21,273,24],[273,29,273,32],[274,33,274,36],[274,37,274,40],[272,41,272,44],[272,45,272,48],[272,49,272,52],[275,33,275,36],[275,45,275,48],[275,49,275,52],[274,41,274,44],[274,45,274,48],[274,1,274,13],[274,14,274,17],[274,18,274,20],[274,21,274,24],[274,25,274,28],[274,29,274,32],[275,25,275,28],[275,29,275,32],[275,37,275,40],[275,41,275,44],[275,1,275,13],[275,14,275,17],[269,41,269,44],[269,45,269,48],[269,49,269,52],[269,1,269,13],[269,14,269,17],[269,18,269,20],[269,21,269,24],[269,29,269,32],[270,33,270,36],[270,37,270,40],[268,41,268,44],[268,45,268,48],[268,49,268,52],[271,33,271,36],[271,45,271,48],[271,49,271,52],[270,41,270,44],[270,45,270,48],[270,1,270,13],[270,14,270,17],[270,18,270,20],[270,21,270,24],[270,25,270,28],[270,29,270,32],[271,25,271,28],[271,29,271,32],[271,37,271,40],[271,41,271,44],[271,1,271,13],[271,14,271,17],[271,18,271,20],[271,21,271,24],[6,0,6,3],[6,4,6,23],[8,45,8,52],[9,14,9,17],[9,18,9,20],[9,21,9,24],[9,25,9,28],[9,29,9,32],[9,33,9,36],[9,37,9,40],[267,14,267,17],[267,18,267,20],[3,12,3,13],[3,14,3,17],[5,21,5,22],[8,0,9,0],[5,4,5,13],[5,15,5,17],[8,1,9,13],[8,14,8,28],[265,45,265,48],[265,49,265,52],[265,0,279,0],[265,1,265,13],[265,14,265,17],[265,18,265,20],[266,1,266,13],[266,14,266,17],[266,18,266,20],[267,1,267,13],[265,21,265,24],[265,25,265,28],[10,41,10,44],[10,45,10,48],[10,49,10,52],[10,1,10,13],[10,25,10,28],[11,1,11,13],[11,14,11,17],[11,18,11,20],[11,21,11,24],[9,41,9,44],[9,45,9,48],[9,49,9,52],[10,14,10,17],[10,18,10,20],[10,21,10,24],[10,29,10,32],[10,37,10,40],[10,33,10,36],[12,49,12,52],[11,41,11,44],[11,45,11,48],[11,49,11,52],[12,41,12,44],[12,45,12,48],[12,14,12,17],[12,18,12,20],[12,21,12,24],[12,25,12,28],[13,1,13,13],[13,14,13,17],[13,18,13,20],[13,21,13,24],[12,29,12,32],[12,37,12,40],[12,33,12,36],[11,25,11,28],[11,29,11,32],[11,33,11,36],[11,37,11,40],[12,1,12,13]],"merged_total":3519,"flags":["merged_cut"]}
[]
[null,"請 求 明 細 書 入力・印刷画面　（取極め用）"]
[]
[null,null,null,"西暦",null,null,null,null,"年",null,null,"月",null,null,"日　請求分"]
[null,null,null,null,null,null,null,null,null,null,null,null,null,null,null,null,null,null,null,null,null,null,null,null,null,null,null,null,null,null,null,null,null,{"$f":"クリアコメント","v":""}]
["注　　文№",null,null,null,{"$f":"IF(基本入力画面!E21=\"\",\"\",基本入力画面!E21)","v":""},null,null,null,null,null,null,null,null,null,"－",{"$f":"IF(基本入力画面!L21=\"\",\"\",基本入力画面!L21)","v":""},null,null,"－",{"$f":"IF(基本入力画面!O21=\"\",\"\",基本入力画面!O21)","v":""}]
["工事名称：",null,null,null,{"$f":"IF(基本入力画面!E15=\"\",\"\",基本入力画面!E15)","v":""},null,null,null,null,null,null,null,null,null,null,null,null,null,null,null,null,null,null,null,null,"印刷部数選択",null,null,null,null,null,null,"印刷最終頁",null,null,null,null,{"$f":"内訳明細書入力画面!G7","v":0}]
[]
["頁","工事種目／品目",null,null,null,null,null,null,null,null,null,null,null,null,"①　現在注文金額",null,null,null,null,null,null,null,null,null,null,null,null,null,null,"②　前回までの請求累計額",null,null,null,null,null,null,null,"③　今回請求金額　",null,null,null,null,null,null,null,"②＋③　請求累計額"]
[null,null,null,null,null,null,null,null,null,null,null,null,null,null,"数  量",null,null,null,"単位",null,null,"単  価",null,null,null,"金  額",null,null,null,"数量",null,null,null,"金額",null,null,null,"数量",null,null,null,"金額",null,null,null,"数量",null,null,null,"金額"]
[{"$f":"((ROW()-11)+15)/15","v":1},{"$f":"IF(内訳明細書入力画面!B11=\"\",\"\",内訳明細書入力画面!B11)","v":""},null,null,null,null,null,null,null,null,null,null,null,null,{"$f":"IF(AND(内訳明細書入力画面!N11=\"\",内訳明細書入力画面!M11=\"\"),\"\",IF(内訳明細書入力画面!N11=\"\",内訳明細書入力画面!M11,内訳明細書入力画面!N11))","v":""},null,null,null,{"$f":"IF(内訳明細書入力画面!O11=\"\",\"\",内訳明細書入力画面!O11)","v":""},null,null,{"$f":"IF(AND(内訳明細書入力画面!R11=\"\",内訳明細書入力画面!P11=\"\"),\"\",IF(内訳明細書入力画面!R11=\"\",内訳明細書入力画面!P11,内訳明細書入力画面!R11))","v":""},null,null,null,{"$f":"IF(AND(内訳明細書入力画面!V11=\"\",内訳明細書入力画面!T11=\"\"),\"\",IF(内訳明細書入力画面!V11=\"\",内訳明細書入力画面!T11,内訳明細書入力画面!V11))","v":""},null,null,null,null,null,null,null,null,null,null,null,null,null,null,null,{"$f":"IF(AL11=\"\",\"\",ROUNDDOWN(N(V11)*N(AL11),0))","v":""},null,null,null,{"$f":"IF(AND(AD11=\"\",AL11=\"\"),\"\",N(AD11)+N(AL11))","v":""},null,null,null,{"$f":"IF(AND(AH11=\"\",AP11=\"\"),\"\",N(AH11)+N(AP11))","v":""}]
[null,{"$f":"IF(内訳明細書入力画面!B12=\"\",\"\",内訳明細書入力画面!B12)","v":""},null,null,null,null,null,null,null,null,null,null,null,null,{"$f":"IF(AND(内訳明細書入力画面!N12=\"\",内訳明細書入力画面!M12=\"\"),\"\",IF(内訳明細書入力画面!N12=\"\",内訳明細書入力画面!M12,内訳明細書入力画面!N12))","v":""},null,null,null,{"$f":"IF(内訳明細書入力画面!O12=\"\",\"\",内訳明細書入力画面!O12)","v":""},null,null,{"$f":"IF(AND(内訳明細書入力画面!R12=\"\",内訳明細書入力画面!P12=\"\"),\"\",IF(内訳明細書入力画面!R12=\"\",内訳明細書入力画面!P12,内訳明細書入力画面!R12))","v":""},null,null,null,{"$f":"IF(AND(内訳明細書入力画面!V12=\"\",内訳明細書入力画面!T12=\"\"),\"\",IF(内訳明細書入力画面!V12=\"\",内訳明細書入力画面!T12,内訳明細書入力画面!V12))","v":""},null,null,null,null,null,null,null,null,null,null,null,null,null,null,null,"",null,null,null,{"$f":"IF(AND(AD12=\"\",AL12=\"\"),\"\",N(AD12)+N(AL12))","v":""},null,null,null,{"$f":"IF(AND(AH12=\"\",AP12=\"\"),\"\",N(AH12)+N(AP12))","v":""}]
[null,{"$f":"IF(内訳明細書入力画面!B13=\"\",\"\",内訳明細書入力画面!B13)","v":""},null,null,null,null,null,null,null,null,null,null,null,null,{"$f":"IF(AND(内訳明細書入力画面!N13=\"\",内訳明細書入力画面!M13=\"\"),\"\",IF(内訳明細書入力画面!N13=\"\",内訳明細書入力画面!M13,内訳明細書入力画面!N13))","v":""},null,null,null,{"$f":"IF(内訳明細書入力画面!O13=\"\",\"\",内訳明細書入力画面!O13)","v":""},null,null,{"$f":"IF(AND(内訳明細書入力画面!R13=\"\",内訳明細書入力画面!P13=\"\"),\"\",IF(内訳明細書入力画面!R13=\"\",内訳明細書入力画面!P13,内訳明細書入力画面!R13))","v":""},null,null,null,{"$f":"IF(AND(内訳明細書入力画面!V13=\"\",内訳明細書入力画面!T13=\"\"),\"\",IF(内訳明細書入力画面!V13=\"\",内訳明細書入力画面!T13,内訳明細書入力画面!V13))","v":""},null,null,null,null,null,null,null,null,null,null,null,null,null,null,null,"",null,null,null,{"$f":"IF(AND(AD13=\"\",AL13=\"\"),\"\",N(AD13)+N(AL13))","v":""},null,null,null,{"$f":"IF(AND(AH13=\"\",AP13=\"\"),\"\",N(AH13)+N(AP13))","v":""}]
[null,{"$f":"IF(内訳明細書入力画面!B14=\"\",\"\",内訳明細書入力画面!B14)","v":""},null,null,null,null,null,null,null,null,null,null,null,null,{"$f":"IF(AND(内訳明細書入力画面!N14=\"\",内訳明細書入力画面!M14=\"\"),\"\",IF(内訳明細書入力画面!N14=\"\",内訳明細書入力画面!M14,内訳明細書入力画面!N14))","v":""},null,null,null,{"$f":"IF(内訳明細書入力画面!O14=\"\",\"\",内訳明細書入力画面!O14)","v":""},null,null,{"$f":"IF(AND(内訳明細書入力画面!R14=\"\",内訳明細書入力画面!P14=\"\"),\"\",IF(内訳明細書入力画面!R14=\"\",内訳明細書入力画面!P14,内訳明細書入力画面!R14))","v":""},null,null,null,{"$f":"IF(AND(内訳明細書入力画面!V14=\"\",内訳明細書入力画面!T14=\"\"),\"\",IF(内訳明細書入力画面!V14=\"\",内訳明細書入力画面!T14,内訳明細書入力画面!V14))","v":""},null,null,null,null,null,null,null,null,null,null,null,null,null,null,null,"",null,null,null,{"$f":"IF(AND(AD14=\"\",AL14=\"\"),\"\",N(AD14)+N(AL14))","v":""},null,null,null,{"$f":"IF(AND(AH14=\"\",AP14=\"\"),\"\",N(AH14)+N(AP14))","v":""}]
[null,{"$f":"IF(内訳明細書入力画面!B15=\"\",\"\",内訳明細書入力画面!B15)","v":""},null,null,null,null,null,null,null,null,null,null,null,null,{"$f":"IF(AND(内訳明細書入力画面!N15=\"\",内訳明細書入力画面!M15=\"\"),\"\",IF(内訳明細書入力画面!N15=\"\",内訳明細書入力画面!M15,内訳明細書入力画面!N15))","v":""},null,null,null,{"$f":"IF(内訳明細書入力画面!O15=\"\",\"\",内訳明細書入力画面!O15)","v":""},null,null,{"$f":"IF(AND(内訳明細書入力画面!R15=\"\",内訳明細書入力画面!P15=\"\"),\"\",IF(内訳明細書入力画面!R15=\"\",内訳明細書入力画面!P15,内訳明細書入力画面!R15))","v":""},null,null,null,{"$f":"IF(AND(内訳明細書入力画面!V15=\"\",内訳明細書入力画面!T15=\"\"),\"\",IF(内訳明細書入力画面!V15=\"\",内訳明細書入力画面!T15,内訳明細書入力画面!V15))","v":""},null,null,null,null,null,null,null,null,null,null,null,null,null,null,null,"",null,null,null,{"$f":"IF(AND(AD15=\"\",AL15=\"\"),\"\",N(AD15)+N(AL15))","v":""},null,null,null,{"$f":"IF(AND(AH15=\"\",AP15=\"\"),\"\",N(AH15)+N(AP15))","v":""}]
[null,{"$f":"IF(内訳明細書入力画面!B16=\"\",\"\",内訳明細書入力画面!B16)","v":""},null,null,null,null,null,null,null,null,null,null,null,null,{"$f":"IF(AND(内訳明細書入力画面!N16=\"\",内訳明細書入力画面!M16=\"\"),\"\",IF(内訳明細書入力画面!N16=\"\",内訳明細書入力画面!M16,内訳明細書入力画面!N16))","v":""},null,null,null,{"$f":"IF(内訳明細書入力画面!O16=\"\",\"\",内訳明細書入力画面!O16)","v":""},null,null,{"$f":"IF(AND(内訳明細書入力画面!R16=\"\",内訳明細書入力画面!P16=\"\"),\"\",IF(内訳明細書入力画面!R16=\"\",内訳明細書入力画面!P16,内訳明細書入力画面!R16))","v":""},null,null,null,{"$f":"IF(AND(内訳明細書入力画面!V16=\"\",内訳明細書入力画面!T16=\"\"),\"\",IF(内訳明細書入力画面!V16=\"\",内訳明細書入力画面!T16,内訳明細書入力画面!V16))","v":""},null,null,null,null,null,null,null,null,null,null,null,null,null,null,null,"",null,null,null,{"$f":"IF(AND(AD16=\"\",AL16=\"\"),\"\",N(AD16)+N(AL16))","v":""},null,null,null,{"$f":"IF(AND(AH16=\"\",AP16=\"\"),\"\",N(AH16)+N(AP16))","v":""}]
[null,{"$f":"IF(内訳明細書入力画面!B17=\"\",\"\",内訳明細書入力画面!B17)","v":""},null,null,null,null,null,null,null,null,null,null,null,null,{"$f":"IF(AND(内訳明細書入力画面!N17=\"\",内訳明細書入力画面!M17=\"\"),\"\",IF(内訳明細書入力画面!N17=\"\",内訳明細書入力画面!M17,内訳明細書入力画面!N17))","v":""},null,null,null,{"$f":"IF(内訳明細書入力画面!O17=\"\",\"\",内訳明細書入力画面!O17)","v":""},null,null,{"$f":"IF(AND(内訳明細書入力画面!R17=\"\",内訳明細書入力画面!P17=\"\"),\"\",IF(内訳明細書入力画面!R17=\"\",内訳明細書入力画面!P17,内訳明細書入力画面!R17))","v":""},null,null,null,{"$f":"IF(AND(内訳明細書入力画面!V17=\"\",内訳明細書入力画面!T17=\"\"),\"\",IF(内訳明細書入力画面!V17=\"\",内訳明細書入力画面!T17,内訳明細書入力画面!V17))","v":""},null,null,null,null,null,null,null,null,null,null,null,null,null,null,null,"",null,null,null,"",null,null,null,""]
[null,{"$f":"IF(内訳明細書入力画面!B18=\"\",\"\",内訳明細書入力画面!B18)","v":""},null,null,null,null,null,null,null,null,null,null,null,null,{"$f":"IF(AND(内訳明細書入力画面!N18=\"\",内訳明細書入力画面!M18=\"\"),\"\",IF(内訳明細書入力画面!N18=\"\",内訳明細書入力画面!M18,内訳明細書入力画面!N18))","v":""},null,null,null,{"$f":"IF(内訳明細書入力画面!O18=\"\",\"\",内訳明細書入力画面!O18)","v":""},null,null,{"$f":"IF(AND(内訳明細書入力画面!R18=\"\",内訳明細書入力画面!P18=\"\"),\"\",IF(内訳明細書入力画面!R18=\"\",内訳明細書入力画面!P18,内訳明細書入力画面!R18))","v":""},null,null,null,{"$f":"IF(AND(内訳明細書入力画面!V18=\"\",内訳明細書入力画面!T18=\"\"),\"\",IF(内訳明細書入力画面!V18=\"\",内訳明細書入力画面!T18,内訳明細書入力画面!V18))","v":""},null,null,null,null,null,null,null,null,null,null,null,null,null,null,null,"",null,null,null,"",null,null,null,""]
[null,{"$f":"IF(内訳明細書入力画面!B19=\"\",\"\",内訳明細書入力画面!B19)","v":""},null,null,null,null,null,null,null,null,null,null,null,null,{"$f":"IF(AND(内訳明細書入力画面!N19=\"\",内訳明細書入力画面!M19=\"\"),\"\",IF(内訳明細書入力画面!N19=\"\",内訳明細書入力画面!M19,内訳明細書入力画面!N19))","v":""},null,null,null,{"$f":"IF(内訳明細書入力画面!O19=\"\",\"\",内訳明細書入力画面!O19)","v":""},null,null,{"$f":"IF(AND(内訳明細書入力画面!R19=\"\",内訳明細書入力画面!P19=\"\"),\"\",IF(内訳明細書入力画面!R19=\"\",内訳明細書入力画面!P19,内訳明細書入力画面!R19))","v":""},null,null,null,{"$f":"IF(AND(内訳明細書入力画面!V19=\"\",内訳明細書入力画面!T19=\"\"),\"\",IF(内訳明細書入力画面!V19=\"\",内訳明細書入力画面!T19,内訳明細書入力画面!V19))","v":""},null,null,null,null,null,null,null,null,null,null,null,null,null,null,null,"",null,null,null,"",null,null,null,""]
[null,{"$f":"IF(内訳明細書入力画面!B20=\"\",\"\",内訳明細書入力画面!B20)","v":""},null,null,null,null,null,null,null,null,null,null,null,null,{"$f":"IF(AND(内訳明細書入力画面!N20=\"\",内訳明細書入力画面!M20=\"\"),\"\",IF(内訳明細書入力画面!N20=\"\",内訳明細書入力画面!M20,内訳明細書入力画面!N20))","v":""},null,null,null,{"$f":"IF(内訳明細書入力画面!O20=\"\",\"\",内訳明細書入力画面!O20)","v":""},null,null,{"$f":"IF(AND(内訳明細書入力画面!R20=\"\",内訳明細書入力画面!P20=\"\"),\"\",IF(内訳明細書入力画面!R20=\"\",内訳明細書入力画面!P20,内訳明細書入力画面!R20))","v":""},null,null,null,{"$f":"IF(AND(内訳明細書入力画面!V20=\"\",内訳明細書入力画面!T20=\"\"),\"\",IF(内訳明細書入力画面!V20=\"\",内訳明細書入力画面!T20,内訳明細書入力画面!V20))","v":""},null,null,null,null,null,null,null,null,null,null,null,null,null,null,null,"",null,null,null,"",null,null,null,""]
[null,{"$f":"IF(内訳明細書入力画面!B21=\"\",\"\",内訳明細書入力画面!B21)","v":""},null,null,null,null,null,null,null,null,null,null,null,null,{"$f":"IF(AND(内訳明細書入力画面!N21=\"\",内訳明細書入力画面!M21=\"\"),\"\",IF(内訳明細書入力画面!N21=\"\",内訳明細書入力画面!M21,内訳明細書入力画面!N21))","v":""},null,null,null,{"$f":"IF(内訳明細書入力画面!O21=\"\",\"\",内訳明細書入力画面!O21)","v":""},null,null,{"$f":"IF(AND(内訳明細書入力画面!R21=\"\",内訳明細書入力画面!P21=\"\"),\"\",IF(内訳明細書入力画面!R21=\"\",内訳明細書入力画面!P21,内訳明細書入力画面!R21))","v":""},null,null,null,{"$f":"IF(AND(内訳明細書入力画面!V21=\"\",内訳明細書入力画面!T21=\"\"),\"\",IF(内訳明細書入力画面!V21=\"\",内訳明細書入力画面!T21,内訳明細書入力画面!V21))","v":""},null,null,null,null,null,null,null,null,null,null,null,null,null,null,null,"",null,null,null,"",null,null,null,""]
[null,{"$f":"IF(内訳明細書入力画面!B22=\"\",\"\",内訳明細書入力画面!B22)","v":""},null,null,null,null,null,null,null,null,null,null,null,null,{"$f":"IF(AND(内訳明細書入力画面!N22=\"\",内訳明細書入力画面!M22=\"\"),\"\",IF(内訳明細書入力画面!N22=\"\",内訳明細書入力画面!M22,内訳明細書入力画面!N22))","v":""},null,null,null,{"$f":"IF(内訳明細書入力画面!O22=\"\",\"\",内訳明細書入力画面!O22)","v":""},null,null,{"$f":"IF(AND(内訳明細書入力画面!R22=\"\",内訳明細書入力画面!P22=\"\"),\"\",IF(内訳明細書入力画面!R22=\"\",内訳明細書入力画面!P22,内訳明細書入力画面!R22))","v":""},null,null,null,{"$f":"IF(AND(内訳明細書入力画面!V22=\"\",内訳明細書入力画面!T22=\"\"),\"\",IF(内訳明細書入力画面!V22=\"\",内訳明細書入力画面!T22,内訳明細書入力画面!V22))","v":""},null,null,null,null,null,null,null,null,null,null,null,null,null,null,null,"",null,null,null,"",null,null,null,""]
[null,{"$f":"IF(内訳明細書入力画面!B23=\"\",\"\",内訳明細書入力画面!B23)","v":""},null,null,null,null,null,null,null,null,null,null,null,null,{"$f":"IF(AND(内訳明細書入力画面!N23=\"\",内訳明細書入力画面!M23=\"\"),\"\",IF(内訳明細書入力画面!N23=\"\",内訳明細書入力画面!M23,内訳明細書入力画面!N23))","v":""},null,null,null,{"$f":"IF(内訳明細書入力画面!O23=\"\",\"\",内訳明細書入力画面!O23)","v":""},null,null,{"$f":"IF(AND(内訳明細書入力画面!R23=\"\",内訳明細書入力画面!P23=\"\"),\"\",IF(内訳明細書入力画面!R23=\"\",内訳明細書入力画面!P23,内訳明細書入力画面!R23))","v":""},null,null,null,{"$f":"IF(AND(内訳明細書入力画面!V23=\"\",内訳明細書入力画面!T23=\"\"),\"\",IF(内訳明細書入力画面!V23=\"\",内訳明細書入力画面!T23,内訳明細書入力画面!V23))","v":""},null,null,null,null,null,null,null,null,null,null,null,null,null,null,null,"",null,null,null,"",null,null,null,""]
[null,{"$f":"IF(内訳明細書入力画面!B24=\"\",\"\",内訳明細書入力画面!B24)","v":""},null,null,null,null,null,null,null,null,null,null,null,null,{"$f":"IF(AND(内訳明細書入力画面!N24=\"\",内訳明細書入力画面!M24=\"\"),\"\",IF(内訳明細書入力画面!N24=\"\",内訳明細書入力画面!M24,内訳明細書入力画面!N24))","v":""},null,null,null,{"$f":"IF(内訳明細書入力画面!O24=\"\",\"\",内訳明細書入力画面!O24)","v":""},null,null,{"$f":"IF(AND(内訳明細書入力画面!R24=\"\",内訳明細書入力画面!P24=\"\"),\"\",IF(内訳明細書入力画面!R24=\"\",内訳明細書入力画面!P24,内訳明細書入力画面!R24))","v":""},null,null,null,{"$f":"IF(AND(内訳明細書入力画面!V24=\"\",内訳明細書入力画面!T24=\"\"),\"\",IF(内訳明細書入力画面!V24=\"\",内訳明細書入力画面!T24,内訳明細書入力画面!V24))","v":""},null,null,null,null,null,null,null,null,null,null,null,null,null,null,null,"",null,null,null,"",null,null,null,""]
[null,{"$f":"IF(内訳明細書入力画面!B25=\"\",\"\",内訳明細書入力画面!B25)","v":""},null,null,null,null,null,null,null,null,null,null,null,null,{"$f":"IF(AND(内訳明細書入力画面!N25=\"\",内訳明細書入力画面!M25=\"\"),\"\",IF(内訳明細書入力画面!N25=\"\",内訳明細書入力画面!M25,内訳明細書入力画面!N25))","v":""},null,null,null,{"$f":"IF(内訳明細書入力画面!O25=\"\",\"\",内訳明細書入力画面!O25)","v":""},null,null,{"$f":"IF(AND(内訳明細書入力画面!R25=\"\",内訳明細書入力画面!P25=\"\"),\"\",IF(内訳明細書入力画面!R25=\"\",内訳明細書入力画面!P25,内訳明細書入力画面!R25))","v":""},null,null,null,{"$f":"IF(AND(内訳明細書入力画面!V25=\"\",内訳明細書入力画面!T25=\"\"),\"\",IF(内訳明細書入力画面!V25=\"\",内訳明細書入力画面!T25,内訳明細書入力画面!V25))","v":""},null,null,null,null,null,null,null,null,null,null,null,null,null,null,null,"",null,null,null,"",null,null,null,""]
[{"$f":"((ROW()-11)+15)/15","v":2},{"$f":"IF(内訳明細書入力画面!B26=\"\",\"\",内訳明細書入力画面!B26)","v":""},null,null,null,null,null,null,null,null,null,null,null,null,{"$f":"IF(AND(内訳明細書入力画面!N26=\"\",内訳明細書入力画面!M26=\"\"),\"\",IF(内訳明細書入力画面!N26=\"\",内訳明細書入力画面!M26,内訳明細書入力画面!N26))","v":""},null,null,null,{"$f":"IF(内訳明細書入力画面!O26=\"\",\"\",内訳明細書入力画面!O26)","v":""},null,null,{"$f":"IF(AND(内訳明細書入力画面!R26=\"\",内訳明細書入力画面!P26=\"\"),\"\",IF(内訳明細書入力画面!R26=\"\",内訳明細書入力画面!P26,内訳明細書入力画面!R26))","v":""},null,null,null,{"$f":"IF(AND(内訳明細書入力画面!V26=\"\",内訳明細書入力画面!T26=\"\"),\"\",IF(内訳明細書入力画面!V26=\"\",内訳明細書入力画面!T26,内訳明細書入力画面!V26))","v":""},null,null,null,null,null,null,null,null,null,null,null,null,null,null,null,"",null,null,null,"",null,null,null,""]
[null,{"$f":"IF(内訳明細書入力画面!B27=\"\",\"\",内訳明細書入力画面!B27)","v":""},null,null,null,null,null,null,null,null,null,null,null,null,{"$f":"IF(AND(内訳明細書入力画面!N27=\"\",内訳明細書入力画面!M27=\"\"),\"\",IF(内訳明細書入力画面!N27=\"\",内訳明細書入力画面!M27,内訳明細書入力画面!N27))","v":""},null,null,null,{"$f":"IF(内訳明細書入力画面!O27=\"\",\"\",内訳明細書入力画面!O27)","v":""},null,null,{"$f":"IF(AND(内訳明細書入力画面!R27=\"\",内訳明細書入力画面!P27=\"\"),\"\",IF(内訳明細書入力画面!R27=\"\",内訳明細書入力画面!P27,内訳明細書入力画面!R27))","v":""},null,null,null,{"$f":"IF(AND(内訳明細書入力画面!V27=\"\",内訳明細書入力画面!T27=\"\"),\"\",IF(内訳明細書入力画面!V27=\"\",内訳明細書入力画面!T27,内訳明細書入力画面!V27))","v":""},null,null,null,null,null,null,null,null,null,null,null,null,null,null,null,"",null,null,null,"",null,null,null,""]
[null,{"$f":"IF(内訳明細書入力画面!B28=\"\",\"\",内訳明細書入力画面!B28)","v":""},null,null,null,null,null,null,null,null,null,null,null,null,{"$f":"IF(AND(内訳明細書入力画面!N28=\"\",内訳明細書入力画面!M28=\"\"),\"\",IF(内訳明細書入力画面!N28=\"\",内訳明細書入力画面!M28,内訳明細書入力画面!N28))","v":""},null,null,null,{"$f":"IF(内訳明細書入力画面!O28=\"\",\"\",内訳明細書入力画面!O28)","v":""},null,null,{"$f":"IF(AND(内訳明細書入力画面!R28=\"\",内訳明細書入力画面!P28=\"\"),\"\",IF(内訳明細書入力画面!R28=\"\",内訳明細書入力画面!P28,内訳明細書入力画面!R28))","v":""},null,null,null,{"$f":"IF(AND(内訳明細書入力画面!V28=\"\",内訳明細書入力画面!T28=\"\"),\"\",IF(内訳明細書入力画面!V28=\"\",内訳明細書入力画面!T28,内訳明細書入力画面!V28))","v":""},null,null,null,null,null,null,null,null,null,null,null,null,null,null,null,"",null,null,null,"",null,null,null,""]
[null,{"$f":"IF(内訳明細書入力画面!B29=\"\",\"\",内訳明細書入力画面!B29)","v":""},null,null,null,null,null,null,null,null,null,null,null,null,{"$f":"IF(AND(内訳明細書入力画面!N29=\"\",内訳明細書入力画面!M29=\"\"),\"\",IF(内訳明細書入力画面!N29=\"\",内訳明細書入力画面!M29,内訳明細書入力画面!N29))","v":""},null,null,null,{"$f":"IF(内訳明細書入力画面!O29=\"\",\"\",内訳明細書入力画面!O29)","v":""},null,null,{"$f":"IF(AND(内訳明細書入力画面!R29=\"\",内訳明細書入力画面!P29=\"\"),\"\",IF(内訳明細書入力画面!R29=\"\",内訳明細書入力画面!P29,内訳明細書入力画面!R29))","v":""},null,null,null,{"$f":"IF(AND(内訳明細書入力画面!V29=\"\",内訳明細書入力画面!T29=\"\"),\"\",IF(内訳明細書入力画面!V29=\"\",内訳明細書入力画面!T29,内訳明細書入力画面!V29))","v":""},null,null,null,null,null,null,null,null,null,null,null,null,null,null,null,"",null,null,null,"",null,null,null,""]
[null,{"$f":"IF(内訳明細書入力画面!B30=\"\",\"\",内訳明細書入力画面!B30)","v":""},null,null,null,null,null,null,null,null,null,null,null,null,{"$f":"IF(AND(内訳明細書入力画面!N30=\"\",内訳明細書入力画面!M30=\"\"),\"\",IF(内訳明細書入力画面!N30=\"\",内訳明細書入力画面!M30,内訳明細書入力画面!N30))","v":""},null,null,null,{"$f":"IF(内訳明細書入力画面!O30=\"\",\"\",内訳明細書入力画面!O30)","v":""},null,null,{"$f":"IF(AND(内訳明細書入力画面!R30=\"\",内訳明細書入力画面!P30=\"\"),\"\",IF(内訳明細書入力画面!R30=\"\",内訳明細書入力画面!P30,内訳明細書入力画面!R30))","v":""},null,null,null,{"$f":"IF(AND(内訳明細書入力画面!V30=\"\",内訳明細書入力画面!T30=\"\"),\"\",IF(内訳明細書入力画面!V30=\"\",内訳明細書入力画面!T30,内訳明細書入力画面!V30))","v":""},null,null,null,null,null,null,null,null,null,null,null,null,null,null,null,"",null,null,null,"",null,null,null,""]
[null,{"$f":"IF(内訳明細書入力画面!B31=\"\",\"\",内訳明細書入力画面!B31)","v":""},null,null,null,null,null,null,null,null,null,null,null,null,{"$f":"IF(AND(内訳明細書入力画面!N31=\"\",内訳明細書入力画面!M31=\"\"),\"\",IF(内訳明細書入力画面!N31=\"\",内訳明細書入力画面!M31,内訳明細書入力画面!N31))","v":""},null,null,null,{"$f":"IF(内訳明細書入力画面!O31=\"\",\"\",内訳明細書入力画面!O31)","v":""},null,null,{"$f":"IF(AND(内訳明細書入力画面!R31=\"\",内訳明細書入力画面!P31=\"\"),\"\",IF(内訳明細書入力画面!R31=\"\",内訳明細書入力画面!P31,内訳明細書入力画面!R31))","v":""},null,null,null,{"$f":"IF(AND(内訳明細書入力画面!V31=\"\",内訳明細書入力画面!T31=\"\"),\"\",IF(内訳明細書入力画面!V31=\"\",内訳明細書入力画面!T31,内訳明細書入力画面!V31))","v":""},null,null,null,null,null,null,null,null,null,null,null,null,null,null,null,"",null,null,null,"",null,null,null,""]
[null,{"$f":"IF(内訳明細書入力画面!B32=\"\",\"\",内訳明細書入力画面!B32)","v":""},null,null,null,null,null,null,null,null,null,null,null,null,{"$f":"IF(AND(内訳明細書入力画面!N32=\"\",内訳明細書入力画面!M32=\"\"),\"\",IF(内訳明細書入力画面!N32=\"\",内訳明細書入力画面!M32,内訳明細書入力画面!N32))","v":""},null,null,null,{"$f":"IF(内訳明細書入力画面!O32=\"\",\"\",内訳明細書入力画面!O32)","v":""},null,null,{"$f":"IF(AND(内訳明細書入力画面!R32=\"\",内訳明細書入力画面!P32=\"\"),\"\",IF(内訳明細書入力画面!R32=\"\",内訳明細書入力画面!P32,内訳明細書入力画面!R32))","v":""},null,null,null,{"$f":"IF(AND(内訳明細書入力画面!V32=\"\",内訳明細書入力画面!T32=\"\"),\"\",IF(内訳明細書入力画面!V32=\"\",内訳明細書入力画面!T32,内訳明細書入力画面!V32))","v":""},null,null,null,null,null,null,null,null,null,null,null,null,null,null,null,"",null,null,null,"",null,null,null,""]
[null,{"$f":"IF(内訳明細書入力画面!B33=\"\",\"\",内訳明細書入力画面!B33)","v":""},null,null,null,null,null,null,null,null,null,null,null,null,{"$f":"IF(AND(内訳明細書入力画面!N33=\"\",内訳明細書入力画面!M33=\"\"),\"\",IF(内訳明細書入力画面!N33=\"\",内訳明細書入力画面!M33,内訳明細書入力画面!N33))","v":""},null,null,null,{"$f":"IF(内訳明細書入力画面!O33=\"\",\"\",内訳明細書入力画面!O33)","v":""},null,null,{"$f":"IF(AND(内訳明細書入力画面!R33=\"\",内訳明細書入力画面!P33=\"\"),\"\",IF(内訳明細書入力画面!R33=\"\",内訳明細書入力画面!P33,内訳明細書入力画面!R33))","v":""},null,null,null,{"$f":"IF(AND(内訳明細書入力画面!V33=\"\",内訳明細書入力画面!T33=\"\"),\"\",IF(内訳明細書入力画面!V33=\"\",内訳明細書入力画面!T33,内訳明細書入力画面!V33))","v":""},null,null,null,null,null,null,null,null,null,null,null,null,null,null,null,"",null,null,null,"",null,null,null,""]
[null,{"$f":"IF(内訳明細書入力画面!B34=\"\",\"\",内訳明細書入力画面!B34)","v":""},null,null,null,null,null,null,null,null,null,null,null,null,{"$f":"IF(AND(内訳明細書入力画面!N34=\"\",内訳明細書入力画面!M34=\"\"),\"\",IF(内訳明細書入力画面!N34=\"\",内訳明細書入力画面!M34,内訳明細書入力画面!N34))","v":""},null,null,null,{"$f":"IF(内訳明細書入力画面!O34=\"\",\"\",内訳明細書入力画面!O34)","v":""},null,null,{"$f":"IF(AND(内訳明細書入力画面!R34=\"\",内訳明細書入力画面!P34=\"\"),\"\",IF(内訳明細書入力画面!R34=\"\",内訳明細書入力画面!P34,内訳明細書入力画面!R34))","v":""},null,null,null,{"$f":"IF(AND(内訳明細書入力画面!V34=\"\",内訳明細書入力画面!T34=\"\"),\"\",IF(内訳明細書入力画面!V34=\"\",内訳明細書入力画面!T34,内訳明細書入力画面!V34))","v":""},null,null,null,null,null,null,null,null,null,null,null,null,null,null,null,"",null,null,null,"",null,null,null,""]
[null,{"$f":"IF(内訳明細書入力画面!B35=\"\",\"\",内訳明細書入力画面!B35)","v":""},null,null,null,null,null,null,null,null,null,null,null,null,{"$f":"IF(AND(内訳明細書入力画面!N35=\"\",内訳明細書入力画面!M35=\"\"),\"\",IF(内訳明細書入力画面!N35=\"\",内訳明細書入力画面!M35,内訳明細書入力画面!N35))","v":""},null,null,null,{"$f":"IF(内訳明細書入力画面!O35=\"\",\"\",内訳明細書入力画面!O35)","v":""},null,null,{"$f":"IF(AND(内訳明細書入力画面!R35=\"\",内訳明細書入力画面!P35=\"\"),\"\",IF(内訳明細書入力画面!R35=\"\",内訳明細書入力画面!P35,内訳明細書入力画面!R35))","v":""},null,null,null,{"$f":"IF(AND(内訳明細書入力画面!V35=\"\",内訳明細書入力画面!T35=\"\"),\"\",IF(内訳明細書入力画面!V35=\"\",内訳明細書入力画面!T35,内訳明細書入力画面!V35))","v":""},null,null,null,null,null,null,null,null,null,null,null,null,null,null,null,"",null,null,null,"",null,null,null,""]
[null,{"$f":"IF(内訳明細書入力画面!B36=\"\",\"\",内訳明細書入力画面!B36)","v":""},null,null,null,null,null,null,null,null,null,null,null,null,{"$f":"IF(AND(内訳明細書入力画面!N36=\"\",内訳明細書入力画面!M36=\"\"),\"\",IF(内訳明細書入力画面!N36=\"\",内訳明細書入力画面!M36,内訳明細書入力画面!N36))","v":""},null,null,null,{"$f":"IF(内訳明細書入力画面!O36=\"\",\"\",内訳明細書入力画面!O36)","v":""},null,null,{"$f":"IF(AND(内訳明細書入力画面!R36=\"\",内訳明細書入力画面!P36=\"\"),\"\",IF(内訳明細書入力画面!R36=\"\",内訳明細書入力画面!P36,内訳明細書入力画面!R36))","v":""},null,null,null,{"$f":"IF(AND(内訳明細書入力画面!V36=\"\",内訳明細書入力画面!T36=\"\"),\"\",IF(内訳明細書入力画面!V36=\"\",内訳明細書入力画面!T36,内訳明細書入力画面!V36))","v":""},null,null,null,null,null,null,null,null,null,null,null,null,null,null,null,"",null,null,null,"",null,null,null,""]
[null,{"$f":"IF(内訳明細書入力画面!B37=\"\",\"\",内訳明細書入力画面!B37)","v":""},null,null,null,null,null,null,null,null,null,null,null,null,{"$f":"IF(AND(内訳明細書入力画面!N37=\"\",内訳明細書入力画面!M37=\"\"),\"\",IF(内訳明細書入力画面!N37=\"\",内訳明細書入力画面!M37,内訳明細書入力画面!N37))","v":""},null,null,null,{"$f":"IF(内訳明細書入力画面!O37=\"\",\"\",内訳明細書入力画面!O37)","v":""},null,null,{"$f":"IF(AND(内訳明細書入力画面!R37=\"\",内訳明細書入力画面!P37=\"\"),\"\",IF(内訳明細書入力画面!R37=\"\",内訳明細書入力画面!P37,内訳明細書入力画面!R37))","v":""},null,null,null,{"$f":"IF(AND(内訳明細書入力画面!V37=\"\",内訳明細書入力画面!T37=\"\"),\"\",IF(内訳明細書入力画面!V37=\"\",内訳明細書入力画面!T37,内訳明細書入力画面!V37))","v":""},null,null,null,null,null,null,null,null,null,null,null,null,null,null,null,"",null,null,null,"",null,null,null,""]
[null,{"$f":"IF(内訳明細書入力画面!B38=\"\",\"\",内訳明細書入力画面!B38)","v":""},null,null,null,null,null,null,null,null,null,null,null,null,{"$f":"IF(AND(内訳明細書入力画面!N38=\"\",内訳明細書入力画面!M38=\"\"),\"\",IF(内訳明細書入力画面!N38=\"\",内訳明細書入力画面!M38,内訳明細書入力画面!N38))","v":""},null,null,null,{"$f":"IF(内訳明細書入力画面!O38=\"\",\"\",内訳明細書入力画面!O38)","v":""},null,null,{"$f":"IF(AND(内訳明細書入力画面!R38=\"\",内訳明細書入力画面!P38=\"\"),\"\",IF(内訳明細書入力画面!R38=\"\",内訳明細書入力画面!P38,内訳明細書入力画面!R38))","v":""},null,null,null,{"$f":"IF(AND(内訳明細書入力画面!V38=\"\",内訳明細書入力画面!T38=\"\"),\"\",IF(内訳明細書入力画面!V38=\"\",内訳明細書入力画面!T38,内訳明細書入力画面!V38))","v":""},null,null,null,null,null,null,null,null,null,null,null,null,null,null,null,"",null,null,null,"",null,null,null,""]
[null,{"$f":"IF(内訳明細書入力画面!B39=\"\",\"\",内訳明細書入力画面!B39)","v":""},null,null,null,null,null,null,null,null,null,null,null,null,{"$f":"IF(AND(内訳明細書入力画面!N39=\"\",内訳明細書入力画面!M39=\"\"),\"\",IF(内訳明細書入力画面!N39=\"\",内訳明細書入力画面!M39,内訳明細書入力画面!N39))","v":""},null,null,null,{"$f":"IF(内訳明細書入力画面!O39=\"\",\"\",内訳明細書入力画面!O39)","v":""},null,null,{"$f":"IF(AND(内訳明細書入力画面!R39=\"\",内訳明細書入力画面!P39=\"\"),\"\",IF(内訳明細書入力画面!R39=\"\",内訳明細書入力画面!P39,内訳明細書入力画面!R39))","v":""},null,null,null,{"$f":"IF(AND(内訳明細書入力画面!V39=\"\",内訳明細書入力画面!T39=\"\"),\"\",IF(内訳明細書入力画面!V39=\"\",内訳明細書入力画面!T39,内訳明細書入力画面!V39))","v":""},null,null,null,null,null,null,null,null,null,null,null,null,null,null,null,"",null,null,null,"",null,null,null,""]
[null,{"$f":"IF(内訳明細書入力画面!B40=\"\",\"\",内訳明細書入力画面!B40)","v":""},null,null,null,null,null,null,null,null,null,null,null,null,{"$f":"IF(AND(内訳明細書入力画面!N40=\"\",内訳明細書入力画面!M40=\"\"),\"\",IF(内訳明細書入力画面!N40=\"\",内訳明細書入力画面!M40,内訳明細書入力画面!N40))","v":""},null,null,null,{"$f":"IF(内訳明細書入力画面!O40=\"\",\"\",内訳明細書入力画面!O40)","v":""},null,null,{"$f":"IF(AND(内訳明細書入力画面!R40=\"\",内訳明細書入力画面!P40=\"\"),\"\",IF(内訳明細書入力画面!R40=\"\",内訳明細書入力画面!P40,内訳明細書入力画面!R40))","v":""},null,null,null,{"$f":"IF(AND(内訳明細書入力画面!V40=\"\",内訳明細書入力画面!T40=\"\"),\"\",IF(内訳明細書入力画面!V40=\"\",内訳明細書入力画面!T40,内訳明細書入力画面!V40))","v":""},null,null,null,null,null,null,null,null,null,null,null,null,null,null,null,"",null,null,null,"",null,null,null,""]
[{"$f":"((ROW()-11)+15)/15","v":3},{"$f":"IF(内訳明細書入力画面!B41=\"\",\"\",内訳明細書入力画面!B41)","v":""},null,null,null,null,null,null,null,null,null,null,null,null,{"$f":"IF(AND(内訳明細書入力画面!N41=\"\",内訳明細書入力画面!M41=\"\"),\"\",IF(内訳明細書入力画面!N41=\"\",内訳明細書入力画面!M41,内訳明細書入力画面!N41))","v":""},null,null,null,{"$f":"IF(内訳明細書入力画面!O41=\"\",\"\",内訳明細書入力画面!O41)","v":""},null,null,{"$f":"IF(AND(内訳明細書入力画面!R41=\"\",内訳明細書入力画面!P41=\"\"),\"\",IF(内訳明細書入力画面!R41=\"\",内訳明細書入力画面!P41,内訳明細書入力画面!R41))","v":""},null,null,null,{"$f":"IF(AND(内訳明細書入力画面!V41=\"\",内訳明細書入力画面!T41=\"\"),\"\",IF(内訳明細書入力画面!V41=\"\",内訳明細書入力画面!T41,内訳明細書入力画面!V41))","v":""},null,null,null,null,null,null,null,null,null,null,null,null,null,null,null,"",null,null,null,"",null,null,null,""]
[null,{"$f":"IF(内訳明細書入力画面!B42=\"\",\"\",内訳明細書入力画面!B42)","v":""},null,null,null,null,null,null,null,null,null,null,null,null,{"$f":"IF(AND(内訳明細書入力画面!N42=\"\",内訳明細書入力画面!M42=\"\"),\"\",IF(内訳明細書入力画面!N42=\"\",内訳明細書入力画面!M42,内訳明細書入力画面!N42))","v":""},null,null,null,{"$f":"IF(内訳明細書入力画面!O42=\"\",\"\",内訳明細書入力画面!O42)","v":""},null,null,{"$f":"IF(AND(内訳明細書入力画面!R42=\"\",内訳明細書入力画面!P42=\"\"),\"\",IF(内訳明細書入力画面!R42=\"\",内訳明細書入力画面!P42,内訳明細書入力画面!R42))","v":""},null,null,null,{"$f":"IF(AND(内訳明細書入力画面!V42=\"\",内訳明細書入力画面!T42=\"\"),\"\",IF(内訳明細書入力画面!V42=\"\",内訳明細書入力画面!T42,内訳明細書入力画面!V42))","v":""},null,null,null,null,null,null,null,null,null,null,null,null,null,null,null,"",null,null,null,"",null,null,null,""]
[null,{"$f":"IF(内訳明細書入力画面!B43=\"\",\"\",内訳明細書入力画面!B43)","v":""},null,null,null,null,null,null,null,null,null,null,null,null,{"$f":"IF(AND(内訳明細書入力画面!N43=\"\",内訳明細書入力画面!M43=\"\"),\"\",IF(内訳明細書入力画面!N43=\"\",内訳明細書入力画面!M43,内訳明細書入力画面!N43))","v":""},null,null,null,{"$f":"IF(内訳明細書入力画面!O43=\"\",\"\",内訳明細書入力画面!O43)","v":""},null,null,{"$f":"IF(AND(内訳明細書入力画面!R43=\"\",内訳明細書入力画面!P43=\"\"),\"\",IF(内訳明細書入力画面!R43=\"\",内訳明細書入力画面!P43,内訳明細書入力画面!R43))","v":""},null,null,null,{"$f":"IF(AND(内訳明細書入力画面!V43=\"\",内訳明細書入力画面!T43=\"\"),\"\",IF(内訳明細書入力画面!V43=\"\",内訳明細書入力画面!T43,内訳明細書入力画面!V43))","v":""},null,null,null,null,null,null,null,null,null,null,null,null,null,null,null,"",null,null,null,"",null,null,null,""]
[null,{"$f":"IF(内訳明細書入力画面!B44=\"\",\"\",内訳明細書入力画面!B44)","v":""},null,null,null,null,null,null,null,null,null,null,null,null,{"$f":"IF(AND(内訳明細書入力画面!N44=\"\",内訳明細書入力画面!M44=\"\"),\"\",IF(内訳明細書入力画面!N44=\"\",内訳明細書入力画面!M44,内訳明細書入力画面!N44))","v":""},null,null,null,{"$f":"IF(内訳明細書入力画面!O44=\"\",\"\",内訳明細書入力画面!O44)","v":""},null,null,{"$f":"IF(AND(内訳明細書入力画面!R44=\"\",内訳明細書入力画面!P44=\"\"),\"\",IF(内訳明細書入力画面!R44=\"\",内訳明細書入力画面!P44,内訳明細書入力画面!R44))","v":""},null,null,null,{"$f":"IF(AND(内訳明細書入力画面!V44=\"\",内訳明細書入力画面!T44=\"\"),\"\",IF(内訳明細書入力画面!V44=\"\",内訳明細書入力画面!T44,内訳明細書入力画面!V44))","v":""},null,null,null,null,null,null,null,null,null,null,null,null,null,null,null,"",null,null,null,"",null,null,null,""]
[null,{"$f":"IF(内訳明細書入力画面!B45=\"\",\"\",内訳明細書入力画面!B45)","v":""},null,null,null,null,null,null,null,null,null,null,null,null,{"$f":"IF(AND(内訳明細書入力画面!N45=\"\",内訳明細書入力画面!M45=\"\"),\"\",IF(内訳明細書入力画面!N45=\"\",内訳明細書入力画面!M45,内訳明細書入力画面!N45))","v":""},null,null,null,{"$f":"IF(内訳明細書入力画面!O45=\"\",\"\",内訳明細書入力画面!O45)","v":""},null,null,{"$f":"IF(AND(内訳明細書入力画面!R45=\"\",内訳明細書入力画面!P45=\"\"),\"\",IF(内訳明細書入力画面!R45=\"\",内訳明細書入力画面!P45,内訳明細書入力画面!R45))","v":""},null,null,null,{"$f":"IF(AND(内訳明細書入力画面!V45=\"\",内訳明細書入力画面!T45=\"\"),\"\",IF(内訳明細書入力画面!V45=\"\",内訳明細書入力画面!T45,内訳明細書入力画面!V45))","v":""},null,null,null,null,null,null,null,null,null,null,null,null,null,null,null,"",null,null,null,"",null,null,null,""]
[null,{"$f":"IF(内訳明細書入力画面!B46=\"\",\"\",内訳明細書入力画面!B46)","v":""},null,null,null,null,null,null,null,null,null,null,null,null,{"$f":"IF(AND(内訳明細書入力画面!N46=\"\",内訳明細書入力画面!M46=\"\"),\"\",IF(内訳明細書入力画面!N46=\"\",内訳明細書入力画面!M46,内訳明細書入力画面!N46))","v":""},null,null,null,{"$f":"IF(内訳明細書入力画面!O46=\"\",\"\",内訳明細書入力画面!O46)","v":""},null,null,{"$f":"IF(AND(内訳明細書入力画面!R46=\"\",内訳明細書入力画面!P46=\"\"),\"\",IF(内訳明細書入力画面!R46=\"\",内訳明細書入力画面!P46,内訳明細書入力画面!R46))","v":""},null,null,null,{"$f":"IF(AND(内訳明細書入力画面!V46=\"\",内訳明細書入力画面!T46=\"\"),\"\",IF(内訳明細書入力画面!V46=\"\",内訳明細書入力画面!T46,内訳明細書入力画面!V46))","v":""},null,null,null,null,null,null,null,null,null,null,null,null,null,null,null,"",null,null,null,"",null,null,null,""]
[null,{"$f":"IF(内訳明細書入力画面!B47=\"\",\"\",内訳明細書入力画面!B47)","v":""},null,null,null,null,null,null,null,null,null,null,null,null,{"$f":"IF(AND(内訳明細書入力画面!N47=\"\",内訳明細書入力画面!M47=\"\"),\"\",IF(内訳明細書入力画面!N47=\"\",内訳明細書入力画面!M47,内訳明細書入力画面!N47))","v":""},null,null,null,{"$f":"IF(内訳明細書入力画面!O47=\"\",\"\",内訳明細書入力画面!O47)","v":""},null,null,{"$f":"IF(AND(内訳明細書入力画面!R47=\"\",内訳明細書入力画面!P47=\"\"),\"\",IF(内訳明細書入力画面!R47=\"\",内訳明細書入力画面!P47,内訳明細書入力画面!R47))","v":""},null,null,null,{"$f":"IF(AND(内訳明細書入力画面!V47=\"\",内訳明細書入力画面!T47=\"\"),\"\",IF(内訳明細書入力画面!V47=\"\",内訳明細書入力画面!T47,内訳明細書入力画面!V47))","v":""},null,null,null,null,null,null,null,null,null,null,null,null,null,null,null,"",null,null,null,"",null,null,null,""]
[null,{"$f":"IF(内訳明細書入力画面!B48=\"\",\"\",内訳明細書入力画面!B48)","v":""},null,null,null,null,null,null,null,null,null,null,null,null,{"$f":"IF(AND(内訳明細書入力画面!N48=\"\",内訳明細書入力画面!M48=\"\"),\"\",IF(内訳明細書入力画面!N48=\"\",内訳明細書入力画面!M48,内訳明細書入力画面!N48))","v":""},null,null,null,{"$f":"IF(内訳明細書入力画面!O48=\"\",\"\",内訳明細書入力画面!O48)","v":""},null,null,{"$f":"IF(AND(内訳明細書入力画面!R48=\"\",内訳明細書入力画面!P48=\"\"),\"\",IF(内訳明細書入力画面!R48=\"\",内訳明細書入力画面!P48,内訳明細書入力画面!R48))","v":""},null,null,null,{"$f":"IF(AND(内訳明細書入力画面!V48=\"\",内訳明細書入力画面!T48=\"\"),\"\",IF(内訳明細書入力画面!V48=\"\",内訳明細書入力画面!T48,内訳明細書入力画面!V48))","v":""},null,null,null,null,null,null,null,null,null,null,null,null,null,null,null,"",null,null,null,"",null,null,null,""]
[null,{"$f":"IF(内訳明細書入力画面!B49=\"\",\"\",内訳明細書入力画面!B49)","v":""},null,null,null,null,null,null,null,null,null,null,null,null,{"$f":"IF(AND(内訳明細書入力画面!N49=\"\",内訳明細書入力画面!M49=\"\"),\"\",IF(内訳明細書入力画面!N49=\"\",内訳明細書入力画面!M49,内訳明細書入力画面!N49))","v":""},null,null,null,{"$f":"IF(内訳明細書入力画面!O49=\"\",\"\",内訳明細書入力画面!O49)","v":""},null,null,{"$f":"IF(AND(内訳明細書入力画面!R49=\"\",内訳明細書入力画面!P49=\"\"),\"\",IF(内訳明細書入力画面!R49=\"\",内訳明細書入力画面!P49,内訳明細書入力画面!R49))","v":""},null,null,null,{"$f":"IF(AND(内訳明細書入力画面!V49=\"\",内訳明細書入力画面!T49=\"\"),\"\",IF(内訳明細書入力画面!V49=\"\",内訳明細書入力画面!T49,内訳明細書入力画面!V49))","v":""},null,null,null,null,null,null,null,null,null,null,null,null,null,null,null,"",null,null,null,"",null,null,null,""]
[null,{"$f":"IF(内訳明細書入力画面!B50=\"\",\"\",内訳明細書入力画面!B50)","v":""},null,null,null,null,null,null,null,null,null,null,null,null,{"$f":"IF(AND(内訳明細書入力画面!N50=\"\",内訳明細書入力画面!M50=\"\"),\"\",IF(内訳明細書入力画面!N50=\"\",内訳明細書入力画面!M50,内訳明細書入力画面!N50))","v":""},null,null,null,{"$f":"IF(内訳明細書入力画面!O50=\"\",\"\",内訳明細書入力画面!O50)","v":""},null,null,{"$f":"IF(AND(内訳明細書入力画面!R50=\"\",内訳明細書入力画面!P50=\"\"),\"\",IF(内訳明細書入力画面!R50=\"\",内訳明細書入力画面!P50,内訳明細書入力画面!R50))","v":""},null,null,null,{"$f":"IF(AND(内訳明細書入力画面!V50=\"\",内訳明細書入力画面!T50=\"\"),\"\",IF(内訳明細書入力画面!V50=\"\",内訳明細書入力画面!T50,内訳明細書入力画面!V50))","v":""},null,null,null,null,null,null,null,null,null,null,null,null,null,null,null,"",null,null,null,"",null,null,null,""]
[null,{"$f":"IF(内訳明細書入力画面!B51=\"\",\"\",内訳明細書入力画面!B51)","v":""},null,null,null,null,null,null,null,null,null,null,null,null,{"$f":"IF(AND(内訳明細書入力画面!N51=\"\",内訳明細書入力画面!M51=\"\"),\"\",IF(内訳明細書入力画面!N51=\"\",内訳明細書入力画面!M51,内訳明細書入力画面!N51))","v":""},null,null,null,{"$f":"IF(内訳明細書入力画面!O51=\"\",\"\",内訳明細書入力画面!O51)","v":""},null,null,{"$f":"IF(AND(内訳明細書入力画面!R51=\"\",内訳明細書入力画面!P51=\"\"),\"\",IF(内訳明細書入力画面!R51=\"\",内訳明細書入力画面!P51,内訳明細書入力画面!R51))","v":""},null,null,null,{"$f":"IF(AND(内訳明細書入力画面!V51=\"\",内訳明細書入力画面!T51=\"\"),\"\",IF(内訳明細書入力画面!V51=\"\",内訳明細書入力画面!T51,内訳明細書入力画面!V51))","v":""},null,null,null,null,null,null,null,null,null,null,null,null,null,null,null,"",null,null,null,"",null,null,null,""]
[null,{"$f":"IF(内訳明細書入力画面!B52=\"\",\"\",内訳明細書入力画面!B52)","v":""},null,null,null,null,null,null,null,null,null,null,null,null,{"$f":"IF(AND(内訳明細書入力画面!N52=\"\",内訳明細書入力画面!M52=\"\"),\"\",IF(内訳明細書入力画面!N52=\"\",内訳明細書入力画面!M52,内訳明細書入力画面!N52))","v":""},null,null,null,{"$f":"IF(内訳明細書入力画面!O52=\"\",\"\",内訳明細書入力画面!O52)","v":""},null,null,{"$f":"IF(AND(内訳明細書入力画面!R52=\"\",内訳明細書入力画面!P52=\"\"),\"\",IF(内訳明細書入力画面!R52=\"\",内訳明細書入力画面!P52,内訳明細書入力画面!R52))","v":""},null,null,null,{"$f":"IF(AND(内訳明細書入力画面!V52=\"\",内訳明細書入力画面!T52=\"\"),\"\",IF(内訳明細書入力画面!V52=\"\",内訳明細書入力画面!T52,内訳明細書入力画面!V52))","v":""},null,null,null,null,null,null,null,null,null,null,null,null,null,null,null,"",null,null,null,"",null,null,null,""]
[null,{"$f":"IF(内訳明細書入力画面!B53=\"\",\"\",内訳明細書入力画面!B53)","v":""},null,null,null,null,null,null,null,null,null,null,null,null,{"$f":"IF(AND(内訳明細書入力画面!N53=\"\",内訳明細書入力画面!M53=\"\"),\"\",IF(内訳明細書入力画面!N53=\"\",内訳明細書入力画面!M53,内訳明細書入力画面!N53))","v":""},null,null,null,{"$f":"IF(内訳明細書入力画面!O53=\"\",\"\",内訳明細書入力画面!O53)","v":""},null,null,{"$f":"IF(AND(内訳明細書入力画面!R53=\"\",内訳明細書入力画面!P53=\"\"),\"\",IF(内訳明細書入力画面!R53=\"\",内訳明細書入力画面!P53,内訳明細書入力画面!R53))","v":""},null,null,null,{"$f":"IF(AND(内訳明細書入力画面!V53=\"\",内訳明細書入力画面!T53=\"\"),\"\",IF(内訳明細書入力画面!V53=\"\",内訳明細書入力画面!T53,内訳明細書入力画面!V53))","v":""},null,null,null,null,null,null,null,null,null,null,null,null,null,null,null,"",null,null,null,"",null,null,null,""]
[null,{"$f":"IF(内訳明細書入力画面!B54=\"\",\"\",内訳明細書入力画面!B54)","v":""},null,null,null,null,null,null,null,null,null,null,null,null,{"$f":"IF(AND(内訳明細書入力画面!N54=\"\",内訳明細書入力画面!M54=\"\"),\"\",IF(内訳明細書入力画面!N54=\"\",内訳明細書入力画面!M54,内訳明細書入力画面!N54))","v":""},null,null,null,{"$f":"IF(内訳明細書入力画面!O54=\"\",\"\",内訳明細書入力画面!O54)","v":""},null,null,{"$f":"IF(AND(内訳明細書入力画面!R54=\"\",内訳明細書入力画面!P54=\"\"),\"\",IF(内訳明細書入力画面!R54=\"\",内訳明細書入力画面!P54,内訳明細書入力画面!R54))","v":""},null,null,null,{"$f":"IF(AND(内訳明細書入力画面!V54=\"\",内訳明細書入力画面!T54=\"\"),\"\",IF(内訳明細書入力画面!V54=\"\",内訳明細書入力画面!T54,内訳明細書入力画面!V54))","v":""},null,null,null,null,null,null,null,null,null,null,null,null,null,null,null,"",null,null,null,"",null,null,null,""]
[null,{"$f":"IF(内訳明細書入力画面!B55=\"\",\"\",内訳明細書入力画面!B55)","v":""},null,null,null,null,null,null,null,null,null,null,null,null,{"$f":"IF(AND(内訳明細書入力画面!N55=\"\",内訳明細書入力画面!M55=\"\"),\"\",IF(内訳明細書入力画面!N55=\"\",内訳明細書入力画面!M55,内訳明細書入力画面!N55))","v":""},null,null,null,{"$f":"IF(内訳明細書入力画面!O55=\"\",\"\",内訳明細書入力画面!O55)","v":""},null,null,{"$f":"IF(AND(内訳明細書入力画面!R55=\"\",内訳明細書入力画面!P55=\"\"),\"\",IF(内訳明細書入力画面!R55=\"\",内訳明細書入力画面!P55,内訳明細書入力画面!R55))","v":""},null,null,null,{"$f":"IF(AND(内訳明細書入力画面!V55=\"\",内訳明細書入力画面!T55=\"\"),\"\",IF(内訳明細書入力画面!V55=\"\",内訳明細書入力画面!T55,内訳明細書入力画面!V55))","v":""},null,null,null,null,null,null,null,null,null,null,null,null,null,null,null,"",null,null,null,"",null,null,null,""]
[{"$f":"((ROW()-11)+15)/15","v":4},{"$f":"IF(内訳明細書入力画面!B56=\"\",\"\",内訳明細書入力画面!B56)","v":""},null,null,null,null,null,null,null,null,null,null,null,null,{"$f":"IF(AND(内訳明細書入力画面!N56=\"\",内訳明細書入力画面!M56=\"\"),\"\",IF(内訳明細書入力画面!N56=\"\",内訳明細書入力画面!M56,内訳明細書入力画面!N56))","v":""},null,null,null,{"$f":"IF(内訳明細書入力画面!O56=\"\",\"\",内訳明細書入力画面!O56)","v":""},null,null,{"$f":"IF(AND(内訳明細書入力画面!R56=\"\",内訳明細書入力画面!P56=\"\"),\"\",IF(内訳明細書入力画面!R56=\"\",内訳明細書入力画面!P56,内訳明細書入力画面!R56))","v":""},null,null,null,{"$f":"IF(AND(内訳明細書入力画面!V56=\"\",内訳明細書入力画面!T56=\"\"),\"\",IF(内訳明細書入力画面!V56=\"\",内訳明細書入力画面!T56,内訳明細書入力画面!V56))","v":""},null,null,null,null,null,null,null,null,null,null,null,null,null,null,null,"",null,null,null,"",null,null,null,""]
[null,{"$f":"IF(内訳明細書入力画面!B57=\"\",\"\",内訳明細書入力画面!B57)","v":""},null,null,null,null,null,null,null,null,null,null,null,null,{"$f":"IF(AND(内訳明細書入力画面!N57=\"\",内訳明細書入力画面!M57=\"\"),\"\",IF(内訳明細書入力画面!N57=\"\",内訳明細書入力画面!M57,内訳明細書入力画面!N57))","v":""},null,null,null,{"$f":"IF(内訳明細書入力画面!O57=\"\",\"\",内訳明細書入力画面!O57)","v":""},null,null,{"$f":"IF(AND(内訳明細書入力画面!R57=\"\",内訳明細書入力画面!P57=\"\"),\"\",IF(内訳明細書入力画面!R57=\"\",内訳明細書入力画面!P57,内訳明細書入力画面!R57))","v":""},null,null,null,{"$f":"IF(AND(内訳明細書入力画面!V57=\"\",内訳明細書入力画面!T57=\"\"),\"\",IF(内訳明細書入力画面!V57=\"\",内訳明細書入力画面!T57,内訳明細書入力画面!V57))","v":""},null,null,null,null,null,null,null,null,null,null,null,null,null,null,null,"",null,null,null,"",null,null,null,""]
[null,{"$f":"IF(内訳明細書入力画面!B58=\"\",\"\",内訳明細書入力画面!B58)","v":""},null,null,null,null,null,null,null,null,null,null,null,null,{"$f":"IF(AND(内訳明細書入力画面!N58=\"\",内訳明細書入力画面!M58=\"\"),\"\",IF(内訳明細書入力画面!N58=\"\",内訳明細書入力画面!M58,内訳明細書入力画面!N58))","v":""},null,null,null,{"$f":"IF(内訳明細書入力画面!O58=\"\",\"\",内訳明細書入力画面!O58)","v":""},null,null,{"$f":"IF(AND(内訳明細書入力画面!R58=\"\",内訳明細書入力画面!P58=\"\"),\"\",IF(内訳明細書入力画面!R58=\"\",内訳明細書入力画面!P58,内訳明細書入力画面!R58))","v":""},null,null,null,{"$f":"IF(AND(内訳明細書入力画面!V58=\"\",内訳明細書入力画面!T58=\"\"),\"\",IF(内訳明細書入力画面!V58=\"\",内訳明細書入力画面!T58,内訳明細書入力画面!V58))","v":""},null,null,null,null,null,null,null,null,null,null,null,null,null,null,null,"",null,null,null,"",null,null,null,""]
[null,{"$f":"IF(内訳明細書入力画面!B59=\"\",\"\",内訳明細書入力画面!B59)","v":""},null,null,null,null,null,null,null,null,null,null,null,null,{"$f":"IF(AND(内訳明細書入力画面!N59=\"\",内訳明細書入力画面!M59=\"\"),\"\",IF(内訳明細書入力画面!N59=\"\",内訳明細書入力画面!M59,内訳明細書入力画面!N59))","v":""},null,null,null,{"$f":"IF(内訳明細書入力画面!O59=\"\",\"\",内訳明細書入力画面!O59)","v":""},null,null,{"$f":"IF(AND(内訳明細書入力画面!R59=\"\",内訳明細書入力画面!P59=\"\"),\"\",IF(内訳明細書入力画面!R59=\"\",内訳明細書入力画面!P59,内訳明細書入力画面!R59))","v":""},null,null,null,{"$f":"IF(AND(内訳明細書入力画面!V59=\"\",内訳明細書入力画面!T59=\"\"),\"\",IF(内訳明細書入力画面!V59=\"\",内訳明細書入力画面!T59,内訳明細書入力画面!V59))","v":""},null,null,null,null,null,null,null,null,null,null,null,null,null,null,null,"",null,null,null,"",null,null,null,""]
[null,{"$f":"IF(内訳明細書入力画面!B60=\"\",\"\",内訳明細書入力画面!B60)","v":""},null,null,null,null,null,null,null,null,null,null,null,null,{"$f":"IF(AND(内訳明細書入力画面!N60=\"\",内訳明細書入力画面!M60=\"\"),\"\",IF(内訳明細書入力画面!N60=\"\",内訳明細書入力画面!M60,内訳明細書入力画面!N60))","v":""},null,null,null,{"$f":"IF(内訳明細書入力画面!O60=\"\",\"\",内訳明細書入力画面!O60)","v":""},null,null,{"$f":"IF(AND(内訳明細書入力画面!R60=\"\",内訳明細書入力画面!P60=\"\"),\"\",IF(内訳明細書入力画面!R60=\"\",内訳明細書入力画面!P60,内訳明細書入力画面!R60))","v":""},null,null,null,{"$f":"IF(AND(内訳明細書入力画面!V60=\"\",内訳明細書入力画面!T60=\"\"),\"\",IF(内訳明細書入力画面!V60=\"\",内訳明細書入力画面!T60,内訳明細書入力画面!V60))","v":""},null,null,null,null,null,null,null,null,null,null,null,null,null,null,null,"",null,null,null,"",null,null,null,""]
[null,{"$f":"IF(内訳明細書入力画面!B61=\"\",\"\",内訳明細書入力画面!B61)","v":""},null,null,null,null,null,null,null,null,null,null,null,null,{"$f":"IF(AND(内訳明細書入力画面!N61=\"\",内訳明細書入力画面!M61=\"\"),\"\",IF(内訳明細書入力画面!N61=\"\",内訳明細書入力画面!M61,内訳明細書入力画面!N61))","v":""},null,null,null,{"$f":"IF(内訳明細書入力画面!O61=\"\",\"\",内訳明細書入力画面!O61)","v":""},null,null,{"$f":"IF(AND(内訳明細書入力画面!R61=\"\",内訳明細書入力画面!P61=\"\"),\"\",IF(内訳明細書入力画面!R61=\"\",内訳明細書入力画面!P61,内訳明細書入力画面!R61))","v":""},null,null,null,{"$f":"IF(AND(内訳明細書入力画面!V61=\"\",内訳明細書入力画面!T61=\"\"),\"\",IF(内訳明細書入力画面!V61=\"\",内訳明細書入力画面!T61,内訳明細書入力画面!V61))","v":""},null,null,null,null,null,null,null,null,null,null,null,null,null,null,null,"",null,null,null,"",null,null,null,""]
[null,{"$f":"IF(内訳明細書入力画面!B62=\"\",\"\",内訳明細書入力画面!B62)","v":""},null,null,null,null,null,null,null,null,null,null,null,null,{"$f":"IF(AND(内訳明細書入力画面!N62=\"\",内訳明細書入力画面!M62=\"\"),\"\",IF(内訳明細書入力画面!N62=\"\",内訳明細書入力画面!M62,内訳明細書入力画面!N62))","v":""},null,null,null,{"$f":"IF(内訳明細書入力画面!O62=\"\",\"\",内訳明細書入力画面!O62)","v":""},null,null,{"$f":"IF(AND(内訳明細書入力画面!R62=\"\",内訳明細書入力画面!P62=\"\"),\"\",IF(内訳明細書入力画面!R62=\"\",内訳明細書入力画面!P62,内訳明細書入力画面!R62))","v":""},null,null,null,{"$f":"IF(AND(内訳明細書入力画面!V62=\"\",内訳明細書入力画面!T62=\"\"),\"\",IF(内訳明細書入力画面!V62=\"\",内訳明細書入力画面!T62,内訳明細書入力画面!V62))","v":""},null,null,null,null,null,null,null,null,null,null,null,null,null,null,null,"",null,null,null,"",null,null,null,""]
[null,{"$f":"IF(内訳明細書入力画面!B63=\"\",\"\",内訳明細書入力画面!B63)","v":""},null,null,null,null,null,null,null,null,null,null,null,null,{"$f":"IF(AND(内訳明細書入力画面!N63=\"\",内訳明細書入力画面!M63=\"\"),\"\",IF(内訳明細書入力画面!N63=\"\",内訳明細書入力画面!M63,内訳明細書入力画面!N63))","v":""},null,null,null,{"$f":"IF(内訳明細書入力画面!O63=\"\",\"\",内訳明細書入力画面!O63)","v":""},null,null,{"$f":"IF(AND(内訳明細書入力画面!R63=\"\",内訳明細書入力画面!P63=\"\"),\"\",IF(内訳明細書入力画面!R63=\"\",内訳明細書入力画面!P63,内訳明細書入力画面!R63))","v":""},null,null,null,{"$f":"IF(AND(内訳明細書入力画面!V63=\"\",内訳明細書入力画面!T63=\"\"),\"\",IF(内訳明細書入力画面!V63=\"\",内訳明細書入力画面!T63,内訳明細書入力画面!V63))","v":""},null,null,null,null,null,null,null,null,null,null,null,null,null,null,null,"",null,null,null,"",null,null,null,""]
[null,{"$f":"IF(内訳明細書入力画面!B64=\"\",\"\",内訳明細書入力画面!B64)","v":""},null,null,null,null,null,null,null,null,null,null,null,null,{"$f":"IF(AND(内訳明細書入力画面!N64=\"\",内訳明細書入力画面!M64=\"\"),\"\",IF(内訳明細書入力画面!N64=\"\",内訳明細書入力画面!M64,内訳明細書入力画面!N64))","v":""},null,null,null,{"$f":"IF(内訳明細書入力画面!O64=\"\",\"\",内訳明細書入力画面!O64)","v":""},null,null,{"$f":"IF(AND(内訳明細書入力画面!R64=\"\",内訳明細書入力画面!P64=\"\"),\"\",IF(内訳明細書入力画面!R64=\"\",内訳明細書入力画面!P64,内訳明細書入力画面!R64))","v":""},null,null,null,{"$f":"IF(AND(内訳明細書入力画面!V64=\"\",内訳明細書入力画面!T64=\"\"),\"\",IF(内訳明細書入力画面!V64=\"\",内訳明細書入力画面!T64,内訳明細書入力画面!V64))","v":""},null,null,null,null,null,null,null,null,null,null,null,null,null,null,null,"",null,null,null,"",null,null,null,""]
[null,{"$f":"IF(内訳明細書入力画面!B65=\"\",\"\",内訳明細書入力画面!B65)","v":""},null,null,null,null,null,null,null,null,null,null,null,null,{"$f":"IF(AND(内訳明細書入力画面!N65=\"\",内訳明細書入力画面!M65=\"\"),\"\",IF(内訳明細書入力画面!N65=\"\",内訳明細書入力画面!M65,内訳明細書入力画面!N65))","v":""},null,null,null,{"$f":"IF(内訳明細書入力画面!O65=\"\",\"\",内訳明細書入力画面!O65)","v":""},null,null,{"$f":"IF(AND(内訳明細書入力画面!R65=\"\",内訳明細書入力画面!P65=\"\"),\"\",IF(内訳明細書入力画面!R65=\"\",内訳明細書入力画面!P65,内訳明細書入力画面!R65))","v":""},null,null,null,{"$f":"IF(AND(内訳明細書入力画面!V65=\"\",内訳明細書入力画面!T65=\"\"),\"\",IF(内訳明細書入力画面!V65=\"\",内訳明細書入力画面!T65,内訳明細書入力画面!V65))","v":""},null,null,null,null,null,null,null,null,null,null,null,null,null,null,null,"",null,null,null,"",null,null,null,""]
[null,{"$f":"IF(内訳明細書入力画面!B66=\"\",\"\",内訳明細書入力画面!B66)","v":""},null,null,null,null,null,null,null,null,null,null,null,null,{"$f":"IF(AND(内訳明細書入力画面!N66=\"\",内訳明細書入力画面!M66=\"\"),\"\",IF(内訳明細書入力画面!N66=\"\",内訳明細書入力画面!M66,内訳明細書入力画面!N66))","v":""},null,null,null,{"$f":"IF(内訳明細書入力画面!O66=\"\",\"\",内訳明細書入力画面!O66)","v":""},null,null,{"$f":"IF(AND(内訳明細書入力画面!R66=\"\",内訳明細書入力画面!P66=\"\"),\"\",IF(内訳明細書入力画面!R66=\"\",内訳明細書入力画面!P66,内訳明細書入力画面!R66))","v":""},null,null,null,{"$f":"IF(AND(内訳明細書入力画面!V66=\"\",内訳明細書入力画面!T66=\"\"),\"\",IF(内訳明細書入力画面!V66=\"\",内訳明細書入力画面!T66,内訳明細書入力画面!V66))","v":""},null,null,null,null,null,null,null,null,null,null,null,null,null,null,null,"",null,null,null,"",null,null,null,""]
[null,{"$f":"IF(内訳明細書入力画面!B67=\"\",\"\",内訳明細書入力画面!B67)","v":""},null,null,null,null,null,null,null,null,null,null,null,null,{"$f":"IF(AND(内訳明細書入力画面!N67=\"\",内訳明細書入力画面!M67=\"\"),\"\",IF(内訳明細書入力画面!N67=\"\",内訳明細書入力画面!M67,内訳明細書入力画面!N67))","v":""},null,null,null,{"$f":"IF(内訳明細書入力画面!O67=\"\",\"\",内訳明細書入力画面!O67)","v":""},null,null,{"$f":"IF(AND(内訳明細書入力画面!R67=\"\",内訳明細書入力画面!P67=\"\"),\"\",IF(内訳明細書入力画面!R67=\"\",内訳明細書入力画面!P67,内訳明細書入力画面!R67))","v":""},null,null,null,{"$f":"IF(AND(内訳明細書入力画面!V67=\"\",内訳明細書入力画面!T67=\"\"),\"\",IF(内訳明細書入力画面!V67=\"\",内訳明細書入力画面!T67,内訳明細書入力画面!V67))","v":""},null,null,null,null,null,null,null,null,null,null,null,null,null,null,null,"",null,null,null,"",null,null,null,""]
[null,{"$f":"IF(内訳明細書入力画面!B68=\"\",\"\",内訳明細書入力画面!B68)","v":""},null,null,null,null,null,null,null,null,null,null,null,null,{"$f":"IF(AND(内訳明細書入力画面!N68=\"\",内訳明細書入力画面!M68=\"\"),\"\",IF(内訳明細書入力画面!N68=\"\",内訳明細書入力画面!M68,内訳明細書入力画面!N68))","v":""},null,null,null,{"$f":"IF(内訳明細書入力画面!O68=\"\",\"\",内訳明細書入力画面!O68)","v":""},null,null,{"$f":"IF(AND(内訳明細書入力画面!R68=\"\",内訳明細書入力画面!P68=\"\"),\"\",IF(内訳明細書入力画面!R68=\"\",内訳明細書入力画面!P68,内訳明細書入力画面!R68))","v":""},null,null,null,{"$f":"IF(AND(内訳明細書入力画面!V68=\"\",内訳明細書入力画面!T68=\"\"),\"\",IF(内訳明細書入力画面!V68=\"\",内訳明細書入力画面!T68,内訳明細書入力画面!V68))","v":""},null,null,null,null,null,null,null,null,null,null,null,null,null,null,null,"",null,null,null,"",null,null,null,""]
[null,{"$f":"IF(内訳明細書入力画面!B69=\"\",\"\",内訳明細書入力画面!B69)","v":""},null,null,null,null,null,null,null,null,null,null,null,null,{"$f":"IF(AND(内訳明細書入力画面!N69=\"\",内訳明細書入力画面!M69=\"\"),\"\",IF(内訳明細書入力画面!N69=\"\",内訳明細書入力画面!M69,内訳明細書入力画面!N69))","v":""},null,null,null,{"$f":"IF(内訳明細書入力画面!O69=\"\",\"\",内訳明細書入力画面!O69)","v":""},null,null,{"$f":"IF(AND(内訳明細書入力画面!R69=\"\",内訳明細書入力画面!P69=\"\"),\"\",IF(内訳明細書入力画面!R69=\"\",内訳明細書入力画面!P69,内訳明細書入力画面!R69))","v":""},null,null,null,{"$f":"IF(AND(内訳明細書入力画面!V69=\"\",内訳明細書入力画面!T69=\"\"),\"\",IF(内訳明細書入力画面!V69=\"\",内訳明細書入力画面!T69,内訳明細書入力画面!V69))","v":""},null,null,null,null,null,null,null,null,null,null,null,null,null,null,null,"",null,null,null,"",null,null,null,""]
[null,{"$f":"IF(内訳明細書入力画面!B70=\"\",\"\",内訳明細書入力画面!B70)","v":""},null,null,null,null,null,null,null,null,null,null,null,null,{"$f":"IF(AND(内訳明細書入力画面!N70=\"\",内訳明細書入力画面!M70=\"\"),\"\",IF(内訳明細書入力画面!N70=\"\",内訳明細書入力画面!M70,内訳明細書入力画面!N70))","v":""},null,null,null,{"$f":"IF(内訳明細書入力画面!O70=\"\",\"\",内訳明細書入力画面!O70)","v":""},null,null,{"$f":"IF(AND(内訳明細書入力画面!R70=\"\",内訳明細書入力画面!P70=\"\"),\"\",IF(内訳明細書入力画面!R70=\"\",内訳明細書入力画面!P70,内訳明細書入力画面!R70))","v":""},null,null,null,{"$f":"IF(AND(内訳明細書入力画面!V70=\"\",内訳明細書入力画面!T70=\"\"),\"\",IF(内訳明細書入力画面!V70=\"\",内訳明細書入力画面!T70,内訳明細書入力画面!V70))","v":""},null,null,null,null,null,null,null,null,null,null,null,null,null,null,null,"",null,null,null,"",null,null,null,""]
[{"$f":"((ROW()-11)+15)/15","v":5},{"$f":"IF(内訳明細書入力画面!B71=\"\",\"\",内訳明細書入力画面!B71)","v":""},null,null,null,null,null,null,null,null,null,null,null,null,{"$f":"IF(AND(内訳明細書入力画面!N71=\"\",内訳明細書入力画面!M71=\"\"),\"\",IF(内訳明細書入力画面!N71=\"\",内訳明細書入力画面!M71,内訳明細書入力画面!N71))","v":""},null,null,null,{"$f":"IF(内訳明細書入力画面!O71=\"\",\"\",内訳明細書入力画面!O71)","v":""},null,null,{"$f":"IF(AND(内訳明細書入力画面!R71=\"\",内訳明細書入力画面!P71=\"\"),\"\",IF(内訳明細書入力画面!R71=\"\",内訳明細書入力画面!P71,内訳明細書入力画面!R71))","v":""},null,null,null,{"$f":"IF(AND(内訳明細書入力画面!V71=\"\",内訳明細書入力画面!T71=\"\"),\"\",IF(内訳明細書入力画面!V71=\"\",内訳明細書入力画面!T71,内訳明細書入力画面!V71))","v":""},null,null,null,null,null,null,null,null,null,null,null,null,null,null,null,"",null,null,null,"",null,null,null,""]
[null,{"$f":"IF(内訳明細書入力画面!B72=\"\",\"\",内訳明細書入力画面!B72)","v":""},null,null,null,null,null,null,null,null,null,null,null,null,{"$f":"IF(AND(内訳明細書入力画面!N72=\"\",内訳明細書入力画面!M72=\"\"),\"\",IF(内訳明細書入力画面!N72=\"\",内訳明細書入力画面!M72,内訳明細書入力画面!N72))","v":""},null,null,null,{"$f":"IF(内訳明細書入力画面!O72=\"\",\"\",内訳明細書入力画面!O72)","v":""},null,null,{"$f":"IF(AND(内訳明細書入力画面!R72=\"\",内訳明細書入力画面!P72=\"\"),\"\",IF(内訳明細書入力画面!R72=\"\",内訳明細書入力画面!P72,内訳明細書入力画面!R72))","v":""},null,null,null,{"$f":"IF(AND(内訳明細書入力画面!V72=\"\",内訳明細書入力画面!T72=\"\"),\"\",IF(内訳明細書入力画面!V72=\"\",内訳明細書入力画面!T72,内訳明細書入力画面!V72))","v":""},null,null,null,null,null,null,null,null,null,null,null,null,null,null,null,"",null,null,null,"",null,null,null,""]
[null,{"$f":"IF(内訳明細書入力画面!B73=\"\",\"\",内訳明細書入力画面!B73)","v":""},null,null,null,null,null,null,null,null,null,null,null,null,{"$f":"IF(AND(内訳明細書入力画面!N73=\"\",内訳明細書入力画面!M73=\"\"),\"\",IF(内訳明細書入力画面!N73=\"\",内訳明細書入力画面!M73,内訳明細書入力画面!N73))","v":""},null,null,null,{"$f":"IF(内訳明細書入力画面!O73=\"\",\"\",内訳明細書入力画面!O73)","v":""},null,null,{"$f":"IF(AND(内訳明細書入力画面!R73=\"\",内訳明細書入力画面!P73=\"\"),\"\",IF(内訳明細書入力画面!R73=\"\",内訳明細書入力画面!P73,内訳明細書入力画面!R73))","v":""},null,null,null,{"$f":"IF(AND(内訳明細書入力画面!V73=\"\",内訳明細書入力画面!T73=\"\"),\"\",IF(内訳明細書入力画面!V73=\"\",内訳明細書入力画面!T73,内訳明細書入力画面!V73))","v":""},null,null,null,null,null,null,null,null,null,null,null,null,null,null,null,"",null,null,null,"",null,null,null,""]
[null,{"$f":"IF(内訳明細書入力画面!B74=\"\",\"\",内訳明細書入力画面!B74)","v":""},null,null,null,null,null,null,null,null,null,null,null,null,{"$f":"IF(AND(内訳明細書入力画面!N74=\"\",内訳明細書入力画面!M74=\"\"),\"\",IF(内訳明細書入力画面!N74=\"\",内訳明細書入力画面!M74,内訳明細書入力画面!N74))","v":""},null,null,null,{"$f":"IF(内訳明細書入力画面!O74=\"\",\"\",内訳明細書入力画面!O74)","v":""},null,null,{"$f":"IF(AND(内訳明細書入力画面!R74=\"\",内訳明細書入力画面!P74=\"\"),\"\",IF(内訳明細書入力画面!R74=\"\",内訳明細書入力画面!P74,内訳明細書入力画面!R74))","v":""},null,null,null,{"$f":"IF(AND(内訳明細書入力画面!V74=\"\",内訳明細書入力画面!T74=\"\"),\"\",IF(内訳明細書入力画面!V74=\"\",内訳明細書入力画面!T74,内訳明細書入力画面!V74))","v":""},null,null,null,null,null,null,null,null,null,null,null,null,null,null,null,"",null,null,null,"",null,null,null,""]
[null,{"$f":"IF(内訳明細書入力画面!B75=\"\",\"\",内訳明細書入力画面!B75)","v":""},null,null,null,null,null,null,null,null,null,null,null,null,{"$f":"IF(AND(内訳明細書入力画面!N75=\"\",内訳明細書入力画面!M75=\"\"),\"\",IF(内訳明細書入力画面!N75=\"\",内訳明細書入力画面!M75,内訳明細書入力画面!N75))","v":""},null,null,null,{"$f":"IF(内訳明細書入力画面!O75=\"\",\"\",内訳明細書入力画面!O75)","v":""},null,null,{"$f":"IF(AND(内訳明細書入力画面!R75=\"\",内訳明細書入力画面!P75=\"\"),\"\",IF(内訳明細書入力画面!R75=\"\",内訳明細書入力画面!P75,内訳明細書入力画面!R75))","v":""},null,null,null,{"$f":"IF(AND(内訳明細書入力画面!V75=\"\",内訳明細書入力画面!T75=\"\"),\"\",IF(内訳明細書入力画面!V75=\"\",内訳明細書入力画面!T75,内訳明細書入力画面!V75))","v":""},null,null,null,null,null,null,null,null,null,null,null,null,null,null,null,{"$f":"IF(AL75=\"\",\"\",ROUNDDOWN(N(V75)*N(AL75),0))","v":""},null,null,null,"",null,null,null,""]
[null,{"$f":"IF(内訳明細書入力画面!B76=\"\",\"\",内訳明細書入力画面!B76)","v":""},null,null,null,null,null,null,null,null,null,null,null,null,{"$f":"IF(AND(内訳明細書入力画面!N76=\"\",内訳明細書入力画面!M76=\"\"),\"\",IF(内訳明細書入力画面!N76=\"\",内訳明細書入力画面!M76,内訳明細書入力画面!N76))","v":""},null,null,null,{"$f":"IF(内訳明細書入力画面!O76=\"\",\"\",内訳明細書入力画面!O76)","v":""},null,null,{"$f":"IF(AND(内訳明細書入力画面!R76=\"\",内訳明細書入力画面!P76=\"\"),\"\",IF(内訳明細書入力画面!R76=\"\",内訳明細書入力画面!P76,内訳明細書入力画面!R76))","v":""},null,null,null,{"$f":"IF(AND(内訳明細書入力画面!V76=\"\",内訳明細書入力画面!T76=\"\"),\"\",IF(内訳明細書入力画面!V76=\"\",内訳明細書入力画面!T76,内訳明細書入力画面!V76))","v":""},null,null,null,null,null,null,null,null,null,null,null,null,null,null,null,"",null,null,null,"",null,null,null,""]
[null,{"$f":"IF(内訳明細書入力画面!B77=\"\",\"\",内訳明細書入力画面!B77)","v":""},null,null,null,null,null,null,null,null,null,null,null,null,{"$f":"IF(AND(内訳明細書入力画面!N77=\"\",内訳明細書入力画面!M77=\"\"),\"\",IF(内訳明細書入力画面!N77=\"\",内訳明細書入力画面!M77,内訳明細書入力画面!N77))","v":""},null,null,null,{"$f":"IF(内訳明細書入力画面!O77=\"\",\"\",内訳明細書入力画面!O77)","v":""},null,null,{"$f":"IF(AND(内訳明細書入力画面!R77=\"\",内訳明細書入力画面!P77=\"\"),\"\",IF(内訳明細書入力画面!R77=\"\",内訳明細書入力画面!P77,内訳明細書入力画面!R77))","v":""},null,null,null,{"$f":"IF(AND(内訳明細書入力画面!V77=\"\",内訳明細書入力画面!T77=\"\"),\"\",IF(内訳明細書入力画面!V77=\"\",内訳明細書入力画面!T77,内訳明細書入力画面!V77))","v":""},null,null,null,null,null,null,null,null,null,null,null,null,null,null,null,"",null,null,null,"",null,null,null,""]
[null,{"$f":"IF(内訳明細書入力画面!B78=\"\",\"\",内訳明細書入力画面!B78)","v":""},null,null,null,null,null,null,null,null,null,null,null,null,{"$f":"IF(AND(内訳明細書入力画面!N78=\"\",内訳明細書入力画面!M78=\"\"),\"\",IF(内訳明細書入力画面!N78=\"\",内訳明細書入力画面!M78,内訳明細書入力画面!N78))","v":""},null,null,null,{"$f":"IF(内訳明細書入力画面!O78=\"\",\"\",内訳明細書入力画面!O78)","v":""},null,null,{"$f":"IF(AND(内訳明細書入力画面!R78=\"\",内訳明細書入力画面!P78=\"\"),\"\",IF(内訳明細書入力画面!R78=\"\",内訳明細書入力画面!P78,内訳明細書入力画面!R78))","v":""},null,null,null,{"$f":"IF(AND(内訳明細書入力画面!V78=\"\",内訳明細書入力画面!T78=\"\"),\"\",IF(内訳明細書入力画面!V78=\"\",内訳明細書入力画面!T78,内訳明細書入力画面!V78))","v":""},null,null,null,null,null,null,null,null,null,null,null,null,null,null,null,"",null,null,null,"",null,null,null,""]
[null,{"$f":"IF(内訳明細書入力画面!B79=\"\",\"\",内訳明細書入力画面!B79)","v":""},null,null,null,null,null,null,null,null,null,null,null,null,{"$f":"IF(AND(内訳明細書入力画面!N79=\"\",内訳明細書入力画面!M79=\"\"),\"\",IF(内訳明細書入力画面!N79=\"\",内訳明細書入力画面!M79,内訳明細書入力画面!N79))","v":""},null,null,null,{"$f":"IF(内訳明細書入力画面!O79=\"\",\"\",内訳明細書入力画面!O79)","v":""},null,null,{"$f":"IF(AND(内訳明細書入力画面!R79=\"\",内訳明細書入力画面!P79=\"\"),\"\",IF(内訳明細書入力画面!R79=\"\",内訳明細書入力画面!P79,内訳明細書入力画面!R79))","v":""},null,null,null,{"$f":"IF(AND(内訳明細書入力画面!V79=\"\",内訳明細書入力画面!T79=\"\"),\"\",IF(内訳明細書入力画面!V79=\"\",内訳明細書入力画面!T79,内訳明細書入力画面!V79))","v":""},null,null,null,null,null,null,null,null,null,null,null,null,null,null,null,"",null,null,null,"",null,null,null,""]
[null,{"$f":"IF(内訳明細書入力画面!B80=\"\",\"\",内訳明細書入力画面!B80)","v":""},null,null,null,null,null,null,null,null,null,null,null,null,{"$f":"IF(AND(内訳明細書入力画面!N80=\"\",内訳明細書入力画面!M80=\"\"),\"\",IF(内訳明細書入力画面!N80=\"\",内訳明細書入力画面!M80,内訳明細書入力画面!N80))","v":""},null,null,null,{"$f":"IF(内訳明細書入力画面!O80=\"\",\"\",内訳明細書入力画面!O80)","v":""},null,null,{"$f":"IF(AND(内訳明細書入力画面!R80=\"\",内訳明細書入力画面!P80=\"\"),\"\",IF(内訳明細書入力画面!R80=\"\",内訳明細書入力画面!P80,内訳明細書入力画面!R80))","v":""},null,null,null,{"$f":"IF(AND(内訳明細書入力画面!V80=\"\",内訳明細書入力画面!T80=\"\"),\"\",IF(内訳明細書入力画面!V80=\"\",内訳明細書入力画面!T80,内訳明細書入力画面!V80))","v":""},null,null,null,null,null,null,null,null,null,null,null,null,null,null,null,"",null,null,null,"",null,null,null,""]
[null,{"$f":"IF(内訳明細書入力画面!B81=\"\",\"\",内訳明細書入力画面!B81)","v":""},null,null,null,null,null,null,null,null,null,null,null,null,{"$f":"IF(AND(内訳明細書入力画面!N81=\"\",内訳明細書入力画面!M81=\"\"),\"\",IF(内訳明細書入力画面!N81=\"\",内訳明細書入力画面!M81,内訳明細書入力画面!N81))","v":""},null,null,null,{"$f":"IF(内訳明細書入力画面!O81=\"\",\"\",内訳明細書入力画面!O81)","v":""},null,null,{"$f":"IF(AND(内訳明細書入力画面!R81=\"\",内訳明細書入力画面!P81=\"\"),\"\",IF(内訳明細書入力画面!R81=\"\",内訳明細書入力画面!P81,内訳明細書入力画面!R81))","v":""},null,null,null,{"$f":"IF(AND(内訳明細書入力画面!V81=\"\",内訳明細書入力画面!T81=\"\"),\"\",IF(内訳明細書入力画面!V81=\"\",内訳明細書入力画面!T81,内訳明細書入力画面!V81))","v":""},null,null,null,null,null,null,null,null,null,null,null,null,null,null,null,"",null,null,null,"",null,null,null,""]
[null,{"$f":"IF(内訳明細書入力画面!B82=\"\",\"\",内訳明細書入力画面!B82)","v":""},null,null,null,null,null,null,null,null,null,null,null,null,{"$f":"IF(AND(内訳明細書入力画面!N82=\"\",内訳明細書入力画面!M82=\"\"),\"\",IF(内訳明細書入力画面!N82=\"\",内訳明細書入力画面!M82,内訳明細書入力画面!N82))","v":""},null,null,null,{"$f":"IF(内訳明細書入力画面!O82=\"\",\"\",内訳明細書入力画面!O82)","v":""},null,null,{"$f":"IF(AND(内訳明細書入力画面!R82=\"\",内訳明細書入力画面!P82=\"\"),\"\",IF(内訳明細書入力画面!R82=\"\",内訳明細書入力画面!P82,内訳明細書入力画面!R82))","v":""},null,null,null,{"$f":"IF(AND(内訳明細書入力画面!V82=\"\",内訳明細書入力画面!T82=\"\"),\"\",IF(内訳明細書入力画面!V82=\"\",内訳明細書入力画面!T82,内訳明細書入力画面!V82))","v":""},null,null,null,null,null,null,null,null,null,null,null,null,null,null,null,"",null,null,null,"",null,null,null,""]
[null,{"$f":"IF(内訳明細書入力画面!B83=\"\",\"\",内訳明細書入力画面!B83)","v":""},null,null,null,null,null,null,null,null,null,null,null,null,{"$f":"IF(AND(内訳明細書入力画面!N83=\"\",内訳明細書入力画面!M83=\"\"),\"\",IF(内訳明細書入力画面!N83=\"\",内訳明細書入力画面!M83,内訳明細書入力画面!N83))","v":""},null,null,null,{"$f":"IF(内訳明細書入力画面!O83=\"\",\"\",内訳明細書入力画面!O83)","v":""},null,null,{"$f":"IF(AND(内訳明細書入力画面!R83=\"\",内訳明細書入力画面!P83=\"\"),\"\",IF(内訳明細書入力画面!R83=\"\",内訳明細書入力画面!P83,内訳明細書入力画面!R83))","v":""},null,null,null,{"$f":"IF(AND(内訳明細書入力画面!V83=\"\",内訳明細書入力画面!T83=\"\"),\"\",IF(内訳明細書入力画面!V83=\"\",内訳明細書入力画面!T83,内訳明細書入力画面!V83))","v":""},null,null,null,null,null,null,null,null,null,null,null,null,null,null,null,"",null,null,null,"",null,null,null,""]
[null,{"$f":"IF(内訳明細書入力画面!B84=\"\",\"\",内訳明細書入力画面!B84)","v":""},null,null,null,null,null,null,null,null,null,null,null,null,{"$f":"IF(AND(内訳明細書入力画面!N84=\"\",内訳明細書入力画面!M84=\"\"),\"\",IF(内訳明細書入力画面!N84=\"\",内訳明細書入力画面!M84,内訳明細書入力画面!N84))","v":""},null,null,null,{"$f":"IF(内訳明細書入力画面!O84=\"\",\"\",内訳明細書入力画面!O84)","v":""},null,null,{"$f":"IF(AND(内訳明細書入力画面!R84=\"\",内訳明細書入力画面!P84=\"\"),\"\",IF(内訳明細書入力画面!R84=\"\",内訳明細書入力画面!P84,内訳明細書入力画面!R84))","v":""},null,null,null,{"$f":"IF(AND(内訳明細書入力画面!V84=\"\",内訳明細書入力画面!T84=\"\"),\"\",IF(内訳明細書入力画面!V84=\"\",内訳明細書入力画面!T84,内訳明細書入力画面!V84))","v":""},null,null,null,null,null,null,null,null,null,null,null,null,null,null,null,"",null,null,null,"",null,null,null,""]
[null,{"$f":"IF(内訳明細書入力画面!B85=\"\",\"\",内訳明細書入力画面!B85)","v":""},null,null,null,null,null,null,null,null,null,null,null,null,{"$f":"IF(AND(内訳明細書入力画面!N85=\"\",内訳明細書入力画面!M85=\"\"),\"\",IF(内訳明細書入力画面!N85=\"\",内訳明細書入力画面!M85,内訳明細書入力画面!N85))","v":""},null,null,null,{"$f":"IF(内訳明細書入力画面!O85=\"\",\"\",内訳明細書入力画面!O85)","v":""},null,null,{"$f":"IF(AND(内訳明細書入力画面!R85=\"\",内訳明細書入力画面!P85=\"\"),\"\",IF(内訳明細書入力画面!R85=\"\",内訳明細書入力画面!P85,内訳明細書入力画面!R85))","v":""},null,null,null,{"$f":"IF(AND(内訳明細書入力画面!V85=\"\",内訳明細書入力画面!T85=\"\"),\"\",IF(内訳明細書入力画面!V85=\"\",内訳明細書入力画面!T85,内訳明細書入力画面!V85))","v":""},null,null,null,null,null,null,null,null,null,null,null,null,null,null,null,"",null,null,null,"",null,null,null,""]
[{"$f":"((ROW()-11)+15)/15","v":6},{"$f":"IF(内訳明細書入力画面!B86=\"\",\"\",内訳明細書入力画面!B86)","v":""},null,null,null,null,null,null,null,null,null,null,null,null,{"$f":"IF(AND(内訳明細書入力画面!N86=\"\",内訳明細書入力画面!M86=\"\"),\"\",IF(内訳明細書入力画面!N86=\"\",内訳明細書入力画面!M86,内訳明細書入力画面!N86))","v":""},null,null,null,{"$f":"IF(内訳明細書入力画面!O86=\"\",\"\",内訳明細書入力画面!O86)","v":""},null,null,{"$f":"IF(AND(内訳明細書入力画面!R86=\"\",内訳明細書入力画面!P86=\"\"),\"\",IF(内訳明細書入力画面!R86=\"\",内訳明細書入力画面!P86,内訳明細書入力画面!R86))","v":""},null,null,null,{"$f":"IF(AND(内訳明細書入力画面!V86=\"\",内訳明細書入力画面!T86=\"\"),\"\",IF(内訳明細書入力画面!V86=\"\",内訳明細書入力画面!T86,内訳明細書入力画面!V86))","v":""},null,null,null,null,null,null,null,null,null,null,null,null,null,null,null,"",null,null,null,"",null,null,null,""]
[null,{"$f":"IF(内訳明細書入力画面!B87=\"\",\"\",内訳明細書入力画面!B87)","v":""},null,null,null,null,null,null,null,null,null,null,null,null,{"$f":"IF(AND(内訳明細書入力画面!N87=\"\",内訳明細書入力画面!M87=\"\"),\"\",IF(内訳明細書入力画面!N87=\"\",内訳明細書入力画面!M87,内訳明細書入力画面!N87))","v":""},null,null,null,{"$f":"IF(内訳明細書入力画面!O87=\"\",\"\",内訳明細書入力画面!O87)","v":""},null,null,{"$f":"IF(AND(内訳明細書入力画面!R87=\"\",内訳明細書入力画面!P87=\"\"),\"\",IF(内訳明細書入力画面!R87=\"\",内訳明細書入力画面!P87,内訳明細書入力画面!R87))","v":""},null,null,null,{"$f":"IF(AND(内訳明細書入力画面!V87=\"\",内訳明細書入力画面!T87=\"\"),\"\",IF(内訳明細書入力画面!V87=\"\",内訳明細書入力画面!T87,内訳明細書入力画面!V87))","v":""},null,null,null,null,null,null,null,null,null,null,null,null,null,null,null,"",null,null,null,"",null,null,null,""]
[null,{"$f":"IF(内訳明細書入力画面!B88=\"\",\"\",内訳明細書入力画面!B88)","v":""},null,null,null,null,null,null,null,null,null,null,null,null,{"$f":"IF(AND(内訳明細書入力画面!N88=\"\",内訳明細書入力画面!M88=\"\"),\"\",IF(内訳明細書入力画面!N88=\"\",内訳明細書入力画面!M88,内訳明細書入力画面!N88))","v":""},null,null,null,{"$f":"IF(内訳明細書入力画面!O88=\"\",\"\",内訳明細書入力画面!O88)","v":""},null,null,{"$f":"IF(AND(内訳明細書入力画面!R88=\"\",内訳明細書入力画面!P88=\"\"),\"\",IF(内訳明細書入力画面!R88=\"\",内訳明細書入力画面!P88,内訳明細書入力画面!R88))","v":""},null,null,null,{"$f":"IF(AND(内訳明細書入力画面!V88=\"\",内訳明細書入力画面!T88=\"\"),\"\",IF(内訳明細書入力画面!V88=\"\",内訳明細書入力画面!T88,内訳明細書入力画面!V88))","v":""},null,null,null,null,null,null,null,null,null,null,null,null,null,null,null,"",null,null,null,"",null,null,null,""]
[null,{"$f":"IF(内訳明細書入力画面!B89=\"\",\"\",内訳明細書入力画面!B89)","v":""},null,null,null,null,null,null,null,null,null,null,null,null,{"$f":"IF(AND(内訳明細書入力画面!N89=\"\",内訳明細書入力画面!M89=\"\"),\"\",IF(内訳明細書入力画面!N89=\"\",内訳明細書入力画面!M89,内訳明細書入力画面!N89))","v":""},null,null,null,{"$f":"IF(内訳明細書入力画面!O89=\"\",\"\",内訳明細書入力画面!O89)","v":""},null,null,{"$f":"IF(AND(内訳明細書入力画面!R89=\"\",内訳明細書入力画面!P89=\"\"),\"\",IF(内訳明細書入力画面!R89=\"\",内訳明細書入力画面!P89,内訳明細書入力画面!R89))","v":""},null,null,null,{"$f":"IF(AND(内訳明細書入力画面!V89=\"\",内訳明細書入力画面!T89=\"\"),\"\",IF(内訳明細書入力画面!V89=\"\",内訳明細書入力画面!T89,内訳明細書入力画面!V89))","v":""},null,null,null,null,null,null,null,null,null,null,null,null,null,null,null,"",null,null,null,"",null,null,null,""]
[null,{"$f":"IF(内訳明細書入力画面!B90=\"\",\"\",内訳明細書入力画面!B90)","v":""},null,null,null,null,null,null,null,null,null,null,null,null,{"$f":"IF(AND(内訳明細書入力画面!N90=\"\",内訳明細書入力画面!M90=\"\"),\"\",IF(内訳明細書入力画面!N90=\"\",内訳明細書入力画面!M90,内訳明細書入力画面!N90))","v":""},null,null,null,{"$f":"IF(内訳明細書入力画面!O90=\"\",\"\",内訳明細書入力画面!O90)","v":""},null,null,{"$f":"IF(AND(内訳明細書入力画面!R90=\"\",内訳明細書入力画面!P90=\"\"),\"\",IF(内訳明細書入力画面!R90=\"\",内訳明細書入力画面!P90,内訳明細書入力画面!R90))","v":""},null,null,null,{"$f":"IF(AND(内訳明細書入力画面!V90=\"\",内訳明細書入力画面!T90=\"\"),\"\",IF(内訳明細書入力画面!V90=\"\",内訳明細書入力画面!T90,内訳明細書入力画面!V90))","v":""},null,null,null,null,null,null,null,null,null,null,null,null,null,null,null,"",null,null,null,"",null,null,null,""]
[null,{"$f":"IF(内訳明細書入力画面!B91=\"\",\"\",内訳明細書入力画面!B91)","v":""},null,null,null,null,null,null,null,null,null,null,null,null,{"$f":"IF(AND(内訳明細書入力画面!N91=\"\",内訳明細書入力画面!M91=\"\"),\"\",IF(内訳明細書入力画面!N91=\"\",内訳明細書入力画面!M91,内訳明細書入力画面!N91))","v":""},null,null,null,{"$f":"IF(内訳明細書入力画面!O91=\"\",\"\",内訳明細書入力画面!O91)","v":""},null,null,{"$f":"IF(AND(内訳明細書入力画面!R91=\"\",内訳明細書入力画面!P91=\"\"),\"\",IF(内訳明細書入力画面!R91=\"\",内訳明細書入力画面!P91,内訳明細書入力画面!R91))","v":""},null,null,null,{"$f":"IF(AND(内訳明細書入力画面!V91=\"\",内訳明細書入力画面!T91=\"\"),\"\",IF(内訳明細書入力画面!V91=\"\",内訳明細書入力画面!T91,内訳明細書入力画面!V91))","v":""},null,null,null,null,null,null,null,null,null,null,null,null,null,null,null,"",null,null,null,"",null,null,null,""]
[null,{"$f":"IF(内訳明細書入力画面!B92=\"\",\"\",内訳明細書入力画面!B92)","v":""},null,null,null,null,null,null,null,null,null,null,null,null,{"$f":"IF(AND(内訳明細書入力画面!N92=\"\",内訳明細書入力画面!M92=\"\"),\"\",IF(内訳明細書入力画面!N92=\"\",内訳明細書入力画面!M92,内訳明細書入力画面!N92))","v":""},null,null,null,{"$f":"IF(内訳明細書入力画面!O92=\"\",\"\",内訳明細書入力画面!O92)","v":""},null,null,{"$f":"IF(AND(内訳明細書入力画面!R92=\"\",内訳明細書入力画面!P92=\"\"),\"\",IF(内訳明細書入力画面!R92=\"\",内訳明細書入力画面!P92,内訳明細書入力画面!R92))","v":""},null,null,null,{"$f":"IF(AND(内訳明細書入力画面!V92=\"\",内訳明細書入力画面!T92=\"\"),\"\",IF(内訳明細書入力画面!V92=\"\",内訳明細書入力画面!T92,内訳明細書入力画面!V92))","v":""},null,null,null,null,null,null,null,null,null,null,null,null,null,null,null,"",null,null,null,"",null,null,null,""]
[null,{"$f":"IF(内訳明細書入力画面!B93=\"\",\"\",内訳明細書入力画面!B93)","v":""},null,null,null,null,null,null,null,null,null,null,null,null,{"$f":"IF(AND(内訳明細書入力画面!N93=\"\",内訳明細書入力画面!M93=\"\"),\"\",IF(内訳明細書入力画面!N93=\"\",内訳明細書入力画面!M93,内訳明細書入力画面!N93))","v":""},null,null,null,{"$f":"IF(内訳明細書入力画面!O93=\"\",\"\",内訳明細書入力画面!O93)","v":""},null,null,{"$f":"IF(AND(内訳明細書入力画面!R93=\"\",内訳明細書入力画面!P93=\"\"),\"\",IF(内訳明細書入力画面!R93=\"\",内訳明細書入力画面!P93,内訳明細書入力画面!R93))","v":""},null,null,null,{"$f":"IF(AND(内訳明細書入力画面!V93=\"\",内訳明細書入力画面!T93=\"\"),\"\",IF(内訳明細書入力画面!V93=\"\",内訳明細書入力画面!T93,内訳明細書入力画面!V93))","v":""},null,null,null,null,null,null,null,null,null,null,null,null,null,null,null,"",null,null,null,"",null,null,null,""]
[null,{"$f":"IF(内訳明細書入力画面!B94=\"\",\"\",内訳明細書入力画面!B94)","v":""},null,null,null,null,null,null,null,null,null,null,null,null,{"$f":"IF(AND(内訳明細書入力画面!N94=\"\",内訳明細書入力画面!M94=\"\"),\"\",IF(内訳明細書入力画面!N94=\"\",内訳明細書入力画面!M94,内訳明細書入力画面!N94))","v":""},null,null,null,{"$f":"IF(内訳明細書入力画面!O94=\"\",\"\",内訳明細書入力画面!O94)","v":""},null,null,{"$f":"IF(AND(内訳明細書入力画面!R94=\"\",内訳明細書入力画面!P94=\"\"),\"\",IF(内訳明細書入力画面!R94=\"\",内訳明細書入力画面!P94,内訳明細書入力画面!R94))","v":""},null,null,null,{"$f":"IF(AND(内訳明細書入力画面!V94=\"\",内訳明細書入力画面!T94=\"\"),\"\",IF(内訳明細書入力画面!V94=\"\",内訳明細書入力画面!T94,内訳明細書入力画面!V94))","v":""},null,null,null,null,null,null,null,null,null,null,null,null,null,null,null,"",null,null,null,"",null,null,null,""]
[null,{"$f":"IF(内訳明細書入力画面!B95=\"\",\"\",内訳明細書入力画面!B95)","v":""},null,null,null,null,null,null,null,null,null,null,null,null,{"$f":"IF(AND(内訳明細書入力画面!N95=\"\",内訳明細書入力画面!M95=\"\"),\"\",IF(内訳明細書入力画面!N95=\"\",内訳明細書入力画面!M95,内訳明細書入力画面!N95))","v":""},null,null,null,{"$f":"IF(内訳明細書入力画面!O95=\"\",\"\",内訳明細書入力画面!O95)","v":""},null,null,{"$f":"IF(AND(内訳明細書入力画面!R95=\"\",内訳明細書入力画面!P95=\"\"),\"\",IF(内訳明細書入力画面!R95=\"\",内訳明細書入力画面!P95,内訳明細書入力画面!R95))","v":""},null,null,null,{"$f":"IF(AND(内訳明細書入力画面!V95=\"\",内訳明細書入力画面!T95=\"\"),\"\",IF(内訳明細書入力画面!V95=\"\",内訳明細書入力画面!T95,内訳明細書入力画面!V95))","v":""},null,null,null,null,null,null,null,null,null,null,null,null,null,null,null,"",null,null,null,{"$f":"IF(AND(AD95=\"\",AL95=\"\"),\"\",N(AD95)+N(AL95))","v":""},null,null,null,{"$f":"IF(AND(AH95=\"\",AP95=\"\"),\"\",N(AH95)+N(AP95))","v":""}]
[null,{"$f":"IF(内訳明細書入力画面!B96=\"\",\"\",内訳明細書入力画面!B96)","v":""},null,null,null,null,null,null,null,null,null,null,null,null,{"$f":"IF(AND(内訳明細書入力画面!N96=\"\",内訳明細書入力画面!M96=\"\"),\"\",IF(内訳明細書入力画面!N96=\"\",内訳明細書入力画面!M96,内訳明細書入力画面!N96))","v":""},null,null,null,{"$f":"IF(内訳明細書入力画面!O96=\"\",\"\",内訳明細書入力画面!O96)","v":""},null,null,{"$f":"IF(AND(内訳明細書入力画面!R96=\"\",内訳明細書入力画面!P96=\"\"),\"\",IF(内訳明細書入力画面!R96=\"\",内訳明細書入力画面!P96,内訳明細書入力画面!R96))","v":""},null,null,null,{"$f":"IF(AND(内訳明細書入力画面!V96=\"\",内訳明細書入力画面!T96=\"\"),\"\",IF(内訳明細書入力画面!V96=\"\",内訳明細書入力画面!T96,内訳明細書入力画面!V96))","v":""},null,null,null,null,null,null,null,null,null,null,null,null,null,null,null,"",null,null,null,"",null,null,null,""]
[null,{"$f":"IF(内訳明細書入力画面!B97=\"\",\"\",内訳明細書入力画面!B97)","v":""},null,null,null,null,null,null,null,null,null,null,null,null,{"$f":"IF(AND(内訳明細書入力画面!N97=\"\",内訳明細書入力画面!M97=\"\"),\"\",IF(内訳明細書入力画面!N97=\"\",内訳明細書入力画面!M97,内訳明細書入力画面!N97))","v":""},null,null,null,{"$f":"IF(内訳明細書入力画面!O97=\"\",\"\",内訳明細書入力画面!O97)","v":""},null,null,{"$f":"IF(AND(内訳明細書入力画面!R97=\"\",内訳明細書入力画面!P97=\"\"),\"\",IF(内訳明細書入力画面!R97=\"\",内訳明細書入力画面!P97,内訳明細書入力画面!R97))","v":""},null,null,null,{"$f":"IF(AND(内訳明細書入力画面!V97=\"\",内訳明細書入力画面!T97=\"\"),\"\",IF(内訳明細書入力画面!V97=\"\",内訳明細書入力画面!T97,内訳明細書入力画面!V97))","v":""},null,null,null,null,null,null,null,null,null,null,null,null,null,null,null,"",null,null,null,"",null,null,null,""]
[null,{"$f":"IF(内訳明細書入力画面!B98=\"\",\"\",内訳明細書入力画面!B98)","v":""},null,null,null,null,null,null,null,null,null,null,null,null,{"$f":"IF(AND(内訳明細書入力画面!N98=\"\",内訳明細書入力画面!M98=\"\"),\"\",IF(内訳明細書入力画面!N98=\"\",内訳明細書入力画面!M98,内訳明細書入力画面!N98))","v":""},null,null,null,{"$f":"IF(内訳明細書入力画面!O98=\"\",\"\",内訳明細書入力画面!O98)","v":""},null,null,{"$f":"IF(AND(内訳明細書入力画面!R98=\"\",内訳明細書入力画面!P98=\"\"),\"\",IF(内訳明細書入力画面!R98=\"\",内訳明細書入力画面!P98,内訳明細書入力画面!R98))","v":""},null,null,null,{"$f":"IF(AND(内訳明細書入力画面!V98=\"\",内訳明細書入力画面!T98=\"\"),\"\",IF(内訳明細書入力画面!V98=\"\",内訳明細書入力画面!T98,内訳明細書入力画面!V98))","v":""},null,null,null,null,null,null,null,null,null,null,null,null,null,null,null,"",null,null,null,"",null,null,null,""]
[null,{"$f":"IF(内訳明細書入力画面!B99=\"\",\"\",内訳明細書入力画面!B99)","v":""},null,null,null,null,null,null,null,null,null,null,null,null,{"$f":"IF(AND(内訳明細書入力画面!N99=\"\",内訳明細書入力画面!M99=\"\"),\"\",IF(内訳明細書入力画面!N99=\"\",内訳明細書入力画面!M99,内訳明細書入力画面!N99))","v":""},null,null,null,{"$f":"IF(内訳明細書入力画面!O99=\"\",\"\",内訳明細書入力画面!O99)","v":""},null,null,{"$f":"IF(AND(内訳明細書入力画面!R99=\"\",内訳明細書入力画面!P99=\"\"),\"\",IF(内訳明細書入力画面!R99=\"\",内訳明細書入力画面!P99,内訳明細書入力画面!R99))","v":""},null,null,null,{"$f":"IF(AND(内訳明細書入力画面!V99=\"\",内訳明細書入力画面!T99=\"\"),\"\",IF(内訳明細書入力画面!V99=\"\",内訳明細書入力画面!T99,内訳明細書入力画面!V99))","v":""},null,null,null,null,null,null,null,null,null,null,null,null,null,null,null,"",null,null,null,"",null,null,null,""]
[null,{"$f":"IF(内訳明細書入力画面!B100=\"\",\"\",内訳明細書入力画面!B100)","v":""},null,null,null,null,null,null,null,null,null,null,null,null,{"$f":"IF(AND(内訳明細書入力画面!N100=\"\",内訳明細書入力画面!M100=\"\"),\"\",IF(内訳明細書入力画面!N100=\"\",内訳明細書入力画面!M100,内訳明細書入力画面!N100))","v":""},null,null,null,{"$f":"IF(内訳明細書入力画面!O100=\"\",\"\",内訳明細書入力画面!O100)","v":""},null,null,{"$f":"IF(AND(内訳明細書入力画面!R100=\"\",内訳明細書入力画面!P100=\"\"),\"\",IF(内訳明細書入力画面!R100=\"\",内訳明細書入力画面!P100,内訳明細書入力画面!R100))","v":""},null,null,null,{"$f":"IF(AND(内訳明細書入力画面!V100=\"\",内訳明細書入力画面!T100=\"\"),\"\",IF(内訳明細書入力画面!V100=\"\",内訳明細書入力画面!T100,内訳明細書入力画面!V100))","v":""},null,null,null,null,null,null,null,null,null,null,null,null,null,null,null,"",null,null,null,"",null,null,null,""]
[{"$f":"((ROW()-11)+15)/15","v":7},{"$f":"IF(内訳明細書入力画面!B101=\"\",\"\",内訳明細書入力画面!B101)","v":""},null,null,null,null,null,null,null,null,null,null,null,null,{"$f":"IF(AND(内訳明細書入力画面!N101=\"\",内訳明細書入力画面!M101=\"\"),\"\",IF(内訳明細書入力画面!N101=\"\",内訳明細書入力画面!M101,内訳明細書入力画面!N101))","v":""},null,null,null,{"$f":"IF(内訳明細書入力画面!O101=\"\",\"\",内訳明細書入力画面!O101)","v":""},null,null,{"$f":"IF(AND(内訳明細書入力画面!R101=\"\",内訳明細書入力画面!P101=\"\"),\"\",IF(内訳明細書入力画面!R101=\"\",内訳明細書入力画面!P101,内訳明細書入力画面!R101))","v":""},null,null,null,{"$f":"IF(AND(内訳明細書入力画面!V101=\"\",内訳明細書入力画面!T101=\"\"),\"\",IF(内訳明細書入力画面!V101=\"\",内訳明細書入力画面!T101,内訳明細書入力画面!V101))","v":""},null,null,null,null,null,null,null,null,null,null,null,null,null,null,null,"",null,null,null,"",null,null,null,""]
[null,{"$f":"IF(内訳明細書入力画面!B102=\"\",\"\",内訳明細書入力画面!B102)","v":""},null,null,null,null,null,null,null,null,null,null,null,null,{"$f":"IF(AND(内訳明細書入力画面!N102=\"\",内訳明細書入力画面!M102=\"\"),\"\",IF(内訳明細書入力画面!N102=\"\",内訳明細書入力画面!M102,内訳明細書入力画面!N102))","v":""},null,null,null,{"$f":"IF(内訳明細書入力画面!O102=\"\",\"\",内訳明細書入力画面!O102)","v":""},null,null,{"$f":"IF(AND(内訳明細書入力画面!R102=\"\",内訳明細書入力画面!P102=\"\"),\"\",IF(内訳明細書入力画面!R102=\"\",内訳明細書入力画面!P102,内訳明細書入力画面!R102))","v":""},null,null,null,{"$f":"IF(AND(内訳明細書入力画面!V102=\"\",内訳明細書入力画面!T102=\"\"),\"\",IF(内訳明細書入力画面!V102=\"\",内訳明細書入力画面!T102,内訳明細書入力画面!V102))","v":""},null,null,null,null,null,null,null,null,null,null,null,null,null,null,null,"",null,null,null,"",null,null,null,""]
[null,{"$f":"IF(内訳明細書入力画面!B103=\"\",\"\",内訳明細書入力画面!B103)","v":""},null,null,null,null,null,null,null,null,null,null,null,null,{"$f":"IF(AND(内訳明細書入力画面!N103=\"\",内訳明細書入力画面!M103=\"\"),\"\",IF(内訳明細書入力画面!N103=\"\",内訳明細書入力画面!M103,内訳明細書入力画面!N103))","v":""},null,null,null,{"$f":"IF(内訳明細書入力画面!O103=\"\",\"\",内訳明細書入力画面!O103)","v":""},null,null,{"$f":"IF(AND(内訳明細書入力画面!R103=\"\",内訳明細書入力画面!P103=\"\"),\"\",IF(内訳明細書入力画面!R103=\"\",内訳明細書入力画面!P103,内訳明細書入力画面!R103))","v":""},null,null,null,{"$f":"IF(AND(内訳明細書入力画面!V103=\"\",内訳明細書入力画面!T103=\"\"),\"\",IF(内訳明細書入力画面!V103=\"\",内訳明細書入力画面!T103,内訳明細書入力画面!V103))","v":""},null,null,null,null,null,null,null,null,null,null,null,null,null,null,null,"",null,null,null,"",null,null,null,""]
[null,{"$f":"IF(内訳明細書入力画面!B104=\"\",\"\",内訳明細書入力画面!B104)","v":""},null,null,null,null,null,null,null,null,null,null,null,null,{"$f":"IF(AND(内訳明細書入力画面!N104=\"\",内訳明細書入力画面!M104=\"\"),\"\",IF(内訳明細書入力画面!N104=\"\",内訳明細書入力画面!M104,内訳明細書入力画面!N104))","v":""},null,null,null,{"$f":"IF(内訳明細書入力画面!O104=\"\",\"\",内訳明細書入力画面!O104)","v":""},null,null,{"$f":"IF(AND(内訳明細書入力画面!R104=\"\",内訳明細書入力画面!P104=\"\"),\"\",IF(内訳明細書入力画面!R104=\"\",内訳明細書入力画面!P104,内訳明細書入力画面!R104))","v":""},null,null,null,{"$f":"IF(AND(内訳明細書入力画面!V104=\"\",内訳明細書入力画面!T104=\"\"),\"\",IF(内訳明細書入力画面!V104=\"\",内訳明細書入力画面!T104,内訳明細書入力画面!V104))","v":""},null,null,null,null,null,null,null,null,null,null,null,null,null,null,null,"",null,null,null,"",null,null,null,""]
[null,{"$f":"IF(内訳明細書入力画面!B105=\"\",\"\",内訳明細書入力画面!B105)","v":""},null,null,null,null,null,null,null,null,null,null,null,null,{"$f":"IF(AND(内訳明細書入力画面!N105=\"\",内訳明細書入力画面!M105=\"\"),\"\",IF(内訳明細書入力画面!N105=\"\",内訳明細書入力画面!M105,内訳明細書入力画面!N105))","v":""},null,null,null,{"$f":"IF(内訳明細書入力画面!O105=\"\",\"\",内訳明細書入力画面!O105)","v":""},null,null,{"$f":"IF(AND(内訳明細書入力画面!R105=\"\",内訳明細書入力画面!P105=\"\"),\"\",IF(内訳明細書入力画面!R105=\"\",内訳明細書入力画面!P105,内訳明細書入力画面!R105))","v":""},null,null,null,{"$f":"IF(AND(内訳明細書入力画面!V105=\"\",内訳明細書入力画面!T105=\"\"),\"\",IF(内訳明細書入力画面!V105=\"\",内訳明細書入力画面!T105,内訳明細書入力画面!V105))","v":""},null,null,null,null,null,null,null,null,null,null,null,null,null,null,null,"",null,null,null,"",null,null,null,""]
[null,{"$f":"IF(内訳明細書入力画面!B106=\"\",\"\",内訳明細書入力画面!B106)","v":""},null,null,null,null,null,null,null,null,null,null,null,null,{"$f":"IF(AND(内訳明細書入力画面!N106=\"\",内訳明細書入力画面!M106=\"\"),\"\",IF(内訳明細書入力画面!N106=\"\",内訳明細書入力画面!M106,内訳明細書入力画面!N106))","v":""},null,null,null,{"$f":"IF(内訳明細書入力画面!O106=\"\",\"\",内訳明細書入力画面!O106)","v":""},null,null,{"$f":"IF(AND(内訳明細書入力画面!R106=\"\",内訳明細書入力画面!P106=\"\"),\"\",IF(内訳明細書入力画面!R106=\"\",内訳明細書入力画面!P106,内訳明細書入力画面!R106))","v":""},null,null,null,{"$f":"IF(AND(内訳明細書入力画面!V106=\"\",内訳明細書入力画面!T106=\"\"),\"\",IF(内訳明細書入力画面!V106=\"\",内訳明細書入力画面!T106,内訳明細書入力画面!V106))","v":""},null,null,null,null,null,null,null,null,null,null,null,null,null,null,null,"",null,null,null,"",null,null,null,""]
[null,{"$f":"IF(内訳明細書入力画面!B107=\"\",\"\",内訳明細書入力画面!B107)","v":""},null,null,null,null,null,null,null,null,null,null,null,null,{"$f":"IF(AND(内訳明細書入力画面!N107=\"\",内訳明細書入力画面!M107=\"\"),\"\",IF(内訳明細書入力画面!N107=\"\",内訳明細書入力画面!M107,内訳明細書入力画面!N107))","v":""},null,null,null,{"$f":"IF(内訳明細書入力画面!O107=\"\",\"\",内訳明細書入力画面!O107)","v":""},null,null,{"$f":"IF(AND(内訳明細書入力画面!R107=\"\",内訳明細書入力画面!P107=\"\"),\"\",IF(内訳明細書入力画面!R107=\"\",内訳明細書入力画面!P107,内訳明細書入力画面!R107))","v":""},null,null,null,{"$f":"IF(AND(内訳明細書入力画面!V107=\"\",内訳明細書入力画面!T107=\"\"),\"\",IF(内訳明細書入力画面!V107=\"\",内訳明細書入力画面!T107,内訳明細書入力画面!V107))","v":""},null,null,null,null,null,null,null,null,null,null,null,null,null,null,null,"",null,null,null,"",null,null,null,""]
[null,{"$f":"IF(内訳明細書入力画面!B108=\"\",\"\",内訳明細書入力画面!B108)","v":""},null,null,null,null,null,null,null,null,null,null,null,null,{"$f":"IF(AND(内訳明細書入力画面!N108=\"\",内訳明細書入力画面!M108=\"\"),\"\",IF(内訳明細書入力画面!N108=\"\",内訳明細書入力画面!M108,内訳明細書入力画面!N108))","v":""},null,null,null,{"$f":"IF(内訳明細書入力画面!O108=\"\",\"\",内訳明細書入力画面!O108)","v":""},null,null,{"$f":"IF(AND(内訳明細書入力画面!R108=\"\",内訳明細書入力画面!P108=\"\"),\"\",IF(内訳明細書入力画面!R108=\"\",内訳明細書入力画面!P108,内訳明細書入力画面!R108))","v":""},null,null,null,{"$f":"IF(AND(内訳明細書入力画面!V108=\"\",内訳明細書入力画面!T108=\"\"),\"\",IF(内訳明細書入力画面!V108=\"\",内訳明細書入力画面!T108,内訳明細書入力画面!V108))","v":""},null,null,null,null,null,null,null,null,null,null,null,null,null,null,null,"",null,null,null,"",null,null,null,""]
[null,{"$f":"IF(内訳明細書入力画面!B109=\"\",\"\",内訳明細書入力画面!B109)","v":""},null,null,null,null,null,null,null,null,null,null,null,null,{"$f":"IF(AND(内訳明細書入力画面!N109=\"\",内訳明細書入力画面!M109=\"\"),\"\",IF(内訳明細書入力画面!N109=\"\",内訳明細書入力画面!M109,内訳明細書入力画面!N109))","v":""},null,null,null,{"$f":"IF(内訳明細書入力画面!O109=\"\",\"\",内訳明細書入力画面!O109)","v":""},null,null,{"$f":"IF(AND(内訳明細書入力画面!R109=\"\",内訳明細書入力画面!P109=\"\"),\"\",IF(内訳明細書入力画面!R109=\"\",内訳明細書入力画面!P109,内訳明細書入力画面!R109))","v":""},null,null,null,{"$f":"IF(AND(内訳明細書入力画面!V109=\"\",内訳明細書入力画面!T109=\"\"),\"\",IF(内訳明細書入力画面!V109=\"\",内訳明細書入力画面!T109,内訳明細書入力画面!V109))","v":""},null,null,null,null,null,null,null,null,null,null,null,null,null,null,null,"",null,null,null,"",null,null,null,""]
[null,{"$f":"IF(内訳明細書入力画面!B110=\"\",\"\",内訳明細書入力画面!B110)","v":""},null,null,null,null,null,null,null,null,null,null,null,null,{"$f":"IF(AND(内訳明細書入力画面!N110=\"\",内訳明細書入力画面!M110=\"\"),\"\",IF(内訳明細書入力画面!N110=\"\",内訳明細書入力画面!M110,内訳明細書入力画面!N110))","v":""},null,null,null,{"$f":"IF(内訳明細書入力画面!O110=\"\",\"\",内訳明細書入力画面!O110)","v":""},null,null,{"$f":"IF(AND(内訳明細書入力画面!R110=\"\",内訳明細書入力画面!P110=\"\"),\"\",IF(内訳明細書入力画面!R110=\"\",内訳明細書入力画面!P110,内訳明細書入力画面!R110))","v":""},null,null,null,{"$f":"IF(AND(内訳明細書入力画面!V110=\"\",内訳明細書入力画面!T110=\"\"),\"\",IF(内訳明細書入力画面!V110=\"\",内訳明細書入力画面!T110,内訳明細書入力画面!V110))","v":""},null,null,null,null,null,null,null,null,null,null,null,null,null,null,null,"",null,null,null,"",null,null,null,""]
[null,{"$f":"IF(内訳明細書入力画面!B111=\"\",\"\",内訳明細書入力画面!B111)","v":""},null,null,null,null,null,null,null,null,null,null,null,null,{"$f":"IF(AND(内訳明細書入力画面!N111=\"\",内訳明細書入力画面!M111=\"\"),\"\",IF(内訳明細書入力画面!N111=\"\",内訳明細書入力画面!M111,内訳明細書入力画面!N111))","v":""},null,null,null,{"$f":"IF(内訳明細書入力画面!O111=\"\",\"\",内訳明細書入力画面!O111)","v":""},null,null,{"$f":"IF(AND(内訳明細書入力画面!R111=\"\",内訳明細書入力画面!P111=\"\"),\"\",IF(内訳明細書入力画面!R111=\"\",内訳明細書入力画面!P111,内訳明細書入力画面!R111))","v":""},null,null,null,{"$f":"IF(AND(内訳明細書入力画面!V111=\"\",内訳明細書入力画面!T111=\"\"),\"\",IF(内訳明細書入力画面!V111=\"\",内訳明細書入力画面!T111,内訳明細書入力画面!V111))","v":""},null,null,null,null,null,null,null,null,null,null,null,null,null,null,null,"",null,null,null,"",null,null,null,""]
[null,{"$f":"IF(内訳明細書入力画面!B112=\"\",\"\",内訳明細書入力画面!B112)","v":""},null,null,null,null,null,null,null,null,null,null,null,null,{"$f":"IF(AND(内訳明細書入力画面!N112=\"\",内訳明細書入力画面!M112=\"\"),\"\",IF(内訳明細書入力画面!N112=\"\",内訳明細書入力画面!M112,内訳明細書入力画面!N112))","v":""},null,null,null,{"$f":"IF(内訳明細書入力画面!O112=\"\",\"\",内訳明細書入力画面!O112)","v":""},null,null,{"$f":"IF(AND(内訳明細書入力画面!R112=\"\",内訳明細書入力画面!P112=\"\"),\"\",IF(内訳明細書入力画面!R112=\"\",内訳明細書入力画面!P112,内訳明細書入力画面!R112))","v":""},null,null,null,{"$f":"IF(AND(内訳明細書入力画面!V112=\"\",内訳明細書入力画面!T112=\"\"),\"\",IF(内訳明細書入力画面!V112=\"\",内訳明細書入力画面!T112,内訳明細書入力画面!V112))","v":""},null,null,null,null,null,null,null,null,null,null,null,null,null,null,null,"",null,null,null,"",null,null,null,""]
[null,{"$f":"IF(内訳明細書入力画面!B113=\"\",\"\",内訳明細書入力画面!B113)","v":""},null,null,null,null,null,null,null,null,null,null,null,null,{"$f":"IF(AND(内訳明細書入力画面!N113=\"\",内訳明細書入力画面!M113=\"\"),\"\",IF(内訳明細書入力画面!N113=\"\",内訳明細書入力画面!M113,内訳明細書入力画面!N113))","v":""},null,null,null,{"$f":"IF(内訳明細書入力画面!O113=\"\",\"\",内訳明細書入力画面!O113)","v":""},null,null,{"$f":"IF(AND(内訳明細書入力画面!R113=\"\",内訳明細書入力画面!P113=\"\"),\"\",IF(内訳明細書入力画面!R113=\"\",内訳明細書入力画面!P113,内訳明細書入力画面!R113))","v":""},null,null,null,{"$f":"IF(AND(内訳明細書入力画面!V113=\"\",内訳明細書入力画面!T113=\"\"),\"\",IF(内訳明細書入力画面!V113=\"\",内訳明細書入力画面!T113,内訳明細書入力画面!V113))","v":""},null,null,null,null,null,null,null,null,null,null,null,null,null,null,null,"",null,null,null,"",null,null,null,""]
[null,{"$f":"IF(内訳明細書入力画面!B114=\"\",\"\",内訳明細書入力画面!B114)","v":""},null,null,null,null,null,null,null,null,null,null,null,null,{"$f":"IF(AND(内訳明細書入力画面!N114=\"\",内訳明細書入力画面!M114=\"\"),\"\",IF(内訳明細書入力画面!N114=\"\",内訳明細書入力画面!M114,内訳明細書入力画面!N114))","v":""},null,null,null,{"$f":"IF(内訳明細書入力画面!O114=\"\",\"\",内訳明細書入力画面!O114)","v":""},null,null,{"$f":"IF(AND(内訳明細書入力画面!R114=\"\",内訳明細書入力画面!P114=\"\"),\"\",IF(内訳明細書入力画面!R114=\"\",内訳明細書入力画面!P114,内訳明細書入力画面!R114))","v":""},null,null,null,{"$f":"IF(AND(内訳明細書入力画面!V114=\"\",内訳明細書入力画面!T114=\"\"),\"\",IF(内訳明細書入力画面!V114=\"\",内訳明細書入力画面!T114,内訳明細書入力画面!V114))","v":""},null,null,null,null,null,null,null,null,null,null,null,null,null,null,null,"",null,null,null,"",null,null,null,""]
[null,{"$f":"IF(内訳明細書入力画面!B115=\"\",\"\",内訳明細書入力画面!B115)","v":""},null,null,null,null,null,null,null,null,null,null,null,null,{"$f":"IF(AND(内訳明細書入力画面!N115=\"\",内訳明細書入力画面!M115=\"\"),\"\",IF(内訳明細書入力画面!N115=\"\",内訳明細書入力画面!M115,内訳明細書入力画面!N115))","v":""},null,null,null,{"$f":"IF(内訳明細書入力画面!O115=\"\",\"\",内訳明細書入力画面!O115)","v":""},null,null,{"$f":"IF(AND(内訳明細書入力画面!R115=\"\",内訳明細書入力画面!P115=\"\"),\"\",IF(内訳明細書入力画面!R115=\"\",内訳明細書入力画面!P115,内訳明細書入力画面!R115))","v":""},null,null,null,{"$f":"IF(AND(内訳明細書入力画面!V115=\"\",内訳明細書入力画面!T115=\"\"),\"\",IF(内訳明細書入力画面!V115=\"\",内訳明細書入力画面!T115,内訳明細書入力画面!V115))","v":""},null,null,null,null,null,null,null,null,null,null,null,null,null,null,null,"",null,null,null,"",null,null,null,""]
[{"$f":"((ROW()-11)+15)/15","v":8},{"$f":"IF(内訳明細書入力画面!B116=\"\",\"\",内訳明細書入力画面!B116)","v":""},null,null,null,null,null,null,null,null,null,null,null,null,{"$f":"IF(AND(内訳明細書入力画面!N116=\"\",内訳明細書入力画面!M116=\"\"),\"\",IF(内訳明細書入力画面!N116=\"\",内訳明細書入力画面!M116,内訳明細書入力画面!N116))","v":""},null,null,null,{"$f":"IF(内訳明細書入力画面!O116=\"\",\"\",内訳明細書入力画面!O116)","v":""},null,null,{"$f":"IF(AND(内訳明細書入力画面!R116=\"\",内訳明細書入力画面!P116=\"\"),\"\",IF(内訳明細書入力画面!R116=\"\",内訳明細書入力画面!P116,内訳明細書入力画面!R116))","v":""},null,null,null,{"$f":"IF(AND(内訳明細書入力画面!V116=\"\",内訳明細書入力画面!T116=\"\"),\"\",IF(内訳明細書入力画面!V116=\"\",内訳明細書入力画面!T116,内訳明細書入力画面!V116))","v":""},null,null,null,null,null,null,null,null,null,null,null,null,null,null,null,"",null,null,null,"",null,null,null,""]
[null,{"$f":"IF(内訳明細書入力画面!B117=\"\",\"\",内訳明細書入力画面!B117)","v":""},null,null,null,null,null,null,null,null,null,null,null,null,{"$f":"IF(AND(内訳明細書入力画面!N117=\"\",内訳明細書入力画面!M117=\"\"),\"\",IF(内訳明細書入力画面!N117=\"\",内訳明細書入力画面!M117,内訳明細書入力画面!N117))","v":""},null,null,null,{"$f":"IF(内訳明細書入力画面!O117=\"\",\"\",内訳明細書入力画面!O117)","v":""},null,null,{"$f":"IF(AND(内訳明細書入力画面!R117=\"\",内訳明細書入力画面!P117=\"\"),\"\",IF(内訳明細書入力画面!R117=\"\",内訳明細書入力画面!P117,内訳明細書入力画面!R117))","v":""},null,null,null,{"$f":"IF(AND(内訳明細書入力画面!V117=\"\",内訳明細書入力画面!T117=\"\"),\"\",IF(内訳明細書入力画面!V117=\"\",内訳明細書入力画面!T117,内訳明細書入力画面!V117))","v":""},null,null,null,null,null,null,null,null,null,null,null,null,null,null,null,"",null,null,null,"",null,null,null,""]
[null,{"$f":"IF(内訳明細書入力画面!B118=\"\",\"\",内訳明細書入力画面!B118)","v":""},null,null,null,null,null,null,null,null,null,null,null,null,{"$f":"IF(AND(内訳明細書入力画面!N118=\"\",内訳明細書入力画面!M118=\"\"),\"\",IF(内訳明細書入力画面!N118=\"\",内訳明細書入力画面!M118,内訳明細書入力画面!N118))","v":""},null,null,null,{"$f":"IF(内訳明細書入力画面!O118=\"\",\"\",内訳明細書入力画面!O118)","v":""},null,null,{"$f":"IF(AND(内訳明細書入力画面!R118=\"\",内訳明細書入力画面!P118=\"\"),\"\",IF(内訳明細書入力画面!R118=\"\",内訳明細書入力画面!P118,内訳明細書入力画面!R118))","v":""},null,null,null,{"$f":"IF(AND(内訳明細書入力画面!V118=\"\",内訳明細書入力画面!T118=\"\"),\"\",IF(内訳明細書入力画面!V118=\"\",内訳明細書入力画面!T118,内訳明細書入力画面!V118))","v":""},null,null,null,null,null,null,null,null,null,null,null,null,null,null,null,"",null,null,null,"",null,null,null,""]
[null,{"$f":"IF(内訳明細書入力画面!B119=\"\",\"\",内訳明細書入力画面!B119)","v":""},null,null,null,null,null,null,null,null,null,null,null,null,{"$f":"IF(AND(内訳明細書入力画面!N119=\"\",内訳明細書入力画面!M119=\"\"),\"\",IF(内訳明細書入力画面!N119=\"\",内訳明細書入力画面!M119,内訳明細書入力画面!N119))","v":""},null,null,null,{"$f":"IF(内訳明細書入力画面!O119=\"\",\"\",内訳明細書入力画面!O119)","v":""},null,null,{"$f":"IF(AND(内訳明細書入力画面!R119=\"\",内訳明細書入力画面!P119=\"\"),\"\",IF(内訳明細書入力画面!R119=\"\",内訳明細書入力画面!P119,内訳明細書入力画面!R119))","v":""},null,null,null,{"$f":"IF(AND(内訳明細書入力画面!V119=\"\",内訳明細書入力画面!T119=\"\"),\"\",IF(内訳明細書入力画面!V119=\"\",内訳明細書入力画面!T119,内訳明細書入力画面!V119))","v":""},null,null,null,null,null,null,null,null,null,null,null,null,null,null,null,"",null,null,null,"",null,null,null,""]
[null,{"$f":"IF(内訳明細書入力画面!B120=\"\",\"\",内訳明細書入力画面!B120)","v":""},null,null,null,null,null,null,null,null,null,null,null,null,{"$f":"IF(AND(内訳明細書入力画面!N120=\"\",内訳明細書入力画面!M120=\"\"),\"\",IF(内訳明細書入力画面!N120=\"\",内訳明細書入力画面!M120,内訳明細書入力画面!N120))","v":""},null,null,null,{"$f":"IF(内訳明細書入力画面!O120=\"\",\"\",内訳明細書入力画面!O120)","v":""},null,null,{"$f":"IF(AND(内訳明細書入力画面!R120=\"\",内訳明細書入力画面!P120=\"\"),\"\",IF(内訳明細書入力画面!R120=\"\",内訳明細書入力画面!P120,内訳明細書入力画面!R120))","v":""},null,null,null,{"$f":"IF(AND(内訳明細書入力画面!V120=\"\",内訳明細書入力画面!T120=\"\"),\"\",IF(内訳明細書入力画面!V120=\"\",内訳明細書入力画面!T120,内訳明細書入力画面!V120))","v":""},null,null,null,null,null,null,null,null,null,null,null,null,null,null,null,"",null,null,null,"",null,null,null,""]
[null,{"$f":"IF(内訳明細書入力画面!B121=\"\",\"\",内訳明細書入力画面!B121)","v":""},null,null,null,null,null,null,null,null,null,null,null,null,{"$f":"IF(AND(内訳明細書入力画面!N121=\"\",内訳明細書入力画面!M121=\"\"),\"\",IF(内訳明細書入力画面!N121=\"\",内訳明細書入力画面!M121,内訳明細書入力画面!N121))","v":""},null,null,null,{"$f":"IF(内訳明細書入力画面!O121=\"\",\"\",内訳明細書入力画面!O121)","v":""},null,null,{"$f":"IF(AND(内訳明細書入力画面!R121=\"\",内訳明細書入力画面!P121=\"\"),\"\",IF(内訳明細書入力画面!R121=\"\",内訳明細書入力画面!P121,内訳明細書入力画面!R121))","v":""},null,null,null,{"$f":"IF(AND(内訳明細書入力画面!V121=\"\",内訳明細書入力画面!T121=\"\"),\"\",IF(内訳明細書入力画面!V121=\"\",内訳明細書入力画面!T121,内訳明細書入力画面!V121))","v":""},null,null,null,null,null,null,null,null,null,null,null,null,null,null,null,"",null,null,null,"",null,null,null,""]
[null,{"$f":"IF(内訳明細書入力画面!B122=\"\",\"\",内訳明細書入力画面!B122)","v":""},null,null,null,null,null,null,null,null,null,null,null,null,{"$f":"IF(AND(内訳明細書入力画面!N122=\"\",内訳明細書入力画面!M122=\"\"),\"\",IF(内訳明細書入力画面!N122=\"\",内訳明細書入力画面!M122,内訳明細書入力画面!N122))","v":""},null,null,null,{"$f":"IF(内訳明細書入力画面!O122=\"\",\"\",内訳明細書入力画面!O122)","v":""},null,null,{"$f":"IF(AND(内訳明細書入力画面!R122=\"\",内訳明細書入力画面!P122=\"\"),\"\",IF(内訳明細書入力画面!R122=\"\",内訳明細書入力画面!P122,内訳明細書入力画面!R122))","v":""},null,null,null,{"$f":"IF(AND(内訳明細書入力画面!V122=\"\",内訳明細書入力画面!T122=\"\"),\"\",IF(内訳明細書入力画面!V122=\"\",内訳明細書入力画面!T122,内訳明細書入力画面!V122))","v":""},null,null,null,null,null,null,null,null,null,null,null,null,null,null,null,"",null,null,null,"",null,null,null,""]
[null,{"$f":"IF(内訳明細書入力画面!B123=\"\",\"\",内訳明細書入力画面!B123)","v":""},null,null,null,null,null,null,null,null,null,null,null,null,{"$f":"IF(AND(内訳明細書入力画面!N123=\"\",内訳明細書入力画面!M123=\"\"),\"\",IF(内訳明細書入力画面!N123=\"\",内訳明細書入力画面!M123,内訳明細書入力画面!N123))","v":""},null,null,null,{"$f":"IF(内訳明細書入力画面!O123=\"\",\"\",内訳明細書入力画面!O123)","v":""},null,null,{"$f":"IF(AND(内訳明細書入力画面!R123=\"\",内訳明細書入力画面!P123=\"\"),\"\",IF(内訳明細書入力画面!R123=\"\",内訳明細書入力画面!P123,内訳明細書入力画面!R123))","v":""},null,null,null,{"$f":"IF(AND(内訳明細書入力画面!V123=\"\",内訳明細書入力画面!T123=\"\"),\"\",IF(内訳明細書入力画面!V123=\"\",内訳明細書入力画面!T123,内訳明細書入力画面!V123))","v":""},null,null,null,null,null,null,null,null,null,null,null,null,null,null,null,"",null,null,null,"",null,null,null,""]
[null,{"$f":"IF(内訳明細書入力画面!B124=\"\",\"\",内訳明細書入力画面!B124)","v":""},null,null,null,null,null,null,null,null,null,null,null,null,{"$f":"IF(AND(内訳明細書入力画面!N124=\"\",内訳明細書入力画面!M124=\"\"),\"\",IF(内訳明細書入力画面!N124=\"\",内訳明細書入力画面!M124,内訳明細書入力画面!N124))","v":""},null,null,null,{"$f":"IF(内訳明細書入力画面!O124=\"\",\"\",内訳明細書入力画面!O124)","v":""},null,null,{"$f":"IF(AND(内訳明細書入力画面!R124=\"\",内訳明細書入力画面!P124=\"\"),\"\",IF(内訳明細書入力画面!R124=\"\",内訳明細書入力画面!P124,内訳明細書入力画面!R124))","v":""},null,null,null,{"$f":"IF(AND(内訳明細書入力画面!V124=\"\",内訳明細書入力画面!T124=\"\"),\"\",IF(内訳明細書入力画面!V124=\"\",内訳明細書入力画面!T124,内訳明細書入力画面!V124))","v":""},null,null,null,null,null,null,null,null,null,null,null,null,null,null,null,"",null,null,null,"",null,null,null,""]
[null,{"$f":"IF(内訳明細書入力画面!B125=\"\",\"\",内訳明細書入力画面!B125)","v":""},null,null,null,null,null,null,null,null,null,null,null,null,{"$f":"IF(AND(内訳明細書入力画面!N125=\"\",内訳明細書入力画面!M125=\"\"),\"\",IF(内訳明細書入力画面!N125=\"\",内訳明細書入力画面!M125,内訳明細書入力画面!N125))","v":""},null,null,null,{"$f":"IF(内訳明細書入力画面!O125=\"\",\"\",内訳明細書入力画面!O125)","v":""},null,null,{"$f":"IF(AND(内訳明細書入力画面!R125=\"\",内訳明細書入力画面!P125=\"\"),\"\",IF(内訳明細書入力画面!R125=\"\",内訳明細書入力画面!P125,内訳明細書入力画面!R125))","v":""},null,null,null,{"$f":"IF(AND(内訳明細書入力画面!V125=\"\",内訳明細書入力画面!T125=\"\"),\"\",IF(内訳明細書入力画面!V125=\"\",内訳明細書入力画面!T125,内訳明細書入力画面!V125))","v":""},null,null,null,null,null,null,null,null,null,null,null,null,null,null,null,"",null,null,null,"",null,null,null,""]
[null,{"$f":"IF(内訳明細書入力画面!B126=\"\",\"\",内訳明細書入力画面!B126)","v":""},null,null,null,null,null,null,null,null,null,null,null,null,{"$f":"IF(AND(内訳明細書入力画面!N126=\"\",内訳明細書入力画面!M126=\"\"),\"\",IF(内訳明細書入力画面!N126=\"\",内訳明細書入力画面!M126,内訳明細書入力画面!N126))","v":""},null,null,null,{"$f":"IF(内訳明細書入力画面!O126=\"\",\"\",内訳明細書入力画面!O126)","v":""},null,null,{"$f":"IF(AND(内訳明細書入力画面!R126=\"\",内訳明細書入力画面!P126=\"\"),\"\",IF(内訳明細書入力画面!R126=\"\",内訳明細書入力画面!P126,内訳明細書入力画面!R126))","v":""},null,null,null,{"$f":"IF(AND(内訳明細書入力画面!V126=\"\",内訳明細書入力画面!T126=\"\"),\"\",IF(内訳明細書入力画面!V126=\"\",内訳明細書入力画面!T126,内訳明細書入力画面!V126))","v":""},null,null,null,null,null,null,null,null,null,null,null,null,null,null,null,"",null,null,null,"",null,null,null,""]
[null,{"$f":"IF(内訳明細書入力画面!B127=\"\",\"\",内訳明細書入力画面!B127)","v":""},null,null,null,null,null,null,null,null,null,null,null,null,{"$f":"IF(AND(内訳明細書入力画面!N127=\"\",内訳明細書入力画面!M127=\"\"),\"\",IF(内訳明細書入力画面!N127=\"\",内訳明細書入力画面!M127,内訳明細書入力画面!N127))","v":""},null,null,null,{"$f":"IF(内訳明細書入力画面!O127=\"\",\"\",内訳明細書入力画面!O127)","v":""},null,null,{"$f":"IF(AND(内訳明細書入力画面!R127=\"\",内訳明細書入力画面!P127=\"\"),\"\",IF(内訳明細書入力画面!R127=\"\",内訳明細書入力画面!P127,内訳明細書入力画面!R127))","v":""},null,null,null,{"$f":"IF(AND(内訳明細書入力画面!V127=\"\",内訳明細書入力画面!T127=\"\"),\"\",IF(内訳明細書入力画面!V127=\"\",内訳明細書入力画面!T127,内訳明細書入力画面!V127))","v":""},null,null,null,null,null,null,null,null,null,null,null,null,null,null,null,"",null,null,null,"",null,null,null,""]
[null,{"$f":"IF(内訳明細書入力画面!B128=\"\",\"\",内訳明細書入力画面!B128)","v":""},null,null,null,null,null,null,null,null,null,null,null,null,{"$f":"IF(AND(内訳明細書入力画面!N128=\"\",内訳明細書入力画面!M128=\"\"),\"\",IF(内訳明細書入力画面!N128=\"\",内訳明細書入力画面!M128,内訳明細書入力画面!N128))","v":""},null,null,null,{"$f":"IF(内訳明細書入力画面!O128=\"\",\"\",内訳明細書入力画面!O128)","v":""},null,null,{"$f":"IF(AND(内訳明細書入力画面!R128=\"\",内訳明細書入力画面!P128=\"\"),\"\",IF(内訳明細書入力画面!R128=\"\",内訳明細書入力画面!P128,内訳明細書入力画面!R128))","v":""},null,null,null,{"$f":"IF(AND(内訳明細書入力画面!V128=\"\",内訳明細書入力画面!T128=\"\"),\"\",IF(内訳明細書入力画面!V128=\"\",内訳明細書入力画面!T128,内訳明細書入力画面!V128))","v":""},null,null,null,null,null,null,null,null,null,null,null,null,null,null,null,"",null,null,null,"",null,null,null,""]
[null,{"$f":"IF(内訳明細書入力画面!B129=\"\",\"\",内訳明細書入力画面!B129)","v":""},null,null,null,null,null,null,null,null,null,null,null,null,{"$f":"IF(AND(内訳明細書入力画面!N129=\"\",内訳明細書入力画面!M129=\"\"),\"\",IF(内訳明細書入力画面!N129=\"\",内訳明細書入力画面!M129,内訳明細書入力画面!N129))","v":""},null,null,null,{"$f":"IF(内訳明細書入力画面!O129=\"\",\"\",内訳明細書入力画面!O129)","v":""},null,null,{"$f":"IF(AND(内訳明細書入力画面!R129=\"\",内訳明細書入力画面!P129=\"\"),\"\",IF(内訳明細書入力画面!R129=\"\",内訳明細書入力画面!P129,内訳明細書入力画面!R129))","v":""},null,null,null,{"$f":"IF(AND(内訳明細書入力画面!V129=\"\",内訳明細書入力画面!T129=\"\"),\"\",IF(内訳明細書入力画面!V129=\"\",内訳明細書入力画面!T129,内訳明細書入力画面!V129))","v":""},null,null,null,null,null,null,null,null,null,null,null,null,null,null,null,"",null,null,null,"",null,null,null,""]
[null,{"$f":"IF(内訳明細書入力画面!B130=\"\",\"\",内訳明細書入力画面!B130)","v":""},null,null,null,null,null,null,null,null,null,null,null,null,{"$f":"IF(AND(内訳明細書入力画面!N130=\"\",内訳明細書入力画面!M130=\"\"),\"\",IF(内訳明細書入力画面!N130=\"\",内訳明細書入力画面!M130,内訳明細書入力画面!N130))","v":""},null,null,null,{"$f":"IF(内訳明細書入力画面!O130=\"\",\"\",内訳明細書入力画面!O130)","v":""},null,null,{"$f":"IF(AND(内訳明細書入力画面!R130=\"\",内訳明細書入力画面!P130=\"\"),\"\",IF(内訳明細書入力画面!R130=\"\",内訳明細書入力画面!P130,内訳明細書入力画面!R130))","v":""},null,null,null,{"$f":"IF(AND(内訳明細書入力画面!V130=\"\",内訳明細書入力画面!T130=\"\"),\"\",IF(内訳明細書入力画面!V130=\"\",内訳明細書入力画面!T130,内訳明細書入力画面!V130))","v":""},null,null,null,null,null,null,null,null,null,null,null,null,null,null,null,"",null,null,null,"",null,null,null,""]
[{"$f":"((ROW()-11)+15)/15","v":9},{"$f":"IF(内訳明細書入力画面!B131=\"\",\"\",内訳明細書入力画面!B131)","v":""},null,null,null,null,null,null,null,null,null,null,null,null,{"$f":"IF(AND(内訳明細書入力画面!N131=\"\",内訳明細書入力画面!M131=\"\"),\"\",IF(内訳明細書入力画面!N131=\"\",内訳明細書入力画面!M131,内訳明細書入力画面!N131))","v":""},null,null,null,{"$f":"IF(内訳明細書入力画面!O131=\"\",\"\",内訳明細書入力画面!O131)","v":""},null,null,{"$f":"IF(AND(内訳明細書入力画面!R131=\"\",内訳明細書入力画面!P131=\"\"),\"\",IF(内訳明細書入力画面!R131=\"\",内訳明細書入力画面!P131,内訳明細書入力画面!R131))","v":""},null,null,null,{"$f":"IF(AND(内訳明細書入力画面!V131=\"\",内訳明細書入力画面!T131=\"\"),\"\",IF(内訳明細書入力画面!V131=\"\",内訳明細書入力画面!T131,内訳明細書入力画面!V131))","v":""},null,null,null,null,null,null,null,null,null,null,null,null,null,null,null,"",null,null,null,"",null,null,null,""]
[null,{"$f":"IF(内訳明細書入力画面!B132=\"\",\"\",内訳明細書入力画面!B132)","v":""},null,null,null,null,null,null,null,null,null,null,null,null,{"$f":"IF(AND(内訳明細書入力画面!N132=\"\",内訳明細書入力画面!M132=\"\"),\"\",IF(内訳明細書入力画面!N132=\"\",内訳明細書入力画面!M132,内訳明細書入力画面!N132))","v":""},null,null,null,{"$f":"IF(内訳明細書入力画面!O132=\"\",\"\",内訳明細書入力画面!O132)","v":""},null,null,{"$f":"IF(AND(内訳明細書入力画面!R132=\"\",内訳明細書入力画面!P132=\"\"),\"\",IF(内訳明細書入力画面!R132=\"\",内訳明細書入力画面!P132,内訳明細書入力画面!R132))","v":""},null,null,null,{"$f":"IF(AND(内訳明細書入力画面!V132=\"\",内訳明細書入力画面!T132=\"\"),\"\",IF(内訳明細書入力画面!V132=\"\",内訳明細書入力画面!T132,内訳明細書入力画面!V132))","v":""},null,null,null,null,null,null,null,null,null,null,null,null,null,null,null,"",null,null,null,"",null,null,null,""]
[null,{"$f":"IF(内訳明細書入力画面!B133=\"\",\"\",内訳明細書入力画面!B133)","v":""},null,null,null,null,null,null,null,null,null,null,null,null,{"$f":"IF(AND(内訳明細書入力画面!N133=\"\",内訳明細書入力画面!M133=\"\"),\"\",IF(内訳明細書入力画面!N133=\"\",内訳明細書入力画面!M133,内訳明細書入力画面!N133))","v":""},null,null,null,{"$f":"IF(内訳明細書入力画面!O133=\"\",\"\",内訳明細書入力画面!O133)","v":""},null,null,{"$f":"IF(AND(内訳明細書入力画面!R133=\"\",内訳明細書入力画面!P133=\"\"),\"\",IF(内訳明細書入力画面!R133=\"\",内訳明細書入力画面!P133,内訳明細書入力画面!R133))","v":""},null,null,null,{"$f":"IF(AND(内訳明細書入力画面!V133=\"\",内訳明細書入力画面!T133=\"\"),\"\",IF(内訳明細書入力画面!V133=\"\",内訳明細書入力画面!T133,内訳明細書入力画面!V133))","v":""},null,null,null,null,null,null,null,null,null,null,null,null,null,null,null,"",null,null,null,"",null,null,null,""]
[null,{"$f":"IF(内訳明細書入力画面!B134=\"\",\"\",内訳明細書入力画面!B134)","v":""},null,null,null,null,null,null,null,null,null,null,null,null,{"$f":"IF(AND(内訳明細書入力画面!N134=\"\",内訳明細書入力画面!M134=\"\"),\"\",IF(内訳明細書入力画面!N134=\"\",内訳明細書入力画面!M134,内訳明細書入力画面!N134))","v":""},null,null,null,{"$f":"IF(内訳明細書入力画面!O134=\"\",\"\",内訳明細書入力画面!O134)","v":""},null,null,{"$f":"IF(AND(内訳明細書入力画面!R134=\"\",内訳明細書入力画面!P134=\"\"),\"\",IF(内訳明細書入力画面!R134=\"\",内訳明細書入力画面!P134,内訳明細書入力画面!R134))","v":""},null,null,null,{"$f":"IF(AND(内訳明細書入力画面!V134=\"\",内訳明細書入力画面!T134=\"\"),\"\",IF(内訳明細書入力画面!V134=\"\",内訳明細書入力画面!T134,内訳明細書入力画面!V134))","v":""},null,null,null,null,null,null,null,null,null,null,null,null,null,null,null,"",null,null,null,"",null,null,null,""]
[null,{"$f":"IF(内訳明細書入力画面!B135=\"\",\"\",内訳明細書入力画面!B135)","v":""},null,null,null,null,null,null,null,null,null,null,null,null,{"$f":"IF(AND(内訳明細書入力画面!N135=\"\",内訳明細書入力画面!M135=\"\"),\"\",IF(内訳明細書入力画面!N135=\"\",内訳明細書入力画面!M135,内訳明細書入力画面!N135))","v":""},null,null,null,{"$f":"IF(内訳明細書入力画面!O135=\"\",\"\",内訳明細書入力画面!O135)","v":""},null,null,{"$f":"IF(AND(内訳明細書入力画面!R135=\"\",内訳明細書入力画面!P135=\"\"),\"\",IF(内訳明細書入力画面!R135=\"\",内訳明細書入力画面!P135,内訳明細書入力画面!R135))","v":""},null,null,null,{"$f":"IF(AND(内訳明細書入力画面!V135=\"\",内訳明細書入力画面!T135=\"\"),\"\",IF(内訳明細書入力画面!V135=\"\",内訳明細書入力画面!T135,内訳明細書入力画面!V135))","v":""},null,null,null,null,null,null,null,null,null,null,null,null,null,null,null,"",null,null,null,"",null,null,null,""]
[null,{"$f":"IF(内訳明細書入力画面!B136=\"\",\"\",内訳明細書入力画面!B136)","v":""},null,null,null,null,null,null,null,null,null,null,null,null,{"$f":"IF(AND(内訳明細書入力画面!N136=\"\",内訳明細書入力画面!M136=\"\"),\"\",IF(内訳明細書入力画面!N136=\"\",内訳明細書入力画面!M136,内訳明細書入力画面!N136))","v":""},null,null,null,{"$f":"IF(内訳明細書入力画面!O136=\"\",\"\",内訳明細書入力画面!O136)","v":""},null,null,{"$f":"IF(AND(内訳明細書入力画面!R136=\"\",内訳明細書入力画面!P136=\"\"),\"\",IF(内訳明細書入力画面!R136=\"\",内訳明細書入力画面!P136,内訳明細書入力画面!R136))","v":""},null,null,null,{"$f":"IF(AND(内訳明細書入力画面!V136=\"\",内訳明細書入力画面!T136=\"\"),\"\",IF(内訳明細書入力画面!V136=\"\",内訳明細書入力画面!T136,内訳明細書入力画面!V136))","v":""},null,null,null,null,null,null,null,null,null,null,null,null,null,null,null,"",null,null,null,"",null,null,null,""]
[null,{"$f":"IF(内訳明細書入力画面!B137=\"\",\"\",内訳明細書入力画面!B137)","v":""},null,null,null,null,null,null,null,null,null,null,null,null,{"$f":"IF(AND(内訳明細書入力画面!N137=\"\",内訳明細書入力画面!M137=\"\"),\"\",IF(内訳明細書入力画面!N137=\"\",内訳明細書入力画面!M137,内訳明細書入力画面!N137))","v":""},null,null,null,{"$f":"IF(内訳明細書入力画面!O137=\"\",\"\",内訳明細書入力画面!O137)","v":""},null,null,{"$f":"IF(AND(内訳明細書入力画面!R137=\"\",内訳明細書入力画面!P137=\"\"),\"\",IF(内訳明細書入力画面!R137=\"\",内訳明細書入力画面!P137,内訳明細書入力画面!R137))","v":""},null,null,null,{"$f":"IF(AND(内訳明細書入力画面!V137=\"\",内訳明細書入力画面!T137=\"\"),\"\",IF(内訳明細書入力画面!V137=\"\",内訳明細書入力画面!T137,内訳明細書入力画面!V137))","v":""},null,null,null,null,null,null,null,null,null,null,null,null,null,null,null,"",null,null,null,"",null,null,null,""]
[null,{"$f":"IF(内訳明細書入力画面!B138=\"\",\"\",内訳明細書入力画面!B138)","v":""},null,null,null,null,null,null,null,null,null,null,null,null,{"$f":"IF(AND(内訳明細書入力画面!N138=\"\",内訳明細書入力画面!M138=\"\"),\"\",IF(内訳明細書入力画面!N138=\"\",内訳明細書入力画面!M138,内訳明細書入力画面!N138))","v":""},null,null,null,{"$f":"IF(内訳明細書入力画面!O138=\"\",\"\",内訳明細書入力画面!O138)","v":""},null,null,{"$f":"IF(AND(内訳明細書入力画面!R138=\"\",内訳明細書入力画面!P138=\"\"),\"\",IF(内訳明細書入力画面!R138=\"\",内訳明細書入力画面!P138,内訳明細書入力画面!R138))","v":""},null,null,null,{"$f":"IF(AND(内訳明細書入力画面!V138=\"\",内訳明細書入力画面!T138=\"\"),\"\",IF(内訳明細書入力画面!V138=\"\",内訳明細書入力画面!T138,内訳明細書入力画面!V138))","v":""},null,null,null,null,null,null,null,null,null,null,null,null,null,null,null,"",null,null,null,"",null,null,null,""]
[null,{"$f":"IF(内訳明細書入力画面!B139=\"\",\"\",内訳明細書入力画面!B139)","v":""},null,null,null,null,null,null,null,null,null,null,null,null,{"$f":"IF(AND(内訳明細書入力画面!N139=\"\",内訳明細書入力画面!M139=\"\"),\"\",IF(内訳明細書入力画面!N139=\"\",内訳明細書入力画面!M139,内訳明細書入力画面!N139))","v":""},null,null,null,{"$f":"IF(内訳明細書入力画面!O139=\"\",\"\",内訳明細書入力画面!O139)","v":""},null,null,{"$f":"IF(AND(内訳明細書入力画面!R139=\"\",内訳明細書入力画面!P139=\"\"),\"\",IF(内訳明細書入力画面!R139=\"\",内訳明細書入力画面!P139,内訳明細書入力画面!R139))","v":""},null,null,null,{"$f":"IF(AND(内訳明細書入力画面!V139=\"\",内訳明細書入力画面!T139=\"\"),\"\",IF(内訳明細書入力画面!V139=\"\",内訳明細書入力画面!T139,内訳明細書入力画面!V139))","v":""},null,null,null,null,null,null,null,null,null,null,null,null,null,null,null,{"$f":"IF(AL139=\"\",\"\",ROUNDDOWN(N(V139)*N(AL139),0))","v":""},null,null,null,"",null,null,null,""]
[null,{"$f":"IF(内訳明細書入力画面!B140=\"\",\"\",内訳明細書入力画面!B140)","v":""},null,null,null,null,null,null,null,null,null,null,null,null,{"$f":"IF(AND(内訳明細書入力画面!N140=\"\",内訳明細書入力画面!M140=\"\"),\"\",IF(内訳明細書入力画面!N140=\"\",内訳明細書入力画面!M140,内訳明細書入力画面!N140))","v":""},null,null,null,{"$f":"IF(内訳明細書入力画面!O140=\"\",\"\",内訳明細書入力画面!O140)","v":""},null,null,{"$f":"IF(AND(内訳明細書入力画面!R140=\"\",内訳明細書入力画面!P140=\"\"),\"\",IF(内訳明細書入力画面!R140=\"\",内訳明細書入力画面!P140,内訳明細書入力画面!R140))","v":""},null,null,null,{"$f":"IF(AND(内訳明細書入力画面!V140=\"\",内訳明細書入力画面!T140=\"\"),\"\",IF(内訳明細書入力画面!V140=\"\",内訳明細書入力画面!T140,内訳明細書入力画面!V140))","v":""},null,null,null,null,null,null,null,null,null,null,null,null,null,null,null,"",null,null,null,"",null,null,null,""]
[null,{"$f":"IF(内訳明細書入力画面!B141=\"\",\"\",内訳明細書入力画面!B141)","v":""},null,null,null,null,null,null,null,null,null,null,null,null,{"$f":"IF(AND(内訳明細書入力画面!N141=\"\",内訳明細書入力画面!M141=\"\"),\"\",IF(内訳明細書入力画面!N141=\"\",内訳明細書入力画面!M141,内訳明細書入力画面!N141))","v":""},null,null,null,{"$f":"IF(内訳明細書入力画面!O141=\"\",\"\",内訳明細書入力画面!O141)","v":""},null,null,{"$f":"IF(AND(内訳明細書入力画面!R141=\"\",内訳明細書入力画面!P141=\"\"),\"\",IF(内訳明細書入力画面!R141=\"\",内訳明細書入力画面!P141,内訳明細書入力画面!R141))","v":""},null,null,null,{"$f":"IF(AND(内訳明細書入力画面!V141=\"\",内訳明細書入力画面!T141=\"\"),\"\",IF(内訳明細書入力画面!V141=\"\",内訳明細書入力画面!T141,内訳明細書入力画面!V141))","v":""},null,null,null,null,null,null,null,null,null,null,null,null,null,null,null,"",null,null,null,"",null,null,null,""]
[null,{"$f":"IF(内訳明細書入力画面!B142=\"\",\"\",内訳明細書入力画面!B142)","v":""},null,null,null,null,null,null,null,null,null,null,null,null,{"$f":"IF(AND(内訳明細書入力画面!N142=\"\",内訳明細書入力画面!M142=\"\"),\"\",IF(内訳明細書入力画面!N142=\"\",内訳明細書入力画面!M142,内訳明細書入力画面!N142))","v":""},null,null,null,{"$f":"IF(内訳明細書入力画面!O142=\"\",\"\",内訳明細書入力画面!O142)","v":""},null,null,{"$f":"IF(AND(内訳明細書入力画面!R142=\"\",内訳明細書入力画面!P142=\"\"),\"\",IF(内訳明細書入力画面!R142=\"\",内訳明細書入力画面!P142,内訳明細書入力画面!R142))","v":""},null,null,null,{"$f":"IF(AND(内訳明細書入力画面!V142=\"\",内訳明細書入力画面!T142=\"\"),\"\",IF(内訳明細書入力画面!V142=\"\",内訳明細書入力画面!T142,内訳明細書入力画面!V142))","v":""},null,null,null,null,null,null,null,null,null,null,null,null,null,null,null,"",null,null,null,"",null,null,null,""]
[null,{"$f":"IF(内訳明細書入力画面!B143=\"\",\"\",内訳明細書入力画面!B143)","v":""},null,null,null,null,null,null,null,null,null,null,null,null,{"$f":"IF(AND(内訳明細書入力画面!N143=\"\",内訳明細書入力画面!M143=\"\"),\"\",IF(内訳明細書入力画面!N143=\"\",内訳明細書入力画面!M143,内訳明細書入力画面!N143))","v":""},null,null,null,{"$f":"IF(内訳明細書入力画面!O143=\"\",\"\",内訳明細書入力画面!O143)","v":""},null,null,{"$f":"IF(AND(内訳明細書入力画面!R143=\"\",内訳明細書入力画面!P143=\"\"),\"\",IF(内訳明細書入力画面!R143=\"\",内訳明細書入力画面!P143,内訳明細書入力画面!R143))","v":""},null,null,null,{"$f":"IF(AND(内訳明細書入力画面!V143=\"\",内訳明細書入力画面!T143=\"\"),\"\",IF(内訳明細書入力画面!V143=\"\",内訳明細書入力画面!T143,内訳明細書入力画面!V143))","v":""},null,null,null,null,null,null,null,null,null,null,null,null,null,null,null,"",null,null,null,"",null,null,null,""]
[null,{"$f":"IF(内訳明細書入力画面!B144=\"\",\"\",内訳明細書入力画面!B144)","v":""},null,null,null,null,null,null,null,null,null,null,null,null,{"$f":"IF(AND(内訳明細書入力画面!N144=\"\",内訳明細書入力画面!M144=\"\"),\"\",IF(内訳明細書入力画面!N144=\"\",内訳明細書入力画面!M144,内訳明細書入力画面!N144))","v":""},null,null,null,{"$f":"IF(内訳明細書入力画面!O144=\"\",\"\",内訳明細書入力画面!O144)","v":""},null,null,{"$f":"IF(AND(内訳明細書入力画面!R144=\"\",内訳明細書入力画面!P144=\"\"),\"\",IF(内訳明細書入力画面!R144=\"\",内訳明細書入力画面!P144,内訳明細書入力画面!R144))","v":""},null,null,null,{"$f":"IF(AND(内訳明細書入力画面!V144=\"\",内訳明細書入力画面!T144=\"\"),\"\",IF(内訳明細書入力画面!V144=\"\",内訳明細書入力画面!T144,内訳明細書入力画面!V144))","v":""},null,null,null,null,null,null,null,null,null,null,null,null,null,null,null,"",null,null,null,"",null,null,null,""]
[null,{"$f":"IF(内訳明細書入力画面!B145=\"\",\"\",内訳明細書入力画面!B145)","v":""},null,null,null,null,null,null,null,null,null,null,null,null,{"$f":"IF(AND(内訳明細書入力画面!N145=\"\",内訳明細書入力画面!M145=\"\"),\"\",IF(内訳明細書入力画面!N145=\"\",内訳明細書入力画面!M145,内訳明細書入力画面!N145))","v":""},null,null,null,{"$f":"IF(内訳明細書入力画面!O145=\"\",\"\",内訳明細書入力画面!O145)","v":""},null,null,{"$f":"IF(AND(内訳明細書入力画面!R145=\"\",内訳明細書入力画面!P145=\"\"),\"\",IF(内訳明細書入力画面!R145=\"\",内訳明細書入力画面!P145,内訳明細書入力画面!R145))","v":""},null,null,null,{"$f":"IF(AND(内訳明細書入力画面!V145=\"\",内訳明細書入力画面!T145=\"\"),\"\",IF(内訳明細書入力画面!V145=\"\",内訳明細書入力画面!T145,内訳明細書入力画面!V145))","v":""},null,null,null,null,null,null,null,null,null,null,null,null,null,null,null,"",null,null,null,"",null,null,null,""]
[{"$f":"((ROW()-11)+15)/15","v":10},{"$f":"IF(内訳明細書入力画面!B146=\"\",\"\",内訳明細書入力画面!B146)","v":""},null,null,null,null,null,null,null,null,null,null,null,null,{"$f":"IF(AND(内訳明細書入力画面!N146=\"\",内訳明細書入力画面!M146=\"\"),\"\",IF(内訳明細書入力画面!N146=\"\",内訳明細書入力画面!M146,内訳明細書入力画面!N146))","v":""},null,null,null,{"$f":"IF(内訳明細書入力画面!O146=\"\",\"\",内訳明細書入力画面!O146)","v":""},null,null,{"$f":"IF(AND(内訳明細書入力画面!R146=\"\",内訳明細書入力画面!P146=\"\"),\"\",IF(内訳明細書入力画面!R146=\"\",内訳明細書入力画面!P146,内訳明細書入力画面!R146))","v":""},null,null,null,{"$f":"IF(AND(内訳明細書入力画面!V146=\"\",内訳明細書入力画面!T146=\"\"),\"\",IF(内訳明細書入力画面!V146=\"\",内訳明細書入力画面!T146,内訳明細書入力画面!V146))","v":""},null,null,null,null,null,null,null,null,null,null,null,null,null,null,null,"",null,null,null,"",null,null,null,""]
[null,{"$f":"IF(内訳明細書入力画面!B147=\"\",\"\",内訳明細書入力画面!B147)","v":""},null,null,null,null,null,null,null,null,null,null,null,null,{"$f":"IF(AND(内訳明細書入力画面!N147=\"\",内訳明細書入力画面!M147=\"\"),\"\",IF(内訳明細書入力画面!N147=\"\",内訳明細書入力画面!M147,内訳明細書入力画面!N147))","v":""},null,null,null,{"$f":"IF(内訳明細書入力画面!O147=\"\",\"\",内訳明細書入力画面!O147)","v":""},null,null,{"$f":"IF(AND(内訳明細書入力画面!R147=\"\",内訳明細書入力画面!P147=\"\"),\"\",IF(内訳明細書入力画面!R147=\"\",内訳明細書入力画面!P147,内訳明細書入力画面!R147))","v":""},null,null,null,{"$f":"IF(AND(内訳明細書入力画面!V147=\"\",内訳明細書入力画面!T147=\"\"),\"\",IF(内訳明細書入力画面!V147=\"\",内訳明細書入力画面!T147,内訳明細書入力画面!V147))","v":""},null,null,null,null,null,null,null,null,null,null,null,null,null,null,null,"",null,null,null,"",null,null,null,""]
[null,{"$f":"IF(内訳明細書入力画面!B148=\"\",\"\",内訳明細書入力画面!B148)","v":""},null,null,null,null,null,null,null,null,null,null,null,null,{"$f":"IF(AND(内訳明細書入力画面!N148=\"\",内訳明細書入力画面!M148=\"\"),\"\",IF(内訳明細書入力画面!N148=\"\",内訳明細書入力画面!M148,内訳明細書入力画面!N148))","v":""},null,null,null,{"$f":"IF(内訳明細書入力画面!O148=\"\",\"\",内訳明細書入力画面!O148)","v":""},null,null,{"$f":"IF(AND(内訳明細書入力画面!R148=\"\",内訳明細書入力画面!P148=\"\"),\"\",IF(内訳明細書入力画面!R148=\"\",内訳明細書入力画面!P148,内訳明細書入力画面!R148))","v":""},null,null,null,{"$f":"IF(AND(内訳明細書入力画面!V148=\"\",内訳明細書入力画面!T148=\"\"),\"\",IF(内訳明細書入力画面!V148=\"\",内訳明細書入力画面!T148,内訳明細書入力画面!V148))","v":""},null,null,null,null,null,null,null,null,null,null,null,null,null,null,null,"",null,null,null,"",null,null,null,""]
[null,{"$f":"IF(内訳明細書入力画面!B149=\"\",\"\",内訳明細書入力画面!B149)","v":""},null,null,null,null,null,null,null,null,null,null,null,null,{"$f":"IF(AND(内訳明細書入力画面!N149=\"\",内訳明細書入力画面!M149=\"\"),\"\",IF(内訳明細書入力画面!N149=\"\",内訳明細書入力画面!M149,内訳明細書入力画面!N149))","v":""},null,null,null,{"$f":"IF(内訳明細書入力画面!O149=\"\",\"\",内訳明細書入力画面!O149)","v":""},null,null,{"$f":"IF(AND(内訳明細書入力画面!R149=\"\",内訳明細書入力画面!P149=\"\"),\"\",IF(内訳明細書入力画面!R149=\"\",内訳明細書入力画面!P149,内訳明細書入力画面!R149))","v":""},null,null,null,{"$f":"IF(AND(内訳明細書入力画面!V149=\"\",内訳明細書入力画面!T149=\"\"),\"\",IF(内訳明細書入力画面!V149=\"\",内訳明細書入力画面!T149,内訳明細書入力画面!V149))","v":""},null,null,null,null,null,null,null,null,null,null,null,null,null,null,null,"",null,null,null,"",null,null,null,""]
[null,{"$f":"IF(内訳明細書入力画面!B150=\"\",\"\",内訳明細書入力画面!B150)","v":""},null,null,null,null,null,null,null,null,null,null,null,null,{"$f":"IF(AND(内訳明細書入力画面!N150=\"\",内訳明細書入力画面!M150=\"\"),\"\",IF(内訳明細書入力画面!N150=\"\",内訳明細書入力画面!M150,内訳明細書入力画面!N150))","v":""},null,null,null,{"$f":"IF(内訳明細書入力画面!O150=\"\",\"\",内訳明細書入力画面!O150)","v":""},null,null,{"$f":"IF(AND(内訳明細書入力画面!R150=\"\",内訳明細書入力画面!P150=\"\"),\"\",IF(内訳明細書入力画面!R150=\"\",内訳明細書入力画面!P150,内訳明細書入力画面!R150))","v":""},null,null,null,{"$f":"IF(AND(内訳明細書入力画面!V150=\"\",内訳明細書入力画面!T150=\"\"),\"\",IF(内訳明細書入力画面!V150=\"\",内訳明細書入力画面!T150,内訳明細書入力画面!V150))","v":""},null,null,null,null,null,null,null,null,null,null,null,null,null,null,null,"",null,null,null,"",null,null,null,""]
[null,{"$f":"IF(内訳明細書入力画面!B151=\"\",\"\",内訳明細書入力画面!B151)","v":""},null,null,null,null,null,null,null,null,null,null,null,null,{"$f":"IF(AND(内訳明細書入力画面!N151=\"\",内訳明細書入力画面!M151=\"\"),\"\",IF(内訳明細書入力画面!N151=\"\",内訳明細書入力画面!M151,内訳明細書入力画面!N151))","v":""},null,null,null,{"$f":"IF(内訳明細書入力画面!O151=\"\",\"\",内訳明細書入力画面!O151)","v":""},null,null,{"$f":"IF(AND(内訳明細書入力画面!R151=\"\",内訳明細書入力画面!P151=\"\"),\"\",IF(内訳明細書入力画面!R151=\"\",内訳明細書入力画面!P151,内訳明細書入力画面!R151))","v":""},null,null,null,{"$f":"IF(AND(内訳明細書入力画面!V151=\"\",内訳明細書入力画面!T151=\"\"),\"\",IF(内訳明細書入力画面!V151=\"\",内訳明細書入力画面!T151,内訳明細書入力画面!V151))","v":""},null,null,null,null,null,null,null,null,null,null,null,null,null,null,null,"",null,null,null,"",null,null,null,""]
[null,{"$f":"IF(内訳明細書入力画面!B152=\"\",\"\",内訳明細書入力画面!B152)","v":""},null,null,null,null,null,null,null,null,null,null,null,null,{"$f":"IF(AND(内訳明細書入力画面!N152=\"\",内訳明細書入力画面!M152=\"\"),\"\",IF(内訳明細書入力画面!N152=\"\",内訳明細書入力画面!M152,内訳明細書入力画面!N152))","v":""},null,null,null,{"$f":"IF(内訳明細書入力画面!O152=\"\",\"\",内訳明細書入力画面!O152)","v":""},null,null,{"$f":"IF(AND(内訳明細書入力画面!R152=\"\",内訳明細書入力画面!P152=\"\"),\"\",IF(内訳明細書入力画面!R152=\"\",内訳明細書入力画面!P152,内訳明細書入力画面!R152))","v":""},null,null,null,{"$f":"IF(AND(内訳明細書入力画面!V152=\"\",内訳明細書入力画面!T152=\"\"),\"\",IF(内訳明細書入力画面!V152=\"\",内訳明細書入力画面!T152,内訳明細書入力画面!V152))","v":""},null,null,null,null,null,null,null,null,null,null,null,null,null,null,null,"",null,null,null,"",null,null,null,""]
[null,{"$f":"IF(内訳明細書入力画面!B153=\"\",\"\",内訳明細書入力画面!B153)","v":""},null,null,null,null,null,null,null,null,null,null,null,null,{"$f":"IF(AND(内訳明細書入力画面!N153=\"\",内訳明細書入力画面!M153=\"\"),\"\",IF(内訳明細書入力画面!N153=\"\",内訳明細書入力画面!M153,内訳明細書入力画面!N153))","v":""},null,null,null,{"$f":"IF(内訳明細書入力画面!O153=\"\",\"\",内訳明細書入力画面!O153)","v":""},null,null,{"$f":"IF(AND(内訳明細書入力画面!R153=\"\",内訳明細書入力画面!P153=\"\"),\"\",IF(内訳明細書入力画面!R153=\"\",内訳明細書入力画面!P153,内訳明細書入力画面!R153))","v":""},null,null,null,{"$f":"IF(AND(内訳明細書入力画面!V153=\"\",内訳明細書入力画面!T153=\"\"),\"\",IF(内訳明細書入力画面!V153=\"\",内訳明細書入力画面!T153,内訳明細書入力画面!V153))","v":""},null,null,null,null,null,null,null,null,null,null,null,null,null,null,null,"",null,null,null,"",null,null,null,""]
[null,{"$f":"IF(内訳明細書入力画面!B154=\"\",\"\",内訳明細書入力画面!B154)","v":""},null,null,null,null,null,null,null,null,null,null,null,null,{"$f":"IF(AND(内訳明細書入力画面!N154=\"\",内訳明細書入力画面!M154=\"\"),\"\",IF(内訳明細書入力画面!N154=\"\",内訳明細書入力画面!M154,内訳明細書入力画面!N154))","v":""},null,null,null,{"$f":"IF(内訳明細書入力画面!O154=\"\",\"\",内訳明細書入力画面!O154)","v":""},null,null,{"$f":"IF(AND(内訳明細書入力画面!R154=\"\",内訳明細書入力画面!P154=\"\"),\"\",IF(内訳明細書入力画面!R154=\"\",内訳明細書入力画面!P154,内訳明細書入力画面!R154))","v":""},null,null,null,{"$f":"IF(AND(内訳明細書入力画面!V154=\"\",内訳明細書入力画面!T154=\"\"),\"\",IF(内訳明細書入力画面!V154=\"\",内訳明細書入力画面!T154,内訳明細書入力画面!V154))","v":""},null,null,null,null,null,null,null,null,null,null,null,null,null,null,null,"",null,null,null,"",null,null,null,""]
[null,{"$f":"IF(内訳明細書入力画面!B155=\"\",\"\",内訳明細書入力画面!B155)","v":""},null,null,null,null,null,null,null,null,null,null,null,null,{"$f":"IF(AND(内訳明細書入力画面!N155=\"\",内訳明細書入力画面!M155=\"\"),\"\",IF(内訳明細書入力画面!N155=\"\",内訳明細書入力画面!M155,内訳明細書入力画面!N155))","v":""},null,null,null,{"$f":"IF(内訳明細書入力画面!O155=\"\",\"\",内訳明細書入力画面!O155)","v":""},null,null,{"$f":"IF(AND(内訳明細書入力画面!R155=\"\",内訳明細書入力画面!P155=\"\"),\"\",IF(内訳明細書入力画面!R155=\"\",内訳明細書入力画面!P155,内訳明細書入力画面!R155))","v":""},null,null,null,{"$f":"IF(AND(内訳明細書入力画面!V155=\"\",内訳明細書入力画面!T155=\"\"),\"\",IF(内訳明細書入力画面!V155=\"\",内訳明細書入力画面!T155,内訳明細書入力画面!V155))","v":""},null,null,null,null,null,null,null,null,null,null,null,null,null,null,null,"",null,null,null,"",null,null,null,""]
[null,{"$f":"IF(内訳明細書入力画面!B156=\"\",\"\",内訳明細書入力画面!B156)","v":""},null,null,null,null,null,null,null,null,null,null,null,null,{"$f":"IF(AND(内訳明細書入力画面!N156=\"\",内訳明細書入力画面!M156=\"\"),\"\",IF(内訳明細書入力画面!N156=\"\",内訳明細書入力画面!M156,内訳明細書入力画面!N156))","v":""},null,null,null,{"$f":"IF(内訳明細書入力画面!O156=\"\",\"\",内訳明細書入力画面!O156)","v":""},null,null,{"$f":"IF(AND(内訳明細書入力画面!R156=\"\",内訳明細書入力画面!P156=\"\"),\"\",IF(内訳明細書入力画面!R156=\"\",内訳明細書入力画面!P156,内訳明細書入力画面!R156))","v":""},null,null,null,{"$f":"IF(AND(内訳明細書入力画面!V156=\"\",内訳明細書入力画面!T156=\"\"),\"\",IF(内訳明細書入力画面!V156=\"\",内訳明細書入力画面!T156,内訳明細書入力画面!V156))","v":""},null,null,null,null,null,null,null,null,null,null,null,null,null,null,null,"",null,null,null,"",null,null,null,""]
[null,{"$f":"IF(内訳明細書入力画面!B157=\"\",\"\",内訳明細書入力画面!B157)","v":""},null,null,null,null,null,null,null,null,null,null,null,null,{"$f":"IF(AND(内訳明細書入力画面!N157=\"\",内訳明細書入力画面!M157=\"\"),\"\",IF(内訳明細書入力画面!N157=\"\",内訳明細書入力画面!M157,内訳明細書入力画面!N157))","v":""},null,null,null,{"$f":"IF(内訳明細書入力画面!O157=\"\",\"\",内訳明細書入力画面!O157)","v":""},null,null,{"$f":"IF(AND(内訳明細書入力画面!R157=\"\",内訳明細書入力画面!P157=\"\"),\"\",IF(内訳明細書入力画面!R157=\"\",内訳明細書入力画面!P157,内訳明細書入力画面!R157))","v":""},null,null,null,{"$f":"IF(AND(内訳明細書入力画面!V157=\"\",内訳明細書入力画面!T157=\"\"),\"\",IF(内訳明細書入力画面!V157=\"\",内訳明細書入力画面!T157,内訳明細書入力画面!V157))","v":""},null,null,null,null,null,null,null,null,null,null,null,null,null,null,null,"",null,null,null,"",null,null,null,""]
[null,{"$f":"IF(内訳明細書入力画面!B158=\"\",\"\",内訳明細書入力画面!B158)","v":""},null,null,null,null,null,null,null,null,null,null,null,null,{"$f":"IF(AND(内訳明細書入力画面!N158=\"\",内訳明細書入力画面!M158=\"\"),\"\",IF(内訳明細書入力画面!N158=\"\",内訳明細書入力画面!M158,内訳明細書入力画面!N158))","v":""},null,null,null,{"$f":"IF(内訳明細書入力画面!O158=\"\",\"\",内訳明細書入力画面!O158)","v":""},null,null,{"$f":"IF(AND(内訳明細書入力画面!R158=\"\",内訳明細書入力画面!P158=\"\"),\"\",IF(内訳明細書入力画面!R158=\"\",内訳明細書入力画面!P158,内訳明細書入力画面!R158))","v":""},null,null,null,{"$f":"IF(AND(内訳明細書入力画面!V158=\"\",内訳明細書入力画面!T158=\"\"),\"\",IF(内訳明細書入力画面!V158=\"\",内訳明細書入力画面!T158,内訳明細書入力画面!V158))","v":""},null,null,null,null,null,null,null,null,null,null,null,null,null,null,null,"",null,null,null,"",null,null,null,""]
[null,{"$f":"IF(内訳明細書入力画面!B159=\"\",\"\",内訳明細書入力画面!B159)","v":""},null,null,null,null,null,null,null,null,null,null,null,null,{"$f":"IF(AND(内訳明細書入力画面!N159=\"\",内訳明細書入力画面!M159=\"\"),\"\",IF(内訳明細書入力画面!N159=\"\",内訳明細書入力画面!M159,内訳明細書入力画面!N159))","v":""},null,null,null,{"$f":"IF(内訳明細書入力画面!O159=\"\",\"\",内訳明細書入力画面!O159)","v":""},null,null,{"$f":"IF(AND(内訳明細書入力画面!R159=\"\",内訳明細書入力画面!P159=\"\"),\"\",IF(内訳明細書入力画面!R159=\"\",内訳明細書入力画面!P159,内訳明細書入力画面!R159))","v":""},null,null,null,{"$f":"IF(AND(内訳明細書入力画面!V159=\"\",内訳明細書入力画面!T159=\"\"),\"\",IF(内訳明細書入力画面!V159=\"\",内訳明細書入力画面!T159,内訳明細書入力画面!V159))","v":""},null,null,null,null,null,null,null,null,null,null,null,null,null,null,null,"",null,null,null,{"$f":"IF(AND(AD159=\"\",AL159=\"\"),\"\",N(AD159)+N(AL159))","v":""},null,null,null,{"$f":"IF(AND(AH159=\"\",AP159=\"\"),\"\",N(AH159)+N(AP159))","v":""}]
[null,{"$f":"IF(内訳明細書入力画面!B160=\"\",\"\",内訳明細書入力画面!B160)","v":""},null,null,null,null,null,null,null,null,null,null,null,null,{"$f":"IF(AND(内訳明細書入力画面!N160=\"\",内訳明細書入力画面!M160=\"\"),\"\",IF(内訳明細書入力画面!N160=\"\",内訳明細書入力画面!M160,内訳明細書入力画面!N160))","v":""},null,null,null,{"$f":"IF(内訳明細書入力画面!O160=\"\",\"\",内訳明細書入力画面!O160)","v":""},null,null,{"$f":"IF(AND(内訳明細書入力画面!R160=\"\",内訳明細書入力画面!P160=\"\"),\"\",IF(内訳明細書入力画面!R160=\"\",内訳明細書入力画面!P160,内訳明細書入力画面!R160))","v":""},null,null,null,{"$f":"IF(AND(内訳明細書入力画面!V160=\"\",内訳明細書入力画面!T160=\"\"),\"\",IF(内訳明細書入力画面!V160=\"\",内訳明細書入力画面!T160,内訳明細書入力画面!V160))","v":""},null,null,null,null,null,null,null,null,null,null,null,null,null,null,null,"",null,null,null,"",null,null,null,""]
[{"$f":"((ROW()-11)+15)/15","v":11},{"$f":"IF(内訳明細書入力画面!B161=\"\",\"\",内訳明細書入力画面!B161)","v":""},null,null,null,null,null,null,null,null,null,null,null,null,{"$f":"IF(AND(内訳明細書入力画面!N161=\"\",内訳明細書入力画面!M161=\"\"),\"\",IF(内訳明細書入力画面!N161=\"\",内訳明細書入力画面!M161,内訳明細書入力画面!N161))","v":""},null,null,null,{"$f":"IF(内訳明細書入力画面!O161=\"\",\"\",内訳明細書入力画面!O161)","v":""},null,null,{"$f":"IF(AND(内訳明細書入力画面!R161=\"\",内訳明細書入力画面!P161=\"\"),\"\",IF(内訳明細書入力画面!R161=\"\",内訳明細書入力画面!P161,内訳明細書入力画面!R161))","v":""},null,null,null,{"$f":"IF(AND(内訳明細書入力画面!V161=\"\",内訳明細書入力画面!T161=\"\"),\"\",IF(内訳明細書入力画面!V161=\"\",内訳明細書入力画面!T161,内訳明細書入力画面!V161))","v":""},null,null,null,null,null,null,null,null,null,null,null,null,null,null,null,"",null,null,null,"",null,null,null,""]
[null,{"$f":"IF(内訳明細書入力画面!B162=\"\",\"\",内訳明細書入力画面!B162)","v":""},null,null,null,null,null,null,null,null,null,null,null,null,{"$f":"IF(AND(内訳明細書入力画面!N162=\"\",内訳明細書入力画面!M162=\"\"),\"\",IF(内訳明細書入力画面!N162=\"\",内訳明細書入力画面!M162,内訳明細書入力画面!N162))","v":""},null,null,null,{"$f":"IF(内訳明細書入力画面!O162=\"\",\"\",内訳明細書入力画面!O162)","v":""},null,null,{"$f":"IF(AND(内訳明細書入力画面!R162=\"\",内訳明細書入力画面!P162=\"\"),\"\",IF(内訳明細書入力画面!R162=\"\",内訳明細書入力画面!P162,内訳明細書入力画面!R162))","v":""},null,null,null,{"$f":"IF(AND(内訳明細書入力画面!V162=\"\",内訳明細書入力画面!T162=\"\"),\"\",IF(内訳明細書入力画面!V162=\"\",内訳明細書入力画面!T162,内訳明細書入力画面!V162))","v":""},null,null,null,null,null,null,null,null,null,null,null,null,null,null,null,"",null,null,null,"",null,null,null,""]
[null,{"$f":"IF(内訳明細書入力画面!B163=\"\",\"\",内訳明細書入力画面!B163)","v":""},null,null,null,null,null,null,null,null,null,null,null,null,{"$f":"IF(AND(内訳明細書入力画面!N163=\"\",内訳明細書入力画面!M163=\"\"),\"\",IF(内訳明細書入力画面!N163=\"\",内訳明細書入力画面!M163,内訳明細書入力画面!N163))","v":""},null,null,null,{"$f":"IF(内訳明細書入力画面!O163=\"\",\"\",内訳明細書入力画面!O163)","v":""},null,null,{"$f":"IF(AND(内訳明細書入力画面!R163=\"\",内訳明細書入力画面!P163=\"\"),\"\",IF(内訳明細書入力画面!R163=\"\",内訳明細書入力画面!P163,内訳明細書入力画面!R163))","v":""},null,null,null,{"$f":"IF(AND(内訳明細書入力画面!V163=\"\",内訳明細書入力画面!T163=\"\"),\"\",IF(内訳明細書入力画面!V163=\"\",内訳明細書入力画面!T163,内訳明細書入力画面!V163))","v":""},null,null,null,null,null,null,null,null,null,null,null,null,null,null,null,"",null,null,null,"",null,null,null,""]
[null,{"$f":"IF(内訳明細書入力画面!B164=\"\",\"\",内訳明細書入力画面!B164)","v":""},null,null,null,null,null,null,null,null,null,null,null,null,{"$f":"IF(AND(内訳明細書入力画面!N164=\"\",内訳明細書入力画面!M164=\"\"),\"\",IF(内訳明細書入力画面!N164=\"\",内訳明細書入力画面!M164,内訳明細書入力画面!N164))","v":""},null,null,null,{"$f":"IF(内訳明細書入力画面!O164=\"\",\"\",内訳明細書入力画面!O164)","v":""},null,null,{"$f":"IF(AND(内訳明細書入力画面!R164=\"\",内訳明細書入力画面!P164=\"\"),\"\",IF(内訳明細書入力画面!R164=\"\",内訳明細書入力画面!P164,内訳明細書入力画面!R164))","v":""},null,null,null,{"$f":"IF(AND(内訳明細書入力画面!V164=\"\",内訳明細書入力画面!T164=\"\"),\"\",IF(内訳明細書入力画面!V164=\"\",内訳明細書入力画面!T164,内訳明細書入力画面!V164))","v":""},null,null,null,null,null,null,null,null,null,null,null,null,null,null,null,"",null,null,null,"",null,null,null,""]
[null,{"$f":"IF(内訳明細書入力画面!B165=\"\",\"\",内訳明細書入力画面!B165)","v":""},null,null,null,null,null,null,null,null,null,null,null,null,{"$f":"IF(AND(内訳明細書入力画面!N165=\"\",内訳明細書入力画面!M165=\"\"),\"\",IF(内訳明細書入力画面!N165=\"\",内訳明細書入力画面!M165,内訳明細書入力画面!N165))","v":""},null,null,null,{"$f":"IF(内訳明細書入力画面!O165=\"\",\"\",内訳明細書入力画面!O165)","v":""},null,null,{"$f":"IF(AND(内訳明細書入力画面!R165=\"\",内訳明細書入力画面!P165=\"\"),\"\",IF(内訳明細書入力画面!R165=\"\",内訳明細書入力画面!P165,内訳明細書入力画面!R165))","v":""},null,null,null,{"$f":"IF(AND(内訳明細書入力画面!V165=\"\",内訳明細書入力画面!T165=\"\"),\"\",IF(内訳明細書入力画面!V165=\"\",内訳明細書入力画面!T165,内訳明細書入力画面!V165))","v":""},null,null,null,null,null,null,null,null,null,null,null,null,null,null,null,"",null,null,null,"",null,null,null,""]
[null,{"$f":"IF(内訳明細書入力画面!B166=\"\",\"\",内訳明細書入力画面!B166)","v":""},null,null,null,null,null,null,null,null,null,null,null,null,{"$f":"IF(AND(内訳明細書入力画面!N166=\"\",内訳明細書入力画面!M166=\"\"),\"\",IF(内訳明細書入力画面!N166=\"\",内訳明細書入力画面!M166,内訳明細書入力画面!N166))","v":""},null,null,null,{"$f":"IF(内訳明細書入力画面!O166=\"\",\"\",内訳明細書入力画面!O166)","v":""},null,null,{"$f":"IF(AND(内訳明細書入力画面!R166=\"\",内訳明細書入力画面!P166=\"\"),\"\",IF(内訳明細書入力画面!R166=\"\",内訳明細書入力画面!P166,内訳明細書入力画面!R166))","v":""},null,null,null,{"$f":"IF(AND(内訳明細書入力画面!V166=\"\",内訳明細書入力画面!T166=\"\"),\"\",IF(内訳明細書入力画面!V166=\"\",内訳明細書入力画面!T166,内訳明細書入力画面!V166))","v":""},null,null,null,null,null,null,null,null,null,null,null,null,null,null,null,"",null,null,null,"",null,null,null,""]
[null,{"$f":"IF(内訳明細書入力画面!B167=\"\",\"\",内訳明細書入力画面!B167)","v":""},null,null,null,null,null,null,null,null,null,null,null,null,{"$f":"IF(AND(内訳明細書入力画面!N167=\"\",内訳明細書入力画面!M167=\"\"),\"\",IF(内訳明細書入力画面!N167=\"\",内訳明細書入力画面!M167,内訳明細書入力画面!N167))","v":""},null,null,null,{"$f":"IF(内訳明細書入力画面!O167=\"\",\"\",内訳明細書入力画面!O167)","v":""},null,null,{"$f":"IF(AND(内訳明細書入力画面!R167=\"\",内訳明細書入力画面!P167=\"\"),\"\",IF(内訳明細書入力画面!R167=\"\",内訳明細書入力画面!P167,内訳明細書入力画面!R167))","v":""},null,null,null,{"$f":"IF(AND(内訳明細書入力画面!V167=\"\",内訳明細書入力画面!T167=\"\"),\"\",IF(内訳明細書入力画面!V167=\"\",内訳明細書入力画面!T167,内訳明細書入力画面!V167))","v":""},null,null,null,null,null,null,null,null,null,null,null,null,null,null,null,"",null,null,null,"",null,null,null,""]
[null,{"$f":"IF(内訳明細書入力画面!B168=\"\",\"\",内訳明細書入力画面!B168)","v":""},null,null,null,null,null,null,null,null,null,null,null,null,{"$f":"IF(AND(内訳明細書入力画面!N168=\"\",内訳明細書入力画面!M168=\"\"),\"\",IF(内訳明細書入力画面!N168=\"\",内訳明細書入力画面!M168,内訳明細書入力画面!N168))","v":""},null,null,null,{"$f":"IF(内訳明細書入力画面!O168=\"\",\"\",内訳明細書入力画面!O168)","v":""},null,null,{"$f":"IF(AND(内訳明細書入力画面!R168=\"\",内訳明細書入力画面!P168=\"\"),\"\",IF(内訳明細書入力画面!R168=\"\",内訳明細書入力画面!P168,内訳明細書入力画面!R168))","v":""},null,null,null,{"$f":"IF(AND(内訳明細書入力画面!V168=\"\",内訳明細書入力画面!T168=\"\"),\"\",IF(内訳明細書入力画面!V168=\"\",内訳明細書入力画面!T168,内訳明細書入力画面!V168))","v":""},null,null,null,null,null,null,null,null,null,null,null,null,null,null,null,"",null,null,null,"",null,null,null,""]
[null,{"$f":"IF(内訳明細書入力画面!B169=\"\",\"\",内訳明細書入力画面!B169)","v":""},null,null,null,null,null,null,null,null,null,null,null,null,{"$f":"IF(AND(内訳明細書入力画面!N169=\"\",内訳明細書入力画面!M169=\"\"),\"\",IF(内訳明細書入力画面!N169=\"\",内訳明細書入力画面!M169,内訳明細書入力画面!N169))","v":""},null,null,null,{"$f":"IF(内訳明細書入力画面!O169=\"\",\"\",内訳明細書入力画面!O169)","v":""},null,null,{"$f":"IF(AND(内訳明細書入力画面!R169=\"\",内訳明細書入力画面!P169=\"\"),\"\",IF(内訳明細書入力画面!R169=\"\",内訳明細書入力画面!P169,内訳明細書入力画面!R169))","v":""},null,null,null,{"$f":"IF(AND(内訳明細書入力画面!V169=\"\",内訳明細書入力画面!T169=\"\"),\"\",IF(内訳明細書入力画面!V169=\"\",内訳明細書入力画面!T169,内訳明細書入力画面!V169))","v":""},null,null,null,null,null,null,null,null,null,null,null,null,null,null,null,"",null,null,null,"",null,null,null,""]
[null,{"$f":"IF(内訳明細書入力画面!B170=\"\",\"\",内訳明細書入力画面!B170)","v":""},null,null,null,null,null,null,null,null,null,null,null,null,{"$f":"IF(AND(内訳明細書入力画面!N170=\"\",内訳明細書入力画面!M170=\"\"),\"\",IF(内訳明細書入力画面!N170=\"\",内訳明細書入力画面!M170,内訳明細書入力画面!N170))","v":""},null,null,null,{"$f":"IF(内訳明細書入力画面!O170=\"\",\"\",内訳明細書入力画面!O170)","v":""},null,null,{"$f":"IF(AND(内訳明細書入力画面!R170=\"\",内訳明細書入力画面!P170=\"\"),\"\",IF(内訳明細書入力画面!R170=\"\",内訳明細書入力画面!P170,内訳明細書入力画面!R170))","v":""},null,null,null,{"$f":"IF(AND(内訳明細書入力画面!V170=\"\",内訳明細書入力画面!T170=\"\"),\"\",IF(内訳明細書入力画面!V170=\"\",内訳明細書入力画面!T170,内訳明細書入力画面!V170))","v":""},null,null,null,null,null,null,null,null,null,null,null,null,null,null,null,"",null,null,null,"",null,null,null,""]
[null,{"$f":"IF(内訳明細書入力画面!B171=\"\",\"\",内訳明細書入力画面!B171)","v":""},null,null,null,null,null,null,null,null,null,null,null,null,{"$f":"IF(AND(内訳明細書入力画面!N171=\"\",内訳明細書入力画面!M171=\"\"),\"\",IF(内訳明細書入力画面!N171=\"\",内訳明細書入力画面!M171,内訳明細書入力画面!N171))","v":""},null,null,null,{"$f":"IF(内訳明細書入力画面!O171=\"\",\"\",内訳明細書入力画面!O171)","v":""},null,null,{"$f":"IF(AND(内訳明細書入力画面!R171=\"\",内訳明細書入力画面!P171=\"\"),\"\",IF(内訳明細書入力画面!R171=\"\",内訳明細書入力画面!P171,内訳明細書入力画面!R171))","v":""},null,null,null,{"$f":"IF(AND(内訳明細書入力画面!V171=\"\",内訳明細書入力画面!T171=\"\"),\"\",IF(内訳明細書入力画面!V171=\"\",内訳明細書入力画面!T171,内訳明細書入力画面!V171))","v":""},null,null,null,null,null,null,null,null,null,null,null,null,null,null,null,"",null,null,null,"",null,null,null,""]
[null,{"$f":"IF(内訳明細書入力画面!B172=\"\",\"\",内訳明細書入力画面!B172)","v":""},null,null,null,null,null,null,null,null,null,null,null,null,{"$f":"IF(AND(内訳明細書入力画面!N172=\"\",内訳明細書入力画面!M172=\"\"),\"\",IF(内訳明細書入力画面!N172=\"\",内訳明細書入力画面!M172,内訳明細書入力画面!N172))","v":""},null,null,null,{"$f":"IF(内訳明細書入力画面!O172=\"\",\"\",内訳明細書入力画面!O172)","v":""},null,null,{"$f":"IF(AND(内訳明細書入力画面!R172=\"\",内訳明細書入力画面!P172=\"\"),\"\",IF(内訳明細書入力画面!R172=\"\",内訳明細書入力画面!P172,内訳明細書入力画面!R172))","v":""},null,null,null,{"$f":"IF(AND(内訳明細書入力画面!V172=\"\",内訳明細書入力画面!T172=\"\"),\"\",IF(内訳明細書入力画面!V172=\"\",内訳明細書入力画面!T172,内訳明細書入力画面!V172))","v":""},null,null,null,null,null,null,null,null,null,null,null,null,null,null,null,"",null,null,null,"",null,null,null,""]
[null,{"$f":"IF(内訳明細書入力画面!B173=\"\",\"\",内訳明細書入力画面!B173)","v":""},null,null,null,null,null,null,null,null,null,null,null,null,{"$f":"IF(AND(内訳明細書入力画面!N173=\"\",内訳明細書入力画面!M173=\"\"),\"\",IF(内訳明細書入力画面!N173=\"\",内訳明細書入力画面!M173,内訳明細書入力画面!N173))","v":""},null,null,null,{"$f":"IF(内訳明細書入力画面!O173=\"\",\"\",内訳明細書入力画面!O173)","v":""},null,null,{"$f":"IF(AND(内訳明細書入力画面!R173=\"\",内訳明細書入力画面!P173=\"\"),\"\",IF(内訳明細書入力画面!R173=\"\",内訳明細書入力画面!P173,内訳明細書入力画面!R173))","v":""},null,null,null,{"$f":"IF(AND(内訳明細書入力画面!V173=\"\",内訳明細書入力画面!T173=\"\"),\"\",IF(内訳明細書入力画面!V173=\"\",内訳明細書入力画面!T173,内訳明細書入力画面!V173))","v":""},null,null,null,null,null,null,null,null,null,null,null,null,null,null,null,"",null,null,null,"",null,null,null,""]
[null,{"$f":"IF(内訳明細書入力画面!B174=\"\",\"\",内訳明細書入力画面!B174)","v":""},null,null,null,null,null,null,null,null,null,null,null,null,{"$f":"IF(AND(内訳明細書入力画面!N174=\"\",内訳明細書入力画面!M174=\"\"),\"\",IF(内訳明細書入力画面!N174=\"\",内訳明細書入力画面!M174,内訳明細書入力画面!N174))","v":""},null,null,null,{"$f":"IF(内訳明細書入力画面!O174=\"\",\"\",内訳明細書入力画面!O174)","v":""},null,null,{"$f":"IF(AND(内訳明細書入力画面!R174=\"\",内訳明細書入力画面!P174=\"\"),\"\",IF(内訳明細書入力画面!R174=\"\",内訳明細書入力画面!P174,内訳明細書入力画面!R174))","v":""},null,null,null,{"$f":"IF(AND(内訳明細書入力画面!V174=\"\",内訳明細書入力画面!T174=\"\"),\"\",IF(内訳明細書入力画面!V174=\"\",内訳明細書入力画面!T174,内訳明細書入力画面!V174))","v":""},null,null,null,null,null,null,null,null,null,null,null,null,null,null,null,"",null,null,null,"",null,null,null,""]
[null,{"$f":"IF(内訳明細書入力画面!B175=\"\",\"\",内訳明細書入力画面!B175)","v":""},null,null,null,null,null,null,null,null,null,null,null,null,{"$f":"IF(AND(内訳明細書入力画面!N175=\"\",内訳明細書入力画面!M175=\"\"),\"\",IF(内訳明細書入力画面!N175=\"\",内訳明細書入力画面!M175,内訳明細書入力画面!N175))","v":""},null,null,null,{"$f":"IF(内訳明細書入力画面!O175=\"\",\"\",内訳明細書入力画面!O175)","v":""},null,null,{"$f":"IF(AND(内訳明細書入力画面!R175=\"\",内訳明細書入力画面!P175=\"\"),\"\",IF(内訳明細書入力画面!R175=\"\",内訳明細書入力画面!P175,内訳明細書入力画面!R175))","v":""},null,null,null,{"$f":"IF(AND(内訳明細書入力画面!V175=\"\",内訳明細書入力画面!T175=\"\"),\"\",IF(内訳明細書入力画面!V175=\"\",内訳明細書入力画面!T175,内訳明細書入力画面!V175))","v":""},null,null,null,null,null,null,null,null,null,null,null,null,null,null,null,"",null,null,null,"",null,null,null,""]
[{"$f":"((ROW()-11)+15)/15","v":12},{"$f":"IF(内訳明細書入力画面!B176=\"\",\"\",内訳明細書入力画面!B176)","v":""},null,null,null,null,null,null,null,null,null,null,null,null,{"$f":"IF(AND(内訳明細書入力画面!N176=\"\",内訳明細書入力画面!M176=\"\"),\"\",IF(内訳明細書入力画面!N176=\"\",内訳明細書入力画面!M176,内訳明細書入力画面!N176))","v":""},null,null,null,{"$f":"IF(内訳明細書入力画面!O176=\"\",\"\",内訳明細書入力画面!O176)","v":""},null,null,{"$f":"IF(AND(内訳明細書入力画面!R176=\"\",内訳明細書入力画面!P176=\"\"),\"\",IF(内訳明細書入力画面!R176=\"\",内訳明細書入力画面!P176,内訳明細書入力画面!R176))","v":""},null,null,null,{"$f":"IF(AND(内訳明細書入力画面!V176=\"\",内訳明細書入力画面!T176=\"\"),\"\",IF(内訳明細書入力画面!V176=\"\",内訳明細書入力画面!T176,内訳明細書入力画面!V176))","v":""},null,null,null,null,null,null,null,null,null,null,null,null,null,null,null,"",null,null,null,"",null,null,null,""]
[null,{"$f":"IF(内訳明細書入力画面!B177=\"\",\"\",内訳明細書入力画面!B177)","v":""},null,null,null,null,null,null,null,null,null,null,null,null,{"$f":"IF(AND(内訳明細書入力画面!N177=\"\",内訳明細書入力画面!M177=\"\"),\"\",IF(内訳明細書入力画面!N177=\"\",内訳明細書入力画面!M177,内訳明細書入力画面!N177))","v":""},null,null,null,{"$f":"IF(内訳明細書入力画面!O177=\"\",\"\",内訳明細書入力画面!O177)","v":""},null,null,{"$f":"IF(AND(内訳明細書入力画面!R177=\"\",内訳明細書入力画面!P177=\"\"),\"\",IF(内訳明細書入力画面!R177=\"\",内訳明細書入力画面!P177,内訳明細書入力画面!R177))","v":""},null,null,null,{"$f":"IF(AND(内訳明細書入力画面!V177=\"\",内訳明細書入力画面!T177=\"\"),\"\",IF(内訳明細書入力画面!V177=\"\",内訳明細書入力画面!T177,内訳明細書入力画面!V177))","v":""},null,null,null,null,null,null,null,null,null,null,null,null,null,null,null,"",null,null,null,"",null,null,null,""]
[null,{"$f":"IF(内訳明細書入力画面!B178=\"\",\"\",内訳明細書入力画面!B178)","v":""},null,null,null,null,null,null,null,null,null,null,null,null,{"$f":"IF(AND(内訳明細書入力画面!N178=\"\",内訳明細書入力画面!M178=\"\"),\"\",IF(内訳明細書入力画面!N178=\"\",内訳明細書入力画面!M178,内訳明細書入力画面!N178))","v":""},null,null,null,{"$f":"IF(内訳明細書入力画面!O178=\"\",\"\",内訳明細書入力画面!O178)","v":""},null,null,{"$f":"IF(AND(内訳明細書入力画面!R178=\"\",内訳明細書入力画面!P178=\"\"),\"\",IF(内訳明細書入力画面!R178=\"\",内訳明細書入力画面!P178,内訳明細書入力画面!R178))","v":""},null,null,null,{"$f":"IF(AND(内訳明細書入力画面!V178=\"\",内訳明細書入力画面!T178=\"\"),\"\",IF(内訳明細書入力画面!V178=\"\",内訳明細書入力画面!T178,内訳明細書入力画面!V178))","v":""},null,null,null,null,null,null,null,null,null,null,null,null,null,null,null,"",null,null,null,"",null,null,null,""]
[null,{"$f":"IF(内訳明細書入力画面!B179=\"\",\"\",内訳明細書入力画面!B179)","v":""},null,null,null,null,null,null,null,null,null,null,null,null,{"$f":"IF(AND(内訳明細書入力画面!N179=\"\",内訳明細書入力画面!M179=\"\"),\"\",IF(内訳明細書入力画面!N179=\"\",内訳明細書入力画面!M179,内訳明細書入力画面!N179))","v":""},null,null,null,{"$f":"IF(内訳明細書入力画面!O179=\"\",\"\",内訳明細書入力画面!O179)","v":""},null,null,{"$f":"IF(AND(内訳明細書入力画面!R179=\"\",内訳明細書入力画面!P179=\"\"),\"\",IF(内訳明細書入力画面!R179=\"\",内訳明細書入力画面!P179,内訳明細書入力画面!R179))","v":""},null,null,null,{"$f":"IF(AND(内訳明細書入力画面!V179=\"\",内訳明細書入力画面!T179=\"\"),\"\",IF(内訳明細書入力画面!V179=\"\",内訳明細書入力画面!T179,内訳明細書入力画面!V179))","v":""},null,null,null,null,null,null,null,null,null,null,null,null,null,null,null,"",null,null,null,"",null,null,null,""]
[null,{"$f":"IF(内訳明細書入力画面!B180=\"\",\"\",内訳明細書入力画面!B180)","v":""},null,null,null,null,null,null,null,null,null,null,null,null,{"$f":"IF(AND(内訳明細書入力画面!N180=\"\",内訳明細書入力画面!M180=\"\"),\"\",IF(内訳明細書入力画面!N180=\"\",内訳明細書入力画面!M180,内訳明細書入力画面!N180))","v":""},null,null,null,{"$f":"IF(内訳明細書入力画面!O180=\"\",\"\",内訳明細書入力画面!O180)","v":""},null,null,{"$f":"IF(AND(内訳明細書入力画面!R180=\"\",内訳明細書入力画面!P180=\"\"),\"\",IF(内訳明細書入力画面!R180=\"\",内訳明細書入力画面!P180,内訳明細書入力画面!R180))","v":""},null,null,null,{"$f":"IF(AND(内訳明細書入力画面!V180=\"\",内訳明細書入力画面!T180=\"\"),\"\",IF(内訳明細書入力画面!V180=\"\",内訳明細書入力画面!T180,内訳明細書入力画面!V180))","v":""},null,null,null,null,null,null,null,null,null,null,null,null,null,null,null,"",null,null,null,"",null,null,null,""]
[null,{"$f":"IF(内訳明細書入力画面!B181=\"\",\"\",内訳明細書入力画面!B181)","v":""},null,null,null,null,null,null,null,null,null,null,null,null,{"$f":"IF(AND(内訳明細書入力画面!N181=\"\",内訳明細書入力画面!M181=\"\"),\"\",IF(内訳明細書入力画面!N181=\"\",内訳明細書入力画面!M181,内訳明細書入力画面!N181))","v":""},null,null,null,{"$f":"IF(内訳明細書入力画面!O181=\"\",\"\",内訳明細書入力画面!O181)","v":""},null,null,{"$f":"IF(AND(内訳明細書入力画面!R181=\"\",内訳明細書入力画面!P181=\"\"),\"\",IF(内訳明細書入力画面!R181=\"\",内訳明細書入力画面!P181,内訳明細書入力画面!R181))","v":""},null,null,null,{"$f":"IF(AND(内訳明細書入力画面!V181=\"\",内訳明細書入力画面!T181=\"\"),\"\",IF(内訳明細書入力画面!V181=\"\",内訳明細書入力画面!T181,内訳明細書入力画面!V181))","v":""},null,null,null,null,null,null,null,null,null,null,null,null,null,null,null,"",null,null,null,"",null,null,null,""]
[null,{"$f":"IF(内訳明細書入力画面!B182=\"\",\"\",内訳明細書入力画面!B182)","v":""},null,null,null,null,null,null,null,null,null,null,null,null,{"$f":"IF(AND(内訳明細書入力画面!N182=\"\",内訳明細書入力画面!M182=\"\"),\"\",IF(内訳明細書入力画面!N182=\"\",内訳明細書入力画面!M182,内訳明細書入力画面!N182))","v":""},null,null,null,{"$f":"IF(内訳明細書入力画面!O182=\"\",\"\",内訳明細書入力画面!O182)","v":""},null,null,{"$f":"IF(AND(内訳明細書入力画面!R182=\"\",内訳明細書入力画面!P182=\"\"),\"\",IF(内訳明細書入力画面!R182=\"\",内訳明細書入力画面!P182,内訳明細書入力画面!R182))","v":""},null,null,null,{"$f":"IF(AND(内訳明細書入力画面!V182=\"\",内訳明細書入力画面!T182=\"\"),\"\",IF(内訳明細書入力画面!V182=\"\",内訳明細書入力画面!T182,内訳明細書入力画面!V182))","v":""},null,null,null,null,null,null,null,null,null,null,null,null,null,null,null,"",null,null,null,"",null,null,null,""]
[null,{"$f":"IF(内訳明細書入力画面!B183=\"\",\"\",内訳明細書入力画面!B183)","v":""},null,null,null,null,null,null,null,null,null,null,null,null,{"$f":"IF(AND(内訳明細書入力画面!N183=\"\",内訳明細書入力画面!M183=\"\"),\"\",IF(内訳明細書入力画面!N183=\"\",内訳明細書入力画面!M183,内訳明細書入力画面!N183))","v":""},null,null,null,{"$f":"IF(内訳明細書入力画面!O183=\"\",\"\",内訳明細書入力画面!O183)","v":""},null,null,{"$f":"IF(AND(内訳明細書入力画面!R183=\"\",内訳明細書入力画面!P183=\"\"),\"\",IF(内訳明細書入力画面!R183=\"\",内訳明細書入力画面!P183,内訳明細書入力画面!R183))","v":""},null,null,null,{"$f":"IF(AND(内訳明細書入力画面!V183=\"\",内訳明細書入力画面!T183=\"\"),\"\",IF(内訳明細書入力画面!V183=\"\",内訳明細書入力画面!T183,内訳明細書入力画面!V183))","v":""},null,null,null,null,null,null,null,null,null,null,null,null,null,null,null,"",null,null,null,"",null,null,null,""]
[null,{"$f":"IF(内訳明細書入力画面!B184=\"\",\"\",内訳明細書入力画面!B184)","v":""},null,null,null,null,null,null,null,null,null,null,null,null,{"$f":"IF(AND(内訳明細書入力画面!N184=\"\",内訳明細書入力画面!M184=\"\"),\"\",IF(内訳明細書入力画面!N184=\"\",内訳明細書入力画面!M184,内訳明細書入力画面!N184))","v":""},null,null,null,{"$f":"IF(内訳明細書入力画面!O184=\"\",\"\",内訳明細書入力画面!O184)","v":""},null,null,{"$f":"IF(AND(内訳明細書入力画面!R184=\"\",内訳明細書入力画面!P184=\"\"),\"\",IF(内訳明細書入力画面!R184=\"\",内訳明細書入力画面!P184,内訳明細書入力画面!R184))","v":""},null,null,null,{"$f":"IF(AND(内訳明細書入力画面!V184=\"\",内訳明細書入力画面!T184=\"\"),\"\",IF(内訳明細書入力画面!V184=\"\",内訳明細書入力画面!T184,内訳明細書入力画面!V184))","v":""},null,null,null,null,null,null,null,null,null,null,null,null,null,null,null,"",null,null,null,"",null,null,null,""]
[null,{"$f":"IF(内訳明細書入力画面!B185=\"\",\"\",内訳明細書入力画面!B185)","v":""},null,null,null,null,null,null,null,null,null,null,null,null,{"$f":"IF(AND(内訳明細書入力画面!N185=\"\",内訳明細書入力画面!M185=\"\"),\"\",IF(内訳明細書入力画面!N185=\"\",内訳明細書入力画面!M185,内訳明細書入力画面!N185))","v":""},null,null,null,{"$f":"IF(内訳明細書入力画面!O185=\"\",\"\",内訳明細書入力画面!O185)","v":""},null,null,{"$f":"IF(AND(内訳明細書入力画面!R185=\"\",内訳明細書入力画面!P185=\"\"),\"\",IF(内訳明細書入力画面!R185=\"\",内訳明細書入力画面!P185,内訳明細書入力画面!R185))","v":""},null,null,null,{"$f":"IF(AND(内訳明細書入力画面!V185=\"\",内訳明細書入力画面!T185=\"\"),\"\",IF(内訳明細書入力画面!V185=\"\",内訳明細書入力画面!T185,内訳明細書入力画面!V185))","v":""},null,null,null,null,null,null,null,null,null,null,null,null,null,null,null,"",null,null,null,"",null,null,null,""]
[null,{"$f":"IF(内訳明細書入力画面!B186=\"\",\"\",内訳明細書入力画面!B186)","v":""},null,null,null,null,null,null,null,null,null,null,null,null,{"$f":"IF(AND(内訳明細書入力画面!N186=\"\",内訳明細書入力画面!M186=\"\"),\"\",IF(内訳明細書入力画面!N186=\"\",内訳明細書入力画面!M186,内訳明細書入力画面!N186))","v":""},null,null,null,{"$f":"IF(内訳明細書入力画面!O186=\"\",\"\",内訳明細書入力画面!O186)","v":""},null,null,{"$f":"IF(AND(内訳明細書入力画面!R186=\"\",内訳明細書入力画面!P186=\"\"),\"\",IF(内訳明細書入力画面!R186=\"\",内訳明細書入力画面!P186,内訳明細書入力画面!R186))","v":""},null,null,null,{"$f":"IF(AND(内訳明細書入力画面!V186=\"\",内訳明細書入力画面!T186=\"\"),\"\",IF(内訳明細書入力画面!V186=\"\",内訳明細書入力画面!T186,内訳明細書入力画面!V186))","v":""},null,null,null,null,null,null,null,null,null,null,null,null,null,null,null,"",null,null,null,"",null,null,null,""]
[null,{"$f":"IF(内訳明細書入力画面!B187=\"\",\"\",内訳明細書入力画面!B187)","v":""},null,null,null,null,null,null,null,null,null,null,null,null,{"$f":"IF(AND(内訳明細書入力画面!N187=\"\",内訳明細書入力画面!M187=\"\"),\"\",IF(内訳明細書入力画面!N187=\"\",内訳明細書入力画面!M187,内訳明細書入力画面!N187))","v":""},null,null,null,{"$f":"IF(内訳明細書入力画面!O187=\"\",\"\",内訳明細書入力画面!O187)","v":""},null,null,{"$f":"IF(AND(内訳明細書入力画面!R187=\"\",内訳明細書入力画面!P187=\"\"),\"\",IF(内訳明細書入力画面!R187=\"\",内訳明細書入力画面!P187,内訳明細書入力画面!R187))","v":""},null,null,null,{"$f":"IF(AND(内訳明細書入力画面!V187=\"\",内訳明細書入力画面!T187=\"\"),\"\",IF(内訳明細書入力画面!V187=\"\",内訳明細書入力画面!T187,内訳明細書入力画面!V187))","v":""},null,null,null,null,null,null,null,null,null,null,null,null,null,null,null,"",null,null,null,"",null,null,null,""]
[null,{"$f":"IF(内訳明細書入力画面!B188=\"\",\"\",内訳明細書入力画面!B188)","v":""},null,null,null,null,null,null,null,null,null,null,null,null,{"$f":"IF(AND(内訳明細書入力画面!N188=\"\",内訳明細書入力画面!M188=\"\"),\"\",IF(内訳明細書入力画面!N188=\"\",内訳明細書入力画面!M188,内訳明細書入力画面!N188))","v":""},null,null,null,{"$f":"IF(内訳明細書入力画面!O188=\"\",\"\",内訳明細書入力画面!O188)","v":""},null,null,{"$f":"IF(AND(内訳明細書入力画面!R188=\"\",内訳明細書入力画面!P188=\"\"),\"\",IF(内訳明細書入力画面!R188=\"\",内訳明細書入力画面!P188,内訳明細書入力画面!R188))","v":""},null,null,null,{"$f":"IF(AND(内訳明細書入力画面!V188=\"\",内訳明細書入力画面!T188=\"\"),\"\",IF(内訳明細書入力画面!V188=\"\",内訳明細書入力画面!T188,内訳明細書入力画面!V188))","v":""},null,null,null,null,null,null,null,null,null,null,null,null,null,null,null,"",null,null,null,"",null,null,null,""]
[null,{"$f":"IF(内訳明細書入力画面!B189=\"\",\"\",内訳明細書入力画面!B189)","v":""},null,null,null,null,null,null,null,null,null,null,null,null,{"$f":"IF(AND(内訳明細書入力画面!N189=\"\",内訳明細書入力画面!M189=\"\"),\"\",IF(内訳明細書入力画面!N189=\"\",内訳明細書入力画面!M189,内訳明細書入力画面!N189))","v":""},null,null,null,{"$f":"IF(内訳明細書入力画面!O189=\"\",\"\",内訳明細書入力画面!O189)","v":""},null,null,{"$f":"IF(AND(内訳明細書入力画面!R189=\"\",内訳明細書入力画面!P189=\"\"),\"\",IF(内訳明細書入力画面!R189=\"\",内訳明細書入力画面!P189,内訳明細書入力画面!R189))","v":""},null,null,null,{"$f":"IF(AND(内訳明細書入力画面!V189=\"\",内訳明細書入力画面!T189=\"\"),\"\",IF(内訳明細書入力画面!V189=\"\",内訳明細書入力画面!T189,内訳明細書入力画面!V189))","v":""},null,null,null,null,null,null,null,null,null,null,null,null,null,null,null,"",null,null,null,"",null,null,null,""]
[null,{"$f":"IF(内訳明細書入力画面!B190=\"\",\"\",内訳明細書入力画面!B190)","v":""},null,null,null,null,null,null,null,null,null,null,null,null,{"$f":"IF(AND(内訳明細書入力画面!N190=\"\",内訳明細書入力画面!M190=\"\"),\"\",IF(内訳明細書入力画面!N190=\"\",内訳明細書入力画面!M190,内訳明細書入力画面!N190))","v":""},null,null,null,{"$f":"IF(内訳明細書入力画面!O190=\"\",\"\",内訳明細書入力画面!O190)","v":""},null,null,{"$f":"IF(AND(内訳明細書入力画面!R190=\"\",内訳明細書入力画面!P190=\"\"),\"\",IF(内訳明細書入力画面!R190=\"\",内訳明細書入力画面!P190,内訳明細書入力画面!R190))","v":""},null,null,null,{"$f":"IF(AND(内訳明細書入力画面!V190=\"\",内訳明細書入力画面!T190=\"\"),\"\",IF(内訳明細書入力画面!V190=\"\",内訳明細書入力画面!T190,内訳明細書入力画面!V190))","v":""},null,null,null,null,null,null,null,null,null,null,null,null,null,null,null,"",null,null,null,"",null,null,null,""]
[{"$f":"((ROW()-11)+15)/15","v":13},{"$f":"IF(内訳明細書入力画面!B191=\"\",\"\",内訳明細書入力画面!B191)","v":""},null,null,null,null,null,null,null,null,null,null,null,null,{"$f":"IF(AND(内訳明細書入力画面!N191=\"\",内訳明細書入力画面!M191=\"\"),\"\",IF(内訳明細書入力画面!N191=\"\",内訳明細書入力画面!M191,内訳明細書入力画面!N191))","v":""},null,null,null,{"$f":"IF(内訳明細書入力画面!O191=\"\",\"\",内訳明細書入力画面!O191)","v":""},null,null,{"$f":"IF(AND(内訳明細書入力画面!R191=\"\",内訳明細書入力画面!P191=\"\"),\"\",IF(内訳明細書入力画面!R191=\"\",内訳明細書入力画面!P191,内訳明細書入力画面!R191))","v":""},null,null,null,{"$f":"IF(AND(内訳明細書入力画面!V191=\"\",内訳明細書入力画面!T191=\"\"),\"\",IF(内訳明細書入力画面!V191=\"\",内訳明細書入力画面!T191,内訳明細書入力画面!V191))","v":""},null,null,null,null,null,null,null,null,null,null,null,null,null,null,null,"",null,null,null,"",null,null,null,""]
[null,{"$f":"IF(内訳明細書入力画面!B192=\"\",\"\",内訳明細書入力画面!B192)","v":""},null,null,null,null,null,null,null,null,null,null,null,null,{"$f":"IF(AND(内訳明細書入力画面!N192=\"\",内訳明細書入力画面!M192=\"\"),\"\",IF(内訳明細書入力画面!N192=\"\",内訳明細書入力画面!M192,内訳明細書入力画面!N192))","v":""},null,null,null,{"$f":"IF(内訳明細書入力画面!O192=\"\",\"\",内訳明細書入力画面!O192)","v":""},null,null,{"$f":"IF(AND(内訳明細書入力画面!R192=\"\",内訳明細書入力画面!P192=\"\"),\"\",IF(内訳明細書入力画面!R192=\"\",内訳明細書入力画面!P192,内訳明細書入力画面!R192))","v":""},null,null,null,{"$f":"IF(AND(内訳明細書入力画面!V192=\"\",内訳明細書入力画面!T192=\"\"),\"\",IF(内訳明細書入力画面!V192=\"\",内訳明細書入力画面!T192,内訳明細書入力画面!V192))","v":""},null,null,null,null,null,null,null,null,null,null,null,null,null,null,null,"",null,null,null,"",null,null,null,""]
[null,{"$f":"IF(内訳明細書入力画面!B193=\"\",\"\",内訳明細書入力画面!B193)","v":""},null,null,null,null,null,null,null,null,null,null,null,null,{"$f":"IF(AND(内訳明細書入力画面!N193=\"\",内訳明細書入力画面!M193=\"\"),\"\",IF(内訳明細書入力画面!N193=\"\",内訳明細書入力画面!M193,内訳明細書入力画面!N193))","v":""},null,null,null,{"$f":"IF(内訳明細書入力画面!O193=\"\",\"\",内訳明細書入力画面!O193)","v":""},null,null,{"$f":"IF(AND(内訳明細書入力画面!R193=\"\",内訳明細書入力画面!P193=\"\"),\"\",IF(内訳明細書入力画面!R193=\"\",内訳明細書入力画面!P193,内訳明細書入力画面!R193))","v":""},null,null,null,{"$f":"IF(AND(内訳明細書入力画面!V193=\"\",内訳明細書入力画面!T193=\"\"),\"\",IF(内訳明細書入力画面!V193=\"\",内訳明細書入力画面!T193,内訳明細書入力画面!V193))","v":""},null,null,null,null,null,null,null,null,null,null,null,null,null,null,null,"",null,null,null,"",null,null,null,""]
[null,{"$f":"IF(内訳明細書入力画面!B194=\"\",\"\",内訳明細書入力画面!B194)","v":""},null,null,null,null,null,null,null,null,null,null,null,null,{"$f":"IF(AND(内訳明細書入力画面!N194=\"\",内訳明細書入力画面!M194=\"\"),\"\",IF(内訳明細書入力画面!N194=\"\",内訳明細書入力画面!M194,内訳明細書入力画面!N194))","v":""},null,null,null,{"$f":"IF(内訳明細書入力画面!O194=\"\",\"\",内訳明細書入力画面!O194)","v":""},null,null,{"$f":"IF(AND(内訳明細書入力画面!R194=\"\",内訳明細書入力画面!P194=\"\"),\"\",IF(内訳明細書入力画面!R194=\"\",内訳明細書入力画面!P194,内訳明細書入力画面!R194))","v":""},null,null,null,{"$f":"IF(AND(内訳明細書入力画面!V194=\"\",内訳明細書入力画面!T194=\"\"),\"\",IF(内訳明細書入力画面!V194=\"\",内訳明細書入力画面!T194,内訳明細書入力画面!V194))","v":""},null,null,null,null,null,null,null,null,null,null,null,null,null,null,null,"",null,null,null,"",null,null,null,""]
[null,{"$f":"IF(内訳明細書入力画面!B195=\"\",\"\",内訳明細書入力画面!B195)","v":""},null,null,null,null,null,null,null,null,null,null,null,null,{"$f":"IF(AND(内訳明細書入力画面!N195=\"\",内訳明細書入力画面!M195=\"\"),\"\",IF(内訳明細書入力画面!N195=\"\",内訳明細書入力画面!M195,内訳明細書入力画面!N195))","v":""},null,null,null,{"$f":"IF(内訳明細書入力画面!O195=\"\",\"\",内訳明細書入力画面!O195)","v":""},null,null,{"$f":"IF(AND(内訳明細書入力画面!R195=\"\",内訳明細書入力画面!P195=\"\"),\"\",IF(内訳明細書入力画面!R195=\"\",内訳明細書入力画面!P195,内訳明細書入力画面!R195))","v":""},null,null,null,{"$f":"IF(AND(内訳明細書入力画面!V195=\"\",内訳明細書入力画面!T195=\"\"),\"\",IF(内訳明細書入力画面!V195=\"\",内訳明細書入力画面!T195,内訳明細書入力画面!V195))","v":""},null,null,null,null,null,null,null,null,null,null,null,null,null,null,null,"",null,null,null,"",null,null,null,""]
[null,{"$f":"IF(内訳明細書入力画面!B196=\"\",\"\",内訳明細書入力画面!B196)","v":""},null,null,null,null,null,null,null,null,null,null,null,null,{"$f":"IF(AND(内訳明細書入力画面!N196=\"\",内訳明細書入力画面!M196=\"\"),\"\",IF(内訳明細書入力画面!N196=\"\",内訳明細書入力画面!M196,内訳明細書入力画面!N196))","v":""},null,null,null,{"$f":"IF(内訳明細書入力画面!O196=\"\",\"\",内訳明細書入力画面!O196)","v":""},null,null,{"$f":"IF(AND(内訳明細書入力画面!R196=\"\",内訳明細書入力画面!P196=\"\"),\"\",IF(内訳明細書入力画面!R196=\"\",内訳明細書入力画面!P196,内訳明細書入力画面!R196))","v":""},null,null,null,{"$f":"IF(AND(内訳明細書入力画面!V196=\"\",内訳明細書入力画面!T196=\"\"),\"\",IF(内訳明細書入力画面!V196=\"\",内訳明細書入力画面!T196,内訳明細書入力画面!V196))","v":""},null,null,null,null,null,null,null,null,null,null,null,null,null,null,null,"",null,null,null,"",null,null,null,""]
[null,{"$f":"IF(内訳明細書入力画面!B197=\"\",\"\",内訳明細書入力画面!B197)","v":""},null,null,null,null,null,null,null,null,null,null,null,null,{"$f":"IF(AND(内訳明細書入力画面!N197=\"\",内訳明細書入力画面!M197=\"\"),\"\",IF(内訳明細書入力画面!N197=\"\",内訳明細書入力画面!M197,内訳明細書入力画面!N197))","v":""},null,null,null,{"$f":"IF(内訳明細書入力画面!O197=\"\",\"\",内訳明細書入力画面!O197)","v":""},null,null,{"$f":"IF(AND(内訳明細書入力画面!R197=\"\",内訳明細書入力画面!P197=\"\"),\"\",IF(内訳明細書入力画面!R197=\"\",内訳明細書入力画面!P197,内訳明細書入力画面!R197))","v":""},null,null,null,{"$f":"IF(AND(内訳明細書入力画面!V197=\"\",内訳明細書入力画面!T197=\"\"),\"\",IF(内訳明細書入力画面!V197=\"\",内訳明細書入力画面!T197,内訳明細書入力画面!V197))","v":""},null,null,null,null,null,null,null,null,null,null,null,null,null,null,null,"",null,null,null,"",null,null,null,""]
[null,{"$f":"IF(内訳明細書入力画面!B198=\"\",\"\",内訳明細書入力画面!B198)","v":""},null,null,null,null,null,null,null,null,null,null,null,null,{"$f":"IF(AND(内訳明細書入力画面!N198=\"\",内訳明細書入力画面!M198=\"\"),\"\",IF(内訳明細書入力画面!N198=\"\",内訳明細書入力画面!M198,内訳明細書入力画面!N198))","v":""},null,null,null,{"$f":"IF(内訳明細書入力画面!O198=\"\",\"\",内訳明細書入力画面!O198)","v":""},null,null,{"$f":"IF(AND(内訳明細書入力画面!R198=\"\",内訳明細書入力画面!P198=\"\"),\"\",IF(内訳明細書入力画面!R198=\"\",内訳明細書入力画面!P198,内訳明細書入力画面!R198))","v":""},null,null,null,{"$f":"IF(AND(内訳明細書入力画面!V198=\"\",内訳明細書入力画面!T198=\"\"),\"\",IF(内訳明細書入力画面!V198=\"\",内訳明細書入力画面!T198,内訳明細書入力画面!V198))","v":""},null,null,null,null,null,null,null,null,null,null,null,null,null,null,null,"",null,null,null,"",null,null,null,""]
[null,{"$f":"IF(内訳明細書入力画面!B199=\"\",\"\",内訳明細書入力画面!B199)","v":""},null,null,null,null,null,null,null,null,null,null,null,null,{"$f":"IF(AND(内訳明細書入力画面!N199=\"\",内訳明細書入力画面!M199=\"\"),\"\",IF(内訳明細書入力画面!N199=\"\",内訳明細書入力画面!M199,内訳明細書入力画面!N199))","v":""},null,null,null,{"$f":"IF(内訳明細書入力画面!O199=\"\",\"\",内訳明細書入力画面!O199)","v":""},null,null,{"$f":"IF(AND(内訳明細書入力画面!R199=\"\",内訳明細書入力画面!P199=\"\"),\"\",IF(内訳明細書入力画面!R199=\"\",内訳明細書入力画面!P199,内訳明細書入力画面!R199))","v":""},null,null,null,{"$f":"IF(AND(内訳明細書入力画面!V199=\"\",内訳明細書入力画面!T199=\"\"),\"\",IF(内訳明細書入力画面!V199=\"\",内訳明細書入力画面!T199,内訳明細書入力画面!V199))","v":""},null,null,null,null,null,null,null,null,null,null,null,null,null,null,null,"",null,null,null,"",null,null,null,""]
[null,{"$f":"IF(内訳明細書入力画面!B200=\"\",\"\",内訳明細書入力画面!B200)","v":""},null,null,null,null,null,null,null,null,null,null,null,null,{"$f":"IF(AND(内訳明細書入力画面!N200=\"\",内訳明細書入力画面!M200=\"\"),\"\",IF(内訳明細書入力画面!N200=\"\",内訳明細書入力画面!M200,内訳明細書入力画面!N200))","v":""},null,null,null,{"$f":"IF(内訳明細書入力画面!O200=\"\",\"\",内訳明細書入力画面!O200)","v":""},null,null,{"$f":"IF(AND(内訳明細書入力画面!R200=\"\",内訳明細書入力画面!P200=\"\"),\"\",IF(内訳明細書入力画面!R200=\"\",内訳明細書入力画面!P200,内訳明細書入力画面!R200))","v":""},null,null,null,{"$f":"IF(AND(内訳明細書入力画面!V200=\"\",内訳明細書入力画面!T200=\"\"),\"\",IF(内訳明細書入力画面!V200=\"\",内訳明細書入力画面!T200,内訳明細書入力画面!V200))","v":""},null,null,null,null,null,null,null,null,null,null,null,null,null,null,null,"",null,null,null,"",null,null,null,""]
[null,{"$f":"IF(内訳明細書入力画面!B201=\"\",\"\",内訳明細書入力画面!B201)","v":""},null,null,null,null,null,null,null,null,null,null,null,null,{"$f":"IF(AND(内訳明細書入力画面!N201=\"\",内訳明細書入力画面!M201=\"\"),\"\",IF(内訳明細書入力画面!N201=\"\",内訳明細書入力画面!M201,内訳明細書入力画面!N201))","v":""},null,null,null,{"$f":"IF(内訳明細書入力画面!O201=\"\",\"\",内訳明細書入力画面!O201)","v":""},null,null,{"$f":"IF(AND(内訳明細書入力画面!R201=\"\",内訳明細書入力画面!P201=\"\"),\"\",IF(内訳明細書入力画面!R201=\"\",内訳明細書入力画面!P201,内訳明細書入力画面!R201))","v":""},null,null,null,{"$f":"IF(AND(内訳明細書入力画面!V201=\"\",内訳明細書入力画面!T201=\"\"),\"\",IF(内訳明細書入力画面!V201=\"\",内訳明細書入力画面!T201,内訳明細書入力画面!V201))","v":""},null,null,null,null,null,null,null,null,null,null,null,null,null,null,null,"",null,null,null,"",null,null,null,""]
[null,{"$f":"IF(内訳明細書入力画面!B202=\"\",\"\",内訳明細書入力画面!B202)","v":""},null,null,null,null,null,null,null,null,null,null,null,null,{"$f":"IF(AND(内訳明細書入力画面!N202=\"\",内訳明細書入力画面!M202=\"\"),\"\",IF(内訳明細書入力画面!N202=\"\",内訳明細書入力画面!M202,内訳明細書入力画面!N202))","v":""},null,null,null,{"$f":"IF(内訳明細書入力画面!O202=\"\",\"\",内訳明細書入力画面!O202)","v":""},null,null,{"$f":"IF(AND(内訳明細書入力画面!R202=\"\",内訳明細書入力画面!P202=\"\"),\"\",IF(内訳明細書入力画面!R202=\"\",内訳明細書入力画面!P202,内訳明細書入力画面!R202))","v":""},null,null,null,{"$f":"IF(AND(内訳明細書入力画面!V202=\"\",内訳明細書入力画面!T202=\"\"),\"\",IF(内訳明細書入力画面!V202=\"\",内訳明細書入力画面!T202,内訳明細書入力画面!V202))","v":""},null,null,null,null,null,null,null,null,null,null,null,null,null,null,null,"",null,null,null,"",null,null,null,""]
[null,{"$f":"IF(内訳明細書入力画面!B203=\"\",\"\",内訳明細書入力画面!B203)","v":""},null,null,null,null,null,null,null,null,null,null,null,null,{"$f":"IF(AND(内訳明細書入力画面!N203=\"\",内訳明細書入力画面!M203=\"\"),\"\",IF(内訳明細書入力画面!N203=\"\",内訳明細書入力画面!M203,内訳明細書入力画面!N203))","v":""},null,null,null,{"$f":"IF(内訳明細書入力画面!O203=\"\",\"\",内訳明細書入力画面!O203)","v":""},null,null,{"$f":"IF(AND(内訳明細書入力画面!R203=\"\",内訳明細書入力画面!P203=\"\"),\"\",IF(内訳明細書入力画面!R203=\"\",内訳明細書入力画面!P203,内訳明細書入力画面!R203))","v":""},null,null,null,{"$f":"IF(AND(内訳明細書入力画面!V203=\"\",内訳明細書入力画面!T203=\"\"),\"\",IF(内訳明細書入力画面!V203=\"\",内訳明細書入力画面!T203,内訳明細書入力画面!V203))","v":""},null,null,null,null,null,null,null,null,null,null,null,null,null,null,null,{"$f":"IF(AL203=\"\",\"\",ROUNDDOWN(N(V203)*N(AL203),0))","v":""},null,null,null,"",null,null,null,""]
[null,{"$f":"IF(内訳明細書入力画面!B204=\"\",\"\",内訳明細書入力画面!B204)","v":""},null,null,null,null,null,null,null,null,null,null,null,null,{"$f":"IF(AND(内訳明細書入力画面!N204=\"\",内訳明細書入力画面!M204=\"\"),\"\",IF(内訳明細書入力画面!N204=\"\",内訳明細書入力画面!M204,内訳明細書入力画面!N204))","v":""},null,null,null,{"$f":"IF(内訳明細書入力画面!O204=\"\",\"\",内訳明細書入力画面!O204)","v":""},null,null,{"$f":"IF(AND(内訳明細書入力画面!R204=\"\",内訳明細書入力画面!P204=\"\"),\"\",IF(内訳明細書入力画面!R204=\"\",内訳明細書入力画面!P204,内訳明細書入力画面!R204))","v":""},null,null,null,{"$f":"IF(AND(内訳明細書入力画面!V204=\"\",内訳明細書入力画面!T204=\"\"),\"\",IF(内訳明細書入力画面!V204=\"\",内訳明細書入力画面!T204,内訳明細書入力画面!V204))","v":""},null,null,null,null,null,null,null,null,null,null,null,null,null,null,null,"",null,null,null,"",null,null,null,""]
[null,{"$f":"IF(内訳明細書入力画面!B205=\"\",\"\",内訳明細書入力画面!B205)","v":""},null,null,null,null,null,null,null,null,null,null,null,null,{"$f":"IF(AND(内訳明細書入力画面!N205=\"\",内訳明細書入力画面!M205=\"\"),\"\",IF(内訳明細書入力画面!N205=\"\",内訳明細書入力画面!M205,内訳明細書入力画面!N205))","v":""},null,null,null,{"$f":"IF(内訳明細書入力画面!O205=\"\",\"\",内訳明細書入力画面!O205)","v":""},null,null,{"$f":"IF(AND(内訳明細書入力画面!R205=\"\",内訳明細書入力画面!P205=\"\"),\"\",IF(内訳明細書入力画面!R205=\"\",内訳明細書入力画面!P205,内訳明細書入力画面!R205))","v":""},null,null,null,{"$f":"IF(AND(内訳明細書入力画面!V205=\"\",内訳明細書入力画面!T205=\"\"),\"\",IF(内訳明細書入力画面!V205=\"\",内訳明細書入力画面!T205,内訳明細書入力画面!V205))","v":""},null,null,null,null,null,null,null,null,null,null,null,null,null,null,null,"",null,null,null,"",null,null,null,""]
[{"$f":"((ROW()-11)+15)/15","v":14},{"$f":"IF(内訳明細書入力画面!B206=\"\",\"\",内訳明細書入力画面!B206)","v":""},null,null,null,null,null,null,null,null,null,null,null,null,{"$f":"IF(AND(内訳明細書入力画面!N206=\"\",内訳明細書入力画面!M206=\"\"),\"\",IF(内訳明細書入力画面!N206=\"\",内訳明細書入力画面!M206,内訳明細書入力画面!N206))","v":""},null,null,null,{"$f":"IF(内訳明細書入力画面!O206=\"\",\"\",内訳明細書入力画面!O206)","v":""},null,null,{"$f":"IF(AND(内訳明細書入力画面!R206=\"\",内訳明細書入力画面!P206=\"\"),\"\",IF(内訳明細書入力画面!R206=\"\",内訳明細書入力画面!P206,内訳明細書入力画面!R206))","v":""},null,null,null,{"$f":"IF(AND(内訳明細書入力画面!V206=\"\",内訳明細書入力画面!T206=\"\"),\"\",IF(内訳明細書入力画面!V206=\"\",内訳明細書入力画面!T206,内訳明細書入力画面!V206))","v":""},null,null,null,null,null,null,null,null,null,null,null,null,null,null,null,"",null,null,null,"",null,null,null,""]
[null,{"$f":"IF(内訳明細書入力画面!B207=\"\",\"\",内訳明細書入力画面!B207)","v":""},null,null,null,null,null,null,null,null,null,null,null,null,{"$f":"IF(AND(内訳明細書入力画面!N207=\"\",内訳明細書入力画面!M207=\"\"),\"\",IF(内訳明細書入力画面!N207=\"\",内訳明細書入力画面!M207,内訳明細書入力画面!N207))","v":""},null,null,null,{"$f":"IF(内訳明細書入力画面!O207=\"\",\"\",内訳明細書入力画面!O207)","v":""},null,null,{"$f":"IF(AND(内訳明細書入力画面!R207=\"\",内訳明細書入力画面!P207=\"\"),\"\",IF(内訳明細書入力画面!R207=\"\",内訳明細書入力画面!P207,内訳明細書入力画面!R207))","v":""},null,null,null,{"$f":"IF(AND(内訳明細書入力画面!V207=\"\",内訳明細書入力画面!T207=\"\"),\"\",IF(内訳明細書入力画面!V207=\"\",内訳明細書入力画面!T207,内訳明細書入力画面!V207))","v":""},null,null,null,null,null,null,null,null,null,null,null,null,null,null,null,"",null,null,null,"",null,null,null,""]
[null,{"$f":"IF(内訳明細書入力画面!B208=\"\",\"\",内訳明細書入力画面!B208)","v":""},null,null,null,null,null,null,null,null,null,null,null,null,{"$f":"IF(AND(内訳明細書入力画面!N208=\"\",内訳明細書入力画面!M208=\"\"),\"\",IF(内訳明細書入力画面!N208=\"\",内訳明細書入力画面!M208,内訳明細書入力画面!N208))","v":""},null,null,null,{"$f":"IF(内訳明細書入力画面!O208=\"\",\"\",内訳明細書入力画面!O208)","v":""},null,null,{"$f":"IF(AND(内訳明細書入力画面!R208=\"\",内訳明細書入力画面!P208=\"\"),\"\",IF(内訳明細書入力画面!R208=\"\",内訳明細書入力画面!P208,内訳明細書入力画面!R208))","v":""},null,null,null,{"$f":"IF(AND(内訳明細書入力画面!V208=\"\",内訳明細書入力画面!T208=\"\"),\"\",IF(内訳明細書入力画面!V208=\"\",内訳明細書入力画面!T208,内訳明細書入力画面!V208))","v":""},null,null,null,null,null,null,null,null,null,null,null,null,null,null,null,"",null,null,null,"",null,null,null,""]
[null,{"$f":"IF(内訳明細書入力画面!B209=\"\",\"\",内訳明細書入力画面!B209)","v":""},null,null,null,null,null,null,null,null,null,null,null,null,{"$f":"IF(AND(内訳明細書入力画面!N209=\"\",内訳明細書入力画面!M209=\"\"),\"\",IF(内訳明細書入力画面!N209=\"\",内訳明細書入力画面!M209,内訳明細書入力画面!N209))","v":""},null,null,null,{"$f":"IF(内訳明細書入力画面!O209=\"\",\"\",内訳明細書入力画面!O209)","v":""},null,null,{"$f":"IF(AND(内訳明細書入力画面!R209=\"\",内訳明細書入力画面!P209=\"\"),\"\",IF(内訳明細書入力画面!R209=\"\",内訳明細書入力画面!P209,内訳明細書入力画面!R209))","v":""},null,null,null,{"$f":"IF(AND(内訳明細書入力画面!V209=\"\",内訳明細書入力画面!T209=\"\"),\"\",IF(内訳明細書入力画面!V209=\"\",内訳明細書入力画面!T209,内訳明細書入力画面!V209))","v":""},null,null,null,null,null,null,null,null,null,null,null,null,null,null,null,"",null,null,null,"",null,null,null,""]
[null,{"$f":"IF(内訳明細書入力画面!B210=\"\",\"\",内訳明細書入力画面!B210)","v":""},null,null,null,null,null,null,null,null,null,null,null,null,{"$f":"IF(AND(内訳明細書入力画面!N210=\"\",内訳明細書入力画面!M210=\"\"),\"\",IF(内訳明細書入力画面!N210=\"\",内訳明細書入力画面!M210,内訳明細書入力画面!N210))","v":""},null,null,null,{"$f":"IF(内訳明細書入力画面!O210=\"\",\"\",内訳明細書入力画面!O210)","v":""},null,null,{"$f":"IF(AND(内訳明細書入力画面!R210=\"\",内訳明細書入力画面!P210=\"\"),\"\",IF(内訳明細書入力画面!R210=\"\",内訳明細書入力画面!P210,内訳明細書入力画面!R210))","v":""},null,null,null,{"$f":"IF(AND(内訳明細書入力画面!V210=\"\",内訳明細書入力画面!T210=\"\"),\"\",IF(内訳明細書入力画面!V210=\"\",内訳明細書入力画面!T210,内訳明細書入力画面!V210))","v":""},null,null,null,null,null,null,null,null,null,null,null,null,null,null,null,"",null,null,null,"",null,null,null,""]
[null,{"$f":"IF(内訳明細書入力画面!B211=\"\",\"\",内訳明細書入力画面!B211)","v":""},null,null,null,null,null,null,null,null,null,null,null,null,{"$f":"IF(AND(内訳明細書入力画面!N211=\"\",内訳明細書入力画面!M211=\"\"),\"\",IF(内訳明細書入力画面!N211=\"\",内訳明細書入力画面!M211,内訳明細書入力画面!N211))","v":""},null,null,null,{"$f":"IF(内訳明細書入力画面!O211=\"\",\"\",内訳明細書入力画面!O211)","v":""},null,null,{"$f":"IF(AND(内訳明細書入力画面!R211=\"\",内訳明細書入力画面!P211=\"\"),\"\",IF(内訳明細書入力画面!R211=\"\",内訳明細書入力画面!P211,内訳明細書入力画面!R211))","v":""},null,null,null,{"$f":"IF(AND(内訳明細書入力画面!V211=\"\",内訳明細書入力画面!T211=\"\"),\"\",IF(内訳明細書入力画面!V211=\"\",内訳明細書入力画面!T211,内訳明細書入力画面!V211))","v":""},null,null,null,null,null,null,null,null,null,null,null,null,null,null,null,"",null,null,null,"",null,null,null,""]
[null,{"$f":"IF(内訳明細書入力画面!B212=\"\",\"\",内訳明細書入力画面!B212)","v":""},null,null,null,null,null,null,null,null,null,null,null,null,{"$f":"IF(AND(内訳明細書入力画面!N212=\"\",内訳明細書入力画面!M212=\"\"),\"\",IF(内訳明細書入力画面!N212=\"\",内訳明細書入力画面!M212,内訳明細書入力画面!N212))","v":""},null,null,null,{"$f":"IF(内訳明細書入力画面!O212=\"\",\"\",内訳明細書入力画面!O212)","v":""},null,null,{"$f":"IF(AND(内訳明細書入力画面!R212=\"\",内訳明細書入力画面!P212=\"\"),\"\",IF(内訳明細書入力画面!R212=\"\",内訳明細書入力画面!P212,内訳明細書入力画面!R212))","v":""},null,null,null,{"$f":"IF(AND(内訳明細書入力画面!V212=\"\",内訳明細書入力画面!T212=\"\"),\"\",IF(内訳明細書入力画面!V212=\"\",内訳明細書入力画面!T212,内訳明細書入力画面!V212))","v":""},null,null,null,null,null,null,null,null,null,null,null,null,null,null,null,"",null,null,null,"",null,null,null,""]
[null,{"$f":"IF(内訳明細書入力画面!B213=\"\",\"\",内訳明細書入力画面!B213)","v":""},null,null,null,null,null,null,null,null,null,null,null,null,{"$f":"IF(AND(内訳明細書入力画面!N213=\"\",内訳明細書入力画面!M213=\"\"),\"\",IF(内訳明細書入力画面!N213=\"\",内訳明細書入力画面!M213,内訳明細書入力画面!N213))","v":""},null,null,null,{"$f":"IF(内訳明細書入力画面!O213=\"\",\"\",内訳明細書入力画面!O213)","v":""},null,null,{"$f":"IF(AND(内訳明細書入力画面!R213=\"\",内訳明細書入力画面!P213=\"\"),\"\",IF(内訳明細書入力画面!R213=\"\",内訳明細書入力画面!P213,内訳明細書入力画面!R213))","v":""},null,null,null,{"$f":"IF(AND(内訳明細書入力画面!V213=\"\",内訳明細書入力画面!T213=\"\"),\"\",IF(内訳明細書入力画面!V213=\"\",内訳明細書入力画面!T213,内訳明細書入力画面!V213))","v":""},null,null,null,null,null,null,null,null,null,null,null,null,null,null,null,"",null,null,null,"",null,null,null,""]
[null,{"$f":"IF(内訳明細書入力画面!B214=\"\",\"\",内訳明細書入力画面!B214)","v":""},null,null,null,null,null,null,null,null,null,null,null,null,{"$f":"IF(AND(内訳明細書入力画面!N214=\"\",内訳明細書入力画面!M214=\"\"),\"\",IF(内訳明細書入力画面!N214=\"\",内訳明細書入力画面!M214,内訳明細書入力画面!N214))","v":""},null,null,null,{"$f":"IF(内訳明細書入力画面!O214=\"\",\"\",内訳明細書入力画面!O214)","v":""},null,null,{"$f":"IF(AND(内訳明細書入力画面!R214=\"\",内訳明細書入力画面!P214=\"\"),\"\",IF(内訳明細書入力画面!R214=\"\",内訳明細書入力画面!P214,内訳明細書入力画面!R214))","v":""},null,null,null,{"$f":"IF(AND(内訳明細書入力画面!V214=\"\",内訳明細書入力画面!T214=\"\"),\"\",IF(内訳明細書入力画面!V214=\"\",内訳明細書入力画面!T214,内訳明細書入力画面!V214))","v":""},null,null,null,null,null,null,null,null,null,null,null,null,null,null,null,"",null,null,null,"",null,null,null,""]
[null,{"$f":"IF(内訳明細書入力画面!B215=\"\",\"\",内訳明細書入力画面!B215)","v":""},null,null,null,null,null,null,null,null,null,null,null,null,{"$f":"IF(AND(内訳明細書入力画面!N215=\"\",内訳明細書入力画面!M215=\"\"),\"\",IF(内訳明細書入力画面!N215=\"\",内訳明細書入力画面!M215,内訳明細書入力画面!N215))","v":""},null,null,null,{"$f":"IF(内訳明細書入力画面!O215=\"\",\"\",内訳明細書入力画面!O215)","v":""},null,null,{"$f":"IF(AND(内訳明細書入力画面!R215=\"\",内訳明細書入力画面!P215=\"\"),\"\",IF(内訳明細書入力画面!R215=\"\",内訳明細書入力画面!P215,内訳明細書入力画面!R215))","v":""},null,null,null,{"$f":"IF(AND(内訳明細書入力画面!V215=\"\",内訳明細書入力画面!T215=\"\"),\"\",IF(内訳明細書入力画面!V215=\"\",内訳明細書入力画面!T215,内訳明細書入力画面!V215))","v":""},null,null,null,null,null,null,null,null,null,null,null,null,null,null,null,"",null,null,null,"",null,null,null,""]
[null,{"$f":"IF(内訳明細書入力画面!B216=\"\",\"\",内訳明細書入力画面!B216)","v":""},null,null,null,null,null,null,null,null,null,null,null,null,{"$f":"IF(AND(内訳明細書入力画面!N216=\"\",内訳明細書入力画面!M216=\"\"),\"\",IF(内訳明細書入力画面!N216=\"\",内訳明細書入力画面!M216,内訳明細書入力画面!N216))","v":""},null,null,null,{"$f":"IF(内訳明細書入力画面!O216=\"\",\"\",内訳明細書入力画面!O216)","v":""},null,null,{"$f":"IF(AND(内訳明細書入力画面!R216=\"\",内訳明細書入力画面!P216=\"\"),\"\",IF(内訳明細書入力画面!R216=\"\",内訳明細書入力画面!P216,内訳明細書入力画面!R216))","v":""},null,null,null,{"$f":"IF(AND(内訳明細書入力画面!V216=\"\",内訳明細書入力画面!T216=\"\"),\"\",IF(内訳明細書入力画面!V216=\"\",内訳明細書入力画面!T216,内訳明細書入力画面!V216))","v":""},null,null,null,null,null,null,null,null,null,null,null,null,null,null,null,"",null,null,null,"",null,null,null,""]
[null,{"$f":"IF(内訳明細書入力画面!B217=\"\",\"\",内訳明細書入力画面!B217)","v":""},null,null,null,null,null,null,null,null,null,null,null,null,{"$f":"IF(AND(内訳明細書入力画面!N217=\"\",内訳明細書入力画面!M217=\"\"),\"\",IF(内訳明細書入力画面!N217=\"\",内訳明細書入力画面!M217,内訳明細書入力画面!N217))","v":""},null,null,null,{"$f":"IF(内訳明細書入力画面!O217=\"\",\"\",内訳明細書入力画面!O217)","v":""},null,null,{"$f":"IF(AND(内訳明細書入力画面!R217=\"\",内訳明細書入力画面!P217=\"\"),\"\",IF(内訳明細書入力画面!R217=\"\",内訳明細書入力画面!P217,内訳明細書入力画面!R217))","v":""},null,null,null,{"$f":"IF(AND(内訳明細書入力画面!V217=\"\",内訳明細書入力画面!T217=\"\"),\"\",IF(内訳明細書入力画面!V217=\"\",内訳明細書入力画面!T217,内訳明細書入力画面!V217))","v":""},null,null,null,null,null,null,null,null,null,null,null,null,null,null,null,"",null,null,null,"",null,null,null,""]
[null,{"$f":"IF(内訳明細書入力画面!B218=\"\",\"\",内訳明細書入力画面!B218)","v":""},null,null,null,null,null,null,null,null,null,null,null,null,{"$f":"IF(AND(内訳明細書入力画面!N218=\"\",内訳明細書入力画面!M218=\"\"),\"\",IF(内訳明細書入力画面!N218=\"\",内訳明細書入力画面!M218,内訳明細書入力画面!N218))","v":""},null,null,null,{"$f":"IF(内訳明細書入力画面!O218=\"\",\"\",内訳明細書入力画面!O218)","v":""},null,null,{"$f":"IF(AND(内訳明細書入力画面!R218=\"\",内訳明細書入力画面!P218=\"\"),\"\",IF(内訳明細書入力画面!R218=\"\",内訳明細書入力画面!P218,内訳明細書入力画面!R218))","v":""},null,null,null,{"$f":"IF(AND(内訳明細書入力画面!V218=\"\",内訳明細書入力画面!T218=\"\"),\"\",IF(内訳明細書入力画面!V218=\"\",内訳明細書入力画面!T218,内訳明細書入力画面!V218))","v":""},null,null,null,null,null,null,null,null,null,null,null,null,null,null,null,"",null,null,null,"",null,null,null,""]
[null,{"$f":"IF(内訳明細書入力画面!B219=\"\",\"\",内訳明細書入力画面!B219)","v":""},null,null,null,null,null,null,null,null,null,null,null,null,{"$f":"IF(AND(内訳明細書入力画面!N219=\"\",内訳明細書入力画面!M219=\"\"),\"\",IF(内訳明細書入力画面!N219=\"\",内訳明細書入力画面!M219,内訳明細書入力画面!N219))","v":""},null,null,null,{"$f":"IF(内訳明細書入力画面!O219=\"\",\"\",内訳明細書入力画面!O219)","v":""},null,null,{"$f":"IF(AND(内訳明細書入力画面!R219=\"\",内訳明細書入力画面!P219=\"\"),\"\",IF(内訳明細書入力画面!R219=\"\",内訳明細書入力画面!P219,内訳明細書入力画面!R219))","v":""},null,null,null,{"$f":"IF(AND(内訳明細書入力画面!V219=\"\",内訳明細書入力画面!T219=\"\"),\"\",IF(内訳明細書入力画面!V219=\"\",内訳明細書入力画面!T219,内訳明細書入力画面!V219))","v":""},null,null,null,null,null,null,null,null,null,null,null,null,null,null,null,"",null,null,null,"",null,null,null,""]
[null,{"$f":"IF(内訳明細書入力画面!B220=\"\",\"\",内訳明細書入力画面!B220)","v":""},null,null,null,null,null,null,null,null,null,null,null,null,{"$f":"IF(AND(内訳明細書入力画面!N220=\"\",内訳明細書入力画面!M220=\"\"),\"\",IF(内訳明細書入力画面!N220=\"\",内訳明細書入力画面!M220,内訳明細書入力画面!N220))","v":""},null,null,null,{"$f":"IF(内訳明細書入力画面!O220=\"\",\"\",内訳明細書入力画面!O220)","v":""},null,null,{"$f":"IF(AND(内訳明細書入力画面!R220=\"\",内訳明細書入力画面!P220=\"\"),\"\",IF(内訳明細書入力画面!R220=\"\",内訳明細書入力画面!P220,内訳明細書入力画面!R220))","v":""},null,null,null,{"$f":"IF(AND(内訳明細書入力画面!V220=\"\",内訳明細書入力画面!T220=\"\"),\"\",IF(内訳明細書入力画面!V220=\"\",内訳明細書入力画面!T220,内訳明細書入力画面!V220))","v":""},null,null,null,null,null,null,null,null,null,null,null,null,null,null,null,"",null,null,null,"",null,null,null,""]
[{"$f":"((ROW()-11)+15)/15","v":15},{"$f":"IF(内訳明細書入力画面!B221=\"\",\"\",内訳明細書入力画面!B221)","v":""},null,null,null,null,null,null,null,null,null,null,null,null,{"$f":"IF(AND(内訳明細書入力画面!N221=\"\",内訳明細書入力画面!M221=\"\"),\"\",IF(内訳明細書入力画面!N221=\"\",内訳明細書入力画面!M221,内訳明細書入力画面!N221))","v":""},null,null,null,{"$f":"IF(内訳明細書入力画面!O221=\"\",\"\",内訳明細書入力画面!O221)","v":""},null,null,{"$f":"IF(AND(内訳明細書入力画面!R221=\"\",内訳明細書入力画面!P221=\"\"),\"\",IF(内訳明細書入力画面!R221=\"\",内訳明細書入力画面!P221,内訳明細書入力画面!R221))","v":""},null,null,null,{"$f":"IF(AND(内訳明細書入力画面!V221=\"\",内訳明細書入力画面!T221=\"\"),\"\",IF(内訳明細書入力画面!V221=\"\",内訳明細書入力画面!T221,内訳明細書入力画面!V221))","v":""},null,null,null,null,null,null,null,null,null,null,null,null,null,null,null,"",null,null,null,"",null,null,null,""]
[null,{"$f":"IF(内訳明細書入力画面!B222=\"\",\"\",内訳明細書入力画面!B222)","v":""},null,null,null,null,null,null,null,null,null,null,null,null,{"$f":"IF(AND(内訳明細書入力画面!N222=\"\",内訳明細書入力画面!M222=\"\"),\"\",IF(内訳明細書入力画面!N222=\"\",内訳明細書入力画面!M222,内訳明細書入力画面!N222))","v":""},null,null,null,{"$f":"IF(内訳明細書入力画面!O222=\"\",\"\",内訳明細書入力画面!O222)","v":""},null,null,{"$f":"IF(AND(内訳明細書入力画面!R222=\"\",内訳明細書入力画面!P222=\"\"),\"\",IF(内訳明細書入力画面!R222=\"\",内訳明細書入力画面!P222,内訳明細書入力画面!R222))","v":""},null,null,null,{"$f":"IF(AND(内訳明細書入力画面!V222=\"\",内訳明細書入力画面!T222=\"\"),\"\",IF(内訳明細書入力画面!V222=\"\",内訳明細書入力画面!T222,内訳明細書入力画面!V222))","v":""},null,null,null,null,null,null,null,null,null,null,null,null,null,null,null,"",null,null,null,"",null,null,null,""]
[null,{"$f":"IF(内訳明細書入力画面!B223=\"\",\"\",内訳明細書入力画面!B223)","v":""},null,null,null,null,null,null,null,null,null,null,null,null,{"$f":"IF(AND(内訳明細書入力画面!N223=\"\",内訳明細書入力画面!M223=\"\"),\"\",IF(内訳明細書入力画面!N223=\"\",内訳明細書入力画面!M223,内訳明細書入力画面!N223))","v":""},null,null,null,{"$f":"IF(内訳明細書入力画面!O223=\"\",\"\",内訳明細書入力画面!O223)","v":""},null,null,{"$f":"IF(AND(内訳明細書入力画面!R223=\"\",内訳明細書入力画面!P223=\"\"),\"\",IF(内訳明細書入力画面!R223=\"\",内訳明細書入力画面!P223,内訳明細書入力画面!R223))","v":""},null,null,null,{"$f":"IF(AND(内訳明細書入力画面!V223=\"\",内訳明細書入力画面!T223=\"\"),\"\",IF(内訳明細書入力画面!V223=\"\",内訳明細書入力画面!T223,内訳明細書入力画面!V223))","v":""},null,null,null,null,null,null,null,null,null,null,null,null,null,null,null,"",null,null,null,{"$f":"IF(AND(AD223=\"\",AL223=\"\"),\"\",N(AD223)+N(AL223))","v":""},null,null,null,{"$f":"IF(AND(AH223=\"\",AP223=\"\"),\"\",N(AH223)+N(AP223))","v":""}]
[null,{"$f":"IF(内訳明細書入力画面!B224=\"\",\"\",内訳明細書入力画面!B224)","v":""},null,null,null,null,null,null,null,null,null,null,null,null,{"$f":"IF(AND(内訳明細書入力画面!N224=\"\",内訳明細書入力画面!M224=\"\"),\"\",IF(内訳明細書入力画面!N224=\"\",内訳明細書入力画面!M224,内訳明細書入力画面!N224))","v":""},null,null,null,{"$f":"IF(内訳明細書入力画面!O224=\"\",\"\",内訳明細書入力画面!O224)","v":""},null,null,{"$f":"IF(AND(内訳明細書入力画面!R224=\"\",内訳明細書入力画面!P224=\"\"),\"\",IF(内訳明細書入力画面!R224=\"\",内訳明細書入力画面!P224,内訳明細書入力画面!R224))","v":""},null,null,null,{"$f":"IF(AND(内訳明細書入力画面!V224=\"\",内訳明細書入力画面!T224=\"\"),\"\",IF(内訳明細書入力画面!V224=\"\",内訳明細書入力画面!T224,内訳明細書入力画面!V224))","v":""},null,null,null,null,null,null,null,null,null,null,null,null,null,null,null,"",null,null,null,"",null,null,null,""]
[null,{"$f":"IF(内訳明細書入力画面!B225=\"\",\"\",内訳明細書入力画面!B225)","v":""},null,null,null,null,null,null,null,null,null,null,null,null,{"$f":"IF(AND(内訳明細書入力画面!N225=\"\",内訳明細書入力画面!M225=\"\"),\"\",IF(内訳明細書入力画面!N225=\"\",内訳明細書入力画面!M225,内訳明細書入力画面!N225))","v":""},null,null,null,{"$f":"IF(内訳明細書入力画面!O225=\"\",\"\",内訳明細書入力画面!O225)","v":""},null,null,{"$f":"IF(AND(内訳明細書入力画面!R225=\"\",内訳明細書入力画面!P225=\"\"),\"\",IF(内訳明細書入力画面!R225=\"\",内訳明細書入力画面!P225,内訳明細書入力画面!R225))","v":""},null,null,null,{"$f":"IF(AND(内訳明細書入力画面!V225=\"\",内訳明細書入力画面!T225=\"\"),\"\",IF(内訳明細書入力画面!V225=\"\",内訳明細書入力画面!T225,内訳明細書入力画面!V225))","v":""},null,null,null,null,null,null,null,null,null,null,null,null,null,null,null,"",null,null,null,"",null,null,null,""]
[null,{"$f":"IF(内訳明細書入力画面!B226=\"\",\"\",内訳明細書入力画面!B226)","v":""},null,null,null,null,null,null,null,null,null,null,null,null,{"$f":"IF(AND(内訳明細書入力画面!N226=\"\",内訳明細書入力画面!M226=\"\"),\"\",IF(内訳明細書入力画面!N226=\"\",内訳明細書入力画面!M226,内訳明細書入力画面!N226))","v":""},null,null,null,{"$f":"IF(内訳明細書入力画面!O226=\"\",\"\",内訳明細書入力画面!O226)","v":""},null,null,{"$f":"IF(AND(内訳明細書入力画面!R226=\"\",内訳明細書入力画面!P226=\"\"),\"\",IF(内訳明細書入力画面!R226=\"\",内訳明細書入力画面!P226,内訳明細書入力画面!R226))","v":""},null,null,null,{"$f":"IF(AND(内訳明細書入力画面!V226=\"\",内訳明細書入力画面!T226=\"\"),\"\",IF(内訳明細書入力画面!V226=\"\",内訳明細書入力画面!T226,内訳明細書入力画面!V226))","v":""},null,null,null,null,null,null,null,null,null,null,null,null,null,null,null,"",null,null,null,"",null,null,null,""]
[null,{"$f":"IF(内訳明細書入力画面!B227=\"\",\"\",内訳明細書入力画面!B227)","v":""},null,null,null,null,null,null,null,null,null,null,null,null,{"$f":"IF(AND(内訳明細書入力画面!N227=\"\",内訳明細書入力画面!M227=\"\"),\"\",IF(内訳明細書入力画面!N227=\"\",内訳明細書入力画面!M227,内訳明細書入力画面!N227))","v":""},null,null,null,{"$f":"IF(内訳明細書入力画面!O227=\"\",\"\",内訳明細書入力画面!O227)","v":""},null,null,{"$f":"IF(AND(内訳明細書入力画面!R227=\"\",内訳明細書入力画面!P227=\"\"),\"\",IF(内訳明細書入力画面!R227=\"\",内訳明細書入力画面!P227,内訳明細書入力画面!R227))","v":""},null,null,null,{"$f":"IF(AND(内訳明細書入力画面!V227=\"\",内訳明細書入力画面!T227=\"\"),\"\",IF(内訳明細書入力画面!V227=\"\",内訳明細書入力画面!T227,内訳明細書入力画面!V227))","v":""},null,null,null,null,null,null,null,null,null,null,null,null,null,null,null,"",null,null,null,"",null,null,null,""]
[null,{"$f":"IF(内訳明細書入力画面!B228=\"\",\"\",内訳明細書入力画面!B228)","v":""},null,null,null,null,null,null,null,null,null,null,null,null,{"$f":"IF(AND(内訳明細書入力画面!N228=\"\",内訳明細書入力画面!M228=\"\"),\"\",IF(内訳明細書入力画面!N228=\"\",内訳明細書入力画面!M228,内訳明細書入力画面!N228))","v":""},null,null,null,{"$f":"IF(内訳明細書入力画面!O228=\"\",\"\",内訳明細書入力画面!O228)","v":""},null,null,{"$f":"IF(AND(内訳明細書入力画面!R228=\"\",内訳明細書入力画面!P228=\"\"),\"\",IF(内訳明細書入力画面!R228=\"\",内訳明細書入力画面!P228,内訳明細書入力画面!R228))","v":""},null,null,null,{"$f":"IF(AND(内訳明細書入力画面!V228=\"\",内訳明細書入力画面!T228=\"\"),\"\",IF(内訳明細書入力画面!V228=\"\",内訳明細書入力画面!T228,内訳明細書入力画面!V228))","v":""},null,null,null,null,null,null,null,null,null,null,null,null,null,null,null,"",null,null,null,"",null,null,null,""]
[null,{"$f":"IF(内訳明細書入力画面!B229=\"\",\"\",内訳明細書入力画面!B229)","v":""},null,null,null,null,null,null,null,null,null,null,null,null,{"$f":"IF(AND(内訳明細書入力画面!N229=\"\",内訳明細書入力画面!M229=\"\"),\"\",IF(内訳明細書入力画面!N229=\"\",内訳明細書入力画面!M229,内訳明細書入力画面!N229))","v":""},null,null,null,{"$f":"IF(内訳明細書入力画面!O229=\"\",\"\",内訳明細書入力画面!O229)","v":""},null,null,{"$f":"IF(AND(内訳明細書入力画面!R229=\"\",内訳明細書入力画面!P229=\"\"),\"\",IF(内訳明細書入力画面!R229=\"\",内訳明細書入力画面!P229,内訳明細書入力画面!R229))","v":""},null,null,null,{"$f":"IF(AND(内訳明細書入力画面!V229=\"\",内訳明細書入力画面!T229=\"\"),\"\",IF(内訳明細書入力画面!V229=\"\",内訳明細書入力画面!T229,内訳明細書入力画面!V229))","v":""},null,null,null,null,null,null,null,null,null,null,null,null,null,null,null,"",null,null,null,"",null,null,null,""]
[null,{"$f":"IF(内訳明細書入力画面!B230=\"\",\"\",内訳明細書入力画面!B230)","v":""},null,null,null,null,null,null,null,null,null,null,null,null,{"$f":"IF(AND(内訳明細書入力画面!N230=\"\",内訳明細書入力画面!M230=\"\"),\"\",IF(内訳明細書入力画面!N230=\"\",内訳明細書入力画面!M230,内訳明細書入力画面!N230))","v":""},null,null,null,{"$f":"IF(内訳明細書入力画面!O230=\"\",\"\",内訳明細書入力画面!O230)","v":""},null,null,{"$f":"IF(AND(内訳明細書入力画面!R230=\"\",内訳明細書入力画面!P230=\"\"),\"\",IF(内訳明細書入力画面!R230=\"\",内訳明細書入力画面!P230,内訳明細書入力画面!R230))","v":""},null,null,null,{"$f":"IF(AND(内訳明細書入力画面!V230=\"\",内訳明細書入力画面!T230=\"\"),\"\",IF(内訳明細書入力画面!V230=\"\",内訳明細書入力画面!T230,内訳明細書入力画面!V230))","v":""},null,null,null,null,null,null,null,null,null,null,null,null,null,null,null,"",null,null,null,"",null,null,null,""]
[null,{"$f":"IF(内訳明細書入力画面!B231=\"\",\"\",内訳明細書入力画面!B231)","v":""},null,null,null,null,null,null,null,null,null,null,null,null,{"$f":"IF(AND(内訳明細書入力画面!N231=\"\",内訳明細書入力画面!M231=\"\"),\"\",IF(内訳明細書入力画面!N231=\"\",内訳明細書入力画面!M231,内訳明細書入力画面!N231))","v":""},null,null,null,{"$f":"IF(内訳明細書入力画面!O231=\"\",\"\",内訳明細書入力画面!O231)","v":""},null,null,{"$f":"IF(AND(内訳明細書入力画面!R231=\"\",内訳明細書入力画面!P231=\"\"),\"\",IF(内訳明細書入力画面!R231=\"\",内訳明細書入力画面!P231,内訳明細書入力画面!R231))","v":""},null,null,null,{"$f":"IF(AND(内訳明細書入力画面!V231=\"\",内訳明細書入力画面!T231=\"\"),\"\",IF(内訳明細書入力画面!V231=\"\",内訳明細書入力画面!T231,内訳明細書入力画面!V231))","v":""},null,null,null,null,null,null,null,null,null,null,null,null,null,null,null,"",null,null,null,"",null,null,null,""]
[null,{"$f":"IF(内訳明細書入力画面!B232=\"\",\"\",内訳明細書入力画面!B232)","v":""},null,null,null,null,null,null,null,null,null,null,null,null,{"$f":"IF(AND(内訳明細書入力画面!N232=\"\",内訳明細書入力画面!M232=\"\"),\"\",IF(内訳明細書入力画面!N232=\"\",内訳明細書入力画面!M232,内訳明細書入力画面!N232))","v":""},null,null,null,{"$f":"IF(内訳明細書入力画面!O232=\"\",\"\",内訳明細書入力画面!O232)","v":""},null,null,{"$f":"IF(AND(内訳明細書入力画面!R232=\"\",内訳明細書入力画面!P232=\"\"),\"\",IF(内訳明細書入力画面!R232=\"\",内訳明細書入力画面!P232,内訳明細書入力画面!R232))","v":""},null,null,null,{"$f":"IF(AND(内訳明細書入力画面!V232=\"\",内訳明細書入力画面!T232=\"\"),\"\",IF(内訳明細書入力画面!V232=\"\",内訳明細書入力画面!T232,内訳明細書入力画面!V232))","v":""},null,null,null,null,null,null,null,null,null,null,null,null,null,null,null,"",null,null,null,"",null,null,null,""]
[null,{"$f":"IF(内訳明細書入力画面!B233=\"\",\"\",内訳明細書入力画面!B233)","v":""},null,null,null,null,null,null,null,null,null,null,null,null,{"$f":"IF(AND(内訳明細書入力画面!N233=\"\",内訳明細書入力画面!M233=\"\"),\"\",IF(内訳明細書入力画面!N233=\"\",内訳明細書入力画面!M233,内訳明細書入力画面!N233))","v":""},null,null,null,{"$f":"IF(内訳明細書入力画面!O233=\"\",\"\",内訳明細書入力画面!O233)","v":""},null,null,{"$f":"IF(AND(内訳明細書入力画面!R233=\"\",内訳明細書入力画面!P233=\"\"),\"\",IF(内訳明細書入力画面!R233=\"\",内訳明細書入力画面!P233,内訳明細書入力画面!R233))","v":""},null,null,null,{"$f":"IF(AND(内訳明細書入力画面!V233=\"\",内訳明細書入力画面!T233=\"\"),\"\",IF(内訳明細書入力画面!V233=\"\",内訳明細書入力画面!T233,内訳明細書入力画面!V233))","v":""},null,null,null,null,null,null,null,null,null,null,null,null,null,null,null,"",null,null,null,"",null,null,null,""]
[null,{"$f":"IF(内訳明細書入力画面!B234=\"\",\"\",内訳明細書入力画面!B234)","v":""},null,null,null,null,null,null,null,null,null,null,null,null,{"$f":"IF(AND(内訳明細書入力画面!N234=\"\",内訳明細書入力画面!M234=\"\"),\"\",IF(内訳明細書入力画面!N234=\"\",内訳明細書入力画面!M234,内訳明細書入力画面!N234))","v":""},null,null,null,{"$f":"IF(内訳明細書入力画面!O234=\"\",\"\",内訳明細書入力画面!O234)","v":""},null,null,{"$f":"IF(AND(内訳明細書入力画面!R234=\"\",内訳明細書入力画面!P234=\"\"),\"\",IF(内訳明細書入力画面!R234=\"\",内訳明細書入力画面!P234,内訳明細書入力画面!R234))","v":""},null,null,null,{"$f":"IF(AND(内訳明細書入力画面!V234=\"\",内訳明細書入力画面!T234=\"\"),\"\",IF(内訳明細書入力画面!V234=\"\",内訳明細書入力画面!T234,内訳明細書入力画面!V234))","v":""},null,null,null,null,null,null,null,null,null,null,null,null,null,null,null,"",null,null,null,"",null,null,null,""]
[null,{"$f":"IF(内訳明細書入力画面!B235=\"\",\"\",内訳明細書入力画面!B235)","v":""},null,null,null,null,null,null,null,null,null,null,null,null,{"$f":"IF(AND(内訳明細書入力画面!N235=\"\",内訳明細書入力画面!M235=\"\"),\"\",IF(内訳明細書入力画面!N235=\"\",内訳明細書入力画面!M235,内訳明細書入力画面!N235))","v":""},null,null,null,{"$f":"IF(内訳明細書入力画面!O235=\"\",\"\",内訳明細書入力画面!O235)","v":""},null,null,{"$f":"IF(AND(内訳明細書入力画面!R235=\"\",内訳明細書入力画面!P235=\"\"),\"\",IF(内訳明細書入力画面!R235=\"\",内訳明細書入力画面!P235,内訳明細書入力画面!R235))","v":""},null,null,null,{"$f":"IF(AND(内訳明細書入力画面!V235=\"\",内訳明細書入力画面!T235=\"\"),\"\",IF(内訳明細書入力画面!V235=\"\",内訳明細書入力画面!T235,内訳明細書入力画面!V235))","v":""},null,null,null,null,null,null,null,null,null,null,null,null,null,null,null,"",null,null,null,"",null,null,null,""]
[{"$f":"((ROW()-11)+15)/15","v":16},{"$f":"IF(内訳明細書入力画面!B236=\"\",\"\",内訳明細書入力画面!B236)","v":""},null,null,null,null,null,null,null,null,null,null,null,null,{"$f":"IF(AND(内訳明細書入力画面!N236=\"\",内訳明細書入力画面!M236=\"\"),\"\",IF(内訳明細書入力画面!N236=\"\",内訳明細書入力画面!M236,内訳明細書入力画面!N236))","v":""},null,null,null,{"$f":"IF(内訳明細書入力画面!O236=\"\",\"\",内訳明細書入力画面!O236)","v":""},null,null,{"$f":"IF(AND(内訳明細書入力画面!R236=\"\",内訳明細書入力画面!P236=\"\"),\"\",IF(内訳明細書入力画面!R236=\"\",内訳明細書入力画面!P236,内訳明細書入力画面!R236))","v":""},null,null,null,{"$f":"IF(AND(内訳明細書入力画面!V236=\"\",内訳明細書入力画面!T236=\"\"),\"\",IF(内訳明細書入力画面!V236=\"\",内訳明細書入力画面!T236,内訳明細書入力画面!V236))","v":""},null,null,null,null,null,null,null,null,null,null,null,null,null,null,null,"",null,null,null,"",null,null,null,""]
[null,{"$f":"IF(内訳明細書入力画面!B237=\"\",\"\",内訳明細書入力画面!B237)","v":""},null,null,null,null,null,null,null,null,null,null,null,null,{"$f":"IF(AND(内訳明細書入力画面!N237=\"\",内訳明細書入力画面!M237=\"\"),\"\",IF(内訳明細書入力画面!N237=\"\",内訳明細書入力画面!M237,内訳明細書入力画面!N237))","v":""},null,null,null,{"$f":"IF(内訳明細書入力画面!O237=\"\",\"\",内訳明細書入力画面!O237)","v":""},null,null,{"$f":"IF(AND(内訳明細書入力画面!R237=\"\",内訳明細書入力画面!P237=\"\"),\"\",IF(内訳明細書入力画面!R237=\"\",内訳明細書入力画面!P237,内訳明細書入力画面!R237))","v":""},null,null,null,{"$f":"IF(AND(内訳明細書入力画面!V237=\"\",内訳明細書入力画面!T237=\"\"),\"\",IF(内訳明細書入力画面!V237=\"\",内訳明細書入力画面!T237,内訳明細書入力画面!V237))","v":""},null,null,null,null,null,null,null,null,null,null,null,null,null,null,null,"",null,null,null,"",null,null,null,""]
[null,{"$f":"IF(内訳明細書入力画面!B238=\"\",\"\",内訳明細書入力画面!B238)","v":""},null,null,null,null,null,null,null,null,null,null,null,null,{"$f":"IF(AND(内訳明細書入力画面!N238=\"\",内訳明細書入力画面!M238=\"\"),\"\",IF(内訳明細書入力画面!N238=\"\",内訳明細書入力画面!M238,内訳明細書入力画面!N238))","v":""},null,null,null,{"$f":"IF(内訳明細書入力画面!O238=\"\",\"\",内訳明細書入力画面!O238)","v":""},null,null,{"$f":"IF(AND(内訳明細書入力画面!R238=\"\",内訳明細書入力画面!P238=\"\"),\"\",IF(内訳明細書入力画面!R238=\"\",内訳明細書入力画面!P238,内訳明細書入力画面!R238))","v":""},null,null,null,{"$f":"IF(AND(内訳明細書入力画面!V238=\"\",内訳明細書入力画面!T238=\"\"),\"\",IF(内訳明細書入力画面!V238=\"\",内訳明細書入力画面!T238,内訳明細書入力画面!V238))","v":""},null,null,null,null,null,null,null,null,null,null,null,null,null,null,null,"",null,null,null,"",null,null,null,""]
[null,{"$f":"IF(内訳明細書入力画面!B239=\"\",\"\",内訳明細書入力画面!B239)","v":""},null,null,null,null,null,null,null,null,null,null,null,null,{"$f":"IF(AND(内訳明細書入力画面!N239=\"\",内訳明細書入力画面!M239=\"\"),\"\",IF(内訳明細書入力画面!N239=\"\",内訳明細書入力画面!M239,内訳明細書入力画面!N239))","v":""},null,null,null,{"$f":"IF(内訳明細書入力画面!O239=\"\",\"\",内訳明細書入力画面!O239)","v":""},null,null,{"$f":"IF(AND(内訳明細書入力画面!R239=\"\",内訳明細書入力画面!P239=\"\"),\"\",IF(内訳明細書入力画面!R239=\"\",内訳明細書入力画面!P239,内訳明細書入力画面!R239))","v":""},null,null,null,{"$f":"IF(AND(内訳明細書入力画面!V239=\"\",内訳明細書入力画面!T239=\"\"),\"\",IF(内訳明細書入力画面!V239=\"\",内訳明細書入力画面!T239,内訳明細書入力画面!V239))","v":""},null,null,null,null,null,null,null,null,null,null,null,null,null,null,null,"",null,null,null,"",null,null,null,""]
[null,{"$f":"IF(内訳明細書入力画面!B240=\"\",\"\",内訳明細書入力画面!B240)","v":""},null,null,null,null,null,null,null,null,null,null,null,null,{"$f":"IF(AND(内訳明細書入力画面!N240=\"\",内訳明細書入力画面!M240=\"\"),\"\",IF(内訳明細書入力画面!N240=\"\",内訳明細書入力画面!M240,内訳明細書入力画面!N240))","v":""},null,null,null,{"$f":"IF(内訳明細書入力画面!O240=\"\",\"\",内訳明細書入力画面!O240)","v":""},null,null,{"$f":"IF(AND(内訳明細書入力画面!R240=\"\",内訳明細書入力画面!P240=\"\"),\"\",IF(内訳明細書入力画面!R240=\"\",内訳明細書入力画面!P240,内訳明細書入力画面!R240))","v":""},null,null,null,{"$f":"IF(AND(内訳明細書入力画面!V240=\"\",内訳明細書入力画面!T240=\"\"),\"\",IF(内訳明細書入力画面!V240=\"\",内訳明細書入力画面!T240,内訳明細書入力画面!V240))","v":""},null,null,null,null,null,null,null,null,null,null,null,null,null,null,null,"",null,null,null,"",null,null,null,""]
[null,{"$f":"IF(内訳明細書入力画面!B241=\"\",\"\",内訳明細書入力画面!B241)","v":""},null,null,null,null,null,null,null,null,null,null,null,null,{"$f":"IF(AND(内訳明細書入力画面!N241=\"\",内訳明細書入力画面!M241=\"\"),\"\",IF(内訳明細書入力画面!N241=\"\",内訳明細書入力画面!M241,内訳明細書入力画面!N241))","v":""},null,null,null,{"$f":"IF(内訳明細書入力画面!O241=\"\",\"\",内訳明細書入力画面!O241)","v":""},null,null,{"$f":"IF(AND(内訳明細書入力画面!R241=\"\",内訳明細書入力画面!P241=\"\"),\"\",IF(内訳明細書入力画面!R241=\"\",内訳明細書入力画面!P241,内訳明細書入力画面!R241))","v":""},null,null,null,{"$f":"IF(AND(内訳明細書入力画面!V241=\"\",内訳明細書入力画面!T241=\"\"),\"\",IF(内訳明細書入力画面!V241=\"\",内訳明細書入力画面!T241,内訳明細書入力画面!V241))","v":""},null,null,null,null,null,null,null,null,null,null,null,null,null,null,null,"",null,null,null,"",null,null,null,""]
[null,{"$f":"IF(内訳明細書入力画面!B242=\"\",\"\",内訳明細書入力画面!B242)","v":""},null,null,null,null,null,null,null,null,null,null,null,null,{"$f":"IF(AND(内訳明細書入力画面!N242=\"\",内訳明細書入力画面!M242=\"\"),\"\",IF(内訳明細書入力画面!N242=\"\",内訳明細書入力画面!M242,内訳明細書入力画面!N242))","v":""},null,null,null,{"$f":"IF(内訳明細書入力画面!O242=\"\",\"\",内訳明細書入力画面!O242)","v":""},null,null,{"$f":"IF(AND(内訳明細書入力画面!R242=\"\",内訳明細書入力画面!P242=\"\"),\"\",IF(内訳明細書入力画面!R242=\"\",内訳明細書入力画面!P242,内訳明細書入力画面!R242))","v":""},null,null,null,{"$f":"IF(AND(内訳明細書入力画面!V242=\"\",内訳明細書入力画面!T242=\"\"),\"\",IF(内訳明細書入力画面!V242=\"\",内訳明細書入力画面!T242,内訳明細書入力画面!V242))","v":""},null,null,null,null,null,null,null,null,null,null,null,null,null,null,null,"",null,null,null,"",null,null,null,""]
[null,{"$f":"IF(内訳明細書入力画面!B243=\"\",\"\",内訳明細書入力画面!B243)","v":""},null,null,null,null,null,null,null,null,null,null,null,null,{"$f":"IF(AND(内訳明細書入力画面!N243=\"\",内訳明細書入力画面!M243=\"\"),\"\",IF(内訳明細書入力画面!N243=\"\",内訳明細書入力画面!M243,内訳明細書入力画面!N243))","v":""},null,null,null,{"$f":"IF(内訳明細書入力画面!O243=\"\",\"\",内訳明細書入力画面!O243)","v":""},null,null,{"$f":"IF(AND(内訳明細書入力画面!R243=\"\",内訳明細書入力画面!P243=\"\"),\"\",IF(内訳明細書入力画面!R243=\"\",内訳明細書入力画面!P243,内訳明細書入力画面!R243))","v":""},null,null,null,{"$f":"IF(AND(内訳明細書入力画面!V243=\"\",内訳明細書入力画面!T243=\"\"),\"\",IF(内訳明細書入力画面!V243=\"\",内訳明細書入力画面!T243,内訳明細書入力画面!V243))","v":""},null,null,null,null,null,null,null,null,null,null,null,null,null,null,null,"",null,null,null,"",null,null,null,""]
[null,{"$f":"IF(内訳明細書入力画面!B244=\"\",\"\",内訳明細書入力画面!B244)","v":""},null,null,null,null,null,null,null,null,null,null,null,null,{"$f":"IF(AND(内訳明細書入力画面!N244=\"\",内訳明細書入力画面!M244=\"\"),\"\",IF(内訳明細書入力画面!N244=\"\",内訳明細書入力画面!M244,内訳明細書入力画面!N244))","v":""},null,null,null,{"$f":"IF(内訳明細書入力画面!O244=\"\",\"\",内訳明細書入力画面!O244)","v":""},null,null,{"$f":"IF(AND(内訳明細書入力画面!R244=\"\",内訳明細書入力画面!P244=\"\"),\"\",IF(内訳明細書入力画面!R244=\"\",内訳明細書入力画面!P244,内訳明細書入力画面!R244))","v":""},null,null,null,{"$f":"IF(AND(内訳明細書入力画面!V244=\"\",内訳明細書入力画面!T244=\"\"),\"\",IF(内訳明細書入力画面!V244=\"\",内訳明細書入力画面!T244,内訳明細書入力画面!V244))","v":""},null,null,null,null,null,null,null,null,null,null,null,null,null,null,null,"",null,null,null,"",null,null,null,""]
[null,{"$f":"IF(内訳明細書入力画面!B245=\"\",\"\",内訳明細書入力画面!B245)","v":""},null,null,null,null,null,null,null,null,null,null,null,null,{"$f":"IF(AND(内訳明細書入力画面!N245=\"\",内訳明細書入力画面!M245=\"\"),\"\",IF(内訳明細書入力画面!N245=\"\",内訳明細書入力画面!M245,内訳明細書入力画面!N245))","v":""},null,null,null,{"$f":"IF(内訳明細書入力画面!O245=\"\",\"\",内訳明細書入力画面!O245)","v":""},null,null,{"$f":"IF(AND(内訳明細書入力画面!R245=\"\",内訳明細書入力画面!P245=\"\"),\"\",IF(内訳明細書入力画面!R245=\"\",内訳明細書入力画面!P245,内訳明細書入力画面!R245))","v":""},null,null,null,{"$f":"IF(AND(内訳明細書入力画面!V245=\"\",内訳明細書入力画面!T245=\"\"),\"\",IF(内訳明細書入力画面!V245=\"\",内訳明細書入力画面!T245,内訳明細書入力画面!V245))","v":""},null,null,null,null,null,null,null,null,null,null,null,null,null,null,null,"",null,null,null,"",null,null,null,""]
[null,{"$f":"IF(内訳明細書入力画面!B246=\"\",\"\",内訳明細書入力画面!B246)","v":""},null,null,null,null,null,null,null,null,null,null,null,null,{"$f":"IF(AND(内訳明細書入力画面!N246=\"\",内訳明細書入力画面!M246=\"\"),\"\",IF(内訳明細書入力画面!N246=\"\",内訳明細書入力画面!M246,内訳明細書入力画面!N246))","v":""},null,null,null,{"$f":"IF(内訳明細書入力画面!O246=\"\",\"\",内訳明細書入力画面!O246)","v":""},null,null,{"$f":"IF(AND(内訳明細書入力画面!R246=\"\",内訳明細書入力画面!P246=\"\"),\"\",IF(内訳明細書入力画面!R246=\"\",内訳明細書入力画面!P246,内訳明細書入力画面!R246))","v":""},null,null,null,{"$f":"IF(AND(内訳明細書入力画面!V246=\"\",内訳明細書入力画面!T246=\"\"),\"\",IF(内訳明細書入力画面!V246=\"\",内訳明細書入力画面!T246,内訳明細書入力画面!V246))","v":""},null,null,null,null,null,null,null,null,null,null,null,null,null,null,null,"",null,null,null,"",null,null,null,""]
[null,{"$f":"IF(内訳明細書入力画面!B247=\"\",\"\",内訳明細書入力画面!B247)","v":""},null,null,null,null,null,null,null,null,null,null,null,null,{"$f":"IF(AND(内訳明細書入力画面!N247=\"\",内訳明細書入力画面!M247=\"\"),\"\",IF(内訳明細書入力画面!N247=\"\",内訳明細書入力画面!M247,内訳明細書入力画面!N247))","v":""},null,null,null,{"$f":"IF(内訳明細書入力画面!O247=\"\",\"\",内訳明細書入力画面!O247)","v":""},null,null,{"$f":"IF(AND(内訳明細書入力画面!R247=\"\",内訳明細書入力画面!P247=\"\"),\"\",IF(内訳明細書入力画面!R247=\"\",内訳明細書入力画面!P247,内訳明細書入力画面!R247))","v":""},null,null,null,{"$f":"IF(AND(内訳明細書入力画面!V247=\"\",内訳明細書入力画面!T247=\"\"),\"\",IF(内訳明細書入力画面!V247=\"\",内訳明細書入力画面!T247,内訳明細書入力画面!V247))","v":""},null,null,null,null,null,null,null,null,null,null,null,null,null,null,null,"",null,null,null,"",null,null,null,""]
[null,{"$f":"IF(内訳明細書入力画面!B248=\"\",\"\",内訳明細書入力画面!B248)","v":""},null,null,null,null,null,null,null,null,null,null,null,null,{"$f":"IF(AND(内訳明細書入力画面!N248=\"\",内訳明細書入力画面!M248=\"\"),\"\",IF(内訳明細書入力画面!N248=\"\",内訳明細書入力画面!M248,内訳明細書入力画面!N248))","v":""},null,null,null,{"$f":"IF(内訳明細書入力画面!O248=\"\",\"\",内訳明細書入力画面!O248)","v":""},null,null,{"$f":"IF(AND(内訳明細書入力画面!R248=\"\",内訳明細書入力画面!P248=\"\"),\"\",IF(内訳明細書入力画面!R248=\"\",内訳明細書入力画面!P248,内訳明細書入力画面!R248))","v":""},null,null,null,{"$f":"IF(AND(内訳明細書入力画面!V248=\"\",内訳明細書入力画面!T248=\"\"),\"\",IF(内訳明細書入力画面!V248=\"\",内訳明細書入力画面!T248,内訳明細書入力画面!V248))","v":""},null,null,null,null,null,null,null,null,null,null,null,null,null,null,null,"",null,null,null,"",null,null,null,""]
[null,{"$f":"IF(内訳明細書入力画面!B249=\"\",\"\",内訳明細書入力画面!B249)","v":""},null,null,null,null,null,null,null,null,null,null,null,null,{"$f":"IF(AND(内訳明細書入力画面!N249=\"\",内訳明細書入力画面!M249=\"\"),\"\",IF(内訳明細書入力画面!N249=\"\",内訳明細書入力画面!M249,内訳明細書入力画面!N249))","v":""},null,null,null,{"$f":"IF(内訳明細書入力画面!O249=\"\",\"\",内訳明細書入力画面!O249)","v":""},null,null,{"$f":"IF(AND(内訳明細書入力画面!R249=\"\",内訳明細書入力画面!P249=\"\"),\"\",IF(内訳明細書入力画面!R249=\"\",内訳明細書入力画面!P249,内訳明細書入力画面!R249))","v":""},null,null,null,{"$f":"IF(AND(内訳明細書入力画面!V249=\"\",内訳明細書入力画面!T249=\"\"),\"\",IF(内訳明細書入力画面!V249=\"\",内訳明細書入力画面!T249,内訳明細書入力画面!V249))","v":""},null,null,null,null,null,null,null,null,null,null,null,null,null,null,null,"",null,null,null,"",null,null,null,""]
[null,{"$f":"IF(内訳明細書入力画面!B250=\"\",\"\",内訳明細書入力画面!B250)","v":""},null,null,null,null,null,null,null,null,null,null,null,null,{"$f":"IF(AND(内訳明細書入力画面!N250=\"\",内訳明細書入力画面!M250=\"\"),\"\",IF(内訳明細書入力画面!N250=\"\",内訳明細書入力画面!M250,内訳明細書入力画面!N250))","v":""},null,null,null,{"$f":"IF(内訳明細書入力画面!O250=\"\",\"\",内訳明細書入力画面!O250)","v":""},null,null,{"$f":"IF(AND(内訳明細書入力画面!R250=\"\",内訳明細書入力画面!P250=\"\"),\"\",IF(内訳明細書入力画面!R250=\"\",内訳明細書入力画面!P250,内訳明細書入力画面!R250))","v":""},null,null,null,{"$f":"IF(AND(内訳明細書入力画面!V250=\"\",内訳明細書入力画面!T250=\"\"),\"\",IF(内訳明細書入力画面!V250=\"\",内訳明細書入力画面!T250,内訳明細書入力画面!V250))","v":""},null,null,null,null,null,null,null,null,null,null,null,null,null,null,null,"",null,null,null,"",null,null,null,""]
[{"$f":"((ROW()-11)+15)/15","v":17},{"$f":"IF(内訳明細書入力画面!B251=\"\",\"\",内訳明細書入力画面!B251)","v":""},null,null,null,null,null,null,null,null,null,null,null,null,{"$f":"IF(AND(内訳明細書入力画面!N251=\"\",内訳明細書入力画面!M251=\"\"),\"\",IF(内訳明細書入力画面!N251=\"\",内訳明細書入力画面!M251,内訳明細書入力画面!N251))","v":""},null,null,null,{"$f":"IF(内訳明細書入力画面!O251=\"\",\"\",内訳明細書入力画面!O251)","v":""},null,null,{"$f":"IF(AND(内訳明細書入力画面!R251=\"\",内訳明細書入力画面!P251=\"\"),\"\",IF(内訳明細書入力画面!R251=\"\",内訳明細書入力画面!P251,内訳明細書入力画面!R251))","v":""},null,null,null,{"$f":"IF(AND(内訳明細書入力画面!V251=\"\",内訳明細書入力画面!T251=\"\"),\"\",IF(内訳明細書入力画面!V251=\"\",内訳明細書入力画面!T251,内訳明細書入力画面!V251))","v":""},null,null,null,null,null,null,null,null,null,null,null,null,null,null,null,"",null,null,null,"",null,null,null,""]
[null,{"$f":"IF(内訳明細書入力画面!B252=\"\",\"\",内訳明細書入力画面!B252)","v":""},null,null,null,null,null,null,null,null,null,null,null,null,{"$f":"IF(AND(内訳明細書入力画面!N252=\"\",内訳明細書入力画面!M252=\"\"),\"\",IF(内訳明細書入力画面!N252=\"\",内訳明細書入力画面!M252,内訳明細書入力画面!N252))","v":""},null,null,null,{"$f":"IF(内訳明細書入力画面!O252=\"\",\"\",内訳明細書入力画面!O252)","v":""},null,null,{"$f":"IF(AND(内訳明細書入力画面!R252=\"\",内訳明細書入力画面!P252=\"\"),\"\",IF(内訳明細書入力画面!R252=\"\",内訳明細書入力画面!P252,内訳明細書入力画面!R252))","v":""},null,null,null,{"$f":"IF(AND(内訳明細書入力画面!V252=\"\",内訳明細書入力画面!T252=\"\"),\"\",IF(内訳明細書入力画面!V252=\"\",内訳明細書入力画面!T252,内訳明細書入力画面!V252))","v":""},null,null,null,null,null,null,null,null,null,null,null,null,null,null,null,"",null,null,null,"",null,null,null,""]
[null,{"$f":"IF(内訳明細書入力画面!B253=\"\",\"\",内訳明細書入力画面!B253)","v":""},null,null,null,null,null,null,null,null,null,null,null,null,{"$f":"IF(AND(内訳明細書入力画面!N253=\"\",内訳明細書入力画面!M253=\"\"),\"\",IF(内訳明細書入力画面!N253=\"\",内訳明細書入力画面!M253,内訳明細書入力画面!N253))","v":""},null,null,null,{"$f":"IF(内訳明細書入力画面!O253=\"\",\"\",内訳明細書入力画面!O253)","v":""},null,null,{"$f":"IF(AND(内訳明細書入力画面!R253=\"\",内訳明細書入力画面!P253=\"\"),\"\",IF(内訳明細書入力画面!R253=\"\",内訳明細書入力画面!P253,内訳明細書入力画面!R253))","v":""},null,null,null,{"$f":"IF(AND(内訳明細書入力画面!V253=\"\",内訳明細書入力画面!T253=\"\"),\"\",IF(内訳明細書入力画面!V253=\"\",内訳明細書入力画面!T253,内訳明細書入力画面!V253))","v":""},null,null,null,null,null,null,null,null,null,null,null,null,null,null,null,"",null,null,null,"",null,null,null,""]
[null,{"$f":"IF(内訳明細書入力画面!B254=\"\",\"\",内訳明細書入力画面!B254)","v":""},null,null,null,null,null,null,null,null,null,null,null,null,{"$f":"IF(AND(内訳明細書入力画面!N254=\"\",内訳明細書入力画面!M254=\"\"),\"\",IF(内訳明細書入力画面!N254=\"\",内訳明細書入力画面!M254,内訳明細書入力画面!N254))","v":""},null,null,null,{"$f":"IF(内訳明細書入力画面!O254=\"\",\"\",内訳明細書入力画面!O254)","v":""},null,null,{"$f":"IF(AND(内訳明細書入力画面!R254=\"\",内訳明細書入力画面!P254=\"\"),\"\",IF(内訳明細書入力画面!R254=\"\",内訳明細書入力画面!P254,内訳明細書入力画面!R254))","v":""},null,null,null,{"$f":"IF(AND(内訳明細書入力画面!V254=\"\",内訳明細書入力画面!T254=\"\"),\"\",IF(内訳明細書入力画面!V254=\"\",内訳明細書入力画面!T254,内訳明細書入力画面!V254))","v":""},null,null,null,null,null,null,null,null,null,null,null,null,null,null,null,"",null,null,null,"",null,null,null,""]
[null,{"$f":"IF(内訳明細書入力画面!B255=\"\",\"\",内訳明細書入力画面!B255)","v":""},null,null,null,null,null,null,null,null,null,null,null,null,{"$f":"IF(AND(内訳明細書入力画面!N255=\"\",内訳明細書入力画面!M255=\"\"),\"\",IF(内訳明細書入力画面!N255=\"\",内訳明細書入力画面!M255,内訳明細書入力画面!N255))","v":""},null,null,null,{"$f":"IF(内訳明細書入力画面!O255=\"\",\"\",内訳明細書入力画面!O255)","v":""},null,null,{"$f":"IF(AND(内訳明細書入力画面!R255=\"\",内訳明細書入力画面!P255=\"\"),\"\",IF(内訳明細書入力画面!R255=\"\",内訳明細書入力画面!P255,内訳明細書入力画面!R255))","v":""},null,null,null,{"$f":"IF(AND(内訳明細書入力画面!V255=\"\",内訳明細書入力画面!T255=\"\"),\"\",IF(内訳明細書入力画面!V255=\"\",内訳明細書入力画面!T255,内訳明細書入力画面!V255))","v":""},null,null,null,null,null,null,null,null,null,null,null,null,null,null,null,"",null,null,null,"",null,null,null,""]
[null,{"$f":"IF(内訳明細書入力画面!B256=\"\",\"\",内訳明細書入力画面!B256)","v":""},null,null,null,null,null,null,null,null,null,null,null,null,{"$f":"IF(AND(内訳明細書入力画面!N256=\"\",内訳明細書入力画面!M256=\"\"),\"\",IF(内訳明細書入力画面!N256=\"\",内訳明細書入力画面!M256,内訳明細書入力画面!N256))","v":""},null,null,null,{"$f":"IF(内訳明細書入力画面!O256=\"\",\"\",内訳明細書入力画面!O256)","v":""},null,null,{"$f":"IF(AND(内訳明細書入力画面!R256=\"\",内訳明細書入力画面!P256=\"\"),\"\",IF(内訳明細書入力画面!R256=\"\",内訳明細書入力画面!P256,内訳明細書入力画面!R256))","v":""},null,null,null,{"$f":"IF(AND(内訳明細書入力画面!V256=\"\",内訳明細書入力画面!T256=\"\"),\"\",IF(内訳明細書入力画面!V256=\"\",内訳明細書入力画面!T256,内訳明細書入力画面!V256))","v":""},null,null,null,null,null,null,null,null,null,null,null,null,null,null,null,"",null,null,null,"",null,null,null,""]
[null,{"$f":"IF(内訳明細書入力画面!B257=\"\",\"\",内訳明細書入力画面!B257)","v":""},null,null,null,null,null,null,null,null,null,null,null,null,{"$f":"IF(AND(内訳明細書入力画面!N257=\"\",内訳明細書入力画面!M257=\"\"),\"\",IF(内訳明細書入力画面!N257=\"\",内訳明細書入力画面!M257,内訳明細書入力画面!N257))","v":""},null,null,null,{"$f":"IF(内訳明細書入力画面!O257=\"\",\"\",内訳明細書入力画面!O257)","v":""},null,null,{"$f":"IF(AND(内訳明細書入力画面!R257=\"\",内訳明細書入力画面!P257=\"\"),\"\",IF(内訳明細書入力画面!R257=\"\",内訳明細書入力画面!P257,内訳明細書入力画面!R257))","v":""},null,null,null,{"$f":"IF(AND(内訳明細書入力画面!V257=\"\",内訳明細書入力画面!T257=\"\"),\"\",IF(内訳明細書入力画面!V257=\"\",内訳明細書入力画面!T257,内訳明細書入力画面!V257))","v":""},null,null,null,null,null,null,null,null,null,null,null,null,null,null,null,"",null,null,null,"",null,null,null,""]
[null,{"$f":"IF(内訳明細書入力画面!B258=\"\",\"\",内訳明細書入力画面!B258)","v":""},null,null,null,null,null,null,null,null,null,null,null,null,{"$f":"IF(AND(内訳明細書入力画面!N258=\"\",内訳明細書入力画面!M258=\"\"),\"\",IF(内訳明細書入力画面!N258=\"\",内訳明細書入力画面!M258,内訳明細書入力画面!N258))","v":""},null,null,null,{"$f":"IF(内訳明細書入力画面!O258=\"\",\"\",内訳明細書入力画面!O258)","v":""},null,null,{"$f":"IF(AND(内訳明細書入力画面!R258=\"\",内訳明細書入力画面!P258=\"\"),\"\",IF(内訳明細書入力画面!R258=\"\",内訳明細書入力画面!P258,内訳明細書入力画面!R258))","v":""},null,null,null,{"$f":"IF(AND(内訳明細書入力画面!V258=\"\",内訳明細書入力画面!T258=\"\"),\"\",IF(内訳明細書入力画面!V258=\"\",内訳明細書入力画面!T258,内訳明細書入力画面!V258))","v":""},null,null,null,null,null,null,null,null,null,null,null,null,null,null,null,"",null,null,null,"",null,null,null,""]
[null,{"$f":"IF(内訳明細書入力画面!B259=\"\",\"\",内訳明細書入力画面!B259)","v":""},null,null,null,null,null,null,null,null,null,null,null,null,{"$f":"IF(AND(内訳明細書入力画面!N259=\"\",内訳明細書入力画面!M259=\"\"),\"\",IF(内訳明細書入力画面!N259=\"\",内訳明細書入力画面!M259,内訳明細書入力画面!N259))","v":""},null,null,null,{"$f":"IF(内訳明細書入力画面!O259=\"\",\"\",内訳明細書入力画面!O259)","v":""},null,null,{"$f":"IF(AND(内訳明細書入力画面!R259=\"\",内訳明細書入力画面!P259=\"\"),\"\",IF(内訳明細書入力画面!R259=\"\",内訳明細書入力画面!P259,内訳明細書入力画面!R259))","v":""},null,null,null,{"$f":"IF(AND(内訳明細書入力画面!V259=\"\",内訳明細書入力画面!T259=\"\"),\"\",IF(内訳明細書入力画面!V259=\"\",内訳明細書入力画面!T259,内訳明細書入力画面!V259))","v":""},null,null,null,null,null,null,null,null,null,null,null,null,null,null,null,"",null,null,null,"",null,null,null,""]
[null,{"$f":"IF(内訳明細書入力画面!B260=\"\",\"\",内訳明細書入力画面!B260)","v":""},null,null,null,null,null,null,null,null,null,null,null,null,{"$f":"IF(AND(内訳明細書入力画面!N260=\"\",内訳明細書入力画面!M260=\"\"),\"\",IF(内訳明細書入力画面!N260=\"\",内訳明細書入力画面!M260,内訳明細書入力画面!N260))","v":""},null,null,null,{"$f":"IF(内訳明細書入力画面!O260=\"\",\"\",内訳明細書入力画面!O260)","v":""},null,null,{"$f":"IF(AND(内訳明細書入力画面!R260=\"\",内訳明細書入力画面!P260=\"\"),\"\",IF(内訳明細書入力画面!R260=\"\",内訳明細書入力画面!P260,内訳明細書入力画面!R260))","v":""},null,null,null,{"$f":"IF(AND(内訳明細書入力画面!V260=\"\",内訳明細書入力画面!T260=\"\"),\"\",IF(内訳明細書入力画面!V260=\"\",内訳明細書入力画面!T260,内訳明細書入力画面!V260))","v":""},null,null,null,null,null,null,null,null,null,null,null,null,null,null,null,"",null,null,null,"",null,null,null,""]
[null,{"$f":"IF(内訳明細書入力画面!B261=\"\",\"\",内訳明細書入力画面!B261)","v":""},null,null,null,null,null,null,null,null,null,null,null,null,{"$f":"IF(AND(内訳明細書入力画面!N261=\"\",内訳明細書入力画面!M261=\"\"),\"\",IF(内訳明細書入力画面!N261=\"\",内訳明細書入力画面!M261,内訳明細書入力画面!N261))","v":""},null,null,null,{"$f":"IF(内訳明細書入力画面!O261=\"\",\"\",内訳明細書入力画面!O261)","v":""},null,null,{"$f":"IF(AND(内訳明細書入力画面!R261=\"\",内訳明細書入力画面!P261=\"\"),\"\",IF(内訳明細書入力画面!R261=\"\",内訳明細書入力画面!P261,内訳明細書入力画面!R261))","v":""},null,null,null,{"$f":"IF(AND(内訳明細書入力画面!V261=\"\",内訳明細書入力画面!T261=\"\"),\"\",IF(内訳明細書入力画面!V261=\"\",内訳明細書入力画面!T261,内訳明細書入力画面!V261))","v":""},null,null,null,null,null,null,null,null,null,null,null,null,null,null,null,"",null,null,null,"",null,null,null,""]
[null,{"$f":"IF(内訳明細書入力画面!B262=\"\",\"\",内訳明細書入力画面!B262)","v":""},null,null,null,null,null,null,null,null,null,null,null,null,{"$f":"IF(AND(内訳明細書入力画面!N262=\"\",内訳明細書入力画面!M262=\"\"),\"\",IF(内訳明細書入力画面!N262=\"\",内訳明細書入力画面!M262,内訳明細書入力画面!N262))","v":""},null,null,null,{"$f":"IF(内訳明細書入力画面!O262=\"\",\"\",内訳明細書入力画面!O262)","v":""},null,null,{"$f":"IF(AND(内訳明細書入力画面!R262=\"\",内訳明細書入力画面!P262=\"\"),\"\",IF(内訳明細書入力画面!R262=\"\",内訳明細書入力画面!P262,内訳明細書入力画面!R262))","v":""},null,null,null,{"$f":"IF(AND(内訳明細書入力画面!V262=\"\",内訳明細書入力画面!T262=\"\"),\"\",IF(内訳明細書入力画面!V262=\"\",内訳明細書入力画面!T262,内訳明細書入力画面!V262))","v":""},null,null,null,null,null,null,null,null,null,null,null,null,null,null,null,"",null,null,null,"",null,null,null,""]
[null,{"$f":"IF(内訳明細書入力画面!B263=\"\",\"\",内訳明細書入力画面!B263)","v":""},null,null,null,null,null,null,null,null,null,null,null,null,{"$f":"IF(AND(内訳明細書入力画面!N263=\"\",内訳明細書入力画面!M263=\"\"),\"\",IF(内訳明細書入力画面!N263=\"\",内訳明細書入力画面!M263,内訳明細書入力画面!N263))","v":""},null,null,null,{"$f":"IF(内訳明細書入力画面!O263=\"\",\"\",内訳明細書入力画面!O263)","v":""},null,null,{"$f":"IF(AND(内訳明細書入力画面!R263=\"\",内訳明細書入力画面!P263=\"\"),\"\",IF(内訳明細書入力画面!R263=\"\",内訳明細書入力画面!P263,内訳明細書入力画面!R263))","v":""},null,null,null,{"$f":"IF(AND(内訳明細書入力画面!V263=\"\",内訳明細書入力画面!T263=\"\"),\"\",IF(内訳明細書入力画面!V263=\"\",内訳明細書入力画面!T263,内訳明細書入力画面!V263))","v":""},null,null,null,null,null,null,null,null,null,null,null,null,null,null,null,"",null,null,null,"",null,null,null,""]
[null,{"$f":"IF(内訳明細書入力画面!B264=\"\",\"\",内訳明細書入力画面!B264)","v":""},null,null,null,null,null,null,null,null,null,null,null,null,{"$f":"IF(AND(内訳明細書入力画面!N264=\"\",内訳明細書入力画面!M264=\"\"),\"\",IF(内訳明細書入力画面!N264=\"\",内訳明細書入力画面!M264,内訳明細書入力画面!N264))","v":""},null,null,null,{"$f":"IF(内訳明細書入力画面!O264=\"\",\"\",内訳明細書入力画面!O264)","v":""},null,null,{"$f":"IF(AND(内訳明細書入力画面!R264=\"\",内訳明細書入力画面!P264=\"\"),\"\",IF(内訳明細書入力画面!R264=\"\",内訳明細書入力画面!P264,内訳明細書入力画面!R264))","v":""},null,null,null,{"$f":"IF(AND(内訳明細書入力画面!V264=\"\",内訳明細書入力画面!T264=\"\"),\"\",IF(内訳明細書入力画面!V264=\"\",内訳明細書入力画面!T264,内訳明細書入力画面!V264))","v":""},null,null,null,null,null,null,null,null,null,null,null,null,null,null,null,"",null,null,null,"",null,null,null,""]
[null,{"$f":"IF(内訳明細書入力画面!B265=\"\",\"\",内訳明細書入力画面!B265)","v":""},null,null,null,null,null,null,null,null,null,null,null,null,{"$f":"IF(AND(内訳明細書入力画面!N265=\"\",内訳明細書入力画面!M265=\"\"),\"\",IF(内訳明細書入力画面!N265=\"\",内訳明細書入力画面!M265,内訳明細書入力画面!N265))","v":""},null,null,null,{"$f":"IF(内訳明細書入力画面!O265=\"\",\"\",内訳明細書入力画面!O265)","v":""},null,null,{"$f":"IF(AND(内訳明細書入力画面!R265=\"\",内訳明細書入力画面!P265=\"\"),\"\",IF(内訳明細書入力画面!R265=\"\",内訳明細書入力画面!P265,内訳明細書入力画面!R265))","v":""},null,null,null,{"$f":"IF(AND(内訳明細書入力画面!V265=\"\",内訳明細書入力画面!T265=\"\"),\"\",IF(内訳明細書入力画面!V265=\"\",内訳明細書入力画面!T265,内訳明細書入力画面!V265))","v":""},null,null,null,null,null,null,null,null,null,null,null,null,null,null,null,"",null,null,null,"",null,null,null,""]
[{"$f":"((ROW()-11)+15)/15","v":18},{"$f":"IF(内訳明細書入力画面!B266=\"\",\"\",内訳明細書入力画面!B266)","v":""},null,null,null,null,null,null,null,null,null,null,null,null,{"$f":"IF(AND(内訳明細書入力画面!N266=\"\",内訳明細書入力画面!M266=\"\"),\"\",IF(内訳明細書入力画面!N266=\"\",内訳明細書入力画面!M266,内訳明細書入力画面!N266))","v":""},null,null,null,{"$f":"IF(内訳明細書入力画面!O266=\"\",\"\",内訳明細書入力画面!O266)","v":""},null,null,{"$f":"IF(AND(内訳明細書入力画面!R266=\"\",内訳明細書入力画面!P266=\"\"),\"\",IF(内訳明細書入力画面!R266=\"\",内訳明細書入力画面!P266,内訳明細書入力画面!R266))","v":""},null,null,null,{"$f":"IF(AND(内訳明細書入力画面!V266=\"\",内訳明細書入力画面!T266=\"\"),\"\",IF(内訳明細書入力画面!V266=\"\",内訳明細書入力画面!T266,内訳明細書入力画面!V266))","v":""},null,null,null,null,null,null,null,null,null,null,null,null,null,null,null,"",null,null,null,{"$f":"IF(AND(AD266=\"\",AL266=\"\"),\"\",N(AD266)+N(AL266))","v":""},null,null,null,{"$f":"IF(AND(AH266=\"\",AP266=\"\"),\"\",N(AH266)+N(AP266))","v":""}]
[null,{"$f":"IF(内訳明細書入力画面!B267=\"\",\"\",内訳明細書入力画面!B267)","v":""},null,null,null,null,null,null,null,null,null,null,null,null,{"$f":"IF(AND(内訳明細書入力画面!N267=\"\",内訳明細書入力画面!M267=\"\"),\"\",IF(内訳明細書入力画面!N267=\"\",内訳明細書入力画面!M267,内訳明細書入力画面!N267))","v":""},null,null,null,{"$f":"IF(内訳明細書入力画面!O267=\"\",\"\",内訳明細書入力画面!O267)","v":""},null,null,{"$f":"IF(AND(内訳明細書入力画面!R267=\"\",内訳明細書入力画面!P267=\"\"),\"\",IF(内訳明細書入力画面!R267=\"\",内訳明細書入力画面!P267,内訳明細書入力画面!R267))","v":""},null,null,null,{"$f":"IF(AND(内訳明細書入力画面!V267=\"\",内訳明細書入力画面!T267=\"\"),\"\",IF(内訳明細書入力画面!V267=\"\",内訳明細書入力画面!T267,内訳明細書入力画面!V267))","v":""},null,null,null,null,null,null,null,null,null,null,null,null,null,null,null,{"$f":"IF(AL267=\"\",\"\",ROUNDDOWN(N(V267)*N(AL267),0))","v":""},null,null,null,"",null,null,null,""]
[null,{"$f":"IF(内訳明細書入力画面!B268=\"\",\"\",内訳明細書入力画面!B268)","v":""},null,null,null,null,null,null,null,null,null,null,null,null,{"$f":"IF(AND(内訳明細書入力画面!N268=\"\",内訳明細書入力画面!M268=\"\"),\"\",IF(内訳明細書入力画面!N268=\"\",内訳明細書入力画面!M268,内訳明細書入力画面!N268))","v":""},null,null,null,{"$f":"IF(内訳明細書入力画面!O268=\"\",\"\",内訳明細書入力画面!O268)","v":""},null,null,{"$f":"IF(AND(内訳明細書入力画面!R268=\"\",内訳明細書入力画面!P268=\"\"),\"\",IF(内訳明細書入力画面!R268=\"\",内訳明細書入力画面!P268,内訳明細書入力画面!R268))","v":""},null,null,null,{"$f":"IF(AND(内訳明細書入力画面!V268=\"\",内訳明細書入力画面!T268=\"\"),\"\",IF(内訳明細書入力画面!V268=\"\",内訳明細書入力画面!T268,内訳明細書入力画面!V268))","v":""},null,null,null,null,null,null,null,null,null,null,null,null,null,null,null,"",null,null,null,"",null,null,null,""]
[null,{"$f":"IF(内訳明細書入力画面!B269=\"\",\"\",内訳明細書入力画面!B269)","v":""},null,null,null,null,null,null,null,null,null,null,null,null,{"$f":"IF(AND(内訳明細書入力画面!N269=\"\",内訳明細書入力画面!M269=\"\"),\"\",IF(内訳明細書入力画面!N269=\"\",内訳明細書入力画面!M269,内訳明細書入力画面!N269))","v":""},null,null,null,{"$f":"IF(内訳明細書入力画面!O269=\"\",\"\",内訳明細書入力画面!O269)","v":""},null,null,{"$f":"IF(AND(内訳明細書入力画面!R269=\"\",内訳明細書入力画面!P269=\"\"),\"\",IF(内訳明細書入力画面!R269=\"\",内訳明細書入力画面!P269,内訳明細書入力画面!R269))","v":""},null,null,null,{"$f":"IF(AND(内訳明細書入力画面!V269=\"\",内訳明細書入力画面!T269=\"\"),\"\",IF(内訳明細書入力画面!V269=\"\",内訳明細書入力画面!T269,内訳明細書入力画面!V269))","v":""},null,null,null,null,null,null,null,null,null,null,null,null,null,null,null,"",null,null,null,"",null,null,null,""]
[null,{"$f":"IF(内訳明細書入力画面!B270=\"\",\"\",内訳明細書入力画面!B270)","v":""},null,null,null,null,null,null,null,null,null,null,null,null,{"$f":"IF(AND(内訳明細書入力画面!N270=\"\",内訳明細書入力画面!M270=\"\"),\"\",IF(内訳明細書入力画面!N270=\"\",内訳明細書入力画面!M270,内訳明細書入力画面!N270))","v":""},null,null,null,{"$f":"IF(内訳明細書入力画面!O270=\"\",\"\",内訳明細書入力画面!O270)","v":""},null,null,{"$f":"IF(AND(内訳明細書入力画面!R270=\"\",内訳明細書入力画面!P270=\"\"),\"\",IF(内訳明細書入力画面!R270=\"\",内訳明細書入力画面!P270,内訳明細書入力画面!R270))","v":""},null,null,null,{"$f":"IF(AND(内訳明細書入力画面!V270=\"\",内訳明細書入力画面!T270=\"\"),\"\",IF(内訳明細書入力画面!V270=\"\",内訳明細書入力画面!T270,内訳明細書入力画面!V270))","v":""},null,null,null,null,null,null,null,null,null,null,null,null,null,null,null,"",null,null,null,"",null,null,null,""]
[null,{"$f":"IF(内訳明細書入力画面!B271=\"\",\"\",内訳明細書入力画面!B271)","v":""},null,null,null,null,null,null,null,null,null,null,null,null,{"$f":"IF(AND(内訳明細書入力画面!N271=\"\",内訳明細書入力画面!M271=\"\"),\"\",IF(内訳明細書入力画面!N271=\"\",内訳明細書入力画面!M271,内訳明細書入力画面!N271))","v":""},null,null,null,{"$f":"IF(内訳明細書入力画面!O271=\"\",\"\",内訳明細書入力画面!O271)","v":""},null,null,{"$f":"IF(AND(内訳明細書入力画面!R271=\"\",内訳明細書入力画面!P271=\"\"),\"\",IF(内訳明細書入力画面!R271=\"\",内訳明細書入力画面!P271,内訳明細書入力画面!R271))","v":""},null,null,null,{"$f":"IF(AND(内訳明細書入力画面!V271=\"\",内訳明細書入力画面!T271=\"\"),\"\",IF(内訳明細書入力画面!V271=\"\",内訳明細書入力画面!T271,内訳明細書入力画面!V271))","v":""},null,null,null,null,null,null,null,null,null,null,null,null,null,null,null,"",null,null,null,"",null,null,null,""]
[null,{"$f":"IF(内訳明細書入力画面!B272=\"\",\"\",内訳明細書入力画面!B272)","v":""},null,null,null,null,null,null,null,null,null,null,null,null,{"$f":"IF(AND(内訳明細書入力画面!N272=\"\",内訳明細書入力画面!M272=\"\"),\"\",IF(内訳明細書入力画面!N272=\"\",内訳明細書入力画面!M272,内訳明細書入力画面!N272))","v":""},null,null,null,{"$f":"IF(内訳明細書入力画面!O272=\"\",\"\",内訳明細書入力画面!O272)","v":""},null,null,{"$f":"IF(AND(内訳明細書入力画面!R272=\"\",内訳明細書入力画面!P272=\"\"),\"\",IF(内訳明細書入力画面!R272=\"\",内訳明細書入力画面!P272,内訳明細書入力画面!R272))","v":""},null,null,null,{"$f":"IF(AND(内訳明細書入力画面!V272=\"\",内訳明細書入力画面!T272=\"\"),\"\",IF(内訳明細書入力画面!V272=\"\",内訳明細書入力画面!T272,内訳明細書入力画面!V272))","v":""},null,null,null,null,null,null,null,null,null,null,null,null,null,null,null,"",null,null,null,"",null,null,null,""]
[null,{"$f":"IF(内訳明細書入力画面!B273=\"\",\"\",内訳明細書入力画面!B273)","v":""},null,null,null,null,null,null,null,null,null,null,null,null,{"$f":"IF(AND(内訳明細書入力画面!N273=\"\",内訳明細書入力画面!M273=\"\"),\"\",IF(内訳明細書入力画面!N273=\"\",内訳明細書入力画面!M273,内訳明細書入力画面!N273))","v":""},null,null,null,{"$f":"IF(内訳明細書入力画面!O273=\"\",\"\",内訳明細書入力画面!O273)","v":""},null,null,{"$f":"IF(AND(内訳明細書入力画面!R273=\"\",内訳明細書入力画面!P273=\"\"),\"\",IF(内訳明細書入力画面!R273=\"\",内訳明細書入力画面!P273,内訳明細書入力画面!R273))","v":""},null,null,null,{"$f":"IF(AND(内訳明細書入力画面!V273=\"\",内訳明細書入力画面!T273=\"\"),\"\",IF(内訳明細書入力画面!V273=\"\",内訳明細書入力画面!T273,内訳明細書入力画面!V273))","v":""},null,null,null,null,null,null,null,null,null,null,null,null,null,null,null,"",null,null,null,"",null,null,null,""]
[null,{"$f":"IF(内訳明細書入力画面!B274=\"\",\"\",内訳明細書入力画面!B274)","v":""},null,null,null,null,null,null,null,null,null,null,null,null,{"$f":"IF(AND(内訳明細書入力画面!N274=\"\",内訳明細書入力画面!M274=\"\"),\"\",IF(内訳明細書入力画面!N274=\"\",内訳明細書入力画面!M274,内訳明細書入力画面!N274))","v":""},null,null,null,{"$f":"IF(内訳明細書入力画面!O274=\"\",\"\",内訳明細書入力画面!O274)","v":""},null,null,{"$f":"IF(AND(内訳明細書入力画面!R274=\"\",内訳明細書入力画面!P274=\"\"),\"\",IF(内訳明細書入力画面!R274=\"\",内訳明細書入力画面!P274,内訳明細書入力画面!R274))","v":""},null,null,null,{"$f":"IF(AND(内訳明細書入力画面!V274=\"\",内訳明細書入力画面!T274=\"\"),\"\",IF(内訳明細書入力画面!V274=\"\",内訳明細書入力画面!T274,内訳明細書入力画面!V274))","v":""},null,null,null,null,null,null,null,null,null,null,null,null,null,null,null,"",null,null,null,"",null,null,null,""]
[null,{"$f":"IF(内訳明細書入力画面!B275=\"\",\"\",内訳明細書入力画面!B275)","v":""},null,null,null,null,null,null,null,null,null,null,null,null,{"$f":"IF(AND(内訳明細書入力画面!N275=\"\",内訳明細書入力画面!M275=\"\"),\"\",IF(内訳明細書入力画面!N275=\"\",内訳明細書入力画面!M275,内訳明細書入力画面!N275))","v":""},null,null,null,{"$f":"IF(内訳明細書入力画面!O275=\"\",\"\",内訳明細書入力画面!O275)","v":""},null,null,{"$f":"IF(AND(内訳明細書入力画面!R275=\"\",内訳明細書入力画面!P275=\"\"),\"\",IF(内訳明細書入力画面!R275=\"\",内訳明細書入力画面!P275,内訳明細書入力画面!R275))","v":""},null,null,null,{"$f":"IF(AND(内訳明細書入力画面!V275=\"\",内訳明細書入力画面!T275=\"\"),\"\",IF(内訳明細書入力画面!V275=\"\",内訳明細書入力画面!T275,内訳明細書入力画面!V275))","v":""},null,null,null,null,null,null,null,null,null,null,null,null,null,null,null,"",null,null,null,"",null,null,null,""]
[null,{"$f":"IF(内訳明細書入力画面!B276=\"\",\"\",内訳明細書入力画面!B276)","v":""},null,null,null,null,null,null,null,null,null,null,null,null,{"$f":"IF(AND(内訳明細書入力画面!N276=\"\",内訳明細書入力画面!M276=\"\"),\"\",IF(内訳明細書入力画面!N276=\"\",内訳明細書入力画面!M276,内訳明細書入力画面!N276))","v":""},null,null,null,{"$f":"IF(内訳明細書入力画面!O276=\"\",\"\",内訳明細書入力画面!O276)","v":""},null,null,{"$f":"IF(AND(内訳明細書入力画面!R276=\"\",内訳明細書入力画面!P276=\"\"),\"\",IF(内訳明細書入力画面!R276=\"\",内訳明細書入力画面!P276,内訳明細書入力画面!R276))","v":""},null,null,null,{"$f":"IF(AND(内訳明細書入力画面!V276=\"\",内訳明細書入力画面!T276=\"\"),\"\",IF(内訳明細書入力画面!V276=\"\",内訳明細書入力画面!T276,内訳明細書入力画面!V276))","v":""},null,null,null,null,null,null,null,null,null,null,null,null,null,null,null,"",null,null,null,"",null,null,null,""]
[null,{"$f":"IF(内訳明細書入力画面!B277=\"\",\"\",内訳明細書入力画面!B277)","v":""},null,null,null,null,null,null,null,null,null,null,null,null,{"$f":"IF(AND(内訳明細書入力画面!N277=\"\",内訳明細書入力画面!M277=\"\"),\"\",IF(内訳明細書入力画面!N277=\"\",内訳明細書入力画面!M277,内訳明細書入力画面!N277))","v":""},null,null,null,{"$f":"IF(内訳明細書入力画面!O277=\"\",\"\",内訳明細書入力画面!O277)","v":""},null,null,{"$f":"IF(AND(内訳明細書入力画面!R277=\"\",内訳明細書入力画面!P277=\"\"),\"\",IF(内訳明細書入力画面!R277=\"\",内訳明細書入力画面!P277,内訳明細書入力画面!R277))","v":""},null,null,null,{"$f":"IF(AND(内訳明細書入力画面!V277=\"\",内訳明細書入力画面!T277=\"\"),\"\",IF(内訳明細書入力画面!V277=\"\",内訳明細書入力画面!T277,内訳明細書入力画面!V277))","v":""},null,null,null,null,null,null,null,null,null,null,null,null,null,null,null,"",null,null,null,"",null,null,null,""]
[null,{"$f":"IF(内訳明細書入力画面!B278=\"\",\"\",内訳明細書入力画面!B278)","v":""},null,null,null,null,null,null,null,null,null,null,null,null,{"$f":"IF(AND(内訳明細書入力画面!N278=\"\",内訳明細書入力画面!M278=\"\"),\"\",IF(内訳明細書入力画面!N278=\"\",内訳明細書入力画面!M278,内訳明細書入力画面!N278))","v":""},null,null,null,{"$f":"IF(内訳明細書入力画面!O278=\"\",\"\",内訳明細書入力画面!O278)","v":""},null,null,{"$f":"IF(AND(内訳明細書入力画面!R278=\"\",内訳明細書入力画面!P278=\"\"),\"\",IF(内訳明細書入力画面!R278=\"\",内訳明細書入力画面!P278,内訳明細書入力画面!R278))","v":""},null,null,null,{"$f":"IF(AND(内訳明細書入力画面!V278=\"\",内訳明細書入力画面!T278=\"\"),\"\",IF(内訳明細書入力画面!V278=\"\",内訳明細書入力画面!T278,内訳明細書入力画面!V278))","v":""},null,null,null,null,null,null,null,null,null,null,null,null,null,null,null,"",null,null,null,"",null,null,null,""]
[null,{"$f":"IF(内訳明細書入力画面!B279=\"\",\"\",内訳明細書入力画面!B279)","v":""},null,null,null,null,null,null,null,null,null,null,null,null,{"$f":"IF(AND(内訳明細書入力画面!N279=\"\",内訳明細書入力画面!M279=\"\"),\"\",IF(内訳明細書入力画面!N279=\"\",内訳明細書入力画面!M279,内訳明細書入力画面!N279))","v":""},null,null,null,{"$f":"IF(内訳明細書入力画面!O279=\"\",\"\",内訳明細書入力画面!O279)","v":""},null,null,{"$f":"IF(AND(内訳明細書入力画面!R279=\"\",内訳明細書入力画面!P279=\"\"),\"\",IF(内訳明細書入力画面!R279=\"\",内訳明細書入力画面!P279,内訳明細書入力画面!R279))","v":""},null,null,null,{"$f":"IF(AND(内訳明細書入力画面!V279=\"\",内訳明細書入力画面!T279=\"\"),\"\",IF(内訳明細書入力画面!V279=\"\",内訳明細書入力画面!T279,内訳明細書入力画面!V279))","v":""},null,null,null,null,null,null,null,null,null,null,null,null,null,null,null,"",null,null,null,"",null,null,null,""]
[null,{"$f":"IF(内訳明細書入力画面!B280=\"\",\"\",内訳明細書入力画面!B280)","v":""},null,null,null,null,null,null,null,null,null,null,null,null,{"$f":"IF(AND(内訳明細書入力画面!N280=\"\",内訳明細書入力画面!M280=\"\"),\"\",IF(内訳明細書入力画面!N280=\"\",内訳明細書入力画面!M280,内訳明細書入力画面!N280))","v":""},null,null,null,{"$f":"IF(内訳明細書入力画面!O280=\"\",\"\",内訳明細書入力画面!O280)","v":""},null,null,{"$f":"IF(AND(内訳明細書入力画面!R280=\"\",内訳明細書入力画面!P280=\"\"),\"\",IF(内訳明細書入力画面!R280=\"\",内訳明細書入力画面!P280,内訳明細書入力画面!R280))","v":""},null,null,null,{"$f":"IF(AND(内訳明細書入力画面!V280=\"\",内訳明細書入力画面!T280=\"\"),\"\",IF(内訳明細書入力画面!V280=\"\",内訳明細書入力画面!T280,内訳明細書入力画面!V280))","v":""},null,null,null,null,null,null,null,null,null,null,null,null,null,null,null,"",null,null,null,"",null,null,null,""]
[{"$f":"((ROW()-11)+15)/15","v":19},{"$f":"IF(内訳明細書入力画面!B281=\"\",\"\",内訳明細書入力画面!B281)","v":""},null,null,null,null,null,null,null,null,null,null,null,null,{"$f":"IF(AND(内訳明細書入力画面!N281=\"\",内訳明細書入力画面!M281=\"\"),\"\",IF(内訳明細書入力画面!N281=\"\",内訳明細書入力画面!M281,内訳明細書入力画面!N281))","v":""},null,null,null,{"$f":"IF(内訳明細書入力画面!O281=\"\",\"\",内訳明細書入力画面!O281)","v":""},null,null,{"$f":"IF(AND(内訳明細書入力画面!R281=\"\",内訳明細書入力画面!P281=\"\"),\"\",IF(内訳明細書入力画面!R281=\"\",内訳明細書入力画面!P281,内訳明細書入力画面!R281))","v":""},null,null,null,{"$f":"IF(AND(内訳明細書入力画面!V281=\"\",内訳明細書入力画面!T281=\"\"),\"\",IF(内訳明細書入力画面!V281=\"\",内訳明細書入力画面!T281,内訳明細書入力画面!V281))","v":""},null,null,null,null,null,null,null,null,null,null,null,null,null,null,null,"",null,null,null,"",null,null,null,""]
[null,{"$f":"IF(内訳明細書入力画面!B282=\"\",\"\",内訳明細書入力画面!B282)","v":""},null,null,null,null,null,null,null,null,null,null,null,null,{"$f":"IF(AND(内訳明細書入力画面!N282=\"\",内訳明細書入力画面!M282=\"\"),\"\",IF(内訳明細書入力画面!N282=\"\",内訳明細書入力画面!M282,内訳明細書入力画面!N282))","v":""},null,null,null,{"$f":"IF(内訳明細書入力画面!O282=\"\",\"\",内訳明細書入力画面!O282)","v":""},null,null,{"$f":"IF(AND(内訳明細書入力画面!R282=\"\",内訳明細書入力画面!P282=\"\"),\"\",IF(内訳明細書入力画面!R282=\"\",内訳明細書入力画面!P282,内訳明細書入力画面!R282))","v":""},null,null,null,{"$f":"IF(AND(内訳明細書入力画面!V282=\"\",内訳明細書入力画面!T282=\"\"),\"\",IF(内訳明細書入力画面!V282=\"\",内訳明細書入力画面!T282,内訳明細書入力画面!V282))","v":""},null,null,null,null,null,null,null,null,null,null,null,null,null,null,null,"",null,null,null,"",null,null,null,""]
[null,{"$f":"IF(内訳明細書入力画面!B283=\"\",\"\",内訳明細書入力画面!B283)","v":""},null,null,null,null,null,null,null,null,null,null,null,null,{"$f":"IF(AND(内訳明細書入力画面!N283=\"\",内訳明細書入力画面!M283=\"\"),\"\",IF(内訳明細書入力画面!N283=\"\",内訳明細書入力画面!M283,内訳明細書入力画面!N283))","v":""},null,null,null,{"$f":"IF(内訳明細書入力画面!O283=\"\",\"\",内訳明細書入力画面!O283)","v":""},null,null,{"$f":"IF(AND(内訳明細書入力画面!R283=\"\",内訳明細書入力画面!P283=\"\"),\"\",IF(内訳明細書入力画面!R283=\"\",内訳明細書入力画面!P283,内訳明細書入力画面!R283))","v":""},null,null,null,{"$f":"IF(AND(内訳明細書入力画面!V283=\"\",内訳明細書入力画面!T283=\"\"),\"\",IF(内訳明細書入力画面!V283=\"\",内訳明細書入力画面!T283,内訳明細書入力画面!V283))","v":""},null,null,null,null,null,null,null,null,null,null,null,null,null,null,null,"",null,null,null,"",null,null,null,""]
[null,{"$f":"IF(内訳明細書入力画面!B284=\"\",\"\",内訳明細書入力画面!B284)","v":""},null,null,null,null,null,null,null,null,null,null,null,null,{"$f":"IF(AND(内訳明細書入力画面!N284=\"\",内訳明細書入力画面!M284=\"\"),\"\",IF(内訳明細書入力画面!N284=\"\",内訳明細書入力画面!M284,内訳明細書入力画面!N284))","v":""},null,null,null,{"$f":"IF(内訳明細書入力画面!O284=\"\",\"\",内訳明細書入力画面!O284)","v":""},null,null,{"$f":"IF(AND(内訳明細書入力画面!R284=\"\",内訳明細書入力画面!P284=\"\"),\"\",IF(内訳明細書入力画面!R284=\"\",内訳明細書入力画面!P284,内訳明細書入力画面!R284))","v":""},null,null,null,{"$f":"IF(AND(内訳明細書入力画面!V284=\"\",内訳明細書入力画面!T284=\"\"),\"\",IF(内訳明細書入力画面!V284=\"\",内訳明細書入力画面!T284,内訳明細書入力画面!V284))","v":""},null,null,null,null,null,null,null,null,null,null,null,null,null,null,null,"",null,null,null,"",null,null,null,""]
[null,{"$f":"IF(内訳明細書入力画面!B285=\"\",\"\",内訳明細書入力画面!B285)","v":""},null,null,null,null,null,null,null,null,null,null,null,null,{"$f":"IF(AND(内訳明細書入力画面!N285=\"\",内訳明細書入力画面!M285=\"\"),\"\",IF(内訳明細書入力画面!N285=\"\",内訳明細書入力画面!M285,内訳明細書入力画面!N285))","v":""},null,null,null,{"$f":"IF(内訳明細書入力画面!O285=\"\",\"\",内訳明細書入力画面!O285)","v":""},null,null,{"$f":"IF(AND(内訳明細書入力画面!R285=\"\",内訳明細書入力画面!P285=\"\"),\"\",IF(内訳明細書入力画面!R285=\"\",内訳明細書入力画面!P285,内訳明細書入力画面!R285))","v":""},null,null,null,{"$f":"IF(AND(内訳明細書入力画面!V285=\"\",内訳明細書入力画面!T285=\"\"),\"\",IF(内訳明細書入力画面!V285=\"\",内訳明細書入力画面!T285,内訳明細書入力画面!V285))","v":""},null,null,null,null,null,null,null,null,null,null,null,null,null,null,null,"",null,null,null,"",null,null,null,""]
[null,{"$f":"IF(内訳明細書入力画面!B286=\"\",\"\",内訳明細書入力画面!B286)","v":""},null,null,null,null,null,null,null,null,null,null,null,null,{"$f":"IF(AND(内訳明細書入力画面!N286=\"\",内訳明細書入力画面!M286=\"\"),\"\",IF(内訳明細書入力画面!N286=\"\",内訳明細書入力画面!M286,内訳明細書入力画面!N286))","v":""},null,null,null,{"$f":"IF(内訳明細書入力画面!O286=\"\",\"\",内訳明細書入力画面!O286)","v":""},null,null,{"$f":"IF(AND(内訳明細書入力画面!R286=\"\",内訳明細書入力画面!P286=\"\"),\"\",IF(内訳明細書入力画面!R286=\"\",内訳明細書入力画面!P286,内訳明細書入力画面!R286))","v":""},null,null,null,{"$f":"IF(AND(内訳明細書入力画面!V286=\"\",内訳明細書入力画面!T286=\"\"),\"\",IF(内訳明細書入力画面!V286=\"\",内訳明細書入力画面!T286,内訳明細書入力画面!V286))","v":""},null,null,null,null,null,null,null,null,null,null,null,null,null,null,null,"",null,null,null,"",null,null,null,""]
[null,{"$f":"IF(内訳明細書入力画面!B287=\"\",\"\",内訳明細書入力画面!B287)","v":""},null,null,null,null,null,null,null,null,null,null,null,null,{"$f":"IF(AND(内訳明細書入力画面!N287=\"\",内訳明細書入力画面!M287=\"\"),\"\",IF(内訳明細書入力画面!N287=\"\",内訳明細書入力画面!M287,内訳明細書入力画面!N287))","v":""},null,null,null,{"$f":"IF(内訳明細書入力画面!O287=\"\",\"\",内訳明細書入力画面!O287)","v":""},null,null,{"$f":"IF(AND(内訳明細書入力画面!R287=\"\",内訳明細書入力画面!P287=\"\"),\"\",IF(内訳明細書入力画面!R287=\"\",内訳明細書入力画面!P287,内訳明細書入力画面!R287))","v":""},null,null,null,{"$f":"IF(AND(内訳明細書入力画面!V287=\"\",内訳明細書入力画面!T287=\"\"),\"\",IF(内訳明細書入力画面!V287=\"\",内訳明細書入力画面!T287,内訳明細書入力画面!V287))","v":""},null,null,null,null,null,null,null,null,null,null,null,null,null,null,null,"",null,null,null,"",null,null,null,""]
[null,{"$f":"IF(内訳明細書入力画面!B288=\"\",\"\",内訳明細書入力画面!B288)","v":""},null,null,null,null,null,null,null,null,null,null,null,null,{"$f":"IF(AND(内訳明細書入力画面!N288=\"\",内訳明細書入力画面!M288=\"\"),\"\",IF(内訳明細書入力画面!N288=\"\",内訳明細書入力画面!M288,内訳明細書入力画面!N288))","v":""},null,null,null,{"$f":"IF(内訳明細書入力画面!O288=\"\",\"\",内訳明細書入力画面!O288)","v":""},null,null,{"$f":"IF(AND(内訳明細書入力画面!R288=\"\",内訳明細書入力画面!P288=\"\"),\"\",IF(内訳明細書入力画面!R288=\"\",内訳明細書入力画面!P288,内訳明細書入力画面!R288))","v":""},null,null,null,{"$f":"IF(AND(内訳明細書入力画面!V288=\"\",内訳明細書入力画面!T288=\"\"),\"\",IF(内訳明細書入力画面!V288=\"\",内訳明細書入力画面!T288,内訳明細書入力画面!V288))","v":""},null,null,null,null,null,null,null,null,null,null,null,null,null,null,null,"",null,null,null,"",null,null,null,""]
[null,{"$f":"IF(内訳明細書入力画面!B289=\"\",\"\",内訳明細書入力画面!B289)","v":""},null,null,null,null,null,null,null,null,null,null,null,null,{"$f":"IF(AND(内訳明細書入力画面!N289=\"\",内訳明細書入力画面!M289=\"\"),\"\",IF(内訳明細書入力画面!N289=\"\",内訳明細書入力画面!M289,内訳明細書入力画面!N289))","v":""},null,null,null,{"$f":"IF(内訳明細書入力画面!O289=\"\",\"\",内訳明細書入力画面!O289)","v":""},null,null,{"$f":"IF(AND(内訳明細書入力画面!R289=\"\",内訳明細書入力画面!P289=\"\"),\"\",IF(内訳明細書入力画面!R289=\"\",内訳明細書入力画面!P289,内訳明細書入力画面!R289))","v":""},null,null,null,{"$f":"IF(AND(内訳明細書入力画面!V289=\"\",内訳明細書入力画面!T289=\"\"),\"\",IF(内訳明細書入力画面!V289=\"\",内訳明細書入力画面!T289,内訳明細書入力画面!V289))","v":""},null,null,null,null,null,null,null,null,null,null,null,null,null,null,null,"",null,null,null,"",null,null,null,""]
[null,{"$f":"IF(内訳明細書入力画面!B290=\"\",\"\",内訳明細書入力画面!B290)","v":""},null,null,null,null,null,null,null,null,null,null,null,null,{"$f":"IF(AND(内訳明細書入力画面!N290=\"\",内訳明細書入力画面!M290=\"\"),\"\",IF(内訳明細書入力画面!N290=\"\",内訳明細書入力画面!M290,内訳明細書入力画面!N290))","v":""},null,null,null,{"$f":"IF(内訳明細書入力画面!O290=\"\",\"\",内訳明細書入力画面!O290)","v":""},null,null,{"$f":"IF(AND(内訳明細書入力画面!R290=\"\",内訳明細書入力画面!P290=\"\"),\"\",IF(内訳明細書入力画面!R290=\"\",内訳明細書入力画面!P290,内訳明細書入力画面!R290))","v":""},null,null,null,{"$f":"IF(AND(内訳明細書入力画面!V290=\"\",内訳明細書入力画面!T290=\"\"),\"\",IF(内訳明細書入力画面!V290=\"\",内訳明細書入力画面!T290,内訳明細書入力画面!V290))","v":""},null,null,null,null,null,null,null,null,null,null,null,null,null,null,null,"",null,null,null,"",null,null,null,""]
[null,{"$f":"IF(内訳明細書入力画面!B291=\"\",\"\",内訳明細書入力画面!B291)","v":""},null,null,null,null,null,null,null,null,null,null,null,null,{"$f":"IF(AND(内訳明細書入力画面!N291=\"\",内訳明細書入力画面!M291=\"\"),\"\",IF(内訳明細書入力画面!N291=\"\",内訳明細書入力画面!M291,内訳明細書入力画面!N291))","v":""},null,null,null,{"$f":"IF(内訳明細書入力画面!O291=\"\",\"\",内訳明細書入力画面!O291)","v":""},null,null,{"$f":"IF(AND(内訳明細書入力画面!R291=\"\",内訳明細書入力画面!P291=\"\"),\"\",IF(内訳明細書入力画面!R291=\"\",内訳明細書入力画面!P291,内訳明細書入力画面!R291))","v":""},null,null,null,{"$f":"IF(AND(内訳明細書入力画面!V291=\"\",内訳明細書入力画面!T291=\"\"),\"\",IF(内訳明細書入力画面!V291=\"\",内訳明細書入力画面!T291,内訳明細書入力画面!V291))","v":""},null,null,null,null,null,null,null,null,null,null,null,null,null,null,null,"",null,null,null,"",null,null,null,""]
[null,{"$f":"IF(内訳明細書入力画面!B292=\"\",\"\",内訳明細書入力画面!B292)","v":""},null,null,null,null,null,null,null,null,null,null,null,null,{"$f":"IF(AND(内訳明細書入力画面!N292=\"\",内訳明細書入力画面!M292=\"\"),\"\",IF(内訳明細書入力画面!N292=\"\",内訳明細書入力画面!M292,内訳明細書入力画面!N292))","v":""},null,null,null,{"$f":"IF(内訳明細書入力画面!O292=\"\",\"\",内訳明細書入力画面!O292)","v":""},null,null,{"$f":"IF(AND(内訳明細書入力画面!R292=\"\",内訳明細書入力画面!P292=\"\"),\"\",IF(内訳明細書入力画面!R292=\"\",内訳明細書入力画面!P292,内訳明細書入力画面!R292))","v":""},null,null,null,{"$f":"IF(AND(内訳明細書入力画面!V292=\"\",内訳明細書入力画面!T292=\"\"),\"\",IF(内訳明細書入力画面!V292=\"\",内訳明細書入力画面!T292,内訳明細書入力画面!V292))","v":""},null,null,null,null,null,null,null,null,null,null,null,null,null,null,null,"",null,null,null,"",null,null,null,""]
[null,{"$f":"IF(内訳明細書入力画面!B293=\"\",\"\",内訳明細書入力画面!B293)","v":""},null,null,null,null,null,null,null,null,null,null,null,null,{"$f":"IF(AND(内訳明細書入力画面!N293=\"\",内訳明細書入力画面!M293=\"\"),\"\",IF(内訳明細書入力画面!N293=\"\",内訳明細書入力画面!M293,内訳明細書入力画面!N293))","v":""},null,null,null,{"$f":"IF(内訳明細書入力画面!O293=\"\",\"\",内訳明細書入力画面!O293)","v":""},null,null,{"$f":"IF(AND(内訳明細書入力画面!R293=\"\",内訳明細書入力画面!P293=\"\"),\"\",IF(内訳明細書入力画面!R293=\"\",内訳明細書入力画面!P293,内訳明細書入力画面!R293))","v":""},null,null,null,{"$f":"IF(AND(内訳明細書入力画面!V293=\"\",内訳明細書入力画面!T293=\"\"),\"\",IF(内訳明細書入力画面!V293=\"\",内訳明細書入力画面!T293,内訳明細書入力画面!V293))","v":""},null,null,null,null,null,null,null,null,null,null,null,null,null,null,null,"",null,null,null,"",null,null,null,""]
[null,{"$f":"IF(内訳明細書入力画面!B294=\"\",\"\",内訳明細書入力画面!B294)","v":""},null,null,null,null,null,null,null,null,null,null,null,null,{"$f":"IF(AND(内訳明細書入力画面!N294=\"\",内訳明細書入力画面!M294=\"\"),\"\",IF(内訳明細書入力画面!N294=\"\",内訳明細書入力画面!M294,内訳明細書入力画面!N294))","v":""},null,null,null,{"$f":"IF(内訳明細書入力画面!O294=\"\",\"\",内訳明細書入力画面!O294)","v":""},null,null,{"$f":"IF(AND(内訳明細書入力画面!R294=\"\",内訳明細書入力画面!P294=\"\"),\"\",IF(内訳明細書入力画面!R294=\"\",内訳明細書入力画面!P294,内訳明細書入力画面!R294))","v":""},null,null,null,{"$f":"IF(AND(内訳明細書入力画面!V294=\"\",内訳明細書入力画面!T294=\"\"),\"\",IF(内訳明細書入力画面!V294=\"\",内訳明細書入力画面!T294,内訳明細書入力画面!V294))","v":""},null,null,null,null,null,null,null,null,null,null,null,null,null,null,null,"",null,null,null,"",null,null,null,""]
[null,{"$f":"IF(内訳明細書入力画面!B295=\"\",\"\",内訳明細書入力画面!B295)","v":""},null,null,null,null,null,null,null,null,null,null,null,null,{"$f":"IF(AND(内訳明細書入力画面!N295=\"\",内訳明細書入力画面!M295=\"\"),\"\",IF(内訳明細書入力画面!N295=\"\",内訳明細書入力画面!M295,内訳明細書入力画面!N295))","v":""},null,null,null,{"$f":"IF(内訳明細書入力画面!O295=\"\",\"\",内訳明細書入力画面!O295)","v":""},null,null,{"$f":"IF(AND(内訳明細書入力画面!R295=\"\",内訳明細書入力画面!P295=\"\"),\"\",IF(内訳明細書入力画面!R295=\"\",内訳明細書入力画面!P295,内訳明細書入力画面!R295))","v":""},null,null,null,{"$f":"IF(AND(内訳明細書入力画面!V295=\"\",内訳明細書入力画面!T295=\"\"),\"\",IF(内訳明細書入力画面!V295=\"\",内訳明細書入力画面!T295,内訳明細書入力画面!V295))","v":""},null,null,null,null,null,null,null,null,null,null,null,null,null,null,null,"",null,null,null,"",null,null,null,""]
[{"$f":"((ROW()-11)+15)/15","v":20},{"$f":"IF(内訳明細書入力画面!B296=\"\",\"\",内訳明細書入力画面!B296)","v":""},null,null,null,null,null,null,null,null,null,null,null,null,{"$f":"IF(AND(内訳明細書入力画面!N296=\"\",内訳明細書入力画面!M296=\"\"),\"\",IF(内訳明細書入力画面!N296=\"\",内訳明細書入力画面!M296,内訳明細書入力画面!N296))","v":""},null,null,null,{"$f":"IF(内訳明細書入力画面!O296=\"\",\"\",内訳明細書入力画面!O296)","v":""},null,null,{"$f":"IF(AND(内訳明細書入力画面!R296=\"\",内訳明細書入力画面!P296=\"\"),\"\",IF(内訳明細書入力画面!R296=\"\",内訳明細書入力画面!P296,内訳明細書入力画面!R296))","v":""},null,null,null,{"$f":"IF(AND(内訳明細書入力画面!V296=\"\",内訳明細書入力画面!T296=\"\"),\"\",IF(内訳明細書入力画面!V296=\"\",内訳明細書入力画面!T296,内訳明細書入力画面!V296))","v":""},null,null,null,null,null,null,null,null,null,null,null,null,null,null,null,"",null,null,null,"",null,null,null,""]
[null,{"$f":"IF(内訳明細書入力画面!B297=\"\",\"\",内訳明細書入力画面!B297)","v":""},null,null,null,null,null,null,null,null,null,null,null,null,{"$f":"IF(AND(内訳明細書入力画面!N297=\"\",内訳明細書入力画面!M297=\"\"),\"\",IF(内訳明細書入力画面!N297=\"\",内訳明細書入力画面!M297,内訳明細書入力画面!N297))","v":""},null,null,null,{"$f":"IF(内訳明細書入力画面!O297=\"\",\"\",内訳明細書入力画面!O297)","v":""},null,null,{"$f":"IF(AND(内訳明細書入力画面!R297=\"\",内訳明細書入力画面!P297=\"\"),\"\",IF(内訳明細書入力画面!R297=\"\",内訳明細書入力画面!P297,内訳明細書入力画面!R297))","v":""},null,null,null,{"$f":"IF(AND(内訳明細書入力画面!V297=\"\",内訳明細書入力画面!T297=\"\"),\"\",IF(内訳明細書入力画面!V297=\"\",内訳明細書入力画面!T297,内訳明細書入力画面!V297))","v":""},null,null,null,null,null,null,null,null,null,null,null,null,null,null,null,"",null,null,null,"",null,null,null,""]
[null,{"$f":"IF(内訳明細書入力画面!B298=\"\",\"\",内訳明細書入力画面!B298)","v":""},null,null,null,null,null,null,null,null,null,null,null,null,{"$f":"IF(AND(内訳明細書入力画面!N298=\"\",内訳明細書入力画面!M298=\"\"),\"\",IF(内訳明細書入力画面!N298=\"\",内訳明細書入力画面!M298,内訳明細書入力画面!N298))","v":""},null,null,null,{"$f":"IF(内訳明細書入力画面!O298=\"\",\"\",内訳明細書入力画面!O298)","v":""},null,null,{"$f":"IF(AND(内訳明細書入力画面!R298=\"\",内訳明細書入力画面!P298=\"\"),\"\",IF(内訳明細書入力画面!R298=\"\",内訳明細書入力画面!P298,内訳明細書入力画面!R298))","v":""},null,null,null,{"$f":"IF(AND(内訳明細書入力画面!V298=\"\",内訳明細書入力画面!T298=\"\"),\"\",IF(内訳明細書入力画面!V298=\"\",内訳明細書入力画面!T298,内訳明細書入力画面!V298))","v":""},null,null,null,null,null,null,null,null,null,null,null,null,null,null,null,"",null,null,null,"",null,null,null,""]
[null,{"$f":"IF(内訳明細書入力画面!B299=\"\",\"\",内訳明細書入力画面!B299)","v":""},null,null,null,null,null,null,null,null,null,null,null,null,{"$f":"IF(AND(内訳明細書入力画面!N299=\"\",内訳明細書入力画面!M299=\"\"),\"\",IF(内訳明細書入力画面!N299=\"\",内訳明細書入力画面!M299,内訳明細書入力画面!N299))","v":""},null,null,null,{"$f":"IF(内訳明細書入力画面!O299=\"\",\"\",内訳明細書入力画面!O299)","v":""},null,null,{"$f":"IF(AND(内訳明細書入力画面!R299=\"\",内訳明細書入力画面!P299=\"\"),\"\",IF(内訳明細書入力画面!R299=\"\",内訳明細書入力画面!P299,内訳明細書入力画面!R299))","v":""},null,null,null,{"$f":"IF(AND(内訳明細書入力画面!V299=\"\",内訳明細書入力画面!T299=\"\"),\"\",IF(内訳明細書入力画面!V299=\"\",内訳明細書入力画面!T299,内訳明細書入力画面!V299))","v":""},null,null,null,null,null,null,null,null,null,null,null,null,null,null,null,"",null,null,null,"",null,null,null,""]
[null,{"$f":"IF(内訳明細書入力画面!B300=\"\",\"\",内訳明細書入力画面!B300)","v":""},null,null,null,null,null,null,null,null,null,null,null,null,{"$f":"IF(AND(内訳明細書入力画面!N300=\"\",内訳明細書入力画面!M300=\"\"),\"\",IF(内訳明細書入力画面!N300=\"\",内訳明細書入力画面!M300,内訳明細書入力画面!N300))","v":""},null,null,null,{"$f":"IF(内訳明細書入力画面!O300=\"\",\"\",内訳明細書入力画面!O300)","v":""},null,null,{"$f":"IF(AND(内訳明細書入力画面!R300=\"\",内訳明細書入力画面!P300=\"\"),\"\",IF(内訳明細書入力画面!R300=\"\",内訳明細書入力画面!P300,内訳明細書入力画面!R300))","v":""},null,null,null,{"$f":"IF(AND(内訳明細書入力画面!V300=\"\",内訳明細書入力画面!T300=\"\"),\"\",IF(内訳明細書入力画面!V300=\"\",内訳明細書入力画面!T300,内訳明細書入力画面!V300))","v":""},null,null,null,null,null,null,null,null,null,null,null,null,null,null,null,"",null,null,null,"",null,null,null,""]
[null,{"$f":"IF(内訳明細書入力画面!B301=\"\",\"\",内訳明細書入力画面!B301)","v":""},null,null,null,null,null,null,null,null,null,null,null,null,{"$f":"IF(AND(内訳明細書入力画面!N301=\"\",内訳明細書入力画面!M301=\"\"),\"\",IF(内訳明細書入力画面!N301=\"\",内訳明細書入力画面!M301,内訳明細書入力画面!N301))","v":""},null,null,null,{"$f":"IF(内訳明細書入力画面!O301=\"\",\"\",内訳明細書入力画面!O301)","v":""},null,null,{"$f":"IF(AND(内訳明細書入力画面!R301=\"\",内訳明細書入力画面!P301=\"\"),\"\",IF(内訳明細書入力画面!R301=\"\",内訳明細書入力画面!P301,内訳明細書入力画面!R301))","v":""},null,null,null,{"$f":"IF(AND(内訳明細書入力画面!V301=\"\",内訳明細書入力画面!T301=\"\"),\"\",IF(内訳明細書入力画面!V301=\"\",内訳明細書入力画面!T301,内訳明細書入力画面!V301))","v":""},null,null,null,null,null,null,null,null,null,null,null,null,null,null,null,"",null,null,null,"",null,null,null,""]
[null,{"$f":"IF(内訳明細書入力画面!B302=\"\",\"\",内訳明細書入力画面!B302)","v":""},null,null,null,null,null,null,null,null,null,null,null,null,{"$f":"IF(AND(内訳明細書入力画面!N302=\"\",内訳明細書入力画面!M302=\"\"),\"\",IF(内訳明細書入力画面!N302=\"\",内訳明細書入力画面!M302,内訳明細書入力画面!N302))","v":""},null,null,null,{"$f":"IF(内訳明細書入力画面!O302=\"\",\"\",内訳明細書入力画面!O302)","v":""},null,null,{"$f":"IF(AND(内訳明細書入力画面!R302=\"\",内訳明細書入力画面!P302=\"\"),\"\",IF(内訳明細書入力画面!R302=\"\",内訳明細書入力画面!P302,内訳明細書入力画面!R302))","v":""},null,null,null,{"$f":"IF(AND(内訳明細書入力画面!V302=\"\",内訳明細書入力画面!T302=\"\"),\"\",IF(内訳明細書入力画面!V302=\"\",内訳明細書入力画面!T302,内訳明細書入力画面!V302))","v":""},null,null,null,null,null,null,null,null,null,null,null,null,null,null,null,"",null,null,null,"",null,null,null,""]
[null,{"$f":"IF(内訳明細書入力画面!B303=\"\",\"\",内訳明細書入力画面!B303)","v":""},null,null,null,null,null,null,null,null,null,null,null,null,{"$f":"IF(AND(内訳明細書入力画面!N303=\"\",内訳明細書入力画面!M303=\"\"),\"\",IF(内訳明細書入力画面!N303=\"\",内訳明細書入力画面!M303,内訳明細書入力画面!N303))","v":""},null,null,null,{"$f":"IF(内訳明細書入力画面!O303=\"\",\"\",内訳明細書入力画面!O303)","v":""},null,null,{"$f":"IF(AND(内訳明細書入力画面!R303=\"\",内訳明細書入力画面!P303=\"\"),\"\",IF(内訳明細書入力画面!R303=\"\",内訳明細書入力画面!P303,内訳明細書入力画面!R303))","v":""},null,null,null,{"$f":"IF(AND(内訳明細書入力画面!V303=\"\",内訳明細書入力画面!T303=\"\"),\"\",IF(内訳明細書入力画面!V303=\"\",内訳明細書入力画面!T303,内訳明細書入力画面!V303))","v":""},null,null,null,null,null,null,null,null,null,null,null,null,null,null,null,"",null,null,null,"",null,null,null,""]
[null,{"$f":"IF(内訳明細書入力画面!B304=\"\",\"\",内訳明細書入力画面!B304)","v":""},null,null,null,null,null,null,null,null,null,null,null,null,{"$f":"IF(AND(内訳明細書入力画面!N304=\"\",内訳明細書入力画面!M304=\"\"),\"\",IF(内訳明細書入力画面!N304=\"\",内訳明細書入力画面!M304,内訳明細書入力画面!N304))","v":""},null,null,null,{"$f":"IF(内訳明細書入力画面!O304=\"\",\"\",内訳明細書入力画面!O304)","v":""},null,null,{"$f":"IF(AND(内訳明細書入力画面!R304=\"\",内訳明細書入力画面!P304=\"\"),\"\",IF(内訳明細書入力画面!R304=\"\",内訳明細書入力画面!P304,内訳明細書入力画面!R304))","v":""},null,null,null,{"$f":"IF(AND(内訳明細書入力画面!V304=\"\",内訳明細書入力画面!T304=\"\"),\"\",IF(内訳明細書入力画面!V304=\"\",内訳明細書入力画面!T304,内訳明細書入力画面!V304))","v":""},null,null,null,null,null,null,null,null,null,null,null,null,null,null,null,"",null,null,null,"",null,null,null,""]
[null,{"$f":"IF(内訳明細書入力画面!B305=\"\",\"\",内訳明細書入力画面!B305)","v":""},null,null,null,null,null,null,null,null,null,null,null,null,{"$f":"IF(AND(内訳明細書入力画面!N305=\"\",内訳明細書入力画面!M305=\"\"),\"\",IF(内訳明細書入力画面!N305=\"\",内訳明細書入力画面!M305,内訳明細書入力画面!N305))","v":""},null,null,null,{"$f":"IF(内訳明細書入力画面!O305=\"\",\"\",内訳明細書入力画面!O305)","v":""},null,null,{"$f":"IF(AND(内訳明細書入力画面!R305=\"\",内訳明細書入力画面!P305=\"\"),\"\",IF(内訳明細書入力画面!R305=\"\",内訳明細書入力画面!P305,内訳明細書入力画面!R305))","v":""},null,null,null,{"$f":"IF(AND(内訳明細書入力画面!V305=\"\",内訳明細書入力画面!T305=\"\"),\"\",IF(内訳明細書入力画面!V305=\"\",内訳明細書入力画面!T305,内訳明細書入力画面!V305))","v":""},null,null,null,null,null,null,null,null,null,null,null,null,null,null,null,"",null,null,null,"",null,null,null,""]
[null,{"$f":"IF(内訳明細書入力画面!B306=\"\",\"\",内訳明細書入力画面!B306)","v":""},null,null,null,null,null,null,null,null,null,null,null,null,{"$f":"IF(AND(内訳明細書入力画面!N306=\"\",内訳明細書入力画面!M306=\"\"),\"\",IF(内訳明細書入力画面!N306=\"\",内訳明細書入力画面!M306,内訳明細書入力画面!N306))","v":""},null,null,null,{"$f":"IF(内訳明細書入力画面!O306=\"\",\"\",内訳明細書入力画面!O306)","v":""},null,null,{"$f":"IF(AND(内訳明細書入力画面!R306=\"\",内訳明細書入力画面!P306=\"\"),\"\",IF(内訳明細書入力画面!R306=\"\",内訳明細書入力画面!P306,内訳明細書入力画面!R306))","v":""},null,null,null,{"$f":"IF(AND(内訳明細書入力画面!V306=\"\",内訳明細書入力画面!T306=\"\"),\"\",IF(内訳明細書入力画面!V306=\"\",内訳明細書入力画面!T306,内訳明細書入力画面!V306))","v":""},null,null,null,null,null,null,null,null,null,null,null,null,null,null,null,"",null,null,null,"",null,null,null,""]
[null,{"$f":"IF(内訳明細書入力画面!B307=\"\",\"\",内訳明細書入力画面!B307)","v":""},null,null,null,null,null,null,null,null,null,null,null,null,{"$f":"IF(AND(内訳明細書入力画面!N307=\"\",内訳明細書入力画面!M307=\"\"),\"\",IF(内訳明細書入力画面!N307=\"\",内訳明細書入力画面!M307,内訳明細書入力画面!N307))","v":""},null,null,null,{"$f":"IF(内訳明細書入力画面!O307=\"\",\"\",内訳明細書入力画面!O307)","v":""},null,null,{"$f":"IF(AND(内訳明細書入力画面!R307=\"\",内訳明細書入力画面!P307=\"\"),\"\",IF(内訳明細書入力画面!R307=\"\",内訳明細書入力画面!P307,内訳明細書入力画面!R307))","v":""},null,null,null,{"$f":"IF(AND(内訳明細書入力画面!V307=\"\",内訳明細書入力画面!T307=\"\"),\"\",IF(内訳明細書入力画面!V307=\"\",内訳明細書入力画面!T307,内訳明細書入力画面!V307))","v":""},null,null,null,null,null,null,null,null,null,null,null,null,null,null,null,"",null,null,null,"",null,null,null,""]
[null,{"$f":"IF(内訳明細書入力画面!B308=\"\",\"\",内訳明細書入力画面!B308)","v":""},null,null,null,null,null,null,null,null,null,null,null,null,{"$f":"IF(AND(内訳明細書入力画面!N308=\"\",内訳明細書入力画面!M308=\"\"),\"\",IF(内訳明細書入力画面!N308=\"\",内訳明細書入力画面!M308,内訳明細書入力画面!N308))","v":""},null,null,null,{"$f":"IF(内訳明細書入力画面!O308=\"\",\"\",内訳明細書入力画面!O308)","v":""},null,null,{"$f":"IF(AND(内訳明細書入力画面!R308=\"\",内訳明細書入力画面!P308=\"\"),\"\",IF(内訳明細書入力画面!R308=\"\",内訳明細書入力画面!P308,内訳明細書入力画面!R308))","v":""},null,null,null,{"$f":"IF(AND(内訳明細書入力画面!V308=\"\",内訳明細書入力画面!T308=\"\"),\"\",IF(内訳明細書入力画面!V308=\"\",内訳明細書入力画面!T308,内訳明細書入力画面!V308))","v":""},null,null,null,null,null,null,null,null,null,null,null,null,null,null,null,"",null,null,null,"",null,null,null,""]
[null,{"$f":"IF(内訳明細書入力画面!B309=\"\",\"\",内訳明細書入力画面!B309)","v":""},null,null,null,null,null,null,null,null,null,null,null,null,{"$f":"IF(AND(内訳明細書入力画面!N309=\"\",内訳明細書入力画面!M309=\"\"),\"\",IF(内訳明細書入力画面!N309=\"\",内訳明細書入力画面!M309,内訳明細書入力画面!N309))","v":""},null,null,null,{"$f":"IF(内訳明細書入力画面!O309=\"\",\"\",内訳明細書入力画面!O309)","v":""},null,null,{"$f":"IF(AND(内訳明細書入力画面!R309=\"\",内訳明細書入力画面!P309=\"\"),\"\",IF(内訳明細書入力画面!R309=\"\",内訳明細書入力画面!P309,内訳明細書入力画面!R309))","v":""},null,null,null,{"$f":"IF(AND(内訳明細書入力画面!V309=\"\",内訳明細書入力画面!T309=\"\"),\"\",IF(内訳明細書入力画面!V309=\"\",内訳明細書入力画面!T309,内訳明細書入力画面!V309))","v":""},null,null,null,null,null,null,null,null,null,null,null,null,null,null,null,"",null,null,null,"",null,null,null,""]
[null,{"$f":"IF(内訳明細書入力画面!B310=\"\",\"\",内訳明細書入力画面!B310)","v":""},null,null,null,null,null,null,null,null,null,null,null,null,{"$f":"IF(AND(内訳明細書入力画面!N310=\"\",内訳明細書入力画面!M310=\"\"),\"\",IF(内訳明細書入力画面!N310=\"\",内訳明細書入力画面!M310,内訳明細書入力画面!N310))","v":""},null,null,null,{"$f":"IF(内訳明細書入力画面!O310=\"\",\"\",内訳明細書入力画面!O310)","v":""},null,null,{"$f":"IF(AND(内訳明細書入力画面!R310=\"\",内訳明細書入力画面!P310=\"\"),\"\",IF(内訳明細書入力画面!R310=\"\",内訳明細書入力画面!P310,内訳明細書入力画面!R310))","v":""},null,null,null,{"$f":"IF(AND(内訳明細書入力画面!V310=\"\",内訳明細書入力画面!T310=\"\"),\"\",IF(内訳明細書入力画面!V310=\"\",内訳明細書入力画面!T310,内訳明細書入力画面!V310))","v":""},null,null,null,null,null,null,null,null,null,null,null,null,null,null,null,"",null,null,null,"",null,null,null,""]
[{"$f":"((ROW()-11)+15)/15","v":21},{"$f":"IF(内訳明細書入力画面!B311=\"\",\"\",内訳明細書入力画面!B311)","v":""},null,null,null,null,null,null,null,null,null,null,null,null,{"$f":"IF(AND(内訳明細書入力画面!N311=\"\",内訳明細書入力画面!M311=\"\"),\"\",IF(内訳明細書入力画面!N311=\"\",内訳明細書入力画面!M311,内訳明細書入力画面!N311))","v":""},null,null,null,{"$f":"IF(内訳明細書入力画面!O311=\"\",\"\",内訳明細書入力画面!O311)","v":""},null,null,{"$f":"IF(AND(内訳明細書入力画面!R311=\"\",内訳明細書入力画面!P311=\"\"),\"\",IF(内訳明細書入力画面!R311=\"\",内訳明細書入力画面!P311,内訳明細書入力画面!R311))","v":""},null,null,null,{"$f":"IF(AND(内訳明細書入力画面!V311=\"\",内訳明細書入力画面!T311=\"\"),\"\",IF(内訳明細書入力画面!V311=\"\",内訳明細書入力画面!T311,内訳明細書入力画面!V311))","v":""},null,null,null,null,null,null,null,null,null,null,null,null,null,null,null,{"$f":"IF(AL311=\"\",\"\",ROUNDDOWN(N(V311)*N(AL311),0))","v":""},null,null,null,{"$f":"IF(AND(AD311=\"\",AL311=\"\"),\"\",N(AD311)+N(AL311))","v":""},null,null,null,{"$f":"IF(AND(AH311=\"\",AP311=\"\"),\"\",N(AH311)+N(AP311))","v":""}]
[null,{"$f":"IF(内訳明細書入力画面!B312=\"\",\"\",内訳明細書入力画面!B312)","v":""},null,null,null,null,null,null,null,null,null,null,null,null,{"$f":"IF(AND(内訳明細書入力画面!N312=\"\",内訳明細書入力画面!M312=\"\"),\"\",IF(内訳明細書入力画面!N312=\"\",内訳明細書入力画面!M312,内訳明細書入力画面!N312))","v":""},null,null,null,{"$f":"IF(内訳明細書入力画面!O312=\"\",\"\",内訳明細書入力画面!O312)","v":""},null,null,{"$f":"IF(AND(内訳明細書入力画面!R312=\"\",内訳明細書入力画面!P312=\"\"),\"\",IF(内訳明細書入力画面!R312=\"\",内訳明細書入力画面!P312,内訳明細書入力画面!R312))","v":""},null,null,null,{"$f":"IF(AND(内訳明細書入力画面!V312=\"\",内訳明細書入力画面!T312=\"\"),\"\",IF(内訳明細書入力画面!V312=\"\",内訳明細書入力画面!T312,内訳明細書入力画面!V312))","v":""},null,null,null,null,null,null,null,null,null,null,null,null,null,null,null,"",null,null,null,"",null,null,null,""]
[null,{"$f":"IF(内訳明細書入力画面!B313=\"\",\"\",内訳明細書入力画面!B313)","v":""},null,null,null,null,null,null,null,null,null,null,null,null,{"$f":"IF(AND(内訳明細書入力画面!N313=\"\",内訳明細書入力画面!M313=\"\"),\"\",IF(内訳明細書入力画面!N313=\"\",内訳明細書入力画面!M313,内訳明細書入力画面!N313))","v":""},null,null,null,{"$f":"IF(内訳明細書入力画面!O313=\"\",\"\",内訳明細書入力画面!O313)","v":""},null,null,{"$f":"IF(AND(内訳明細書入力画面!R313=\"\",内訳明細書入力画面!P313=\"\"),\"\",IF(内訳明細書入力画面!R313=\"\",内訳明細書入力画面!P313,内訳明細書入力画面!R313))","v":""},null,null,null,{"$f":"IF(AND(内訳明細書入力画面!V313=\"\",内訳明細書入力画面!T313=\"\"),\"\",IF(内訳明細書入力画面!V313=\"\",内訳明細書入力画面!T313,内訳明細書入力画面!V313))","v":""},null,null,null,null,null,null,null,null,null,null,null,null,null,null,null,"",null,null,null,"",null,null,null,""]
[null,{"$f":"IF(内訳明細書入力画面!B314=\"\",\"\",内訳明細書入力画面!B314)","v":""},null,null,null,null,null,null,null,null,null,null,null,null,{"$f":"IF(AND(内訳明細書入力画面!N314=\"\",内訳明細書入力画面!M314=\"\"),\"\",IF(内訳明細書入力画面!N314=\"\",内訳明細書入力画面!M314,内訳明細書入力画面!N314))","v":""},null,null,null,{"$f":"IF(内訳明細書入力画面!O314=\"\",\"\",内訳明細書入力画面!O314)","v":""},null,null,{"$f":"IF(AND(内訳明細書入力画面!R314=\"\",内訳明細書入力画面!P314=\"\"),\"\",IF(内訳明細書入力画面!R314=\"\",内訳明細書入力画面!P314,内訳明細書入力画面!R314))","v":""},null,null,null,{"$f":"IF(AND(内訳明細書入力画面!V314=\"\",内訳明細書入力画面!T314=\"\"),\"\",IF(内訳明細書入力画面!V314=\"\",内訳明細書入力画面!T314,内訳明細書入力画面!V314))","v":""},null,null,null,null,null,null,null,null,null,null,null,null,null,null,null,"",null,null,null,"",null,null,null,""]
[null,{"$f":"IF(内訳明細書入力画面!B315=\"\",\"\",内訳明細書入力画面!B315)","v":""},null,null,null,null,null,null,null,null,null,null,null,null,{"$f":"IF(AND(内訳明細書入力画面!N315=\"\",内訳明細書入力画面!M315=\"\"),\"\",IF(内訳明細書入力画面!N315=\"\",内訳明細書入力画面!M315,内訳明細書入力画面!N315))","v":""},null,null,null,{"$f":"IF(内訳明細書入力画面!O315=\"\",\"\",内訳明細書入力画面!O315)","v":""},null,null,{"$f":"IF(AND(内訳明細書入力画面!R315=\"\",内訳明細書入力画面!P315=\"\"),\"\",IF(内訳明細書入力画面!R315=\"\",内訳明細書入力画面!P315,内訳明細書入力画面!R315))","v":""},null,null,null,{"$f":"IF(AND(内訳明細書入力画面!V315=\"\",内訳明細書入力画面!T315=\"\"),\"\",IF(内訳明細書入力画面!V315=\"\",内訳明細書入力画面!T315,内訳明細書入力画面!V315))","v":""},null,null,null,null,null,null,null,null,null,null,null,null,null,null,null,"",null,null,null,"",null,null,null,""]
[null,{"$f":"IF(内訳明細書入力画面!B316=\"\",\"\",内訳明細書入力画面!B316)","v":""},null,null,null,null,null,null,null,null,null,null,null,null,{"$f":"IF(AND(内訳明細書入力画面!N316=\"\",内訳明細書入力画面!M316=\"\"),\"\",IF(内訳明細書入力画面!N316=\"\",内訳明細書入力画面!M316,内訳明細書入力画面!N316))","v":""},null,null,null,{"$f":"IF(内訳明細書入力画面!O316=\"\",\"\",内訳明細書入力画面!O316)","v":""},null,null,{"$f":"IF(AND(内訳明細書入力画面!R316=\"\",内訳明細書入力画面!P316=\"\"),\"\",IF(内訳明細書入力画面!R316=\"\",内訳明細書入力画面!P316,内訳明細書入力画面!R316))","v":""},null,null,null,{"$f":"IF(AND(内訳明細書入力画面!V316=\"\",内訳明細書入力画面!T316=\"\"),\"\",IF(内訳明細書入力画面!V316=\"\",内訳明細書入力画面!T316,内訳明細書入力画面!V316))","v":""},null,null,null,null,null,null,null,null,null,null,null,null,null,null,null,"",null,null,null,"",null,null,null,""]
[null,{"$f":"IF(内訳明細書入力画面!B317=\"\",\"\",内訳明細書入力画面!B317)","v":""},null,null,null,null,null,null,null,null,null,null,null,null,{"$f":"IF(AND(内訳明細書入力画面!N317=\"\",内訳明細書入力画面!M317=\"\"),\"\",IF(内訳明細書入力画面!N317=\"\",内訳明細書入力画面!M317,内訳明細書入力画面!N317))","v":""},null,null,null,{"$f":"IF(内訳明細書入力画面!O317=\"\",\"\",内訳明細書入力画面!O317)","v":""},null,null,{"$f":"IF(AND(内訳明細書入力画面!R317=\"\",内訳明細書入力画面!P317=\"\"),\"\",IF(内訳明細書入力画面!R317=\"\",内訳明細書入力画面!P317,内訳明細書入力画面!R317))","v":""},null,null,null,{"$f":"IF(AND(内訳明細書入力画面!V317=\"\",内訳明細書入力画面!T317=\"\"),\"\",IF(内訳明細書入力画面!V317=\"\",内訳明細書入力画面!T317,内訳明細書入力画面!V317))","v":""},null,null,null,null,null,null,null,null,null,null,null,null,null,null,null,"",null,null,null,"",null,null,null,""]
[null,{"$f":"IF(内訳明細書入力画面!B318=\"\",\"\",内訳明細書入力画面!B318)","v":""},null,null,null,null,null,null,null,null,null,null,null,null,{"$f":"IF(AND(内訳明細書入力画面!N318=\"\",内訳明細書入力画面!M318=\"\"),\"\",IF(内訳明細書入力画面!N318=\"\",内訳明細書入力画面!M318,内訳明細書入力画面!N318))","v":""},null,null,null,{"$f":"IF(内訳明細書入力画面!O318=\"\",\"\",内訳明細書入力画面!O318)","v":""},null,null,{"$f":"IF(AND(内訳明細書入力画面!R318=\"\",内訳明細書入力画面!P318=\"\"),\"\",IF(内訳明細書入力画面!R318=\"\",内訳明細書入力画面!P318,内訳明細書入力画面!R318))","v":""},null,null,null,{"$f":"IF(AND(内訳明細書入力画面!V318=\"\",内訳明細書入力画面!T318=\"\"),\"\",IF(内訳明細書入力画面!V318=\"\",内訳明細書入力画面!T318,内訳明細書入力画面!V318))","v":""},null,null,null,null,null,null,null,null,null,null,null,null,null,null,null,"",null,null,null,"",null,null,null,""]
[null,{"$f":"IF(内訳明細書入力画面!B319=\"\",\"\",内訳明細書入力画面!B319)","v":""},null,null,null,null,null,null,null,null,null,null,null,null,{"$f":"IF(AND(内訳明細書入力画面!N319=\"\",内訳明細書入力画面!M319=\"\"),\"\",IF(内訳明細書入力画面!N319=\"\",内訳明細書入力画面!M319,内訳明細書入力画面!N319))","v":""},null,null,null,{"$f":"IF(内訳明細書入力画面!O319=\"\",\"\",内訳明細書入力画面!O319)","v":""},null,null,{"$f":"IF(AND(内訳明細書入力画面!R319=\"\",内訳明細書入力画面!P319=\"\"),\"\",IF(内訳明細書入力画面!R319=\"\",内訳明細書入力画面!P319,内訳明細書入力画面!R319))","v":""},null,null,null,{"$f":"IF(AND(内訳明細書入力画面!V319=\"\",内訳明細書入力画面!T319=\"\"),\"\",IF(内訳明細書入力画面!V319=\"\",内訳明細書入力画面!T319,内訳明細書入力画面!V319))","v":""},null,null,null,null,null,null,null,null,null,null,null,null,null,null,null,"",null,null,null,"",null,null,null,""]
[null,{"$f":"IF(内訳明細書入力画面!B320=\"\",\"\",内訳明細書入力画面!B320)","v":""},null,null,null,null,null,null,null,null,null,null,null,null,{"$f":"IF(AND(内訳明細書入力画面!N320=\"\",内訳明細書入力画面!M320=\"\"),\"\",IF(内訳明細書入力画面!N320=\"\",内訳明細書入力画面!M320,内訳明細書入力画面!N320))","v":""},null,null,null,{"$f":"IF(内訳明細書入力画面!O320=\"\",\"\",内訳明細書入力画面!O320)","v":""},null,null,{"$f":"IF(AND(内訳明細書入力画面!R320=\"\",内訳明細書入力画面!P320=\"\"),\"\",IF(内訳明細書入力画面!R320=\"\",内訳明細書入力画面!P320,内訳明細書入力画面!R320))","v":""},null,null,null,{"$f":"IF(AND(内訳明細書入力画面!V320=\"\",内訳明細書入力画面!T320=\"\"),\"\",IF(内訳明細書入力画面!V320=\"\",内訳明細書入力画面!T320,内訳明細書入力画面!V320))","v":""},null,null,null,null,null,null,null,null,null,null,null,null,null,null,null,"",null,null,null,"",null,null,null,""]
[null,{"$f":"IF(内訳明細書入力画面!B321=\"\",\"\",内訳明細書入力画面!B321)","v":""},null,null,null,null,null,null,null,null,null,null,null,null,{"$f":"IF(AND(内訳明細書入力画面!N321=\"\",内訳明細書入力画面!M321=\"\"),\"\",IF(内訳明細書入力画面!N321=\"\",内訳明細書入力画面!M321,内訳明細書入力画面!N321))","v":""},null,null,null,{"$f":"IF(内訳明細書入力画面!O321=\"\",\"\",内訳明細書入力画面!O321)","v":""},null,null,{"$f":"IF(AND(内訳明細書入力画面!R321=\"\",内訳明細書入力画面!P321=\"\"),\"\",IF(内訳明細書入力画面!R321=\"\",内訳明細書入力画面!P321,内訳明細書入力画面!R321))","v":""},null,null,null,{"$f":"IF(AND(内訳明細書入力画面!V321=\"\",内訳明細書入力画面!T321=\"\"),\"\",IF(内訳明細書入力画面!V321=\"\",内訳明細書入力画面!T321,内訳明細書入力画面!V321))","v":""},null,null,null,null,null,null,null,null,null,null,null,null,null,null,null,"",null,null,null,"",null,null,null,""]
[null,{"$f":"IF(内訳明細書入力画面!B322=\"\",\"\",内訳明細書入力画面!B322)","v":""},null,null,null,null,null,null,null,null,null,null,null,null,{"$f":"IF(AND(内訳明細書入力画面!N322=\"\",内訳明細書入力画面!M322=\"\"),\"\",IF(内訳明細書入力画面!N322=\"\",内訳明細書入力画面!M322,内訳明細書入力画面!N322))","v":""},null,null,null,{"$f":"IF(内訳明細書入力画面!O322=\"\",\"\",内訳明細書入力画面!O322)","v":""},null,null,{"$f":"IF(AND(内訳明細書入力画面!R322=\"\",内訳明細書入力画面!P322=\"\"),\"\",IF(内訳明細書入力画面!R322=\"\",内訳明細書入力画面!P322,内訳明細書入力画面!R322))","v":""},null,null,null,{"$f":"IF(AND(内訳明細書入力画面!V322=\"\",内訳明細書入力画面!T322=\"\"),\"\",IF(内訳明細書入力画面!V322=\"\",内訳明細書入力画面!T322,内訳明細書入力画面!V322))","v":""},null,null,null,null,null,null,null,null,null,null,null,null,null,null,null,"",null,null,null,"",null,null,null,""]
[null,{"$f":"IF(内訳明細書入力画面!B323=\"\",\"\",内訳明細書入力画面!B323)","v":""},null,null,null,null,null,null,null,null,null,null,null,null,{"$f":"IF(AND(内訳明細書入力画面!N323=\"\",内訳明細書入力画面!M323=\"\"),\"\",IF(内訳明細書入力画面!N323=\"\",内訳明細書入力画面!M323,内訳明細書入力画面!N323))","v":""},null,null,null,{"$f":"IF(内訳明細書入力画面!O323=\"\",\"\",内訳明細書入力画面!O323)","v":""},null,null,{"$f":"IF(AND(内訳明細書入力画面!R323=\"\",内訳明細書入力画面!P323=\"\"),\"\",IF(内訳明細書入力画面!R323=\"\",内訳明細書入力画面!P323,内訳明細書入力画面!R323))","v":""},null,null,null,{"$f":"IF(AND(内訳明細書入力画面!V323=\"\",内訳明細書入力画面!T323=\"\"),\"\",IF(内訳明細書入力画面!V323=\"\",内訳明細書入力画面!T323,内訳明細書入力画面!V323))","v":""},null,null,null,null,null,null,null,null,null,null,null,null,null,null,null,"",null,null,null,"",null,null,null,""]
[null,{"$f":"IF(内訳明細書入力画面!B324=\"\",\"\",内訳明細書入力画面!B324)","v":""},null,null,null,null,null,null,null,null,null,null,null,null,{"$f":"IF(AND(内訳明細書入力画面!N324=\"\",内訳明細書入力画面!M324=\"\"),\"\",IF(内訳明細書入力画面!N324=\"\",内訳明細書入力画面!M324,内訳明細書入力画面!N324))","v":""},null,null,null,{"$f":"IF(内訳明細書入力画面!O324=\"\",\"\",内訳明細書入力画面!O324)","v":""},null,null,{"$f":"IF(AND(内訳明細書入力画面!R324=\"\",内訳明細書入力画面!P324=\"\"),\"\",IF(内訳明細書入力画面!R324=\"\",内訳明細書入力画面!P324,内訳明細書入力画面!R324))","v":""},null,null,null,{"$f":"IF(AND(内訳明細書入力画面!V324=\"\",内訳明細書入力画面!T324=\"\"),\"\",IF(内訳明細書入力画面!V324=\"\",内訳明細書入力画面!T324,内訳明細書入力画面!V324))","v":""},null,null,null,null,null,null,null,null,null,null,null,null,null,null,null,"",null,null,null,"",null,null,null,""]
[null,{"$f":"IF(内訳明細書入力画面!B325=\"\",\"\",内訳明細書入力画面!B325)","v":""},null,null,null,null,null,null,null,null,null,null,null,null,{"$f":"IF(AND(内訳明細書入力画面!N325=\"\",内訳明細書入力画面!M325=\"\"),\"\",IF(内訳明細書入力画面!N325=\"\",内訳明細書入力画面!M325,内訳明細書入力画面!N325))","v":""},null,null,null,{"$f":"IF(内訳明細書入力画面!O325=\"\",\"\",内訳明細書入力画面!O325)","v":""},null,null,{"$f":"IF(AND(内訳明細書入力画面!R325=\"\",内訳明細書入力画面!P325=\"\"),\"\",IF(内訳明細書入力画面!R325=\"\",内訳明細書入力画面!P325,内訳明細書入力画面!R325))","v":""},null,null,null,{"$f":"IF(AND(内訳明細書入力画面!V325=\"\",内訳明細書入力画面!T325=\"\"),\"\",IF(内訳明細書入力画面!V325=\"\",内訳明細書入力画面!T325,内訳明細書入力画面!V325))","v":""},null,null,null,null,null,null,null,null,null,null,null,null,null,null,null,"",null,null,null,"",null,null,null,""]

{"sheet":"請求明細書入力印刷画面_保存","index":8,"n_rows":0,"n_cols":0,"rows_kept":0,"cut":false,"hidden":true,"merged":[]}

{"sheet":"請求明細印刷（取極め用）","index":9,"n_rows":37,"n_cols":101,"rows_kept":37,"cut":false,"hidden":true,"merged":[[13,0,13,10],[21,0,21,10],[14,0,14,10],[3,38,3,49],[1,0,1,30],[0,32,0,35],[1,32,1,35],[2,32,2,35],[3,0,3,3],[3,4,3,28],[0,37,0,38],[0,40,0,41],[10,0,10,10],[11,0,11,10],[12,0,12,10],[17,0,17,10],[19,0,19,10],[20,0,20,10],[16,22,16,25],[21,11,21,14],[21,15,21,17],[20,15,20,17],[18,11,18,14],[15,0,15,10],[16,0,16,10],[18,0,18,10],[21,26,21,29],[19,11,19,14],[19,15,19,17],[19,18,19,21],[19,22,19,25],[20,18,20,21],[20,11,20,14],[23,44,23,45],[19,26,19,29],[20,30,20,33],[21,18,21,21],[21,22,21,25],[21,34,21,37],[23,42,23,43],[18,46,18,49],[19,30,19,33],[19,34,19,37],[19,38,19,41],[18,38,18,41],[21,30,21,33],[21,46,21,49],[21,38,21,41],[23,47,23,48],[21,42,21,45],[18,42,18,45],[20,22,20,25],[20,26,20,29],[20,46,20,49],[19,46,19,49],[20,42,20,45],[19,42,19,45],[20,38,20,41],[17,46,17,49],[16,38,16,41],[16,42,16,45],[16,46,16,49],[17,38,17,41],[17,42,17,45],[20,34,20,37],[18,15,18,17],[18,18,18,21],[17,34,17,37],[17,15,17,17],[18,22,18,25],[18,26,18,29],[18,30,18,33],[18,34,18,37],[16,26,16,29],[16,30,16,33],[16,15,16,17],[16,18,16,21],[17,18,17,21],[14,11,14,14],[14,15,14,17],[14,18,14,21],[15,38,15,41],[15,11,15,14],[17,22,17,25],[17,26,17,29],[17,30,17,33],[15,34,15,37],[15,22,15,25],[15,26,15,29],[15,30,15,33],[16,34,16,37],[17,11,17,14],[15,15,15,17],[15,18,15,21],[14,22,14,25],[14,26,14,29],[14,30,14,33],[14,34,14,37],[16,11,16,14],[15,42,15,45],[15,46,15,49],[14,38,14,41],[14,42,14,45],[14,46,14,49],[13,46,13,49],[12,38,12,41],[12,42,12,45],[12,46,12,49],[13,34,13,37],[13,38,13,41],[13,42,13,45],[13,11,13,14],[13,15,13,17],[13,18,13,21],[13,22,13,25],[13,26,13,29],[13,30,13,33],[9,42,9,45],[9,46,9,49],[12,11,12,14],[12,15,12,17],[12,18,12,21],[11,34,11,37],[11,11,11,14],[11,15,11,17],[11,18,11,21],[11,22,11,25],[11,26,11,29],[11,30,11,33],[12,22,12,25],[12,26,12,29],[12,30,12,33],[12,34,12,37],[11,42,11,45],[11,46,11,49],[10,38,10,41],[10,42,10,45],[10,46,10,49],[10,11,10,14],[10,15,10,17],[10,18,10,21],[11,38,11,41],[10,22,10,25],[9,34,9,37],[9,26,9,29],[9,30,9,33],[8,34,8,37],[7,26,7,29],[7,0,7,10],[8,0,8,10],[10,26,10,29],[10,30,10,33],[10,34,10,37],[9,11,9,14],[9,15,9,17],[9,18,9,21],[9,22,9,25],[9,0,9,10],[9,38,9,41],[7,42,7,45],[7,46,7,49],[7,30,7,33],[7,34,7,37],[7,38,7,41],[7,11,7,14],[8,11,8,14],[8,15,8,17],[8,18,8,21],[8,22,8,25],[8,26,8,29],[8,30,8,33],[7,22,7,25],[7,15,7,17],[7,18,7,21],[8,38,8,41],[8,42,8,45],[8,46,8,49],[2,0,2,3],[1,36,1,49],[2,36,2,49],[6,22,6,25],[6,26,6,29],[6,30,6,33],[5,0,6,10],[5,42,5,49],[6,11,6,14],[6,15,6,17],[6,18,6,21],[6,42,6,45],[6,46,6,49],[5,26,5,33],[5,34,5,41],[6,34,6,37],[5,11,5,25],[6,38,6,41],[3,33,3,37]]}
[null,null,null,null,null,null,null,null,null,null,null,null,null,null,null,null,null,null,null,null,null,null,null,null,null,null,null,null,null,null,null,null,"住        所",null,null,null,"〒",{"$f":"IF(BA1=\"\",\"\",BA1)","v":""},null,"－",{"$f":"IF(BB1=\"\",\"\",BB1)","v":""},null,null,null,null,null,null,null,null,null,null,"郵便番号"]
["請 求 明 細 書 　（取極め用）",null,null,null,null,null,null,null,null,null,null,null,null,null,null,null,null,null,null,null,null,null,null,null,null,null,null,null,null,null,null,null,null,null,null,null,{"$f":"IF(BA2=\"\",\"\",BA2)","v":""},null,null,null,null,null,null,null,null,null,null,null,null,null,null,"住所"]
[null,null,null,null,null,null,null,null,null,null,null,null,null,null,null,null,null,null,null,null,null,null,null,null,null,null,null,null,null,null,null,null,"会  社  名",null,null,null,{"$f":"IF(BA3=\"\",\"\",BA3)","v":""},null,null,null,null,null,null,null,null,null,null,null,null,null,null,"会社名"]
["工事名称：",null,null,null,{"$f":"IF(BA4=\"\",\"\",BA4)","v":""},null,null,null,null,null,null,null,null,null,null,null,null,null,null,null,null,null,null,null,null,null,null,null,null,null,null,null,null,"  支店・営業所名",null,null,null,null,{"$f":"IF(BC4=\"\",\"\",BC4)","v":""},null,null,null,null,null,null,null,null,null,null,null,null,"工事名称",null,"支店営業所"]
[null,null,null,null,null,null,null,null,null,null,null,null,null,null,null,null,null,null,null,null,null,null,null,null,null,null,null,null,null,null,null,null,null,null,null,null,null,null,null,null,null,null,null,null,null,null,null,null,null,null,null,null,"工事種目／品目",null,null,null,null,null,null,null,null,null,null,null,null,"①　現在注文金額",null,null,null,null,null,null,null,null,null,null,null,null,null,null,"②　前回までの請求累計額",null,null,null,null,null,null,null,"③　今回請求金額　",null,null,null,null,null,null,null,"②＋③　請求累計額"]
["工事種目／品目",null,null,null,null,null,null,null,null,null,null,"①　現在注文金額",null,null,null,null,null,null,null,null,null,null,null,null,null,null,"②　前回までの請求累計額",null,null,null,null,null,null,null,"③　今回請求金額　",null,null,null,null,null,null,null,"②＋③　請求累計額",null,null,null,null,null,null,null,null,null,null,null,null,null,null,null,null,null,null,null,null,null,null,"数  量",null,null,null,"単位",null,null,"単  価",null,null,null,"金  額",null,null,null,"数量",null,null,null,"金額",null,null,null,"数量",null,null,null,"金額",null,null,null,"数量",null,null,null,"金額"]
[null,null,null,null,null,null,null,null,null,null,null,"数  量",null,null,null,"単位",null,null,"単  価",null,null,null,"金  額",null,null,null,"数量",null,null,null,"金額",null,null,null,"数量",null,null,null,"金額",null,null,null,"数量",null,null,null,"金額",null,null,null,null,"明細1"]
[{"$f":"IF(BA7=\"\",\"\",BA7)","v":""},null,null,null,null,null,null,null,null,null,null,{"$f":"IF(BN7=\"\",\"\",BN7)","v":""},null,null,null,{"$f":"IF(BR7=\"\",\"\",BR7)","v":""},null,null,{"$f":"IF(BU7=\"\",\"\",BU7)","v":""},null,null,null,{"$f":"IF(BY7=\"\",\"\",BY7)","v":""},null,null,null,{"$f":"IF(CC7=\"\",\"\",CC7)","v":""},null,null,null,{"$f":"IF(CG7=\"\",\"\",CG7)","v":""},null,null,null,{"$f":"IF(CK7=\"\",\"\",CK7)","v":""},null,null,null,{"$f":"IF(CO7=\"\",\"\",CO7)","v":""},null,null,null,{"$f":"IF(CS7=\"\",\"\",CS7)","v":""},null,null,null,{"$f":"IF(CW7=\"\",\"\",CW7)","v":""},null,null,null,null,"明細2"]
[{"$f":"IF(BA8=\"\",\"\",BA8)","v":""},null,null,null,null,null,null,null,null,null,null,{"$f":"IF(BN8=\"\",\"\",BN8)","v":""},null,null,null,{"$f":"IF(BR8=\"\",\"\",BR8)","v":""},null,null,{"$f":"IF(BU8=\"\",\"\",BU8)","v":""},null,null,null,{"$f":"IF(BY8=\"\",\"\",BY8)","v":""},null,null,null,{"$f":"IF(CC8=\"\",\"\",CC8)","v":""},null,null,null,{"$f":"IF(CG8=\"\",\"\",CG8)","v":""},null,null,null,{"$f":"IF(CK8=\"\",\"\",CK8)","v":""},null,null,null,{"$f":"IF(CO8=\"\",\"\",CO8)","v":""},null,null,null,{"$f":"IF(CS8=\"\",\"\",CS8)","v":""},null,null,null,{"$f":"IF(CW8=\"\",\"\",CW8)","v":""},null,null,null,null,"明細3"]
["",null,null,null,null,null,null,null,null,null,null,"",null,null,null,"",null,null,"",null,null,null,"",null,null,null,"",null,null,null,"",null,null,null,"",null,null,null,"",null,null,null,"",null,null,null,"",null,null,null,null,"明細4"]
["",null,null,null,null,null,null,null,null,null,null,"",null,null,null,"",null,null,"",null,null,null,"",null,null,null,"",null,null,null,"",null,null,null,"",null,null,null,"",null,null,null,"",null,null,null,"",null,null,null,null,"明細5"]
["",null,null,null,null,null,null,null,null,null,null,"",null,null,null,"",null,null,"",null,null,null,"",null,null,null,"",null,null,null,"",null,null,null,"",null,null,null,"",null,null,null,"",null,null,null,"",null,null,null,null,"明細6"]
["",null,null,null,null,null,null,null,null,null,null,"",null,null,null,"",null,null,"",null,null,null,"",null,null,null,"",null,null,null,"",null,null,null,"",null,null,null,"",null,null,null,"",null,null,null,"",null,null,null,null,"明細7"]
["",null,null,null,null,null,null,null,null,null,null,"",null,null,null,"",null,null,"",null,null,null,"",null,null,null,"",null,null,null,"",null,null,null,"",null,null,null,"",null,null,null,"",null,null,null,"",null,null,null,null,"明細8"]
["",null,null,null,null,null,null,null,null,null,null,"",null,null,null,"",null,null,"",null,null,null,"",null,null,null,"",null,null,null,"",null,null,null,"",null,null,null,"",null,null,null,"",null,null,null,"",null,null,null,null,"明細9"]
["",null,null,null,null,null,null,null,null,null,null,"",null,null,null,"",null,null,"",null,null,null,"",null,null,null,"",null,null,null,"",null,null,null,"",null,null,null,"",null,null,null,"",null,null,null,"",null,null,null,null,"明細10"]
["",null,null,null,null,null,null,null,null,null,null,"",null,null,null,"",null,null,"",null,null,null,"",null,null,null,"",null,null,null,"",null,null,null,"",null,null,null,"",null,null,null,"",null,null,null,"",null,null,null,null,"明細11"]
["",null,null,null,null,null,null,null,null,null,null,"",null,null,null,"",null,null,"",null,null,null,"",null,null,null,"",null,null,null,"",null,null,null,"",null,null,null,"",null,null,null,"",null,null,null,"",null,null,null,null,"明細12"]
["",null,null,null,null,null,null,null,null,null,null,"",null,null,null,"",null,null,"",null,null,null,"",null,null,null,"",null,null,null,"",null,null,null,"",null,null,null,"",null,null,null,"",null,null,null,"",null,null,null,null,"明細13"]
["",null,null,null,null,null,null,null,null,null,null,"",null,null,null,"",null,null,"",null,null,null,"",null,null,null,"",null,null,null,"",null,null,null,"",null,null,null,"",null,null,null,"",null,null,null,"",null,null,null,null,"明細14"]
["",null,null,null,null,null,null,null,null,null,null,"",null,null,null,"",null,null,"",null,null,null,"",null,null,null,"",null,null,null,"",null,null,null,"",null,null,null,"",null,null,null,"",null,null,null,"",null,null,null,null,"明細15"]
["",null,null,null,null,null,null,null,null,null,null,"",null,null,null,"",null,null,"",null,null,null,"",null,null,null,"",null,null,null,"",null,null,null,"",null,null,null,"",null,null,null,"",null,null,null,"",null,null,null,null,"注文№"]
[null,null,null,null,null,null,null,null,null,null,null,null,null,null,null,null,null,null,null,null,null,null,null,null,null,null,null,null,null,null,null,null,null,null,null,null,null,null,null,null,null,null,null,null,null,null,null,null,null,null,null,"頁"]
[null,"注文№",null,{"$f":"A31","v":""},"","","","","","","","",{"$f":"J31","v":"0"},"－",{"$f":"A33","v":""},{"$f":"B33","v":""},{"$f":"C33","v":"0"},"－",{"$f":"A35","v":""},{"$f":"B35","v":"0"},null,null,null,null,null,null,null,null,null,null,null,null,null,null,null,null,null,null,null,null,null,null,{"$f":"IF(BA23=\"\",\"\",BA23)","v":""},null,"頁中",null,"／",{"$f":"IF(BB23=\"\",\"\",BB23)","v":""},null,"頁"]
[]
[]
[]
[]
["作業テーブル"]
["工事番号"]
[{"$f":"TRIM(MID(TEXT(基本入力画面!$E$21,REPT(\"?\",10)),COLUMN(A31),1))","v":""},{"$f":"IF(G37>=9,TRIM(MID(TEXT(基本入力画面!$E$21,REPT(0,10)),COLUMN(B31),1)),\"\")","v":""},{"$f":"IF(G37>=8,TRIM(MID(TEXT(基本入力画面!$E$21,REPT(0,10)),COLUMN(C31),1)),\"\")","v":""},{"$f":"IF(G37>=7,TRIM(MID(TEXT(基本入力画面!$E$21,REPT(0,10)),COLUMN(D31),1)),\"\")","v":""},{"$f":"IF(G37>=6,TRIM(MID(TEXT(基本入力画面!$E$21,REPT(0,10)),COLUMN(E31),1)),\"\")","v":""},{"$f":"IF(G37>=5,TRIM(MID(TEXT(基本入力画面!$E$21,REPT(0,10)),COLUMN(F31),1)),\"\")","v":""},{"$f":"IF(G37>=4,TRIM(MID(TEXT(基本入力画面!$E$21,REPT(0,10)),COLUMN(G31),1)),\"\")","v":""},{"$f":"IF(G37>=3,TRIM(MID(TEXT(基本入力画面!$E$21,REPT(0,10)),COLUMN(H31),1)),\"\")","v":""},{"$f":"IF(G37>=2,TRIM(MID(TEXT(基本入力画面!$E$21,REPT(0,10)),COLUMN(I31),1)),\"\")","v":""},{"$f":"IF(G37>=1,TRIM(MID(TEXT(基本入力画面!$E$21,REPT(0,10)),COLUMN(J31),1)),\"\")","v":"0"}]
["枝番"]
[{"$f":"IF(基本入力画面!$L$21=\"\",\"\",TRIM(MID(TEXT(基本入力画面!$L$21,REPT(0,3)),COLUMN(A33),1)))","v":""},{"$f":"IF(基本入力画面!$L$21=\"\",\"\",TRIM(MID(TEXT(基本入力画面!$L$21,REPT(0,3)),COLUMN(B33),1)))","v":""},{"$f":"TRIM(MID(TEXT(基本入力画面!$L$21,REPT(0,3)),COLUMN(C33),1))","v":"0"}]
["発注番号"]
[{"$f":"IF(基本入力画面!$O$21=\"\",\"\",TRIM(MID(TEXT(基本入力画面!$O$21,REPT(0,2)),COLUMN(A35),1)))","v":""},{"$f":"TRIM(MID(TEXT(基本入力画面!$O$21,REPT(0,2)),COLUMN(B35),1))","v":"0"}]
["工事番号の桁数"]
[{"$f":"基本入力画面!E21","v":0},null,null,null,null,null,{"$f":"LEN(A37)","v":1}]

{"sheet":"請求書表紙納品検収書入力印刷画面","index":10,"n_rows":43,"n_cols":51,"rows_kept":43,"cut":false,"hidden":true,"merged":[[23,46,23,48],[29,46,29,48],[23,1,23,3],[22,1,22,3],[22,4,22,15],[41,1,41,3],[41,4,41,15],[29,1,29,3],[29,4,29,15],[22,46,22,48],[41,41,41,45],[25,21,25,25],[32,21,32,25],[38,21,38,25],[28,21,28,25],[29,26,29,30],[29,31,29,35],[37,41,37,45],[38,41,38,45],[32,1,32,3],[32,16,32,20],[34,16,34,20],[35,16,35,20],[30,1,30,3],[0,1,0,28],[2,1,2,3],[4,4,4,28],[17,1,17,3],[15,1,16,3],[2,4,2,5],[21,41,21,45],[23,26,23,30],[26,21,26,25],[22,26,22,30],[20,36,20,40],[19,21,19,25],[23,41,23,45],[22,31,22,35],[22,36,22,40],[23,31,23,35],[17,4,17,15],[17,16,17,20],[19,4,19,15],[19,16,19,20],[18,26,18,30],[18,41,18,45],[19,41,19,45],[17,21,17,25],[2,18,2,21],[42,16,42,20],[39,16,39,20],[37,16,37,20],[38,16,38,20],[40,16,40,20],[6,34,6,35],[6,37,6,38],[6,40,6,41],[41,21,41,25],[41,16,41,20],[20,41,20,45],[22,41,22,45],[18,16,18,20],[22,16,22,20],[21,16,21,20],[25,16,25,20],[23,16,23,20],[24,16,24,20],[42,21,42,25],[2,38,2,39],[4,34,4,48],[2,35,2,36],[34,46,34,48],[42,11,42,15],[17,41,17,45],[3,4,3,10],[3,12,3,14],[3,16,3,17],[3,18,3,21],[3,23,3,24],[3,26,3,28],[3,31,3,33],[7,31,7,35],[3,34,3,48],[17,46,17,48],[39,4,39,15],[40,4,40,15],[31,4,31,15],[32,4,32,15],[34,4,34,15],[35,4,35,15],[36,4,36,15],[19,46,19,48],[20,46,20,48],[21,46,21,48],[18,4,18,15],[18,46,18,48],[1,38,1,39],[1,41,1,42],[5,31,5,34],[5,35,5,48],[1,44,1,45],[4,31,4,33],[2,31,2,33],[16,41,16,45],[5,4,5,28],[6,31,6,33],[6,14,6,15],[6,16,6,17],[6,19,6,20],[6,21,6,22],[6,24,6,25],[16,16,16,20],[9,41,9,45],[6,4,6,8],[6,9,6,13],[9,23,9,30],[16,21,16,25],[6,26,6,27],[11,24,11,30],[13,24,13,29],[30,16,30,20],[30,4,30,15],[33,41,33,45],[33,1,33,3],[31,46,31,48],[30,31,30,35],[30,36,30,40],[32,46,32,48],[34,1,34,3],[33,21,33,25],[34,26,34,30],[34,31,34,35],[34,36,34,40],[34,41,34,45],[30,46,30,48],[31,1,31,3],[30,21,30,25],[31,26,31,30],[31,36,31,40],[31,41,31,45],[34,21,34,25],[32,31,32,35],[36,46,36,48],[35,41,35,45],[35,26,35,30],[39,46,39,48],[40,1,40,3],[39,21,39,25],[40,26,40,30],[40,31,40,35],[40,36,40,40],[39,1,39,3],[37,26,37,30],[38,26,38,30],[37,31,37,35],[35,46,35,48],[36,1,36,3],[35,21,35,25],[36,26,36,30],[36,31,36,35],[36,36,36,40],[36,41,36,45],[35,1,35,3],[35,36,35,40],[36,16,36,20],[40,21,40,25],[43,26,43,30],[43,31,43,35],[42,41,42,45],[42,26,42,30],[42,31,42,35],[42,36,42,40],[40,46,40,48],[39,26,39,30],[39,31,39,35],[41,26,41,30],[41,31,41,35],[41,36,41,40],[43,41,43,45],[40,41,40,45],[39,36,39,40],[39,41,39,45],[43,36,43,40],[11,41,11,45],[10,36,10,40],[10,41,10,45],[9,36,9,40],[11,36,11,40],[13,36,13,40],[12,36,12,40],[23,36,23,40],[13,41,13,45],[21,36,21,40],[16,36,16,40],[15,31,15,45],[16,31,16,35],[18,36,18,40],[12,41,12,45],[26,1,26,3],[21,1,21,3],[20,1,20,3],[20,31,20,35],[15,4,16,15],[16,26,16,30],[19,31,19,35],[19,36,19,40],[19,1,19,3],[23,21,23,25],[26,26,26,30],[26,16,26,20],[18,21,18,25],[19,26,19,30],[20,16,20,20],[24,26,24,30],[17,31,17,35],[18,31,18,35],[21,31,21,35],[15,16,15,30],[18,1,18,3],[21,4,21,15],[23,4,23,15],[17,36,17,40],[24,41,24,45],[25,41,25,45],[26,41,26,45],[27,41,27,45],[32,41,32,45],[30,41,30,45],[29,41,29,45],[28,41,28,45],[28,1,28,3],[27,36,27,40],[28,36,28,40],[24,21,24,25],[25,36,25,40],[26,36,26,40],[28,4,28,15],[25,31,25,35],[26,31,26,35],[28,31,28,35],[27,1,27,3],[24,4,24,15],[25,4,25,15],[26,4,26,15],[27,4,27,15],[24,1,24,3],[24,36,24,40],[38,1,38,3],[37,4,37,15],[38,4,38,15],[37,21,37,25],[32,26,32,30],[35,31,35,35],[32,36,32,40],[37,1,37,3],[33,4,33,15],[33,16,33,20],[33,31,33,35],[33,26,33,30],[29,36,29,40],[25,26,25,30],[27,31,27,35],[33,36,33,40],[27,16,27,20],[31,21,31,25],[38,31,38,35],[37,36,37,40],[38,36,38,40],[36,21,36,25],[25,1,25,3],[20,4,20,15],[9,31,9,35],[10,31,10,35],[11,31,11,35],[12,31,12,35],[13,31,13,35],[31,31,31,35],[10,24,10,30],[12,24,12,29],[31,16,31,20],[29,16,29,20],[22,21,22,25],[17,26,17,30],[21,21,21,25],[20,21,20,25],[21,26,21,30],[20,26,20,30],[27,26,27,30],[28,16,28,20],[27,21,27,25],[28,26,28,30],[29,21,29,25],[30,26,30,30],[24,31,24,35]]}
[null,"　　　請求書表紙・納品・検収書（取極め用）　入力印刷画面"]
[null,null,null,null,null,null,null,null,null,null,null,null,null,null,null,null,null,null,null,null,null,null,null,null,null,null,null,null,null,null,null,null,null,null,null,null,"（西暦）",null,{"$f":"IF(請求明細書入力印刷画面!F4=\"\",\"\",請求明細書入力印刷画面!F4)","v":""},null,"年",{"$f":"IF(請求明細書入力印刷画面!J4=\"\",\"\",請求明細書入力印刷画面!J4)","v":""},null,"月",{"$f":"IF(請求明細書入力印刷画面!M4=\"\",\"\",請求明細書入力印刷画面!M4)","v":""},null,"日","請求"]
[null,"印刷部数選択",null,null,null,null,null,null,null,null,null,null,null,null,null,null,null,null,null,null,null,null,null,null,null,null,null,null,null,null,null,"住        所",null,null,"〒",{"$f":"IF(基本入力画面!F9=\"\",\"\",基本入力画面!F9)","v":""},null,"－",{"$f":"IF(基本入力画面!I9=\"\",\"\",基本入力画面!I9)","v":""}]
[null,null,"注　文　№",null,{"$f":"IF(基本入力画面!E21=\"\",\"\",基本入力画面!E21)","v":""},null,null,null,null,null,null,"－",{"$f":"IF(基本入力画面!L21=\"\",\"\",基本入力画面!L21)","v":""},null,null,"－",{"$f":"IF(基本入力画面!O21=\"\",\"\",基本入力画面!O21)","v":""},null,"注文区分",null,null,null,{"$f":"IF(基本入力画面!Z27=TRUE,\"■\",\"□\")","v":"□"},"工事",null,{"$f":"IF(基本入力画面!Z28=TRUE,\"■\",\"□\")","v":"□"},"資機材",null,null,null,null,null,null,null,{"$f":"IF(基本入力画面!E11=\"\",\"\",基本入力画面!E11)","v":""}]
[null,null,"工事名称",null,{"$f":"IF(基本入力画面!E15=\"\",\"\",基本入力画面!E15)","v":""},null,null,null,null,null,null,null,null,null,null,null,null,null,null,null,null,null,null,null,null,null,null,null,null,null,null,"会  社  名",null,null,{"$f":"IF(基本入力画面!E5=\"\",\"\",基本入力画面!E5)","v":""}]
[null,null,"注文件名",null,{"$f":"IF(基本入力画面!E25=\"\",\"\",基本入力画面!E25)","v":""},null,null,null,null,null,null,null,null,null,null,null,null,null,null,null,null,null,null,null,null,null,null,null,null,null,null,"支店・営業所名",null,null,null,{"$f":"IF(基本入力画面!E7=\"\",\"\",基本入力画面!E7)","v":""},null,null,null,null,null,null,null,null,null,null,null,null,null,null,false]
[null,null,"支払条件",null,null,null,null,null,null,null,null,null,null,null,"現金",null,null,null,"％","手形",null,null,null,"％","サイト",null,null,null,"日",null,null,"ＴＥＬ",null,null,{"$f":"IF(基本入力画面!E13=\"\",\"\",基本入力画面!E13)","v":""},null,"－",{"$f":"IF(基本入力画面!H13=\"\",\"\",基本入力画面!H13)","v":""},null,"－",{"$f":"IF(基本入力画面!K13=\"\",\"\",基本入力画面!K13)","v":""},null,null,null,null,null,null,null,null,null,false]
[null,null,null,null,null,null,null,null,null,null,null,null,null,null,null,null,null,null,null,null,null,null,null,null,null,null,null,null,null,null,null,"仕入先コード",null,null,null,null,{"$f":"IF(基本入力画面!G23=\"\",\"\",基本入力画面!G23)","v":""}]
[]
[null,null,null,null,null,null,null,null,null,null,null,null,null,null,null,null,null,null,null,null,null,null,null,null,null,null,null,null,null,null,null,"税別金額",null,null,null,null,"消費税額",null,null,null,null,"税込金額"]
[null,null,null,null,null,null,null,null,null,null,null,null,null,null,null,null,null,null,null,null,null,null,null,null,"②前回までの請求累計額",null,null,null,null,null,null,null,null,null,null,null,null,null,null,null,null,{"$f":"SUM(AF11:AO11)","v":0}]
[null,null,null,null,null,null,null,null,null,null,null,null,null,null,null,null,null,null,null,null,null,null,null,null,"③ 今 回 請 求 金 額",null,null,null,null,null,null,{"$f":"AF43","v":0},null,null,null,null,{"$f":"AK43","v":0},null,null,null,null,{"$f":"SUM(AF12:AO12)","v":0}]
[null,null,null,null,null,null,null,null,null,null,null,null,null,null,null,null,null,null,null,null,null,null,null,null,"②＋③　　計",null,null,null,null,null,null,{"$f":"SUM(AF11:AJ12)","v":0},null,null,null,null,{"$f":"SUM(AK11:AO12)","v":0},null,null,null,null,{"$f":"SUM(AF13:AO13)","v":0}]
[null,null,"以下の明細行は注文書表紙をそのまま転記してください",null,null,null,null,null,null,null,null,null,null,null,null,null,null,null,null,null,null,null,null,null,"発注（契約）残高",null,null,null,null,null,null,{"$f":"Q43-AF13","v":0},null,null,null,null,{"$f":"V43-AK13","v":0},null,null,null,null,{"$f":"SUM(AF14:AO14)","v":0}]
[]
[null,"工種コード",null,null,"注　文　明　細",null,null,null,null,null,null,null,null,null,null,null,"①現　在　注　文　内　容",null,null,null,null,null,null,null,null,null,null,null,null,null,null,"②今回請求金額"]
[null,null,null,null,null,null,null,null,null,null,null,null,null,null,null,null,"税別金額",null,null,null,null,"消費税額",null,null,null,null,"税込金額",null,null,null,null,"税別金額",null,null,null,null,"消費税額",null,null,null,null,"税込金額"]
[]
[]
[]
[]
[]
[]
[]
[]
[]
[]
[]
[]
[]
[]
[]
[]
[]
[]
[]
[]
[]
[]
[]
[]
[]
[null,null,null,null,null,null,null,null,null,null,null,"計",null,null,null,null,{"$f":"SUM(Q18:U41)","v":0},null,null,null,null,{"$f":"SUM(V18:Z41)","v":0},null,null,null,null,{"$f":"SUM(AA18:AE41)","v":0},null,null,null,null,{"$f":"SUM(AF18:AJ41)","v":0},null,null,null,null,{"$f":"SUM(AK18:AO41)","v":0},null,null,null,null,{"$f":"SUM(AP18:AT41)","v":0}]

{"sheet":"請求書表紙印刷（取極め用）1","index":11,"n_rows":26,"n_cols":49,"rows_kept":26,"cut":false,"hidden":true,"merged":[[24,38,25,42],[24,26,25,28],[24,29,25,31],[24,32,25,37],[23,26,23,28],[23,2,23,7],[23,9,23,14],[5,36,5,48],[7,36,7,48],[12,47,12,49],[9,47,10,49],[10,37,10,41],[10,42,10,46],[9,32,9,46],[6,34,6,35],[14,47,14,49],[11,47,11,49],[6,36,6,37],[6,39,6,40],[6,42,6,43],[13,47,13,49],[12,37,12,41],[12,42,12,46],[23,38,23,42],[15,47,15,49],[16,47,16,49],[23,29,23,31],[17,47,17,49],[18,37,18,41],[18,42,18,46],[22,2,22,7],[22,9,22,14],[22,15,22,19],[22,20,22,24],[23,43,23,49],[19,32,19,36],[18,27,18,31],[18,32,18,36],[19,37,19,41],[19,42,19,46],[18,47,18,49],[21,1,21,8],[21,9,21,14],[21,15,21,19],[21,20,21,24],[19,12,19,16],[19,27,19,31],[18,1,18,3],[25,2,25,7],[25,9,25,14],[25,15,25,19],[25,20,25,24],[24,2,24,7],[24,9,24,14],[24,15,24,19],[24,20,24,24],[23,32,23,37],[23,15,23,19],[23,20,23,24],[18,4,18,16],[18,17,18,21],[18,22,18,26],[19,17,19,21],[19,22,19,26],[15,42,15,46],[16,27,16,31],[16,32,16,36],[16,37,16,41],[16,42,16,46],[17,27,17,31],[17,32,17,36],[17,37,17,41],[17,42,17,46],[15,1,15,3],[15,4,15,16],[15,17,15,21],[15,22,15,26],[17,17,17,21],[17,22,17,26],[15,27,15,31],[15,32,15,36],[15,37,15,41],[16,1,16,3],[16,4,16,16],[16,17,16,21],[16,22,16,26],[17,1,17,3],[17,4,17,16],[13,1,13,3],[13,4,13,16],[13,17,13,21],[13,22,13,26],[13,27,13,31],[13,32,13,36],[13,37,13,41],[13,42,13,46],[14,27,14,31],[14,32,14,36],[14,37,14,41],[14,42,14,46],[14,1,14,3],[14,4,14,16],[14,17,14,21],[14,22,14,26],[11,42,11,46],[10,17,10,21],[10,22,10,26],[10,27,10,31],[10,32,10,36],[12,1,12,3],[12,4,12,16],[12,17,12,21],[12,22,12,26],[12,27,12,31],[12,32,12,36],[11,1,11,3],[11,4,11,16],[11,17,11,21],[11,22,11,26],[11,27,11,31],[11,32,11,36],[11,37,11,41],[6,23,6,24],[9,1,10,3],[9,4,10,16],[9,17,9,31],[6,12,6,15],[6,16,6,17],[6,18,6,19],[6,21,6,22],[6,6,6,9],[7,31,7,35],[5,4,5,29],[0,1,0,33],[3,13,3,15],[3,17,3,18],[3,19,3,22],[3,27,3,29],[4,31,4,33],[5,31,5,35],[3,34,3,49],[4,34,4,47],[1,45,1,46],[4,4,4,29],[3,4,3,11],[3,24,3,25],[2,31,2,33],[2,35,2,36],[1,39,1,40],[1,42,1,43],[2,38,2,39],[3,31,3,33]]}
[null,"請　　　求　　　書　　（取極め用）",null,null,null,null,null,null,null,null,null,null,null,null,null,null,null,null,null,null,null,null,null,null,null,null,null,null,null,null,null,null,null,null,null,null,null,null,null,null,null,null,null,null,null,{"$f":"最終頁請求","v":0},"-",1]
[null,"株式会社　水倉組　御中",null,null,null,null,null,null,null,null,null,null,null,null,null,null,null,null,null,null,null,null,null,null,null,null,null,null,null,null,null,null,null,null,null,null,null,"（西暦）",null,{"$f":"請求書表紙納品検収書入力印刷画面!$AM$2","v":""},null,"年",{"$f":"請求書表紙納品検収書入力印刷画面!$AP$2","v":""},null,"月",{"$f":"請求書表紙納品検収書入力印刷画面!$AS$2","v":""},null,"日","請求"]
[null,"　　下記のとおり請求いたします",null,null,null,null,null,null,null,null,null,null,null,null,null,null,null,null,null,null,null,null,null,null,null,null,null,null,null,null,null,"住      所",null,null,"〒",{"$f":"請求書表紙納品検収書入力印刷画面!$AJ$3","v":""},null,"－",{"$f":"請求書表紙納品検収書入力印刷画面!$AM$3","v":""}]
[null,null,"注　文　№",null,{"$f":"請求書表紙納品検収書入力印刷画面!$E$4","v":""},null,null,null,null,null,null,null,"－",{"$f":"請求書表紙納品検収書入力印刷画面!$M$4","v":""},null,null,"－",{"$f":"請求書表紙納品検収書入力印刷画面!$Q$4","v":""},null,"注文区分",null,null,null,{"$f":"請求書表紙納品検収書入力印刷画面!$W$4","v":"□"},"工事",null,{"$f":"請求書表紙納品検収書入力印刷画面!$Z$4","v":"□"},"資機材",null,null,null,null,null,null,{"$f":"請求書表紙納品検収書入力印刷画面!$AI$4","v":""}]
[null,null,"工事名称",null,{"$f":"請求書表紙納品検収書入力印刷画面!$E$5","v":""},null,null,null,null,null,null,null,null,null,null,null,null,null,null,null,null,null,null,null,null,null,null,null,null,null,null,"会 社 名",null,null,{"$f":"請求書表紙納品検収書入力印刷画面!$AI$5","v":""},null,null,null,null,null,null,null,null,null,null,null,null,null,"㊞"]
[null,null,"注文件名",null,{"$f":"請求書表紙納品検収書入力印刷画面!$E$6","v":""},null,null,null,null,null,null,null,null,null,null,null,null,null,null,null,null,null,null,null,null,null,null,null,null,null,null,"支店・営業所名",null,null,null,null,{"$f":"請求書表紙納品検収書入力印刷画面!AJ6","v":""}]
[null,null,"支払条件",null,null,{"$f":"IF(請求書表紙納品検収書入力印刷画面!$AY$6=TRUE,\"■\",\"□\")","v":"□"},"出来高支払",null,null,null,null,{"$f":"IF(請求書表紙納品検収書入力印刷画面!$AY$7=TRUE,\"■\",\"□\")","v":"□"},"入金後支払",null,null,null,"現金",null,{"$f":"IF(請求書表紙納品検収書入力印刷画面!$Q$7=\"\",\"\",請求書表紙納品検収書入力印刷画面!$Q$7)","v":""},null,"％","手形",null,{"$f":"IF(請求書表紙納品検収書入力印刷画面!$V$7=\"\",\"\",請求書表紙納品検収書入力印刷画面!$V$7)","v":""},null,"％","（サイト",null,{"$f":"IF(請求書表紙納品検収書入力印刷画面!$AA$7=\"\",\"\",請求書表紙納品検収書入力印刷画面!$AA$7)","v":""},"日）",null,null,null,null,"ＴＥＬ",null,{"$f":"請求書表紙納品検収書入力印刷画面!$AI$7","v":""},null,"－",{"$f":"請求書表紙納品検収書入力印刷画面!$AL$7","v":""},null,"－",{"$f":"請求書表紙納品検収書入力印刷画面!$AO$7","v":""}]
[null,null,null,null,null,null,null,null,null,null,null,null,null,null,null,null,null,null,null,null,null,null,null,null,null,null,null,null,null,null,null,"仕入先コード",null,null,null,null,{"$f":"請求書表紙納品検収書入力印刷画面!$AK$8","v":""}]
[]
[null,"工種コード",null,null,"注　文　明　細",null,null,null,null,null,null,null,null,null,null,null,null,"①　現在注文金額",null,null,null,null,null,null,null,null,null,null,null,null,null,null,"③　今回請求金額",null,null,null,null,null,null,null,null,null,null,null,null,null,null,"完了"]
[null,null,null,null,null,null,null,null,null,null,null,null,null,null,null,null,null,"税別金額",null,null,null,null,"消費税額",null,null,null,null,"税込金額",null,null,null,null,"税別金額",null,null,null,null,"消費税額",null,null,null,null,"税込金額"]
[null,{"$f":"IF(請求書表紙納品検収書入力印刷画面!B18=\"\",\"\",請求書表紙納品検収書入力印刷画面!B18)","v":""},null,null,{"$f":"IF(請求書表紙納品検収書入力印刷画面!E18=\"\",\"\",請求書表紙納品検収書入力印刷画面!E18)","v":""},null,null,null,null,null,null,null,null,null,null,null,null,{"$f":"IF(請求書表紙納品検収書入力印刷画面!Q18=\"\",\"\",請求書表紙納品検収書入力印刷画面!Q18)","v":""},null,null,null,null,{"$f":"IF(請求書表紙納品検収書入力印刷画面!V18=\"\",\"\",請求書表紙納品検収書入力印刷画面!V18)","v":""},null,null,null,null,{"$f":"IF(請求書表紙納品検収書入力印刷画面!AA18=\"\",\"\",請求書表紙納品検収書入力印刷画面!AA18)","v":""},null,null,null,null,{"$f":"IF(請求書表紙納品検収書入力印刷画面!AF18=\"\",\"\",請求書表紙納品検収書入力印刷画面!AF18)","v":""},null,null,null,null,{"$f":"IF(請求書表紙納品検収書入力印刷画面!AK18=\"\",\"\",請求書表紙納品検収書入力印刷画面!AK18)","v":""},null,null,null,null,{"$f":"IF(請求書表紙納品検収書入力印刷画面!AP18=\"\",\"\",請求書表紙納品検収書入力印刷画面!AP18)","v":""},null,null,null,null,{"$f":"IF(請求書表紙納品検収書入力印刷画面!AY18=TRUE,\"■\",\"□\")","v":"□"}]
[null,{"$f":"IF(請求書表紙納品検収書入力印刷画面!B19=\"\",\"\",請求書表紙納品検収書入力印刷画面!B19)","v":""},null,null,{"$f":"IF(請求書表紙納品検収書入力印刷画面!E19=\"\",\"\",請求書表紙納品検収書入力印刷画面!E19)","v":""},null,null,null,null,null,null,null,null,null,null,null,null,{"$f":"IF(請求書表紙納品検収書入力印刷画面!Q19=\"\",\"\",請求書表紙納品検収書入力印刷画面!Q19)","v":""},null,null,null,null,{"$f":"IF(請求書表紙納品検収書入力印刷画面!V19=\"\",\"\",請求書表紙納品検収書入力印刷画面!V19)","v":""},null,null,null,null,{"$f":"IF(請求書表紙納品検収書入力印刷画面!AA19=\"\",\"\",請求書表紙納品検収書入力印刷画面!AA19)","v":""},null,null,null,null,{"$f":"IF(請求書表紙納品検収書入力印刷画面!AF19=\"\",\"\",請求書表紙納品検収書入力印刷画面!AF19)","v":""},null,null,null,null,{"$f":"IF(請求書表紙納品検収書入力印刷画面!AK19=\"\",\"\",請求書表紙納品検収書入力印刷画面!AK19)","v":""},null,null,null,null,{"$f":"IF(請求書表紙納品検収書入力印刷画面!AP19=\"\",\"\",請求書表紙納品検収書入力印刷画面!AP19)","v":""},null,null,null,null,{"$f":"IF(請求書表紙納品検収書入力印刷画面!AY19=TRUE,\"■\",\"□\")","v":"□"}]
[null,{"$f":"IF(請求書表紙納品検収書入力印刷画面!B20=\"\",\"\",請求書表紙納品検収書入力印刷画面!B20)","v":""},null,null,{"$f":"IF(請求書表紙納品検収書入力印刷画面!E20=\"\",\"\",請求書表紙納品検収書入力印刷画面!E20)","v":""},null,null,null,null,null,null,null,null,null,null,null,null,{"$f":"IF(請求書表紙納品検収書入力印刷画面!Q20=\"\",\"\",請求書表紙納品検収書入力印刷画面!Q20)","v":""},null,null,null,null,{"$f":"IF(請求書表紙納品検収書入力印刷画面!V20=\"\",\"\",請求書表紙納品検収書入力印刷画面!V20)","v":""},null,null,null,null,{"$f":"IF(請求書表紙納品検収書入力印刷画面!AA20=\"\",\"\",請求書表紙納品検収書入力印刷画面!AA20)","v":""},null,null,null,null,{"$f":"IF(請求書表紙納品検収書入力印刷画面!AF20=\"\",\"\",請求書表紙納品検収書入力印刷画面!AF20)","v":""},null,null,null,null,{"$f":"IF(請求書表紙納品検収書入力印刷画面!AK20=\"\",\"\",請求書表紙納品検収書入力印刷画面!AK20)","v":""},null,null,null,null,{"$f":"IF(請求書表紙納品検収書入力印刷画面!AP20=\"\",\"\",請求書表紙納品検収書入力印刷画面!AP20)","v":""},null,null,null,null,{"$f":"IF(請求書表紙納品検収書入力印刷画面!AY20=TRUE,\"■\",\"□\")","v":"□"}]
[null,{"$f":"IF(請求書表紙納品検収書入力印刷画面!B21=\"\",\"\",請求書表紙納品検収書入力印刷画面!B21)","v":""},null,null,{"$f":"IF(請求書表紙納品検収書入力印刷画面!E21=\"\",\"\",請求書表紙納品検収書入力印刷画面!E21)","v":""},null,null,null,null,null,null,null,null,null,null,null,null,{"$f":"IF(請求書表紙納品検収書入力印刷画面!Q21=\"\",\"\",請求書表紙納品検収書入力印刷画面!Q21)","v":""},null,null,null,null,{"$f":"IF(請求書表紙納品検収書入力印刷画面!V21=\"\",\"\",請求書表紙納品検収書入力印刷画面!V21)","v":""},null,null,null,null,{"$f":"IF(請求書表紙納品検収書入力印刷画面!AA21=\"\",\"\",請求書表紙納品検収書入力印刷画面!AA21)","v":""},null,null,null,null,{"$f":"IF(請求書表紙納品検収書入力印刷画面!AF21=\"\",\"\",請求書表紙納品検収書入力印刷画面!AF21)","v":""},null,null,null,null,{"$f":"IF(請求書表紙納品検収書入力印刷画面!AK21=\"\",\"\",請求書表紙納品検収書入力印刷画面!AK21)","v":""},null,null,null,null,{"$f":"IF(請求書表紙納品検収書入力印刷画面!AP21=\"\",\"\",請求書表紙納品検収書入力印刷画面!AP21)","v":""},null,null,null,null,{"$f":"IF(請求書表紙納品検収書入力印刷画面!AY21=TRUE,\"■\",\"□\")","v":"□"}]
[null,{"$f":"IF(請求書表紙納品検収書入力印刷画面!B22=\"\",\"\",請求書表紙納品検収書入力印刷画面!B22)","v":""},null,null,{"$f":"IF(請求書表紙納品検収書入力印刷画面!E22=\"\",\"\",請求書表紙納品検収書入力印刷画面!E22)","v":""},null,null,null,null,null,null,null,null,null,null,null,null,{"$f":"IF(請求書表紙納品検収書入力印刷画面!Q22=\"\",\"\",請求書表紙納品検収書入力印刷画面!Q22)","v":""},null,null,null,null,{"$f":"IF(請求書表紙納品検収書入力印刷画面!V22=\"\",\"\",請求書表紙納品検収書入力印刷画面!V22)","v":""},null,null,null,null,{"$f":"IF(請求書表紙納品検収書入力印刷画面!AA22=\"\",\"\",請求書表紙納品検収書入力印刷画面!AA22)","v":""},null,null,null,null,{"$f":"IF(請求書表紙納品検収書入力印刷画面!AF22=\"\",\"\",請求書表紙納品検収書入力印刷画面!AF22)","v":""},null,null,null,null,{"$f":"IF(請求書表紙納品検収書入力印刷画面!AK22=\"\",\"\",請求書表紙納品検収書入力印刷画面!AK22)","v":""},null,null,null,null,{"$f":"IF(請求書表紙納品検収書入力印刷画面!AP22=\"\",\"\",請求書表紙納品検収書入力印刷画面!AP22)","v":""},null,null,null,null,{"$f":"IF(請求書表紙納品検収書入力印刷画面!AY22=TRUE,\"■\",\"□\")","v":"□"}]
[null,{"$f":"IF(請求書表紙納品検収書入力印刷画面!B23=\"\",\"\",請求書表紙納品検収書入力印刷画面!B23)","v":""},null,null,{"$f":"IF(請求書表紙納品検収書入力印刷画面!E23=\"\",\"\",請求書表紙納品検収書入力印刷画面!E23)","v":""},null,null,null,null,null,null,null,null,null,null,null,null,{"$f":"IF(請求書表紙納品検収書入力印刷画面!Q23=\"\",\"\",請求書表紙納品検収書入力印刷画面!Q23)","v":""},null,null,null,null,{"$f":"IF(請求書表紙納品検収書入力印刷画面!V23=\"\",\"\",請求書表紙納品検収書入力印刷画面!V23)","v":""},null,null,null,null,{"$f":"IF(請求書表紙納品検収書入力印刷画面!AA23=\"\",\"\",請求書表紙納品検収書入力印刷画面!AA23)","v":""},null,null,null,null,{"$f":"IF(請求書表紙納品検収書入力印刷画面!AF23=\"\",\"\",請求書表紙納品検収書入力印刷画面!AF23)","v":""},null,null,null,null,{"$f":"IF(請求書表紙納品検収書入力印刷画面!AK23=\"\",\"\",請求書表紙納品検収書入力印刷画面!AK23)","v":""},null,null,null,null,{"$f":"IF(請求書表紙納品検収書入力印刷画面!AP23=\"\",\"\",請求書表紙納品検収書入力印刷画面!AP23)","v":""},null,null,null,null,{"$f":"IF(請求書表紙納品検収書入力印刷画面!AY23=TRUE,\"■\",\"□\")","v":"□"}]
[null,{"$f":"IF(請求書表紙納品検収書入力印刷画面!B24=\"\",\"\",請求書表紙納品検収書入力印刷画面!B24)","v":""},null,null,{"$f":"IF(請求書表紙納品検収書入力印刷画面!E24=\"\",\"\",請求書表紙納品検収書入力印刷画面!E24)","v":""},null,null,null,null,null,null,null,null,null,null,null,null,{"$f":"IF(請求書表紙納品検収書入力印刷画面!Q24=\"\",\"\",請求書表紙納品検収書入力印刷画面!Q24)","v":""},null,null,null,null,{"$f":"IF(請求書表紙納品検収書入力印刷画面!V24=\"\",\"\",請求書表紙納品検収書入力印刷画面!V24)","v":""},null,null,null,null,{"$f":"IF(請求書表紙納品検収書入力印刷画面!AA24=\"\",\"\",請求書表紙納品検収書入力印刷画面!AA24)","v":""},null,null,null,null,{"$f":"IF(請求書表紙納品検収書入力印刷画面!AF24=\"\",\"\",請求書表紙納品検収書入力印刷画面!AF24)","v":""},null,null,null,null,{"$f":"IF(請求書表紙納品検収書入力印刷画面!AK24=\"\",\"\",請求書表紙納品検収書入力印刷画面!AK24)","v":""},null,null,null,null,{"$f":"IF(請求書表紙納品検収書入力印刷画面!AP24=\"\",\"\",請求書表紙納品検収書入力印刷画面!AP24)","v":""},null,null,null,null,{"$f":"IF(請求書表紙納品検収書入力印刷画面!AY24=TRUE,\"■\",\"□\")","v":"□"}]
[null,{"$f":"IF(請求書表紙納品検収書入力印刷画面!B25=\"\",\"\",請求書表紙納品検収書入力印刷画面!B25)","v":""},null,null,{"$f":"IF(請求書表紙納品検収書入力印刷画面!E25=\"\",\"\",請求書表紙納品検収書入力印刷画面!E25)","v":""},null,null,null,null,null,null,null,null,null,null,null,null,{"$f":"IF(請求書表紙納品検収書入力印刷画面!Q25=\"\",\"\",請求書表紙納品検収書入力印刷画面!Q25)","v":""},null,null,null,null,{"$f":"IF(請求書表紙納品検収書入力印刷画面!V25=\"\",\"\",請求書表紙納品検収書入力印刷画面!V25)","v":""},null,null,null,null,{"$f":"IF(請求書表紙納品検収書入力印刷画面!AA25=\"\",\"\",請求書表紙納品検収書入力印刷画面!AA25)","v":""},null,null,null,null,{"$f":"IF(請求書表紙納品検収書入力印刷画面!AF25=\"\",\"\",請求書表紙納品検収書入力印刷画面!AF25)","v":""},null,null,null,null,{"$f":"IF(請求書表紙納品検収書入力印刷画面!AK25=\"\",\"\",請求書表紙納品検収書入力印刷画面!AK25)","v":""},null,null,null,null,{"$f":"IF(請求書表紙納品検収書入力印刷画面!AP25=\"\",\"\",請求書表紙納品検収書入力印刷画面!AP25)","v":""},null,null,null,null,{"$f":"IF(請求書表紙納品検収書入力印刷画面!AY25=TRUE,\"■\",\"□\")","v":"□"}]
[null,null,null,null,null,null,null,null,null,null,null,null,"計",null,null,null,null,{"$f":"IF(AT1=AV1,請求書表紙納品検収書入力印刷画面!$Q$43,\"－－－－－－ \")","v":"－－－－－－ "},null,null,null,null,{"$f":"IF(AT1=AV1,請求書表紙納品検収書入力印刷画面!$V$43,\"－－－－－－ \")","v":"－－－－－－ "},null,null,null,null,{"$f":"IF(AT1=AV1,請求書表紙納品検収書入力印刷画面!$AA$43,\"－－－－－－－ \")","v":"－－－－－－－ "},null,null,null,null,{"$f":"IF(AT1=AV1,請求書表紙納品検収書入力印刷画面!$AF$43,\"－－－－－－ \")","v":"－－－－－－ "},null,null,null,null,{"$f":"IF(AT1=AV1,請求書表紙納品検収書入力印刷画面!$AK$43,\"－－－－－－ \")","v":"－－－－－－ "},null,null,null,null,{"$f":"IF(AT1=AV1,請求書表紙納品検収書入力印刷画面!$AP$43,\"－－－－－－－ \")","v":"－－－－－－－ "}]
[]
[null,null,null,null,null,null,null,null,null,"税別金額",null,null,null,null,null,"消費税額",null,null,null,null,"税込金額"]
[null,null,"②　前回までの請求累計額",null,null,null,null,null,null,{"$f":"請求書表紙納品検収書入力印刷画面!AF11","v":0},null,null,null,null,null,{"$f":"請求書表紙納品検収書入力印刷画面!AK11","v":0},null,null,null,null,{"$f":"請求書表紙納品検収書入力印刷画面!AP11","v":0}]
[null,null,"③今回請求金額",null,null,null,null,null,null,{"$f":"請求書表紙納品検収書入力印刷画面!AF12","v":0},null,null,null,null,null,{"$f":"請求書表紙納品検収書入力印刷画面!AK12","v":0},null,null,null,null,{"$f":"請求書表紙納品検収書入力印刷画面!AP12","v":0},null,null,null,null,null,"経理検収",null,null,"入力者",null,null,"工事管理部",null,null,null,null,null,"作業所検収",null,null,null,null,"相殺"]
[null,null,"④　　　　　　　　　②＋③　　計",null,null,null,null,null,null,{"$f":"請求書表紙納品検収書入力印刷画面!AF13","v":0},null,null,null,null,null,{"$f":"請求書表紙納品検収書入力印刷画面!AK13","v":0},null,null,null,null,{"$f":"請求書表紙納品検収書入力印刷画面!AP13","v":0},null,null,null,null,null,null,null,null,null,null,null,null,null,null,null,null,null,null,null,null,null,null,"　（有　無）"]
[null,null,"契約残高（①－④）",null,null,null,null,null,null,{"$f":"請求書表紙納品検収書入力印刷画面!AF14","v":0},null,null,null,null,null,{"$f":"請求書表紙納品検収書入力印刷画面!AK14","v":0},null,null,null,null,{"$f":"請求書表紙納品検収書入力印刷画面!AP14","v":0}]

{"sheet":"請求書表紙印刷（取極め用）2","index":12,"n_rows":20,"n_cols":49,"rows_kept":20,"cut":false,"hidden":true,"merged":[[6,39,6,40],[6,42,6,43],[0,1,0,33],[1,39,1,40],[3,19,3,22],[1,42,1,43],[2,31,2,33],[2,35,2,36],[2,38,2,39],[3,31,3,33],[6,36,6,37],[1,45,1,46],[10,32,10,36],[10,42,10,46],[4,31,4,33],[3,34,3,49],[6,21,6,22],[6,23,6,24],[5,4,5,29],[6,6,6,9],[6,12,6,15],[6,16,6,17],[6,18,6,19],[5,31,5,35],[4,4,4,29],[3,24,3,25],[3,27,3,29],[3,4,3,11],[3,13,3,15],[3,17,3,18],[4,34,4,47],[5,36,5,48],[7,31,7,35],[7,36,7,48],[6,34,6,35],[11,47,11,49],[9,47,10,49],[12,47,12,49],[13,1,13,3],[13,4,13,16],[13,17,13,21],[13,22,13,26],[13,27,13,31],[12,1,12,3],[12,4,12,16],[11,1,11,3],[11,4,11,16],[11,17,11,21],[11,22,11,26],[10,37,10,41],[11,32,11,36],[11,37,11,41],[9,1,10,3],[9,4,10,16],[9,17,9,31],[9,32,9,46],[10,17,10,21],[10,22,10,26],[10,27,10,31],[12,17,12,21],[12,22,12,26],[13,47,13,49],[14,17,14,21],[14,22,14,26],[14,27,14,31],[14,32,14,36],[14,47,14,49],[14,37,14,41],[14,1,14,3],[14,4,14,16],[15,47,15,49],[16,1,16,3],[16,4,16,16],[16,17,16,21],[16,22,16,26],[16,27,16,31],[16,32,16,36],[15,1,15,3],[15,32,15,36],[15,4,15,16],[15,17,15,21],[15,22,15,26],[15,27,15,31],[15,42,15,46],[15,37,15,41],[18,1,18,3],[18,4,18,16],[18,17,18,21],[18,22,18,26],[16,47,16,49],[17,1,17,3],[17,4,17,16],[17,17,17,21],[17,22,17,26],[17,47,17,49],[16,37,16,41],[16,42,16,46],[19,12,19,16],[19,17,19,21],[19,22,19,26],[19,27,19,31],[19,32,19,36],[19,37,19,41],[18,47,18,49],[17,27,17,31],[17,32,17,36],[17,37,17,41],[17,42,17,46],[11,42,11,46],[12,27,12,31],[12,32,12,36],[12,37,12,41],[12,42,12,46],[11,27,11,31],[19,42,19,46],[18,27,18,31],[18,32,18,36],[18,37,18,41],[18,42,18,46],[14,42,14,46],[13,32,13,36],[13,37,13,41],[13,42,13,46]]}
[null,"請　　　求　　　書　　（取極め用）",null,null,null,null,null,null,null,null,null,null,null,null,null,null,null,null,null,null,null,null,null,null,null,null,null,null,null,null,null,null,null,null,null,null,null,null,null,null,null,null,null,null,null,{"$f":"最終頁請求","v":0},"-",2]
[null,"株式会社　水倉組　御中",null,null,null,null,null,null,null,null,null,null,null,null,null,null,null,null,null,null,null,null,null,null,null,null,null,null,null,null,null,null,null,null,null,null,null,"（西暦）",null,{"$f":"請求書表紙納品検収書入力印刷画面!$AM$2","v":""},null,"年",{"$f":"請求書表紙納品検収書入力印刷画面!$AP$2","v":""},null,"月",{"$f":"請求書表紙納品検収書入力印刷画面!$AS$2","v":""},null,"日","請求"]
[null,"　　下記のとおり請求いたします",null,null,null,null,null,null,null,null,null,null,null,null,null,null,null,null,null,null,null,null,null,null,null,null,null,null,null,null,null,"住      所",null,null,"〒",{"$f":"請求書表紙納品検収書入力印刷画面!$AJ$3","v":""},null,"－",{"$f":"請求書表紙納品検収書入力印刷画面!$AM$3","v":""}]
[null,null,"注　文　№",null,{"$f":"請求書表紙納品検収書入力印刷画面!$E$4","v":""},null,null,null,null,null,null,null,"－",{"$f":"請求書表紙納品検収書入力印刷画面!$M$4","v":""},null,null,"－",{"$f":"請求書表紙納品検収書入力印刷画面!$Q$4","v":""},null,"注文区分",null,null,null,{"$f":"請求書表紙納品検収書入力印刷画面!$W$4","v":"□"},"工事",null,{"$f":"請求書表紙納品検収書入力印刷画面!$Z$4","v":"□"},"資機材",null,null,null,null,null,null,{"$f":"請求書表紙納品検収書入力印刷画面!$AI$4","v":""}]
[null,null,"工事名称",null,{"$f":"請求書表紙納品検収書入力印刷画面!$E$5","v":""},null,null,null,null,null,null,null,null,null,null,null,null,null,null,null,null,null,null,null,null,null,null,null,null,null,null,"会 社 名",null,null,{"$f":"請求書表紙納品検収書入力印刷画面!$AI$5","v":""},null,null,null,null,null,null,null,null,null,null,null,null,null,"㊞"]
[null,null,"注文件名",null,{"$f":"請求書表紙納品検収書入力印刷画面!$E$6","v":""},null,null,null,null,null,null,null,null,null,null,null,null,null,null,null,null,null,null,null,null,null,null,null,null,null,null,"支店・営業所名",null,null,null,null,{"$f":"請求書表紙納品検収書入力印刷画面!AJ6","v":""}]
[null,null,"支払条件",null,null,{"$f":"IF(請求書表紙納品検収書入力印刷画面!$AY$6=TRUE,\"■\",\"□\")","v":"□"},"出来高支払",null,null,null,null,{"$f":"IF(請求書表紙納品検収書入力印刷画面!$AY$7=TRUE,\"■\",\"□\")","v":"□"},"入金後支払",null,null,null,"現金",null,{"$f":"IF(請求書表紙納品検収書入力印刷画面!$Q$7=\"\",\"\",請求書表紙納品検収書入力印刷画面!$Q$7)","v":""},null,"％","手形",null,{"$f":"IF(請求書表紙納品検収書入力印刷画面!$V$7=\"\",\"\",請求書表紙納品検収書入力印刷画面!$V$7)","v":""},null,"％","（サイト",null,{"$f":"IF(請求書表紙納品検収書入力印刷画面!$AA$7=\"\",\"\",請求書表紙納品検収書入力印刷画面!$AA$7)","v":""},"日）",null,null,null,null,"ＴＥＬ",null,{"$f":"請求書表紙納品検収書入力印刷画面!$AI$7","v":""},null,"－",{"$f":"請求書表紙納品検収書入力印刷画面!$AL$7","v":""},null,"－",{"$f":"請求書表紙納品検収書入力印刷画面!$AO$7","v":""}]
[null,null,null,null,null,null,null,null,null,null,null,null,null,null,null,null,null,null,null,null,null,null,null,null,null,null,null,null,null,null,null,"仕入先コード",null,null,null,null,{"$f":"請求書表紙納品検収書入力印刷画面!$AK$8","v":""}]
[]
[null,"工種コード",null,null,"注　文　明　細",null,null,null,null,null,null,null,null,null,null,null,null,"①　現在注文金額",null,null,null,null,null,null,null,null,null,null,null,null,null,null,"③　今回請求金額",null,null,null,null,null,null,null,null,null,null,null,null,null,null,"完了"]
[null,null,null,null,null,null,null,null,null,null,null,null,null,null,null,null,null,"税別金額",null,null,null,null,"消費税額",null,null,null,null,"税込金額",null,null,null,null,"税別金額",null,null,null,null,"消費税額",null,null,null,null,"税込金額"]
[null,{"$f":"IF(請求書表紙納品検収書入力印刷画面!B26=\"\",\"\",請求書表紙納品検収書入力印刷画面!B26)","v":""},null,null,{"$f":"IF(請求書表紙納品検収書入力印刷画面!E26=\"\",\"\",請求書表紙納品検収書入力印刷画面!E26)","v":""},null,null,null,null,null,null,null,null,null,null,null,null,{"$f":"IF(請求書表紙納品検収書入力印刷画面!Q26=\"\",\"\",請求書表紙納品検収書入力印刷画面!Q26)","v":""},null,null,null,null,{"$f":"IF(請求書表紙納品検収書入力印刷画面!V26=\"\",\"\",請求書表紙納品検収書入力印刷画面!V26)","v":""},null,null,null,null,{"$f":"IF(請求書表紙納品検収書入力印刷画面!AA26=\"\",\"\",請求書表紙納品検収書入力印刷画面!AA26)","v":""},null,null,null,null,{"$f":"IF(請求書表紙納品検収書入力印刷画面!AF26=\"\",\"\",請求書表紙納品検収書入力印刷画面!AF26)","v":""},null,null,null,null,{"$f":"IF(請求書表紙納品検収書入力印刷画面!AK26=\"\",\"\",請求書表紙納品検収書入力印刷画面!AK26)","v":""},null,null,null,null,{"$f":"IF(請求書表紙納品検収書入力印刷画面!AP26=\"\",\"\",請求書表紙納品検収書入力印刷画面!AP26)","v":""},null,null,null,null,{"$f":"IF(請求書表紙納品検収書入力印刷画面!AY26=TRUE,\"■\",\"□\")","v":"□"}]
[null,{"$f":"IF(請求書表紙納品検収書入力印刷画面!B27=\"\",\"\",請求書表紙納品検収書入力印刷画面!B27)","v":""},null,null,{"$f":"IF(請求書表紙納品検収書入力印刷画面!E27=\"\",\"\",請求書表紙納品検収書入力印刷画面!E27)","v":""},null,null,null,null,null,null,null,null,null,null,null,null,{"$f":"IF(請求書表紙納品検収書入力印刷画面!Q27=\"\",\"\",請求書表紙納品検収書入力印刷画面!Q27)","v":""},null,null,null,null,{"$f":"IF(請求書表紙納品検収書入力印刷画面!V27=\"\",\"\",請求書表紙納品検収書入力印刷画面!V27)","v":""},null,null,null,null,{"$f":"IF(請求書表紙納品検収書入力印刷画面!AA27=\"\",\"\",請求書表紙納品検収書入力印刷画面!AA27)","v":""},null,null,null,null,{"$f":"IF(請求書表紙納品検収書入力印刷画面!AF27=\"\",\"\",請求書表紙納品検収書入力印刷画面!AF27)","v":""},null,null,null,null,{"$f":"IF(請求書表紙納品検収書入力印刷画面!AK27=\"\",\"\",請求書表紙納品検収書入力印刷画面!AK27)","v":""},null,null,null,null,{"$f":"IF(請求書表紙納品検収書入力印刷画面!AP27=\"\",\"\",請求書表紙納品検収書入力印刷画面!AP27)","v":""},null,null,null,null,{"$f":"IF(請求書表紙納品検収書入力印刷画面!AY27=TRUE,\"■\",\"□\")","v":"□"}]
[null,{"$f":"IF(請求書表紙納品検収書入力印刷画面!B28=\"\",\"\",請求書表紙納品検収書入力印刷画面!B28)","v":""},null,null,{"$f":"IF(請求書表紙納品検収書入力印刷画面!E28=\"\",\"\",請求書表紙納品検収書入力印刷画面!E28)","v":""},null,null,null,null,null,null,null,null,null,null,null,null,{"$f":"IF(請求書表紙納品検収書入力印刷画面!Q28=\"\",\"\",請求書表紙納品検収書入力印刷画面!Q28)","v":""},null,null,null,null,{"$f":"IF(請求書表紙納品検収書入力印刷画面!V28=\"\",\"\",請求書表紙納品検収書入力印刷画面!V28)","v":""},null,null,null,null,{"$f":"IF(請求書表紙納品検収書入力印刷画面!AA28=\"\",\"\",請求書表紙納品検収書入力印刷画面!AA28)","v":""},null,null,null,null,{"$f":"IF(請求書表紙納品検収書入力印刷画面!AF28=\"\",\"\",請求書表紙納品検収書入力印刷画面!AF28)","v":""},null,null,null,null,{"$f":"IF(請求書表紙納品検収書入力印刷画面!AK28=\"\",\"\",請求書表紙納品検収書入力印刷画面!AK28)","v":""},null,null,null,null,{"$f":"IF(請求書表紙納品検収書入力印刷画面!AP28=\"\",\"\",請求書表紙納品検収書入力印刷画面!AP28)","v":""},null,null,null,null,{"$f":"IF(請求書表紙納品検収書入力印刷画面!AY28=TRUE,\"■\",\"□\")","v":"□"}]
[null,{"$f":"IF(請求書表紙納品検収書入力印刷画面!B29=\"\",\"\",請求書表紙納品検収書入力印刷画面!B29)","v":""},null,null,{"$f":"IF(請求書表紙納品検収書入力印刷画面!E29=\"\",\"\",請求書表紙納品検収書入力印刷画面!E29)","v":""},null,null,null,null,null,null,null,null,null,null,null,null,{"$f":"IF(請求書表紙納品検収書入力印刷画面!Q29=\"\",\"\",請求書表紙納品検収書入力印刷画面!Q29)","v":""},null,null,null,null,{"$f":"IF(請求書表紙納品検収書入力印刷画面!V29=\"\",\"\",請求書表紙納品検収書入力印刷画面!V29)","v":""},null,null,null,null,{"$f":"IF(請求書表紙納品検収書入力印刷画面!AA29=\"\",\"\",請求書表紙納品検収書入力印刷画面!AA29)","v":""},null,null,null,null,{"$f":"IF(請求書表紙納品検収書入力印刷画面!AF29=\"\",\"\",請求書表紙納品検収書入力印刷画面!AF29)","v":""},null,null,null,null,{"$f":"IF(請求書表紙納品検収書入力印刷画面!AK29=\"\",\"\",請求書表紙納品検収書入力印刷画面!AK29)","v":""},null,null,null,null,{"$f":"IF(請求書表紙納品検収書入力印刷画面!AP29=\"\",\"\",請求書表紙納品検収書入力印刷画面!AP29)","v":""},null,null,null,null,{"$f":"IF(請求書表紙納品検収書入力印刷画面!AY29=TRUE,\"■\",\"□\")","v":"□"}]
[null,{"$f":"IF(請求書表紙納品検収書入力印刷画面!B30=\"\",\"\",請求書表紙納品検収書入力印刷画面!B30)","v":""},null,null,{"$f":"IF(請求書表紙納品検収書入力印刷画面!E30=\"\",\"\",請求書表紙納品検収書入力印刷画面!E30)","v":""},null,null,null,null,null,null,null,null,null,null,null,null,{"$f":"IF(請求書表紙納品検収書入力印刷画面!Q30=\"\",\"\",請求書表紙納品検収書入力印刷画面!Q30)","v":""},null,null,null,null,{"$f":"IF(請求書表紙納品検収書入力印刷画面!V30=\"\",\"\",請求書表紙納品検収書入力印刷画面!V30)","v":""},null,null,null,null,{"$f":"IF(請求書表紙納品検収書入力印刷画面!AA30=\"\",\"\",請求書表紙納品検収書入力印刷画面!AA30)","v":""},null,null,null,null,{"$f":"IF(請求書表紙納品検収書入力印刷画面!AF30=\"\",\"\",請求書表紙納品検収書入力印刷画面!AF30)","v":""},null,null,null,null,{"$f":"IF(請求書表紙納品検収書入力印刷画面!AK30=\"\",\"\",請求書表紙納品検収書入力印刷画面!AK30)","v":""},null,null,null,null,{"$f":"IF(請求書表紙納品検収書入力印刷画面!AP30=\"\",\"\",請求書表紙納品検収書入力印刷画面!AP30)","v":""},null,null,null,null,{"$f":"IF(請求書表紙納品検収書入力印刷画面!AY30=TRUE,\"■\",\"□\")","v":"□"}]
[null,{"$f":"IF(請求書表紙納品検収書入力印刷画面!B31=\"\",\"\",請求書表紙納品検収書入力印刷画面!B31)","v":""},null,null,{"$f":"IF(請求書表紙納品検収書入力印刷画面!E31=\"\",\"\",請求書表紙納品検収書入力印刷画面!E31)","v":""},null,null,null,null,null,null,null,null,null,null,null,null,{"$f":"IF(請求書表紙納品検収書入力印刷画面!Q31=\"\",\"\",請求書表紙納品検収書入力印刷画面!Q31)","v":""},null,null,null,null,{"$f":"IF(請求書表紙納品検収書入力印刷画面!V31=\"\",\"\",請求書表紙納品検収書入力印刷画面!V31)","v":""},null,null,null,null,{"$f":"IF(請求書表紙納品検収書入力印刷画面!AA31=\"\",\"\",請求書表紙納品検収書入力印刷画面!AA31)","v":""},null,null,null,null,{"$f":"IF(請求書表紙納品検収書入力印刷画面!AF31=\"\",\"\",請求書表紙納品検収書入力印刷画面!AF31)","v":""},null,null,null,null,{"$f":"IF(請求書表紙納品検収書入力印刷画面!AK31=\"\",\"\",請求書表紙納品検収書入力印刷画面!AK31)","v":""},null,null,null,null,{"$f":"IF(請求書表紙納品検収書入力印刷画面!AP31=\"\",\"\",請求書表紙納品検収書入力印刷画面!AP31)","v":""},null,null,null,null,{"$f":"IF(請求書表紙納品検収書入力印刷画面!AY31=TRUE,\"■\",\"□\")","v":"□"}]
[null,{"$f":"IF(請求書表紙納品検収書入力印刷画面!B32=\"\",\"\",請求書表紙納品検収書入力印刷画面!B32)","v":""},null,null,{"$f":"IF(請求書表紙納品検収書入力印刷画面!E32=\"\",\"\",請求書表紙納品検収書入力印刷画面!E32)","v":""},null,null,null,null,null,null,null,null,null,null,null,null,{"$f":"IF(請求書表紙納品検収書入力印刷画面!Q32=\"\",\"\",請求書表紙納品検収書入力印刷画面!Q32)","v":""},null,null,null,null,{"$f":"IF(請求書表紙納品検収書入力印刷画面!V32=\"\",\"\",請求書表紙納品検収書入力印刷画面!V32)","v":""},null,null,null,null,{"$f":"IF(請求書表紙納品検収書入力印刷画面!AA32=\"\",\"\",請求書表紙納品検収書入力印刷画面!AA32)","v":""},null,null,null,null,{"$f":"IF(請求書表紙納品検収書入力印刷画面!AF32=\"\",\"\",請求書表紙納品検収書入力印刷画面!AF32)","v":""},null,null,null,null,{"$f":"IF(請求書表紙納品検収書入力印刷画面!AK32=\"\",\"\",請求書表紙納品検収書入力印刷画面!AK32)","v":""},null,null,null,null,{"$f":"IF(請求書表紙納品検収書入力印刷画面!AP32=\"\",\"\",請求書表紙納品検収書入力印刷画面!AP32)","v":""},null,null,null,null,{"$f":"IF(請求書表紙納品検収書入力印刷画面!AY32=TRUE,\"■\",\"□\")","v":"□"}]
[null,{"$f":"IF(請求書表紙納品検収書入力印刷画面!B33=\"\",\"\",請求書表紙納品検収書入力印刷画面!B33)","v":""},null,null,{"$f":"IF(請求書表紙納品検収書入力印刷画面!E33=\"\",\"\",請求書表紙納品検収書入力印刷画面!E33)","v":""},null,null,null,null,null,null,null,null,null,null,null,null,{"$f":"IF(請求書表紙納品検収書入力印刷画面!Q33=\"\",\"\",請求書表紙納品検収書入力印刷画面!Q33)","v":""},null,null,null,null,{"$f":"IF(請求書表紙納品検収書入力印刷画面!V33=\"\",\"\",請求書表紙納品検収書入力印刷画面!V33)","v":""},null,null,null,null,{"$f":"IF(請求書表紙納品検収書入力印刷画面!AA33=\"\",\"\",請求書表紙納品検収書入力印刷画面!AA33)","v":""},null,null,null,null,{"$f":"IF(請求書表紙納品検収書入力印刷画面!AF33=\"\",\"\",請求書表紙納品検収書入力印刷画面!AF33)","v":""},null,null,null,null,{"$f":"IF(請求書表紙納品検収書入力印刷画面!AK33=\"\",\"\",請求書表紙納品検収書入力印刷画面!AK33)","v":""},null,null,null,null,{"$f":"IF(請求書表紙納品検収書入力印刷画面!AP33=\"\",\"\",請求書表紙納品検収書入力印刷画面!AP33)","v":""},null,null,null,null,{"$f":"IF(請求書表紙納品検収書入力印刷画面!AY33=TRUE,\"■\",\"□\")","v":"□"}]
[null,null,null,null,null,null,null,null,null,null,null,null,"計",null,null,null,null,{"$f":"IF(AT1=AV1,請求書表紙納品検収書入力印刷画面!$Q$43,\"－－－－－－ \")","v":"－－－－－－ "},null,null,null,null,{"$f":"IF(AT1=AV1,請求書表紙納品検収書入力印刷画面!$V$43,\"－－－－－－ \")","v":"－－－－－－ "},null,null,null,null,{"$f":"IF(AT1=AV1,請求書表紙納品検収書入力印刷画面!$AA$43,\"－－－－－－－ \")","v":"－－－－－－－ "},null,null,null,null,{"$f":"IF(AT1=AV1,請求書表紙納品検収書入力印刷画面!$AF$43,\"－－－－－－ \")","v":"－－－－－－ "},null,null,null,null,{"$f":"IF(AT1=AV1,請求書表紙納品検収書入力印刷画面!$AK$43,\"－－－－－－ \")","v":"－－－－－－ "},null,null,null,null,{"$f":"IF(AT1=AV1,請求書表紙納品検収書入力印刷画面!$AP$43,\"－－－－－－－ \")","v":"－－－－－－－ "}]

{"sheet":"請求書表紙印刷（取極め用）3","index":13,"n_rows":20,"n_cols":49,"rows_kept":20,"cut":false,"hidden":true,"merged":[[5,36,5,48],[7,31,7,35],[7,36,7,48],[6,34,6,35],[6,36,6,37],[6,39,6,40],[6,42,6,43],[5,31,5,35],[4,34,4,47],[3,34,3,49],[0,1,0,33],[3,19,3,22],[2,35,2,36],[2,38,2,39],[2,31,2,33],[1,39,1,40],[1,42,1,43],[1,45,1,46],[6,21,6,22],[6,23,6,24],[5,4,5,29],[6,6,6,9],[6,12,6,15],[6,16,6,17],[6,18,6,19],[3,31,3,33],[4,4,4,29],[4,31,4,33],[3,24,3,25],[3,27,3,29],[3,4,3,11],[3,13,3,15],[3,17,3,18],[14,47,14,49],[11,47,11,49],[12,1,12,3],[12,4,12,16],[12,17,12,21],[12,22,12,26],[13,1,13,3],[11,1,11,3],[11,4,11,16],[11,17,11,21],[11,22,11,26],[11,27,11,31],[11,32,11,36],[12,47,12,49],[13,47,13,49],[12,27,12,31],[12,32,12,36],[12,37,12,41],[12,42,12,46],[13,27,13,31],[11,37,11,41],[14,17,14,21],[13,32,13,36],[14,22,14,26],[9,1,10,3],[9,4,10,16],[9,17,9,31],[9,32,9,46],[9,47,10,49],[10,17,10,21],[10,22,10,26],[10,27,10,31],[10,32,10,36],[10,42,10,46],[10,37,10,41],[14,1,14,3],[14,4,14,16],[15,1,15,3],[15,4,15,16],[13,37,13,41],[13,42,13,46],[15,27,15,31],[15,32,15,36],[15,37,15,41],[14,37,14,41],[14,42,14,46],[14,27,14,31],[14,32,14,36],[13,4,13,16],[13,17,13,21],[13,22,13,26],[15,47,15,49],[16,1,16,3],[16,4,16,16],[16,17,16,21],[16,22,16,26],[16,27,16,31],[16,32,16,36],[16,37,16,41],[16,42,16,46],[16,47,16,49],[15,17,15,21],[15,22,15,26],[19,12,19,16],[19,17,19,21],[19,22,19,26],[19,27,19,31],[19,32,19,36],[19,37,19,41],[17,47,17,49],[18,1,18,3],[18,4,18,16],[18,17,18,21],[18,22,18,26],[18,47,18,49],[17,1,17,3],[17,4,17,16],[17,17,17,21],[17,22,17,26],[11,42,11,46],[19,42,19,46],[18,27,18,31],[18,32,18,36],[18,37,18,41],[18,42,18,46],[15,42,15,46],[17,27,17,31],[17,32,17,36],[17,37,17,41],[17,42,17,46]]}
[null,"請　　　求　　　書　　（取極め用）",null,null,null,null,null,null,null,null,null,null,null,null,null,null,null,null,null,null,null,null,null,null,null,null,null,null,null,null,null,null,null,null,null,null,null,null,null,null,null,null,null,null,null,{"$f":"最終頁請求","v":0},"-",3]
[null,"株式会社　水倉組　御中",null,null,null,null,null,null,null,null,null,null,null,null,null,null,null,null,null,null,null,null,null,null,null,null,null,null,null,null,null,null,null,null,null,null,null,"（西暦）",null,{"$f":"請求書表紙納品検収書入力印刷画面!$AM$2","v":""},null,"年",{"$f":"請求書表紙納品検収書入力印刷画面!$AP$2","v":""},null,"月",{"$f":"請求書表紙納品検収書入力印刷画面!$AS$2","v":""},null,"日","請求"]
[null,"　　下記のとおり請求いたします",null,null,null,null,null,null,null,null,null,null,null,null,null,null,null,null,null,null,null,null,null,null,null,null,null,null,null,null,null,"住      所",null,null,"〒",{"$f":"請求書表紙納品検収書入力印刷画面!$AJ$3","v":""},null,"－",{"$f":"請求書表紙納品検収書入力印刷画面!$AM$3","v":""}]
[null,null,"注　文　№",null,{"$f":"請求書表紙納品検収書入力印刷画面!$E$4","v":""},null,null,null,null,null,null,null,"－",{"$f":"請求書表紙納品検収書入力印刷画面!$M$4","v":""},null,null,"－",{"$f":"請求書表紙納品検収書入力印刷画面!$Q$4","v":""},null,"注文区分",null,null,null,{"$f":"請求書表紙納品検収書入力印刷画面!$W$4","v":"□"},"工事",null,{"$f":"請求書表紙納品検収書入力印刷画面!$Z$4","v":"□"},"資機材",null,null,null,null,null,null,{"$f":"請求書表紙納品検収書入力印刷画面!$AI$4","v":""}]
[null,null,"工事名称",null,{"$f":"請求書表紙納品検収書入力印刷画面!$E$5","v":""},null,null,null,null,null,null,null,null,null,null,null,null,null,null,null,null,null,null,null,null,null,null,null,null,null,null,"会 社 名",null,null,{"$f":"請求書表紙納品検収書入力印刷画面!$AI$5","v":""},null,null,null,null,null,null,null,null,null,null,null,null,null,"㊞"]
[null,null,"注文件名",null,{"$f":"請求書表紙納品検収書入力印刷画面!$E$6","v":""},null,null,null,null,null,null,null,null,null,null,null,null,null,null,null,null,null,null,null,null,null,null,null,null,null,null,"支店・営業所名",null,null,null,null,{"$f":"請求書表紙納品検収書入力印刷画面!AJ6","v":""}]
[null,null,"支払条件",null,null,{"$f":"IF(請求書表紙納品検収書入力印刷画面!$AY$6=TRUE,\"■\",\"□\")","v":"□"},"出来高支払",null,null,null,null,{"$f":"IF(請求書表紙納品検収書入力印刷画面!$AY$7=TRUE,\"■\",\"□\")","v":"□"},"入金後支払",null,null,null,"現金",null,{"$f":"IF(請求書表紙納品検収書入力印刷画面!$Q$7=\"\",\"\",請求書表紙納品検収書入力印刷画面!$Q$7)","v":""},null,"％","手形",null,{"$f":"IF(請求書表紙納品検収書入力印刷画面!$V$7=\"\",\"\",請求書表紙納品検収書入力印刷画面!$V$7)","v":""},null,"％","（サイト",null,{"$f":"IF(請求書表紙納品検収書入力印刷画面!$AA$7=\"\",\"\",請求書表紙納品検収書入力印刷画面!$AA$7)","v":""},"日）",null,null,null,null,"ＴＥＬ",null,{"$f":"請求書表紙納品検収書入力印刷画面!$AI$7","v":""},null,"－",{"$f":"請求書表紙納品検収書入力印刷画面!$AL$7","v":""},null,"－",{"$f":"請求書表紙納品検収書入力印刷画面!$AO$7","v":""}]
[null,null,null,null,null,null,null,null,null,null,null,null,null,null,null,null,null,null,null,null,null,null,null,null,null,null,null,null,null,null,null,"仕入先コード",null,null,null,null,{"$f":"請求書表紙納品検収書入力印刷画面!$AK$8","v":""}]
[]
[null,"工種コード",null,null,"注　文　明　細",null,null,null,null,null,null,null,null,null,null,null,null,"①　現在注文金額",null,null,null,null,null,null,null,null,null,null,null,null,null,null,"③　今回請求金額",null,null,null,null,null,null,null,null,null,null,null,null,null,null,"完了"]
[null,null,null,null,null,null,null,null,null,null,null,null,null,null,null,null,null,"税別金額",null,null,null,null,"消費税額",null,null,null,null,"税込金額",null,null,null,null,"税別金額",null,null,null,null,"消費税額",null,null,null,null,"税込金額"]
[null,{"$f":"IF(請求書表紙納品検収書入力印刷画面!B34=\"\",\"\",請求書表紙納品検収書入力印刷画面!B34)","v":""},null,null,{"$f":"IF(請求書表紙納品検収書入力印刷画面!E34=\"\",\"\",請求書表紙納品検収書入力印刷画面!E34)","v":""},null,null,null,null,null,null,null,null,null,null,null,null,{"$f":"IF(請求書表紙納品検収書入力印刷画面!Q34=\"\",\"\",請求書表紙納品検収書入力印刷画面!Q34)","v":""},null,null,null,null,{"$f":"IF(請求書表紙納品検収書入力印刷画面!V34=\"\",\"\",請求書表紙納品検収書入力印刷画面!V34)","v":""},null,null,null,null,{"$f":"IF(請求書表紙納品検収書入力印刷画面!AA34=\"\",\"\",請求書表紙納品検収書入力印刷画面!AA34)","v":""},null,null,null,null,{"$f":"IF(請求書表紙納品検収書入力印刷画面!AF34=\"\",\"\",請求書表紙納品検収書入力印刷画面!AF34)","v":""},null,null,null,null,{"$f":"IF(請求書表紙納品検収書入力印刷画面!AK34=\"\",\"\",請求書表紙納品検収書入力印刷画面!AK34)","v":""},null,null,null,null,{"$f":"IF(請求書表紙納品検収書入力印刷画面!AP34=\"\",\"\",請求書表紙納品検収書入力印刷画面!AP34)","v":""},null,null,null,null,{"$f":"IF(請求書表紙納品検収書入力印刷画面!AY34=TRUE,\"■\",\"□\")","v":"□"}]
[null,{"$f":"IF(請求書表紙納品検収書入力印刷画面!B35=\"\",\"\",請求書表紙納品検収書入力印刷画面!B35)","v":""},null,null,{"$f":"IF(請求書表紙納品検収書入力印刷画面!E35=\"\",\"\",請求書表紙納品検収書入力印刷画面!E35)","v":""},null,null,null,null,null,null,null,null,null,null,null,null,{"$f":"IF(請求書表紙納品検収書入力印刷画面!Q35=\"\",\"\",請求書表紙納品検収書入力印刷画面!Q35)","v":""},null,null,null,null,{"$f":"IF(請求書表紙納品検収書入力印刷画面!V35=\"\",\"\",請求書表紙納品検収書入力印刷画面!V35)","v":""},null,null,null,null,{"$f":"IF(請求書表紙納品検収書入力印刷画面!AA35=\"\",\"\",請求書表紙納品検収書入力印刷画面!AA35)","v":""},null,null,null,null,{"$f":"IF(請求書表紙納品検収書入力印刷画面!AF35=\"\",\"\",請求書表紙納品検収書入力印刷画面!AF35)","v":""},null,null,null,null,{"$f":"IF(請求書表紙納品検収書入力印刷画面!AK35=\"\",\"\",請求書表紙納品検収書入力印刷画面!AK35)","v":""},null,null,null,null,{"$f":"IF(請求書表紙納品検収書入力印刷画面!AP35=\"\",\"\",請求書表紙納品検収書入力印刷画面!AP35)","v":""},null,null,null,null,{"$f":"IF(請求書表紙納品検収書入力印刷画面!AY35=TRUE,\"■\",\"□\")","v":"□"}]
[null,{"$f":"IF(請求書表紙納品検収書入力印刷画面!B36=\"\",\"\",請求書表紙納品検収書入力印刷画面!B36)","v":""},null,null,{"$f":"IF(請求書表紙納品検収書入力印刷画面!E36=\"\",\"\",請求書表紙納品検収書入力印刷画面!E36)","v":""},null,null,null,null,null,null,null,null,null,null,null,null,{"$f":"IF(請求書表紙納品検収書入力印刷画面!Q36=\"\",\"\",請求書表紙納品検収書入力印刷画面!Q36)","v":""},null,null,null,null,{"$f":"IF(請求書表紙納品検収書入力印刷画面!V36=\"\",\"\",請求書表紙納品検収書入力印刷画面!V36)","v":""},null,null,null,null,{"$f":"IF(請求書表紙納品検収書入力印刷画面!AA36=\"\",\"\",請求書表紙納品検収書入力印刷画面!AA36)","v":""},null,null,null,null,{"$f":"IF(請求書表紙納品検収書入力印刷画面!AF36=\"\",\"\",請求書表紙納品検収書入力印刷画面!AF36)","v":""},null,null,null,null,{"$f":"IF(請求書表紙納品検収書入力印刷画面!AK36=\"\",\"\",請求書表紙納品検収書入力印刷画面!AK36)","v":""},null,null,null,null,{"$f":"IF(請求書表紙納品検収書入力印刷画面!AP36=\"\",\"\",請求書表紙納品検収書入力印刷画面!AP36)","v":""},null,null,null,null,{"$f":"IF(請求書表紙納品検収書入力印刷画面!AY36=TRUE,\"■\",\"□\")","v":"□"}]
[null,{"$f":"IF(請求書表紙納品検収書入力印刷画面!B37=\"\",\"\",請求書表紙納品検収書入力印刷画面!B37)","v":""},null,null,{"$f":"IF(請求書表紙納品検収書入力印刷画面!E37=\"\",\"\",請求書表紙納品検収書入力印刷画面!E37)","v":""},null,null,null,null,null,null,null,null,null,null,null,null,{"$f":"IF(請求書表紙納品検収書入力印刷画面!Q37=\"\",\"\",請求書表紙納品検収書入力印刷画面!Q37)","v":""},null,null,null,null,{"$f":"IF(請求書表紙納品検収書入力印刷画面!V37=\"\",\"\",請求書表紙納品検収書入力印刷画面!V37)","v":""},null,null,null,null,{"$f":"IF(請求書表紙納品検収書入力印刷画面!AA37=\"\",\"\",請求書表紙納品検収書入力印刷画面!AA37)","v":""},null,null,null,null,{"$f":"IF(請求書表紙納品検収書入力印刷画面!AF37=\"\",\"\",請求書表紙納品検収書入力印刷画面!AF37)","v":""},null,null,null,null,{"$f":"IF(請求書表紙納品検収書入力印刷画面!AK37=\"\",\"\",請求書表紙納品検収書入力印刷画面!AK37)","v":""},null,null,null,null,{"$f":"IF(請求書表紙納品検収書入力印刷画面!AP37=\"\",\"\",請求書表紙納品検収書入力印刷画面!AP37)","v":""},null,null,null,null,{"$f":"IF(請求書表紙納品検収書入力印刷画面!AY37=TRUE,\"■\",\"□\")","v":"□"}]
[null,{"$f":"IF(請求書表紙納品検収書入力印刷画面!B38=\"\",\"\",請求書表紙納品検収書入力印刷画面!B38)","v":""},null,null,{"$f":"IF(請求書表紙納品検収書入力印刷画面!E38=\"\",\"\",請求書表紙納品検収書入力印刷画面!E38)","v":""},null,null,null,null,null,null,null,null,null,null,null,null,{"$f":"IF(請求書表紙納品検収書入力印刷画面!Q38=\"\",\"\",請求書表紙納品検収書入力印刷画面!Q38)","v":""},null,null,null,null,{"$f":"IF(請求書表紙納品検収書入力印刷画面!V38=\"\",\"\",請求書表紙納品検収書入力印刷画面!V38)","v":""},null,null,null,null,{"$f":"IF(請求書表紙納品検収書入力印刷画面!AA38=\"\",\"\",請求書表紙納品検収書入力印刷画面!AA38)","v":""},null,null,null,null,{"$f":"IF(請求書表紙納品検収書入力印刷画面!AF38=\"\",\"\",請求書表紙納品検収書入力印刷画面!AF38)","v":""},null,null,null,null,{"$f":"IF(請求書表紙納品検収書入力印刷画面!AK38=\"\",\"\",請求書表紙納品検収書入力印刷画面!AK38)","v":""},null,null,null,null,{"$f":"IF(請求書表紙納品検収書入力印刷画面!AP38=\"\",\"\",請求書表紙納品検収書入力印刷画面!AP38)","v":""},null,null,null,null,{"$f":"IF(請求書表紙納品検収書入力印刷画面!AY38=TRUE,\"■\",\"□\")","v":"□"}]
[null,{"$f":"IF(請求書表紙納品検収書入力印刷画面!B39=\"\",\"\",請求書表紙納品検収書入力印刷画面!B39)","v":""},null,null,{"$f":"IF(請求書表紙納品検収書入力印刷画面!E39=\"\",\"\",請求書表紙納品検収書入力印刷画面!E39)","v":""},null,null,null,null,null,null,null,null,null,null,null,null,{"$f":"IF(請求書表紙納品検収書入力印刷画面!Q39=\"\",\"\",請求書表紙納品検収書入力印刷画面!Q39)","v":""},null,null,null,null,{"$f":"IF(請求書表紙納品検収書入力印刷画面!V39=\"\",\"\",請求書表紙納品検収書入力印刷画面!V39)","v":""},null,null,null,null,{"$f":"IF(請求書表紙納品検収書入力印刷画面!AA39=\"\",\"\",請求書表紙納品検収書入力印刷画面!AA39)","v":""},null,null,null,null,{"$f":"IF(請求書表紙納品検収書入力印刷画面!AF39=\"\",\"\",請求書表紙納品検収書入力印刷画面!AF39)","v":""},null,null,null,null,{"$f":"IF(請求書表紙納品検収書入力印刷画面!AK39=\"\",\"\",請求書表紙納品検収書入力印刷画面!AK39)","v":""},null,null,null,null,{"$f":"IF(請求書表紙納品検収書入力印刷画面!AP39=\"\",\"\",請求書表紙納品検収書入力印刷画面!AP39)","v":""},null,null,null,null,{"$f":"IF(請求書表紙納品検収書入力印刷画面!AY39=TRUE,\"■\",\"□\")","v":"□"}]
[null,{"$f":"IF(請求書表紙納品検収書入力印刷画面!B40=\"\",\"\",請求書表紙納品検収書入力印刷画面!B40)","v":""},null,null,{"$f":"IF(請求書表紙納品検収書入力印刷画面!E40=\"\",\"\",請求書表紙納品検収書入力印刷画面!E40)","v":""},null,null,null,null,null,null,null,null,null,null,null,null,{"$f":"IF(請求書表紙納品検収書入力印刷画面!Q40=\"\",\"\",請求書表紙納品検収書入力印刷画面!Q40)","v":""},null,null,null,null,{"$f":"IF(請求書表紙納品検収書入力印刷画面!V40=\"\",\"\",請求書表紙納品検収書入力印刷画面!V40)","v":""},null,null,null,null,{"$f":"IF(請求書表紙納品検収書入力印刷画面!AA40=\"\",\"\",請求書表紙納品検収書入力印刷画面!AA40)","v":""},null,null,null,null,{"$f":"IF(請求書表紙納品検収書入力印刷画面!AF40=\"\",\"\",請求書表紙納品検収書入力印刷画面!AF40)","v":""},null,null,null,null,{"$f":"IF(請求書表紙納品検収書入力印刷画面!AK40=\"\",\"\",請求書表紙納品検収書入力印刷画面!AK40)","v":""},null,null,null,null,{"$f":"IF(請求書表紙納品検収書入力印刷画面!AP40=\"\",\"\",請求書表紙納品検収書入力印刷画面!AP40)","v":""},null,null,null,null,{"$f":"IF(請求書表紙納品検収書入力印刷画面!AY40=TRUE,\"■\",\"□\")","v":"□"}]
[null,{"$f":"IF(請求書表紙納品検収書入力印刷画面!B41=\"\",\"\",請求書表紙納品検収書入力印刷画面!B41)","v":""},null,null,{"$f":"IF(請求書表紙納品検収書入力印刷画面!E41=\"\",\"\",請求書表紙納品検収書入力印刷画面!E41)","v":""},null,null,null,null,null,null,null,null,null,null,null,null,{"$f":"IF(請求書表紙納品検収書入力印刷画面!Q41=\"\",\"\",請求書表紙納品検収書入力印刷画面!Q41)","v":""},null,null,null,null,{"$f":"IF(請求書表紙納品検収書入力印刷画面!V41=\"\",\"\",請求書表紙納品検収書入力印刷画面!V41)","v":""},null,null,null,null,{"$f":"IF(請求書表紙納品検収書入力印刷画面!AA41=\"\",\"\",請求書表紙納品検収書入力印刷画面!AA41)","v":""},null,null,null,null,{"$f":"IF(請求書表紙納品検収書入力印刷画面!AF41=\"\",\"\",請求書表紙納品検収書入力印刷画面!AF41)","v":""},null,null,null,null,{"$f":"IF(請求書表紙納品検収書入力印刷画面!AK41=\"\",\"\",請求書表紙納品検収書入力印刷画面!AK41)","v":""},null,null,null,null,{"$f":"IF(請求書表紙納品検収書入力印刷画面!AP41=\"\",\"\",請求書表紙納品検収書入力印刷画面!AP41)","v":""},null,null,null,null,{"$f":"IF(請求書表紙納品検収書入力印刷画面!AY41=TRUE,\"■\",\"□\")","v":"□"}]
[null,null,null,null,null,null,null,null,null,null,null,null,"計",null,null,null,null,{"$f":"IF(AT1=AV1,請求書表紙納品検収書入力印刷画面!$Q$43,\"－－－－－－ \")","v":"－－－－－－ "},null,null,null,null,{"$f":"IF(AT1=AV1,請求書表紙納品検収書入力印刷画面!$V$43,\"－－－－－－ \")","v":"－－－－－－ "},null,null,null,null,{"$f":"IF(AT1=AV1,請求書表紙納品検収書入力印刷画面!$AA$43,\"－－－－－－－ \")","v":"－－－－－－－ "},null,null,null,null,{"$f":"IF(AT1=AV1,請求書表紙納品検収書入力印刷画面!$AF$43,\"－－－－－－ \")","v":"－－－－－－ "},null,null,null,null,{"$f":"IF(AT1=AV1,請求書表紙納品検収書入力印刷画面!$AK$43,\"－－－－－－ \")","v":"－－－－－－ "},null,null,null,null,{"$f":"IF(AT1=AV1,請求書表紙納品検収書入力印刷画面!$AP$43,\"－－－－－－－ \")","v":"－－－－－－－ "}]

{"sheet":"納品・検収書印刷（取極め用）1","index":14,"n_rows":26,"n_cols":49,"rows_kept":26,"cut":false,"hidden":true,"merged":[[25,31,25,49],[3,24,3,25],[3,27,3,29],[6,6,6,9],[6,12,6,15],[3,4,3,11],[25,2,25,7],[23,48,24,49],[7,32,7,36],[7,37,7,49],[25,28,25,30],[23,2,23,7],[23,9,23,14],[24,20,24,24],[24,15,24,19],[22,27,25,27],[23,15,23,19],[25,20,25,24],[25,9,25,14],[25,15,25,19],[21,1,21,8],[21,9,21,14],[21,15,21,19],[21,20,21,24],[19,32,19,36],[22,41,22,49],[23,28,23,32],[23,33,24,40],[23,41,24,47],[22,33,22,40],[24,28,24,32],[22,28,22,32],[23,20,23,24],[19,37,19,41],[19,27,19,31],[24,2,24,7],[24,9,24,14],[22,2,22,7],[22,9,22,14],[22,15,22,19],[22,20,22,24],[19,42,19,46],[16,1,16,3],[16,4,16,16],[16,17,16,21],[18,1,18,3],[18,17,18,21],[18,22,18,26],[19,12,19,16],[19,17,19,21],[19,22,19,26],[17,27,17,31],[17,32,17,36],[17,37,17,41],[17,42,17,46],[18,27,18,31],[18,32,18,36],[18,37,18,41],[18,42,18,46],[18,4,18,16],[17,1,17,3],[17,4,17,16],[17,17,17,21],[15,42,15,46],[15,47,15,49],[16,27,16,31],[16,32,16,36],[15,27,15,31],[15,32,15,36],[17,22,17,26],[15,1,15,3],[15,4,15,16],[15,17,15,21],[15,22,15,26],[16,22,16,26],[18,47,18,49],[17,47,17,49],[16,37,16,41],[16,42,16,46],[16,47,16,49],[15,37,15,41],[14,1,14,3],[14,4,14,16],[14,17,14,21],[14,22,14,26],[14,32,14,36],[14,27,14,31],[13,1,13,3],[13,4,13,16],[13,17,13,21],[13,22,13,26],[13,27,13,31],[13,32,13,36],[13,42,13,46],[13,47,13,49],[14,42,14,46],[13,37,13,41],[14,47,14,49],[14,37,14,41],[11,37,11,41],[11,42,11,46],[11,17,11,21],[11,22,11,26],[11,27,11,31],[11,32,11,36],[9,1,10,3],[11,47,11,49],[12,1,12,3],[12,4,12,16],[12,17,12,21],[12,22,12,26],[12,27,12,31],[12,32,12,36],[11,1,11,3],[11,4,11,16],[12,37,12,41],[12,42,12,46],[12,47,12,49],[6,16,6,17],[6,18,6,19],[6,21,6,22],[4,4,4,29],[5,4,5,29],[6,38,6,45],[9,47,10,49],[10,17,10,21],[10,22,10,26],[10,27,10,31],[10,32,10,36],[10,37,10,41],[10,42,10,46],[9,4,10,16],[9,17,9,31],[9,32,9,46],[6,32,6,36],[6,23,6,24],[0,1,0,33],[4,35,4,48],[3,32,3,34],[3,35,3,49],[4,32,4,34],[5,38,5,48],[1,42,1,43],[3,13,3,15],[3,17,3,18],[3,19,3,22],[2,32,2,34],[5,32,5,37],[2,36,2,37],[1,45,1,46],[1,32,1,35],[1,39,1,40],[2,39,2,40]]}
[null,"納　品　・　検　収　書　　（取極め用）",null,null,null,null,null,null,null,null,null,null,null,null,null,null,null,null,null,null,null,null,null,null,null,null,null,null,null,null,null,null,null,null,null,null,null,null,null,null,null,null,null,null,null,{"$f":"最終頁請求","v":0},"-",1]
[null,"株式会社　水倉組　御中",null,null,null,null,null,null,null,null,null,null,null,null,null,null,null,null,null,null,null,null,null,null,null,null,null,null,null,null,null,null,"納品日",null,null,null,null,"（西暦）",null,{"$f":"請求書表紙納品検収書入力印刷画面!$AM$2","v":""},null,"年",{"$f":"請求書表紙納品検収書入力印刷画面!$AP$2","v":""},null,"月",{"$f":"請求書表紙納品検収書入力印刷画面!$AS$2","v":""},null,"日"]
[null,"　　下記のとおり納品いたしますので検収をお願いいたします。",null,null,null,null,null,null,null,null,null,null,null,null,null,null,null,null,null,null,null,null,null,null,null,null,null,null,null,null,null,null,"住      所",null,null,"〒",{"$f":"請求書表紙納品検収書入力印刷画面!$AJ$3","v":""},null,"－",{"$f":"請求書表紙納品検収書入力印刷画面!$AM$3","v":""}]
[null,null,"注　文　№",null,{"$f":"請求書表紙納品検収書入力印刷画面!$E$4","v":""},null,null,null,null,null,null,null,"－",{"$f":"請求書表紙納品検収書入力印刷画面!$M$4","v":""},null,null,"－",{"$f":"請求書表紙納品検収書入力印刷画面!$Q$4","v":""},null,"注文区分",null,null,null,{"$f":"請求書表紙納品検収書入力印刷画面!$W$4","v":"□"},"工事",null,{"$f":"請求書表紙納品検収書入力印刷画面!$Z$4","v":"□"},"資機材",null,null,null,null,null,null,null,{"$f":"請求書表紙納品検収書入力印刷画面!$AI$4","v":""}]
[null,null,"工事名称",null,{"$f":"請求書表紙納品検収書入力印刷画面!$E$5","v":""},null,null,null,null,null,null,null,null,null,null,null,null,null,null,null,null,null,null,null,null,null,null,null,null,null,null,null,"会 社 名",null,null,{"$f":"請求書表紙納品検収書入力印刷画面!$AI$5","v":""}]
[null,null,"注文件名",null,{"$f":"請求書表紙納品検収書入力印刷画面!$E$6","v":""},null,null,null,null,null,null,null,null,null,null,null,null,null,null,null,null,null,null,null,null,null,null,null,null,null,null,null,"支店・営業所名",null,null,null,null,null,{"$f":"請求書表紙納品検収書入力印刷画面!AJ6","v":""}]
[null,null,"支払条件",null,null,{"$f":"IF(請求書表紙納品検収書入力印刷画面!$AY$6=TRUE,\"■\",\"□\")","v":"□"},"出来高支払",null,null,null,null,{"$f":"IF(請求書表紙納品検収書入力印刷画面!$AY$7=TRUE,\"■\",\"□\")","v":"□"},"入金後支払",null,null,null,"現金",null,{"$f":"IF(請求書表紙納品検収書入力印刷画面!$Q$7=\"\",\"\",請求書表紙納品検収書入力印刷画面!$Q$7)","v":""},null,"％","手形",null,{"$f":"IF(請求書表紙納品検収書入力印刷画面!$V$7=\"\",\"\",請求書表紙納品検収書入力印刷画面!$V$7)","v":""},null,"％","（サイト",null,{"$f":"IF(請求書表紙納品検収書入力印刷画面!$AA$7=\"\",\"\",請求書表紙納品検収書入力印刷画面!$AA$7)","v":""},"日）",null,null,"   現 場 担 当 者",null,null,null,null,null,null,null,null,null,null,null,null,null,"印"]
[null,null,null,null,null,null,null,null,null,null,null,null,null,null,null,null,null,null,null,null,null,null,null,null,null,null,null,null,null,null,null,null,"仕入先コード",null,null,null,null,{"$f":"請求書表紙納品検収書入力印刷画面!$AK$8","v":""}]
[]
[null,"工種コード",null,null,"注　文　明　細",null,null,null,null,null,null,null,null,null,null,null,null,"①　現在注文金額",null,null,null,null,null,null,null,null,null,null,null,null,null,null,"③　今回請求金額",null,null,null,null,null,null,null,null,null,null,null,null,null,null,"完了"]
[null,null,null,null,null,null,null,null,null,null,null,null,null,null,null,null,null,"税別金額",null,null,null,null,"消費税額",null,null,null,null,"税込金額",null,null,null,null,"税別金額",null,null,null,null,"消費税額",null,null,null,null,"税込金額"]
[null,{"$f":"IF(請求書表紙納品検収書入力印刷画面!B18=\"\",\"\",請求書表紙納品検収書入力印刷画面!B18)","v":""},null,null,{"$f":"IF(請求書表紙納品検収書入力印刷画面!E18=\"\",\"\",請求書表紙納品検収書入力印刷画面!E18)","v":""},null,null,null,null,null,null,null,null,null,null,null,null,{"$f":"IF(請求書表紙納品検収書入力印刷画面!Q18=\"\",\"\",請求書表紙納品検収書入力印刷画面!Q18)","v":""},null,null,null,null,{"$f":"IF(請求書表紙納品検収書入力印刷画面!V18=\"\",\"\",請求書表紙納品検収書入力印刷画面!V18)","v":""},null,null,null,null,{"$f":"IF(請求書表紙納品検収書入力印刷画面!AA18=\"\",\"\",請求書表紙納品検収書入力印刷画面!AA18)","v":""},null,null,null,null,{"$f":"IF(請求書表紙納品検収書入力印刷画面!AF18=\"\",\"\",請求書表紙納品検収書入力印刷画面!AF18)","v":""},null,null,null,null,{"$f":"IF(請求書表紙納品検収書入力印刷画面!AK18=\"\",\"\",請求書表紙納品検収書入力印刷画面!AK18)","v":""},null,null,null,null,{"$f":"IF(請求書表紙納品検収書入力印刷画面!AP18=\"\",\"\",請求書表紙納品検収書入力印刷画面!AP18)","v":""},null,null,null,null,{"$f":"IF(請求書表紙納品検収書入力印刷画面!AY17=TRUE,\"■\",\"□\")","v":"□"}]
[null,{"$f":"IF(請求書表紙納品検収書入力印刷画面!B19=\"\",\"\",請求書表紙納品検収書入力印刷画面!B19)","v":""},null,null,{"$f":"IF(請求書表紙納品検収書入力印刷画面!E19=\"\",\"\",請求書表紙納品検収書入力印刷画面!E19)","v":""},null,null,null,null,null,null,null,null,null,null,null,null,{"$f":"IF(請求書表紙納品検収書入力印刷画面!Q19=\"\",\"\",請求書表紙納品検収書入力印刷画面!Q19)","v":""},null,null,null,null,{"$f":"IF(請求書表紙納品検収書入力印刷画面!V19=\"\",\"\",請求書表紙納品検収書入力印刷画面!V19)","v":""},null,null,null,null,{"$f":"IF(請求書表紙納品検収書入力印刷画面!AA19=\"\",\"\",請求書表紙納品検収書入力印刷画面!AA19)","v":""},null,null,null,null,{"$f":"IF(請求書表紙納品検収書入力印刷画面!AF19=\"\",\"\",請求書表紙納品検収書入力印刷画面!AF19)","v":""},null,null,null,null,{"$f":"IF(請求書表紙納品検収書入力印刷画面!AK19=\"\",\"\",請求書表紙納品検収書入力印刷画面!AK19)","v":""},null,null,null,null,{"$f":"IF(請求書表紙納品検収書入力印刷画面!AP19=\"\",\"\",請求書表紙納品検収書入力印刷画面!AP19)","v":""},null,null,null,null,{"$f":"IF(請求書表紙納品検収書入力印刷画面!AY18=TRUE,\"■\",\"□\")","v":"□"}]
[null,{"$f":"IF(請求書表紙納品検収書入力印刷画面!B20=\"\",\"\",請求書表紙納品検収書入力印刷画面!B20)","v":""},null,null,{"$f":"IF(請求書表紙納品検収書入力印刷画面!E20=\"\",\"\",請求書表紙納品検収書入力印刷画面!E20)","v":""},null,null,null,null,null,null,null,null,null,null,null,null,{"$f":"IF(請求書表紙納品検収書入力印刷画面!Q20=\"\",\"\",請求書表紙納品検収書入力印刷画面!Q20)","v":""},null,null,null,null,{"$f":"IF(請求書表紙納品検収書入力印刷画面!V20=\"\",\"\",請求書表紙納品検収書入力印刷画面!V20)","v":""},null,null,null,null,{"$f":"IF(請求書表紙納品検収書入力印刷画面!AA20=\"\",\"\",請求書表紙納品検収書入力印刷画面!AA20)","v":""},null,null,null,null,{"$f":"IF(請求書表紙納品検収書入力印刷画面!AF20=\"\",\"\",請求書表紙納品検収書入力印刷画面!AF20)","v":""},null,null,null,null,{"$f":"IF(請求書表紙納品検収書入力印刷画面!AK20=\"\",\"\",請求書表紙納品検収書入力印刷画面!AK20)","v":""},null,null,null,null,{"$f":"IF(請求書表紙納品検収書入力印刷画面!AP20=\"\",\"\",請求書表紙納品検収書入力印刷画面!AP20)","v":""},null,null,null,null,{"$f":"IF(請求書表紙納品検収書入力印刷画面!AY19=TRUE,\"■\",\"□\")","v":"□"}]
[null,{"$f":"IF(請求書表紙納品検収書入力印刷画面!B21=\"\",\"\",請求書表紙納品検収書入力印刷画面!B21)","v":""},null,null,{"$f":"IF(請求書表紙納品検収書入力印刷画面!E21=\"\",\"\",請求書表紙納品検収書入力印刷画面!E21)","v":""},null,null,null,null,null,null,null,null,null,null,null,null,{"$f":"IF(請求書表紙納品検収書入力印刷画面!Q21=\"\",\"\",請求書表紙納品検収書入力印刷画面!Q21)","v":""},null,null,null,null,{"$f":"IF(請求書表紙納品検収書入力印刷画面!V21=\"\",\"\",請求書表紙納品検収書入力印刷画面!V21)","v":""},null,null,null,null,{"$f":"IF(請求書表紙納品検収書入力印刷画面!AA21=\"\",\"\",請求書表紙納品検収書入力印刷画面!AA21)","v":""},null,null,null,null,{"$f":"IF(請求書表紙納品検収書入力印刷画面!AF21=\"\",\"\",請求書表紙納品検収書入力印刷画面!AF21)","v":""},null,null,null,null,{"$f":"IF(請求書表紙納品検収書入力印刷画面!AK21=\"\",\"\",請求書表紙納品検収書入力印刷画面!AK21)","v":""},null,null,null,null,{"$f":"IF(請求書表紙納品検収書入力印刷画面!AP21=\"\",\"\",請求書表紙納品検収書入力印刷画面!AP21)","v":""},null,null,null,null,{"$f":"IF(請求書表紙納品検収書入力印刷画面!AY20=TRUE,\"■\",\"□\")","v":"□"}]
[null,{"$f":"IF(請求書表紙納品検収書入力印刷画面!B22=\"\",\"\",請求書表紙納品検収書入力印刷画面!B22)","v":""},null,null,{"$f":"IF(請求書表紙納品検収書入力印刷画面!E22=\"\",\"\",請求書表紙納品検収書入力印刷画面!E22)","v":""},null,null,null,null,null,null,null,null,null,null,null,null,{"$f":"IF(請求書表紙納品検収書入力印刷画面!Q22=\"\",\"\",請求書表紙納品検収書入力印刷画面!Q22)","v":""},null,null,null,null,{"$f":"IF(請求書表紙納品検収書入力印刷画面!V22=\"\",\"\",請求書表紙納品検収書入力印刷画面!V22)","v":""},null,null,null,null,{"$f":"IF(請求書表紙納品検収書入力印刷画面!AA22=\"\",\"\",請求書表紙納品検収書入力印刷画面!AA22)","v":""},null,null,null,null,{"$f":"IF(請求書表紙納品検収書入力印刷画面!AF22=\"\",\"\",請求書表紙納品検収書入力印刷画面!AF22)","v":""},null,null,null,null,{"$f":"IF(請求書表紙納品検収書入力印刷画面!AK22=\"\",\"\",請求書表紙納品検収書入力印刷画面!AK22)","v":""},null,null,null,null,{"$f":"IF(請求書表紙納品検収書入力印刷画面!AP22=\"\",\"\",請求書表紙納品検収書入力印刷画面!AP22)","v":""},null,null,null,null,{"$f":"IF(請求書表紙納品検収書入力印刷画面!AY21=TRUE,\"■\",\"□\")","v":"□"}]
[null,{"$f":"IF(請求書表紙納品検収書入力印刷画面!B23=\"\",\"\",請求書表紙納品検収書入力印刷画面!B23)","v":""},null,null,{"$f":"IF(請求書表紙納品検収書入力印刷画面!E23=\"\",\"\",請求書表紙納品検収書入力印刷画面!E23)","v":""},null,null,null,null,null,null,null,null,null,null,null,null,{"$f":"IF(請求書表紙納品検収書入力印刷画面!Q23=\"\",\"\",請求書表紙納品検収書入力印刷画面!Q23)","v":""},null,null,null,null,{"$f":"IF(請求書表紙納品検収書入力印刷画面!V23=\"\",\"\",請求書表紙納品検収書入力印刷画面!V23)","v":""},null,null,null,null,{"$f":"IF(請求書表紙納品検収書入力印刷画面!AA23=\"\",\"\",請求書表紙納品検収書入力印刷画面!AA23)","v":""},null,null,null,null,{"$f":"IF(請求書表紙納品検収書入力印刷画面!AF23=\"\",\"\",請求書表紙納品検収書入力印刷画面!AF23)","v":""},null,null,null,null,{"$f":"IF(請求書表紙納品検収書入力印刷画面!AK23=\"\",\"\",請求書表紙納品検収書入力印刷画面!AK23)","v":""},null,null,null,null,{"$f":"IF(請求書表紙納品検収書入力印刷画面!AP23=\"\",\"\",請求書表紙納品検収書入力印刷画面!AP23)","v":""},null,null,null,null,{"$f":"IF(請求書表紙納品検収書入力印刷画面!AY22=TRUE,\"■\",\"□\")","v":"□"}]
[null,{"$f":"IF(請求書表紙納品検収書入力印刷画面!B24=\"\",\"\",請求書表紙納品検収書入力印刷画面!B24)","v":""},null,null,{"$f":"IF(請求書表紙納品検収書入力印刷画面!E24=\"\",\"\",請求書表紙納品検収書入力印刷画面!E24)","v":""},null,null,null,null,null,null,null,null,null,null,null,null,{"$f":"IF(請求書表紙納品検収書入力印刷画面!Q24=\"\",\"\",請求書表紙納品検収書入力印刷画面!Q24)","v":""},null,null,null,null,{"$f":"IF(請求書表紙納品検収書入力印刷画面!V24=\"\",\"\",請求書表紙納品検収書入力印刷画面!V24)","v":""},null,null,null,null,{"$f":"IF(請求書表紙納品検収書入力印刷画面!AA24=\"\",\"\",請求書表紙納品検収書入力印刷画面!AA24)","v":""},null,null,null,null,{"$f":"IF(請求書表紙納品検収書入力印刷画面!AF24=\"\",\"\",請求書表紙納品検収書入力印刷画面!AF24)","v":""},null,null,null,null,{"$f":"IF(請求書表紙納品検収書入力印刷画面!AK24=\"\",\"\",請求書表紙納品検収書入力印刷画面!AK24)","v":""},null,null,null,null,{"$f":"IF(請求書表紙納品検収書入力印刷画面!AP24=\"\",\"\",請求書表紙納品検収書入力印刷画面!AP24)","v":""},null,null,null,null,{"$f":"IF(請求書表紙納品検収書入力印刷画面!AY23=TRUE,\"■\",\"□\")","v":"□"}]
[null,{"$f":"IF(請求書表紙納品検収書入力印刷画面!B25=\"\",\"\",請求書表紙納品検収書入力印刷画面!B25)","v":""},null,null,{"$f":"IF(請求書表紙納品検収書入力印刷画面!E25=\"\",\"\",請求書表紙納品検収書入力印刷画面!E25)","v":""},null,null,null,null,null,null,null,null,null,null,null,null,{"$f":"IF(請求書表紙納品検収書入力印刷画面!Q25=\"\",\"\",請求書表紙納品検収書入力印刷画面!Q25)","v":""},null,null,null,null,{"$f":"IF(請求書表紙納品検収書入力印刷画面!V25=\"\",\"\",請求書表紙納品検収書入力印刷画面!V25)","v":""},null,null,null,null,{"$f":"IF(請求書表紙納品検収書入力印刷画面!AA25=\"\",\"\",請求書表紙納品検収書入力印刷画面!AA25)","v":""},null,null,null,null,{"$f":"IF(請求書表紙納品検収書入力印刷画面!AF25=\"\",\"\",請求書表紙納品検収書入力印刷画面!AF25)","v":""},null,null,null,null,{"$f":"IF(請求書表紙納品検収書入力印刷画面!AK25=\"\",\"\",請求書表紙納品検収書入力印刷画面!AK25)","v":""},null,null,null,null,{"$f":"IF(請求書表紙納品検収書入力印刷画面!AP25=\"\",\"\",請求書表紙納品検収書入力印刷画面!AP25)","v":""},null,null,null,null,{"$f":"IF(請求書表紙納品検収書入力印刷画面!AY29=TRUE,\"■\",\"□\")","v":"□"}]
[null,null,null,null,null,null,null,null,null,null,null,null,"計",null,null,null,null,{"$f":"IF(AT1=AV1,請求書表紙納品検収書入力印刷画面!$Q$43,\"－－－－－－ \")","v":"－－－－－－ "},null,null,null,null,{"$f":"IF(AT1=AV1,請求書表紙納品検収書入力印刷画面!$V$43,\"－－－－－－ \")","v":"－－－－－－ "},null,null,null,null,{"$f":"IF(AT1=AV1,請求書表紙納品検収書入力印刷画面!$AA$43,\"－－－－－－－ \")","v":"－－－－－－－ "},null,null,null,null,{"$f":"IF(AT1=AV1,請求書表紙納品検収書入力印刷画面!$AF$43,\"－－－－－－ \")","v":"－－－－－－ "},null,null,null,null,{"$f":"IF(AT1=AV1,請求書表紙納品検収書入力印刷画面!$AK$43,\"－－－－－－ \")","v":"－－－－－－ "},null,null,null,null,{"$f":"IF(AT1=AV1,請求書表紙納品検収書入力印刷画面!$AP$43,\"－－－－－－－ \")","v":"－－－－－－－ "}]
[]
[null,null,null,null,null,null,null,null,null,"税別金額",null,null,null,null,null,"消費税額",null,null,null,null,"税込金額",null,null,null,null,null,null,"上記の納品について検収しました。"]
[null,null,"②　前回までの請求累計額",null,null,null,null,null,null,{"$f":"請求書表紙納品検収書入力印刷画面!AF11","v":0},null,null,null,null,null,{"$f":"請求書表紙納品検収書入力印刷画面!AK11","v":0},null,null,null,null,{"$f":"請求書表紙納品検収書入力印刷画面!AP11","v":0},null,null,null,null,null,null,"水倉組記入欄","検収区分",null,null,null,null,"検収（受領）日",null,null,null,null,null,null,null,"作業所長検収"]
[null,null,"③今回請求金額",null,null,null,null,null,null,{"$f":"請求書表紙納品検収書入力印刷画面!AF12","v":0},null,null,null,null,null,{"$f":"請求書表紙納品検収書入力印刷画面!AK12","v":0},null,null,null,null,{"$f":"請求書表紙納品検収書入力印刷画面!AP12","v":0},null,null,null,null,null,null,null,"部分検収",null,null,null,null,"　　　　　　　　/　　　　　/",null,null,null,null,null,null,null,null,null,null,null,null,null,null,"印"]
[null,null,"④　　　　　　　　　②＋③　　計",null,null,null,null,null,null,{"$f":"請求書表紙納品検収書入力印刷画面!AF13","v":0},null,null,null,null,null,{"$f":"請求書表紙納品検収書入力印刷画面!AK13","v":0},null,null,null,null,{"$f":"請求書表紙納品検収書入力印刷画面!AP13","v":0},null,null,null,null,null,null,null,"完成検収"]
[null,null,"契約残高（①－④）",null,null,null,null,null,null,{"$f":"請求書表紙納品検収書入力印刷画面!AF14","v":0},null,null,null,null,null,{"$f":"請求書表紙納品検収書入力印刷画面!AK14","v":0},null,null,null,null,{"$f":"請求書表紙納品検収書入力印刷画面!AP14","v":0},null,null,null,null,null,null,null,"特記事項"]

{"sheet":"納品・検収書印刷（取極め用）2","index":15,"n_rows":20,"n_cols":48,"rows_kept":20,"cut":false,"hidden":true,"merged":[[0,1,0,33],[1,32,1,35],[3,4,3,11],[5,32,5,37],[6,32,6,36],[9,1,10,3],[9,4,10,16],[9,17,9,31],[1,42,1,43],[3,35,3,49],[2,32,2,34],[1,45,1,46],[1,39,1,40],[2,36,2,37],[2,39,2,40],[6,6,6,9],[10,22,10,26],[3,13,3,15],[3,17,3,18],[4,32,4,34],[3,19,3,22],[3,24,3,25],[3,27,3,29],[3,32,3,34],[11,1,11,3],[11,4,11,16],[12,1,12,3],[12,4,12,16],[10,17,10,21],[12,42,12,46],[12,47,12,49],[11,47,11,49],[9,32,9,46],[10,32,10,36],[10,37,10,41],[10,27,10,31],[9,47,10,49],[10,42,10,46],[11,37,11,41],[11,22,11,26],[11,32,11,36],[11,42,11,46],[14,47,14,49],[14,42,14,46],[4,35,4,48],[5,4,5,29],[4,4,4,29],[11,17,11,21],[11,27,11,31],[6,12,6,15],[6,16,6,17],[5,38,5,48],[7,32,7,36],[6,38,6,45],[7,37,7,49],[6,18,6,19],[6,21,6,22],[6,23,6,24],[16,47,16,49],[15,47,15,49],[15,42,15,46],[16,42,16,46],[13,47,13,49],[14,1,14,3],[14,4,14,16],[14,17,14,21],[14,22,14,26],[14,27,14,31],[13,1,13,3],[13,4,13,16],[13,17,13,21],[13,22,13,26],[15,1,15,3],[15,4,15,16],[15,17,15,21],[15,22,15,26],[15,27,15,31],[16,1,16,3],[16,4,16,16],[16,17,16,21],[13,42,13,46],[13,27,13,31],[17,1,17,3],[17,4,17,16],[17,17,17,21],[17,22,17,26],[18,1,18,3],[18,4,18,16],[18,17,18,21],[18,22,18,26],[17,27,17,31],[19,12,19,16],[19,17,19,21],[19,22,19,26],[19,27,19,31],[18,27,18,31],[18,32,18,36],[12,32,12,36],[12,37,12,41],[15,37,15,41],[13,37,13,41],[15,32,15,36],[14,32,14,36],[14,37,14,41],[16,22,16,26],[16,27,16,31],[12,17,12,21],[12,22,12,26],[16,32,16,36],[16,37,16,41],[12,27,12,31],[13,32,13,36],[17,47,17,49],[18,47,18,49],[17,37,17,41],[17,42,17,46],[18,37,18,41],[18,42,18,46],[17,32,17,36],[19,42,19,46],[19,32,19,36],[19,37,19,41]]}
[null,"納　品　・　検　収　書　　（取極め用）",null,null,null,null,null,null,null,null,null,null,null,null,null,null,null,null,null,null,null,null,null,null,null,null,null,null,null,null,null,null,null,null,null,null,null,null,null,null,null,null,null,null,null,{"$f":"最終頁請求","v":0},"-",2]
[null,"株式会社　水倉組　御中",null,null,null,null,null,null,null,null,null,null,null,null,null,null,null,null,null,null,null,null,null,null,null,null,null,null,null,null,null,null,"納品日",null,null,null,null,"（西暦）",null,{"$f":"請求書表紙納品検収書入力印刷画面!$AM$2","v":""},null,"年",{"$f":"請求書表紙納品検収書入力印刷画面!$AP$2","v":""},null,"月",{"$f":"請求書表紙納品検収書入力印刷画面!$AS$2","v":""},null,"日"]
[null,"　　下記のとおり納品いたしますので検収をお願いいたします。",null,null,null,null,null,null,null,null,null,null,null,null,null,null,null,null,null,null,null,null,null,null,null,null,null,null,null,null,null,null,"住      所",null,null,"〒",{"$f":"請求書表紙納品検収書入力印刷画面!$AJ$3","v":""},null,"－",{"$f":"請求書表紙納品検収書入力印刷画面!$AM$3","v":""}]
[null,null,"注　文　№",null,{"$f":"請求書表紙納品検収書入力印刷画面!$E$4","v":""},null,null,null,null,null,null,null,"－",{"$f":"請求書表紙納品検収書入力印刷画面!$M$4","v":""},null,null,"－",{"$f":"請求書表紙納品検収書入力印刷画面!$Q$4","v":""},null,"注文区分",null,null,null,{"$f":"請求書表紙納品検収書入力印刷画面!$W$4","v":"□"},"工事",null,{"$f":"請求書表紙納品検収書入力印刷画面!$Z$4","v":"□"},"資機材",null,null,null,null,null,null,null,{"$f":"請求書表紙納品検収書入力印刷画面!$AI$4","v":""}]
[null,null,"工事名称",null,{"$f":"請求書表紙納品検収書入力印刷画面!$E$5","v":""},null,null,null,null,null,null,null,null,null,null,null,null,null,null,null,null,null,null,null,null,null,null,null,null,null,null,null,"会 社 名",null,null,{"$f":"請求書表紙納品検収書入力印刷画面!$AI$5","v":""}]
[null,null,"注文件名",null,{"$f":"請求書表紙納品検収書入力印刷画面!$E$6","v":""},null,null,null,null,null,null,null,null,null,null,null,null,null,null,null,null,null,null,null,null,null,null,null,null,null,null,null,"支店・営業所名",null,null,null,null,null,{"$f":"請求書表紙納品検収書入力印刷画面!AJ6","v":""}]
[null,null,"支払条件",null,null,{"$f":"IF(請求書表紙納品検収書入力印刷画面!$AY$6=TRUE,\"■\",\"□\")","v":"□"},"出来高支払",null,null,null,null,{"$f":"IF(請求書表紙納品検収書入力印刷画面!$AY$7=TRUE,\"■\",\"□\")","v":"□"},"入金後支払",null,null,null,"現金",null,{"$f":"IF(請求書表紙納品検収書入力印刷画面!$Q$7=\"\",\"\",請求書表紙納品検収書入力印刷画面!$Q$7)","v":""},null,"％","手形",null,{"$f":"IF(請求書表紙納品検収書入力印刷画面!$V$7=\"\",\"\",請求書表紙納品検収書入力印刷画面!$V$7)","v":""},null,"％","（サイト",null,{"$f":"IF(請求書表紙納品検収書入力印刷画面!$AA$7=\"\",\"\",請求書表紙納品検収書入力印刷画面!$AA$7)","v":""},"日）",null,null,"   現 場 担 当 者",null,null,null,null,null,null,null,null,null,null,null,null,null,"印"]
[null,null,null,null,null,null,null,null,null,null,null,null,null,null,null,null,null,null,null,null,null,null,null,null,null,null,null,null,null,null,null,null,"仕入先コード",null,null,null,null,{"$f":"請求書表紙納品検収書入力印刷画面!$AK$8","v":""}]
[]
[null,"工種コード",null,null,"注　文　明　細",null,null,null,null,null,null,null,null,null,null,null,null,"①　現在注文金額",null,null,null,null,null,null,null,null,null,null,null,null,null,null,"③　今回請求金額",null,null,null,null,null,null,null,null,null,null,null,null,null,null,"完了"]
[null,null,null,null,null,null,null,null,null,null,null,null,null,null,null,null,null,"税別金額",null,null,null,null,"消費税額",null,null,null,null,"税込金額",null,null,null,null,"税別金額",null,null,null,null,"消費税額",null,null,null,null,"税込金額"]
[null,{"$f":"IF(請求書表紙納品検収書入力印刷画面!B26=\"\",\"\",請求書表紙納品検収書入力印刷画面!B26)","v":""},null,null,{"$f":"IF(請求書表紙納品検収書入力印刷画面!E26=\"\",\"\",請求書表紙納品検収書入力印刷画面!E26)","v":""},null,null,null,null,null,null,null,null,null,null,null,null,{"$f":"IF(請求書表紙納品検収書入力印刷画面!Q26=\"\",\"\",請求書表紙納品検収書入力印刷画面!Q26)","v":""},null,null,null,null,{"$f":"IF(請求書表紙納品検収書入力印刷画面!V26=\"\",\"\",請求書表紙納品検収書入力印刷画面!V26)","v":""},null,null,null,null,{"$f":"IF(請求書表紙納品検収書入力印刷画面!AA26=\"\",\"\",請求書表紙納品検収書入力印刷画面!AA26)","v":""},null,null,null,null,{"$f":"IF(請求書表紙納品検収書入力印刷画面!AF26=\"\",\"\",請求書表紙納品検収書入力印刷画面!AF26)","v":""},null,null,null,null,{"$f":"IF(請求書表紙納品検収書入力印刷画面!AK26=\"\",\"\",請求書表紙納品検収書入力印刷画面!AK26)","v":""},null,null,null,null,{"$f":"IF(請求書表紙納品検収書入力印刷画面!AP26=\"\",\"\",請求書表紙納品検収書入力印刷画面!AP26)","v":""},null,null,null,null,{"$f":"IF(請求書表紙納品検収書入力印刷画面!AY25=TRUE,\"■\",\"□\")","v":"□"}]
[null,{"$f":"IF(請求書表紙納品検収書入力印刷画面!B27=\"\",\"\",請求書表紙納品検収書入力印刷画面!B27)","v":""},null,null,{"$f":"IF(請求書表紙納品検収書入力印刷画面!E27=\"\",\"\",請求書表紙納品検収書入力印刷画面!E27)","v":""},null,null,null,null,null,null,null,null,null,null,null,null,{"$f":"IF(請求書表紙納品検収書入力印刷画面!Q27=\"\",\"\",請求書表紙納品検収書入力印刷画面!Q27)","v":""},null,null,null,null,{"$f":"IF(請求書表紙納品検収書入力印刷画面!V27=\"\",\"\",請求書表紙納品検収書入力印刷画面!V27)","v":""},null,null,null,null,{"$f":"IF(請求書表紙納品検収書入力印刷画面!AA27=\"\",\"\",請求書表紙納品検収書入力印刷画面!AA27)","v":""},null,null,null,null,{"$f":"IF(請求書表紙納品検収書入力印刷画面!AF27=\"\",\"\",請求書表紙納品検収書入力印刷画面!AF27)","v":""},null,null,null,null,{"$f":"IF(請求書表紙納品検収書入力印刷画面!AK27=\"\",\"\",請求書表紙納品検収書入力印刷画面!AK27)","v":""},null,null,null,null,{"$f":"IF(請求書表紙納品検収書入力印刷画面!AP27=\"\",\"\",請求書表紙納品検収書入力印刷画面!AP27)","v":""},null,null,null,null,{"$f":"IF(請求書表紙納品検収書入力印刷画面!AY26=TRUE,\"■\",\"□\")","v":"□"}]
[null,{"$f":"IF(請求書表紙納品検収書入力印刷画面!B28=\"\",\"\",請求書表紙納品検収書入力印刷画面!B28)","v":""},null,null,{"$f":"IF(請求書表紙納品検収書入力印刷画面!E28=\"\",\"\",請求書表紙納品検収書入力印刷画面!E28)","v":""},null,null,null,null,null,null,null,null,null,null,null,null,{"$f":"IF(請求書表紙納品検収書入力印刷画面!Q28=\"\",\"\",請求書表紙納品検収書入力印刷画面!Q28)","v":""},null,null,null,null,{"$f":"IF(請求書表紙納品検収書入力印刷画面!V28=\"\",\"\",請求書表紙納品検収書入力印刷画面!V28)","v":""},null,null,null,null,{"$f":"IF(請求書表紙納品検収書入力印刷画面!AA28=\"\",\"\",請求書表紙納品検収書入力印刷画面!AA28)","v":""},null,null,null,null,{"$f":"IF(請求書表紙納品検収書入力印刷画面!AF28=\"\",\"\",請求書表紙納品検収書入力印刷画面!AF28)","v":""},null,null,null,null,{"$f":"IF(請求書表紙納品検収書入力印刷画面!AK28=\"\",\"\",請求書表紙納品検収書入力印刷画面!AK28)","v":""},null,null,null,null,{"$f":"IF(請求書表紙納品検収書入力印刷画面!AP28=\"\",\"\",請求書表紙納品検収書入力印刷画面!AP28)","v":""},null,null,null,null,{"$f":"IF(請求書表紙納品検収書入力印刷画面!AY27=TRUE,\"■\",\"□\")","v":"□"}]
[null,{"$f":"IF(請求書表紙納品検収書入力印刷画面!B29=\"\",\"\",請求書表紙納品検収書入力印刷画面!B29)","v":""},null,null,{"$f":"IF(請求書表紙納品検収書入力印刷画面!E29=\"\",\"\",請求書表紙納品検収書入力印刷画面!E29)","v":""},null,null,null,null,null,null,null,null,null,null,null,null,{"$f":"IF(請求書表紙納品検収書入力印刷画面!Q29=\"\",\"\",請求書表紙納品検収書入力印刷画面!Q29)","v":""},null,null,null,null,{"$f":"IF(請求書表紙納品検収書入力印刷画面!V29=\"\",\"\",請求書表紙納品検収書入力印刷画面!V29)","v":""},null,null,null,null,{"$f":"IF(請求書表紙納品検収書入力印刷画面!AA29=\"\",\"\",請求書表紙納品検収書入力印刷画面!AA29)","v":""},null,null,null,null,{"$f":"IF(請求書表紙納品検収書入力印刷画面!AF29=\"\",\"\",請求書表紙納品検収書入力印刷画面!AF29)","v":""},null,null,null,null,{"$f":"IF(請求書表紙納品検収書入力印刷画面!AK29=\"\",\"\",請求書表紙納品検収書入力印刷画面!AK29)","v":""},null,null,null,null,{"$f":"IF(請求書表紙納品検収書入力印刷画面!AP29=\"\",\"\",請求書表紙納品検収書入力印刷画面!AP29)","v":""},null,null,null,null,{"$f":"IF(請求書表紙納品検収書入力印刷画面!AY28=TRUE,\"■\",\"□\")","v":"□"}]
[null,{"$f":"IF(請求書表紙納品検収書入力印刷画面!B30=\"\",\"\",請求書表紙納品検収書入力印刷画面!B30)","v":""},null,null,{"$f":"IF(請求書表紙納品検収書入力印刷画面!E30=\"\",\"\",請求書表紙納品検収書入力印刷画面!E30)","v":""},null,null,null,null,null,null,null,null,null,null,null,null,{"$f":"IF(請求書表紙納品検収書入力印刷画面!Q30=\"\",\"\",請求書表紙納品検収書入力印刷画面!Q30)","v":""},null,null,null,null,{"$f":"IF(請求書表紙納品検収書入力印刷画面!V30=\"\",\"\",請求書表紙納品検収書入力印刷画面!V30)","v":""},null,null,null,null,{"$f":"IF(請求書表紙納品検収書入力印刷画面!AA30=\"\",\"\",請求書表紙納品検収書入力印刷画面!AA30)","v":""},null,null,null,null,{"$f":"IF(請求書表紙納品検収書入力印刷画面!AF30=\"\",\"\",請求書表紙納品検収書入力印刷画面!AF30)","v":""},null,null,null,null,{"$f":"IF(請求書表紙納品検収書入力印刷画面!AK30=\"\",\"\",請求書表紙納品検収書入力印刷画面!AK30)","v":""},null,null,null,null,{"$f":"IF(請求書表紙納品検収書入力印刷画面!AP30=\"\",\"\",請求書表紙納品検収書入力印刷画面!AP30)","v":""},null,null,null,null,{"$f":"IF(請求書表紙納品検収書入力印刷画面!AY29=TRUE,\"■\",\"□\")","v":"□"}]
[null,{"$f":"IF(請求書表紙納品検収書入力印刷画面!B31=\"\",\"\",請求書表紙納品検収書入力印刷画面!B31)","v":""},null,null,{"$f":"IF(請求書表紙納品検収書入力印刷画面!E31=\"\",\"\",請求書表紙納品検収書入力印刷画面!E31)","v":""},null,null,null,null,null,null,null,null,null,null,null,null,{"$f":"IF(請求書表紙納品検収書入力印刷画面!Q31=\"\",\"\",請求書表紙納品検収書入力印刷画面!Q31)","v":""},null,null,null,null,{"$f":"IF(請求書表紙納品検収書入力印刷画面!V31=\"\",\"\",請求書表紙納品検収書入力印刷画面!V31)","v":""},null,null,null,null,{"$f":"IF(請求書表紙納品検収書入力印刷画面!AA31=\"\",\"\",請求書表紙納品検収書入力印刷画面!AA31)","v":""},null,null,null,null,{"$f":"IF(請求書表紙納品検収書入力印刷画面!AF31=\"\",\"\",請求書表紙納品検収書入力印刷画面!AF31)","v":""},null,null,null,null,{"$f":"IF(請求書表紙納品検収書入力印刷画面!AK31=\"\",\"\",請求書表紙納品検収書入力印刷画面!AK31)","v":""},null,null,null,null,{"$f":"IF(請求書表紙納品検収書入力印刷画面!AP31=\"\",\"\",請求書表紙納品検収書入力印刷画面!AP31)","v":""},null,null,null,null,{"$f":"IF(請求書表紙納品検収書入力印刷画面!AY30=TRUE,\"■\",\"□\")","v":"□"}]
[null,{"$f":"IF(請求書表紙納品検収書入力印刷画面!B32=\"\",\"\",請求書表紙納品検収書入力印刷画面!B32)","v":""},null,null,{"$f":"IF(請求書表紙納品検収書入力印刷画面!E32=\"\",\"\",請求書表紙納品検収書入力印刷画面!E32)","v":""},null,null,null,null,null,null,null,null,null,null,null,null,{"$f":"IF(請求書表紙納品検収書入力印刷画面!Q32=\"\",\"\",請求書表紙納品検収書入力印刷画面!Q32)","v":""},null,null,null,null,{"$f":"IF(請求書表紙納品検収書入力印刷画面!V32=\"\",\"\",請求書表紙納品検収書入力印刷画面!V32)","v":""},null,null,null,null,{"$f":"IF(請求書表紙納品検収書入力印刷画面!AA32=\"\",\"\",請求書表紙納品検収書入力印刷画面!AA32)","v":""},null,null,null,null,{"$f":"IF(請求書表紙納品検収書入力印刷画面!AF32=\"\",\"\",請求書表紙納品検収書入力印刷画面!AF32)","v":""},null,null,null,null,{"$f":"IF(請求書表紙納品検収書入力印刷画面!AK32=\"\",\"\",請求書表紙納品検収書入力印刷画面!AK32)","v":""},null,null,null,null,{"$f":"IF(請求書表紙納品検収書入力印刷画面!AP32=\"\",\"\",請求書表紙納品検収書入力印刷画面!AP32)","v":""},null,null,null,null,{"$f":"IF(請求書表紙納品検収書入力印刷画面!AY31=TRUE,\"■\",\"□\")","v":"□"}]
[null,{"$f":"IF(請求書表紙納品検収書入力印刷画面!B33=\"\",\"\",請求書表紙納品検収書入力印刷画面!B33)","v":""},null,null,{"$f":"IF(請求書表紙納品検収書入力印刷画面!E33=\"\",\"\",請求書表紙納品検収書入力印刷画面!E33)","v":""},null,null,null,null,null,null,null,null,null,null,null,null,{"$f":"IF(請求書表紙納品検収書入力印刷画面!Q33=\"\",\"\",請求書表紙納品検収書入力印刷画面!Q33)","v":""},null,null,null,null,{"$f":"IF(請求書表紙納品検収書入力印刷画面!V33=\"\",\"\",請求書表紙納品検収書入力印刷画面!V33)","v":""},null,null,null,null,{"$f":"IF(請求書表紙納品検収書入力印刷画面!AA33=\"\",\"\",請求書表紙納品検収書入力印刷画面!AA33)","v":""},null,null,null,null,{"$f":"IF(請求書表紙納品検収書入力印刷画面!AF33=\"\",\"\",請求書表紙納品検収書入力印刷画面!AF33)","v":""},null,null,null,null,{"$f":"IF(請求書表紙納品検収書入力印刷画面!AK33=\"\",\"\",請求書表紙納品検収書入力印刷画面!AK33)","v":""},null,null,null,null,{"$f":"IF(請求書表紙納品検収書入力印刷画面!AP33=\"\",\"\",請求書表紙納品検収書入力印刷画面!AP33)","v":""},null,null,null,null,{"$f":"IF(請求書表紙納品検収書入力印刷画面!AY32=TRUE,\"■\",\"□\")","v":"□"}]
[null,null,null,null,null,null,null,null,null,null,null,null,"計",null,null,null,null,{"$f":"IF(AT1=AV1,請求書表紙納品検収書入力印刷画面!$Q$43,\"－－－－－－ \")","v":"－－－－－－ "},null,null,null,null,{"$f":"IF(AT1=AV1,請求書表紙納品検収書入力印刷画面!$V$43,\"－－－－－－ \")","v":"－－－－－－ "},null,null,null,null,{"$f":"IF(AT1=AV1,請求書表紙納品検収書入力印刷画面!$AA$43,\"－－－－－－－ \")","v":"－－－－－－－ "},null,null,null,null,{"$f":"IF(AT1=AV1,請求書表紙納品検収書入力印刷画面!$AF$43,\"－－－－－－ \")","v":"－－－－－－ "},null,null,null,null,{"$f":"IF(AT1=AV1,請求書表紙納品検収書入力印刷画面!$AK$43,\"－－－－－－ \")","v":"－－－－－－ "},null,null,null,null,{"$f":"IF(AT1=AV1,請求書表紙納品検収書入力印刷画面!$AP$43,\"－－－－－－－ \")","v":"－－－－－－－ "}]

{"sheet":"納品・検収書印刷（取極め用）3","index":16,"n_rows":20,"n_cols":48,"rows_kept":20,"cut":false,"hidden":true,"merged":[[0,1,0,33],[1,32,1,35],[3,4,3,11],[5,32,5,37],[6,32,6,36],[9,1,10,3],[9,4,10,16],[9,17,9,31],[1,42,1,43],[3,35,3,49],[2,32,2,34],[1,45,1,46],[1,39,1,40],[2,36,2,37],[2,39,2,40],[6,6,6,9],[10,22,10,26],[3,13,3,15],[3,17,3,18],[4,32,4,34],[3,19,3,22],[3,24,3,25],[3,27,3,29],[3,32,3,34],[11,1,11,3],[11,4,11,16],[12,1,12,3],[12,4,12,16],[10,17,10,21],[12,42,12,46],[12,47,12,49],[11,47,11,49],[9,32,9,46],[10,32,10,36],[10,37,10,41],[10,27,10,31],[9,47,10,49],[10,42,10,46],[11,37,11,41],[11,22,11,26],[11,32,11,36],[11,42,11,46],[14,47,14,49],[14,42,14,46],[4,35,4,48],[5,4,5,29],[4,4,4,29],[11,17,11,21],[11,27,11,31],[6,12,6,15],[6,16,6,17],[5,38,5,48],[7,32,7,36],[6,38,6,45],[7,37,7,49],[6,18,6,19],[6,21,6,22],[6,23,6,24],[16,47,16,49],[15,47,15,49],[15,42,15,46],[16,42,16,46],[13,47,13,49],[14,1,14,3],[14,4,14,16],[14,17,14,21],[14,22,14,26],[14,27,14,31],[13,1,13,3],[13,4,13,16],[13,17,13,21],[13,22,13,26],[15,1,15,3],[15,4,15,16],[15,17,15,21],[15,22,15,26],[15,27,15,31],[16,1,16,3],[16,4,16,16],[16,17,16,21],[13,42,13,46],[13,27,13,31],[17,1,17,3],[17,4,17,16],[17,17,17,21],[17,22,17,26],[18,1,18,3],[18,4,18,16],[18,17,18,21],[18,22,18,26],[17,27,17,31],[19,12,19,16],[19,17,19,21],[19,22,19,26],[19,27,19,31],[18,27,18,31],[18,32,18,36],[12,32,12,36],[12,37,12,41],[15,37,15,41],[13,37,13,41],[15,32,15,36],[14,32,14,36],[14,37,14,41],[16,22,16,26],[16,27,16,31],[12,17,12,21],[12,22,12,26],[16,32,16,36],[16,37,16,41],[12,27,12,31],[13,32,13,36],[17,47,17,49],[18,47,18,49],[17,37,17,41],[17,42,17,46],[18,37,18,41],[18,42,18,46],[17,32,17,36],[19,42,19,46],[19,32,19,36],[19,37,19,41]]}
[null,"納　品　・　検　収　書　　（取極め用）",null,null,null,null,null,null,null,null,null,null,null,null,null,null,null,null,null,null,null,null,null,null,null,null,null,null,null,null,null,null,null,null,null,null,null,null,null,null,null,null,null,null,null,{"$f":"最終頁請求","v":0},"-",3]
[null,"株式会社　水倉組　御中",null,null,null,null,null,null,null,null,null,null,null,null,null,null,null,null,null,null,null,null,null,null,null,null,null,null,null,null,null,null,"納品日",null,null,null,null,"（西暦）",null,{"$f":"請求書表紙納品検収書入力印刷画面!$AM$2","v":""},null,"年",{"$f":"請求書表紙納品検収書入力印刷画面!$AP$2","v":""},null,"月",{"$f":"請求書表紙納品検収書入力印刷画面!$AS$2","v":""},null,"日"]
[null,"　　下記のとおり納品いたしますので検収をお願いいたします。",null,null,null,null,null,null,null,null,null,null,null,null,null,null,null,null,null,null,null,null,null,null,null,null,null,null,null,null,null,null,"住      所",null,null,"〒",{"$f":"請求書表紙納品検収書入力印刷画面!$AJ$3","v":""},null,"－",{"$f":"請求書表紙納品検収書入力印刷画面!$AM$3","v":""}]
[null,null,"注　文　№",null,{"$f":"請求書表紙納品検収書入力印刷画面!$E$4","v":""},null,null,null,null,null,null,null,"－",{"$f":"請求書表紙納品検収書入力印刷画面!$M$4","v":""},null,null,"－",{"$f":"請求書表紙納品検収書入力印刷画面!$Q$4","v":""},null,"注文区分",null,null,null,{"$f":"請求書表紙納品検収書入力印刷画面!$W$4","v":"□"},"工事",null,{"$f":"請求書表紙納品検収書入力印刷画面!$Z$4","v":"□"},"資機材",null,null,null,null,null,null,null,{"$f":"請求書表紙納品検収書入力印刷画面!$AI$4","v":""}]
[null,null,"工事名称",null,{"$f":"請求書表紙納品検収書入力印刷画面!$E$5","v":""},null,null,null,null,null,null,null,null,null,null,null,null,null,null,null,null,null,null,null,null,null,null,null,null,null,null,null,"会 社 名",null,null,{"$f":"請求書表紙納品検収書入力印刷画面!$AI$5","v":""}]
[null,null,"注文件名",null,{"$f":"請求書表紙納品検収書入力印刷画面!$E$6","v":""},null,null,null,null,null,null,null,null,null,null,null,null,null,null,null,null,null,null,null,null,null,null,null,null,null,null,null,"支店・営業所名",null,null,null,null,null,{"$f":"請求書表紙納品検収書入力印刷画面!AJ6","v":""}]
[null,null,"支払条件",null,null,{"$f":"IF(請求書表紙納品検収書入力印刷画面!$AY$6=TRUE,\"■\",\"□\")","v":"□"},"出来高支払",null,null,null,null,{"$f":"IF(請求書表紙納品検収書入力印刷画面!$AY$7=TRUE,\"■\",\"□\")","v":"□"},"入金後支払",null,null,null,"現金",null,{"$f":"IF(請求書表紙納品検収書入力印刷画面!$Q$7=\"\",\"\",請求書表紙納品検収書入力印刷画面!$Q$7)","v":""},null,"％","手形",null,{"$f":"IF(請求書表紙納品検収書入力印刷画面!$V$7=\"\",\"\",請求書表紙納品検収書入力印刷画面!$V$7)","v":""},null,"％","（サイト",null,{"$f":"IF(請求書表紙納品検収書入力印刷画面!$AA$7=\"\",\"\",請求書表紙納品検収書入力印刷画面!$AA$7)","v":""},"日）",null,null,"   現 場 担 当 者",null,null,null,null,null,null,null,null,null,null,null,null,null,"印"]
[null,null,null,null,null,null,null,null,null,null,null,null,null,null,null,null,null,null,null,null,null,null,null,null,null,null,null,null,null,null,null,null,"仕入先コード",null,null,null,null,{"$f":"請求書表紙納品検収書入力印刷画面!$AK$8","v":""}]
[]
[null,"工種コード",null,null,"注　文　明　細",null,null,null,null,null,null,null,null,null,null,null,null,"①　現在注文金額",null,null,null,null,null,null,null,null,null,null,null,null,null,null,"③　今回請求金額",null,null,null,null,null,null,null,null,null,null,null,null,null,null,"完了"]
[null,null,null,null,null,null,null,null,null,null,null,null,null,null,null,null,null,"税別金額",null,null,null,null,"消費税額",null,null,null,null,"税込金額",null,null,null,null,"税別金額",null,null,null,null,"消費税額",null,null,null,null,"税込金額"]
[null,{"$f":"IF(請求書表紙納品検収書入力印刷画面!B34=\"\",\"\",請求書表紙納品検収書入力印刷画面!B34)","v":""},null,null,{"$f":"IF(請求書表紙納品検収書入力印刷画面!E34=\"\",\"\",請求書表紙納品検収書入力印刷画面!E34)","v":""},null,null,null,null,null,null,null,null,null,null,null,null,{"$f":"IF(請求書表紙納品検収書入力印刷画面!Q34=\"\",\"\",請求書表紙納品検収書入力印刷画面!Q34)","v":""},null,null,null,null,{"$f":"IF(請求書表紙納品検収書入力印刷画面!V34=\"\",\"\",請求書表紙納品検収書入力印刷画面!V34)","v":""},null,null,null,null,{"$f":"IF(請求書表紙納品検収書入力印刷画面!AA34=\"\",\"\",請求書表紙納品検収書入力印刷画面!AA34)","v":""},null,null,null,null,{"$f":"IF(請求書表紙納品検収書入力印刷画面!AF34=\"\",\"\",請求書表紙納品検収書入力印刷画面!AF34)","v":""},null,null,null,null,{"$f":"IF(請求書表紙納品検収書入力印刷画面!AK34=\"\",\"\",請求書表紙納品検収書入力印刷画面!AK34)","v":""},null,null,null,null,{"$f":"IF(請求書表紙納品検収書入力印刷画面!AP34=\"\",\"\",請求書表紙納品検収書入力印刷画面!AP34)","v":""},null,null,null,null,{"$f":"IF(請求書表紙納品検収書入力印刷画面!AY33=TRUE,\"■\",\"□\")","v":"□"}]
[null,{"$f":"IF(請求書表紙納品検収書入力印刷画面!B35=\"\",\"\",請求書表紙納品検収書入力印刷画面!B35)","v":""},null,null,{"$f":"IF(請求書表紙納品検収書入力印刷画面!E35=\"\",\"\",請求書表紙納品検収書入力印刷画面!E35)","v":""},null,null,null,null,null,null,null,null,null,null,null,null,{"$f":"IF(請求書表紙納品検収書入力印刷画面!Q35=\"\",\"\",請求書表紙納品検収書入力印刷画面!Q35)","v":""},null,null,null,null,{"$f":"IF(請求書表紙納品検収書入力印刷画面!V35=\"\",\"\",請求書表紙納品検収書入力印刷画面!V35)","v":""},null,null,null,null,{"$f":"IF(請求書表紙納品検収書入力印刷画面!AA35=\"\",\"\",請求書表紙納品検収書入力印刷画面!AA35)","v":""},null,null,null,null,{"$f":"IF(請求書表紙納品検収書入力印刷画面!AF35=\"\",\"\",請求書表紙納品検収書入力印刷画面!AF35)","v":""},null,null,null,null,{"$f":"IF(請求書表紙納品検収書入力印刷画面!AK35=\"\",\"\",請求書表紙納品検収書入力印刷画面!AK35)","v":""},null,null,null,null,{"$f":"IF(請求書表紙納品検収書入力印刷画面!AP35=\"\",\"\",請求書表紙納品検収書入力印刷画面!AP35)","v":""},null,null,null,null,{"$f":"IF(請求書表紙納品検収書入力印刷画面!AY34=TRUE,\"■\",\"□\")","v":"□"}]
[null,{"$f":"IF(請求書表紙納品検収書入力印刷画面!B36=\"\",\"\",請求書表紙納品検収書入力印刷画面!B36)","v":""},null,null,{"$f":"IF(請求書表紙納品検収書入力印刷画面!E36=\"\",\"\",請求書表紙納品検収書入力印刷画面!E36)","v":""},null,null,null,null,null,null,null,null,null,null,null,null,{"$f":"IF(請求書表紙納品検収書入力印刷画面!Q36=\"\",\"\",請求書表紙納品検収書入力印刷画面!Q36)","v":""},null,null,null,null,{"$f":"IF(請求書表紙納品検収書入力印刷画面!V36=\"\",\"\",請求書表紙納品検収書入力印刷画面!V36)","v":""},null,null,null,null,{"$f":"IF(請求書表紙納品検収書入力印刷画面!AA36=\"\",\"\",請求書表紙納品検収書入力印刷画面!AA36)","v":""},null,null,null,null,{"$f":"IF(請求書表紙納品検収書入力印刷画面!AF36=\"\",\"\",請求書表紙納品検収書入力印刷画面!AF36)","v":""},null,null,null,null,{"$f":"IF(請求書表紙納品検収書入力印刷画面!AK36=\"\",\"\",請求書表紙納品検収書入力印刷画面!AK36)","v":""},null,null,null,null,{"$f":"IF(請求書表紙納品検収書入力印刷画面!AP36=\"\",\"\",請求書表紙納品検収書入力印刷画面!AP36)","v":""},null,null,null,null,{"$f":"IF(請求書表紙納品検収書入力印刷画面!AY35=TRUE,\"■\",\"□\")","v":"□"}]
[null,{"$f":"IF(請求書表紙納品検収書入力印刷画面!B37=\"\",\"\",請求書表紙納品検収書入力印刷画面!B37)","v":""},null,null,{"$f":"IF(請求書表紙納品検収書入力印刷画面!E37=\"\",\"\",請求書表紙納品検収書入力印刷画面!E37)","v":""},null,null,null,null,null,null,null,null,null,null,null,null,{"$f":"IF(請求書表紙納品検収書入力印刷画面!Q37=\"\",\"\",請求書表紙納品検収書入力印刷画面!Q37)","v":""},null,null,null,null,{"$f":"IF(請求書表紙納品検収書入力印刷画面!V37=\"\",\"\",請求書表紙納品検収書入力印刷画面!V37)","v":""},null,null,null,null,{"$f":"IF(請求書表紙納品検収書入力印刷画面!AA37=\"\",\"\",請求書表紙納品検収書入力印刷画面!AA37)","v":""},null,null,null,null,{"$f":"IF(請求書表紙納品検収書入力印刷画面!AF37=\"\",\"\",請求書表紙納品検収書入力印刷画面!AF37)","v":""},null,null,null,null,{"$f":"IF(請求書表紙納品検収書入力印刷画面!AK37=\"\",\"\",請求書表紙納品検収書入力印刷画面!AK37)","v":""},null,null,null,null,{"$f":"IF(請求書表紙納品検収書入力印刷画面!AP37=\"\",\"\",請求書表紙納品検収書入力印刷画面!AP37)","v":""},null,null,null,null,{"$f":"IF(請求書表紙納品検収書入力印刷画面!AY36=TRUE,\"■\",\"□\")","v":"□"}]
[null,{"$f":"IF(請求書表紙納品検収書入力印刷画面!B38=\"\",\"\",請求書表紙納品検収書入力印刷画面!B38)","v":""},null,null,{"$f":"IF(請求書表紙納品検収書入力印刷画面!E38=\"\",\"\",請求書表紙納品検収書入力印刷画面!E38)","v":""},null,null,null,null,null,null,null,null,null,null,null,null,{"$f":"IF(請求書表紙納品検収書入力印刷画面!Q38=\"\",\"\",請求書表紙納品検収書入力印刷画面!Q38)","v":""},null,null,null,null,{"$f":"IF(請求書表紙納品検収書入力印刷画面!V38=\"\",\"\",請求書表紙納品検収書入力印刷画面!V38)","v":""},null,null,null,null,{"$f":"IF(請求書表紙納品検収書入力印刷画面!AA38=\"\",\"\",請求書表紙納品検収書入力印刷画面!AA38)","v":""},null,null,null,null,{"$f":"IF(請求書表紙納品検収書入力印刷画面!AF38=\"\",\"\",請求書表紙納品検収書入力印刷画面!AF38)","v":""},null,null,null,null,{"$f":"IF(請求書表紙納品検収書入力印刷画面!AK38=\"\",\"\",請求書表紙納品検収書入力印刷画面!AK38)","v":""},null,null,null,null,{"$f":"IF(請求書表紙納品検収書入力印刷画面!AP38=\"\",\"\",請求書表紙納品検収書入力印刷画面!AP38)","v":""},null,null,null,null,{"$f":"IF(請求書表紙納品検収書入力印刷画面!AY37=TRUE,\"■\",\"□\")","v":"□"}]
[null,{"$f":"IF(請求書表紙納品検収書入力印刷画面!B39=\"\",\"\",請求書表紙納品検収書入力印刷画面!B39)","v":""},null,null,{"$f":"IF(請求書表紙納品検収書入力印刷画面!E39=\"\",\"\",請求書表紙納品検収書入力印刷画面!E39)","v":""},null,null,null,null,null,null,null,null,null,null,null,null,{"$f":"IF(請求書表紙納品検収書入力印刷画面!Q39=\"\",\"\",請求書表紙納品検収書入力印刷画面!Q39)","v":""},null,null,null,null,{"$f":"IF(請求書表紙納品検収書入力印刷画面!V39=\"\",\"\",請求書表紙納品検収書入力印刷画面!V39)","v":""},null,null,null,null,{"$f":"IF(請求書表紙納品検収書入力印刷画面!AA39=\"\",\"\",請求書表紙納品検収書入力印刷画面!AA39)","v":""},null,null,null,null,{"$f":"IF(請求書表紙納品検収書入力印刷画面!AF39=\"\",\"\",請求書表紙納品検収書入力印刷画面!AF39)","v":""},null,null,null,null,{"$f":"IF(請求書表紙納品検収書入力印刷画面!AK39=\"\",\"\",請求書表紙納品検収書入力印刷画面!AK39)","v":""},null,null,null,null,{"$f":"IF(請求書表紙納品検収書入力印刷画面!AP39=\"\",\"\",請求書表紙納品検収書入力印刷画面!AP39)","v":""},null,null,null,null,{"$f":"IF(請求書表紙納品検収書入力印刷画面!AY38=TRUE,\"■\",\"□\")","v":"□"}]
[null,{"$f":"IF(請求書表紙納品検収書入力印刷画面!B40=\"\",\"\",請求書表紙納品検収書入力印刷画面!B40)","v":""},null,null,{"$f":"IF(請求書表紙納品検収書入力印刷画面!E40=\"\",\"\",請求書表紙納品検収書入力印刷画面!E40)","v":""},null,null,null,null,null,null,null,null,null,null,null,null,{"$f":"IF(請求書表紙納品検収書入力印刷画面!Q40=\"\",\"\",請求書表紙納品検収書入力印刷画面!Q40)","v":""},null,null,null,null,{"$f":"IF(請求書表紙納品検収書入力印刷画面!V40=\"\",\"\",請求書表紙納品検収書入力印刷画面!V40)","v":""},null,null,null,null,{"$f":"IF(請求書表紙納品検収書入力印刷画面!AA40=\"\",\"\",請求書表紙納品検収書入力印刷画面!AA40)","v":""},null,null,null,null,{"$f":"IF(請求書表紙納品検収書入力印刷画面!AF40=\"\",\"\",請求書表紙納品検収書入力印刷画面!AF40)","v":""},null,null,null,null,{"$f":"IF(請求書表紙納品検収書入力印刷画面!AK40=\"\",\"\",請求書表紙納品検収書入力印刷画面!AK40)","v":""},null,null,null,null,{"$f":"IF(請求書表紙納品検収書入力印刷画面!AP40=\"\",\"\",請求書表紙納品検収書入力印刷画面!AP40)","v":""},null,null,null,null,{"$f":"IF(請求書表紙納品検収書入力印刷画面!AY39=TRUE,\"■\",\"□\")","v":"□"}]
[null,{"$f":"IF(請求書表紙納品検収書入力印刷画面!B41=\"\",\"\",請求書表紙納品検収書入力印刷画面!B41)","v":""},null,null,{"$f":"IF(請求書表紙納品検収書入力印刷画面!E41=\"\",\"\",請求書表紙納品検収書入力印刷画面!E41)","v":""},null,null,null,null,null,null,null,null,null,null,null,null,{"$f":"IF(請求書表紙納品検収書入力印刷画面!Q41=\"\",\"\",請求書表紙納品検収書入力印刷画面!Q41)","v":""},null,null,null,null,{"$f":"IF(請求書表紙納品検収書入力印刷画面!V41=\"\",\"\",請求書表紙納品検収書入力印刷画面!V41)","v":""},null,null,null,null,{"$f":"IF(請求書表紙納品検収書入力印刷画面!AA41=\"\",\"\",請求書表紙納品検収書入力印刷画面!AA41)","v":""},null,null,null,null,{"$f":"IF(請求書表紙納品検収書入力印刷画面!AF41=\"\",\"\",請求書表紙納品検収書入力印刷画面!AF41)","v":""},null,null,null,null,{"$f":"IF(請求書表紙納品検収書入力印刷画面!AK41=\"\",\"\",請求書表紙納品検収書入力印刷画面!AK41)","v":""},null,null,null,null,{"$f":"IF(請求書表紙納品検収書入力印刷画面!AP41=\"\",\"\",請求書表紙納品検収書入力印刷画面!AP41)","v":""},null,null,null,null,{"$f":"IF(請求書表紙納品検収書入力印刷画面!AY40=TRUE,\"■\",\"□\")","v":"□"}]
[null,null,null,null,null,null,null,null,null,null,null,null,"計",null,null,null,null,{"$f":"IF(AT1=AV1,請求書表紙納品検収書入力印刷画面!$Q$43,\"－－－－－－ \")","v":"－－－－－－ "},null,null,null,null,{"$f":"IF(AT1=AV1,請求書表紙納品検収書入力印刷画面!$V$43,\"－－－－－－ \")","v":"－－－－－－ "},null,null,null,null,{"$f":"IF(AT1=AV1,請求書表紙納品検収書入力印刷画面!$AA$43,\"－－－－－－－ \")","v":"－－－－－－－ "},null,null,null,null,{"$f":"IF(AT1=AV1,請求書表紙納品検収書入力印刷画面!$AF$43,\"－－－－－－ \")","v":"－－－－－－ "},null,null,null,null,{"$f":"IF(AT1=AV1,請求書表紙納品検収書入力印刷画面!$AK$43,\"－－－－－－ \")","v":"－－－－－－ "},null,null,null,null,{"$f":"IF(AT1=AV1,請求書表紙納品検収書入力印刷画面!$AP$43,\"－－－－－－－ \")","v":"－－－－－－－ "}]

{"sheet":"設定","index":17,"n_rows":35,"n_cols":6,"rows_kept":35,"cut":false,"hidden":true,"merged":[]}
["最大頁",20," ← 明細を作成済の最大頁"]
["最終頁",0," ← 明細データが入力してある最終頁"]
["最終頁請求",0," ← 請求書表紙明細データが入力してある最終頁"]
[]
["明細削除",0," ← ０：無、１：有"]
["　　　コメント",{"$f":"IF(AND(削除モード=1,最大頁>20),\"（カーソルのある画面頁が削除されます）\",\"\")","v":""}," ← 1：削除モードの場合に表示される"]
["累計クリア",0," ← ０：無、１：有"]
["　　　コメント",{"$f":"IF(クリアモード=1,\"（前回までの請求累計額欄がクリアされます。）\",\"\")","v":""}," ← 1：クリアモードの場合に表示される"]
["印刷モード",0," ← ０：プリンタ選択、１：通常使うプリンタ"]
["プレビュー表示",0," ← ０：無、１：有"]
[]
["データ出力先","\\\\192.168.1.251\\CIWEB連携\\CIWEB_add"]
[]
[null,"印刷部数",null,"請求年","請求月","請求日"]
[null,1,null,2011,1,25]
[null,2,null,2012,2,26]
[null,3,null,2013,3,27]
[null,4,null,2014,4,28]
[null,5,null,2015,5,29]
[null,null,null,2016,6,30]
[null,null,null,2017,7,31]
[null,null,null,2018,8]
[null,null,null,2019,9]
[null,null,null,2020,10]
[null,null,null,2021,11]
[null,null,null,2022,12]
[null,null,null,2023]
[null,null,null,2024]
[null,null,null,2025]
[null,null,null,2026]
[null,null,null,2027]
[null,null,null,2028]
[null,null,null,2029]
[null,null,null,2030]
[null,null,null,2031]