{"text_format":"1","workbook":"xlsx","n_sheets":19,"sheets":["基本入力画面","説明書","内訳明細書作成作業選択画面","請求明細書作成作業選択画面","内訳明細書入力画面","内訳明細印刷（取極め用）","内訳明細出力（取極め用）","請求明細書入力印刷画面","請求明細書入力印刷画面_保存","請求明細印刷（取極め用）","請求明細出力（取極め用）","請求書表紙納品検収書入力印刷画面","請求書表紙印刷（取極め用）1","請求書表紙印刷（取極め用）2","請求書表紙印刷（取極め用）3","納品・検収書印刷（取極め用）1","納品・検収書印刷（取極め用）2","納品・検収書印刷（取極め用）3","設定"],"not_rendered":{"charts":0,"images":0,"macros":1,"external_links":0,"defined_names":29,"comments":1,"pivot_tables":0},"unopened":[],"bounds":{"document_bytes":16777216,"sheet_cells":100000,"rows_first":2000,"rows_last":500,"rows_between":2000,"halvings":0,"cell_chars":16384,"cell_head_chars":4096},"cells_cut":0,"cells_raw":0,"read":"whole","date_system":"1900"}

{"sheet":"基本入力画面","index":0,"n_rows":28,"n_cols":26,"rows_kept":28,"cut":false,"hidden":false,"merged":[[12,10,12,11],[20,11,20,12],[0,2,0,23],[12,4,12,5],[12,7,12,8],[1,2,1,23],[8,8,8,10],[2,3,2,23],[8,5,8,6],[6,4,6,16],[4,4,4,16],[10,4,10,18],[12,15,12,17],[26,9,26,12],[20,17,20,18],[21,17,21,19],[14,4,14,18],[22,6,22,9],[22,3,22,5],[21,4,21,9],[21,11,21,12],[21,13,21,16],[26,5,26,7],[17,3,17,23],[20,14,20,15],[20,4,20,9],[24,4,24,16]]}
[null,null,"基本入力画面（インボイス対応）"]
[null,null,"＊白抜き部分を入力して下さい。"]
[null,null,null,"契約時入力"]
[]
[null,null,null,"会　　社　　名",null,null,null,null,null,null,null,null,null,null,null,null,null,"（全角２０文字以内）"]
[]
[null,null,null,"支店・営業所名",null,null,null,null,null,null,null,null,null,null,null,null,null,"（全角２０文字以内）"]
[]
[null,null,null,"住　　　　　　所","〒",null,null,"-"]
[]
[null,null,null,null,null,null,null,null,null,null,null,null,null,null,null,null,null,null,null,"（全角２５文字以内）"]
[]
[null,null,null,"電　話　番　号",null,null,"-",null,null,"-"]
[]
[null,null,null,"工事名称入力",null,null,null,null,null,null,null,null,null,null,null,null,null,null,null,"（全角２５文字以内【半角文字不可】）"]
[]
[]
[null,null,null,"請求時入力"]
[null,null,null,"以下の項目は請求時必須です。注文書を参照のうえ、入力してください。"]
[]
[null,null,null,"注文No.",null,null,null,null,null,null,"－",null,null,"－",null,null,"－"]
[null,null,null,null,"(  工 事 番 号  ）",null,null,null,null,null,null,"(枝番）",null,"(発注番号）",null,null,null,"(変更回数）"]
[null,null,null,"仕入先コード入力",null,null,null,null,null,null,"（６桁）"]
[]
[null,null,null,"注文件名",null,null,null,null,null,null,null,null,null,null,null,null,null,"（全角２０文字以内【半角文字不可】）"]
[]
[null,null,null,"注文区分",null,null,null,null,null,null,null,null,null,null,null,null,null,null,null,null,null,null,null,null,null,false]
[null,null,null,null,null,null,null,null,null,null,null,null,null,null,null,null,null,null,null,null,null,null,null,null,null,false]

{"sheet":"説明書","index":1,"n_rows":15,"n_cols":5,"rows_kept":15,"cut":false,"hidden":false,"merged":[[14,2,14,4]]}
[]
[null,"【契約時】"]
[null,"提出様式","内訳明細書（取極め用）"]
[null,"提出部数","２部提出してください。"]
[null,"注意事項","右上部に、「住所」、「会社名」を記載してください。\n（但し、基本入力画面で入力した場合、転記されます。）"]
[null,null,"金額欄は、必ず「税別金額合計」、「消費税額」、「税込金額合計」を記載してください。"]
[null,null,"変更の場合は、「現在内容」と「変更後内容」を記載してください。"]
[]
[null,"【請求時】"]
[null,"提出様式","請求書（取極め用）","請求明細書（取極め用）","納品・検収書（取極め用）"]
[null,"提出部数","２部提出してください。","２部提出してください。","１部提出してください。"]
[null,"注意事項","太枠内は必ず記載してください。（注文書参照）","右上部に、「住所」、「会社名」を記載してください。\n（但し、基本入力画面で入力した場合、転記されます。）","太枠内は必ず記載してください。（注文書参照）"]
[null,null,null,"最下段には「注文№」を記載してください。\n（但し、基本入力画面で入力した場合、転記されます。）","作業所にて検収押印後、返却いたします。"]
[null,null,null,"金額欄は、必ず「税別金額合計」、「消費税額」、「税込金額合計」を記載してください。"]
[null,"提出期限","毎月月末日締切り、翌月５日までに作業所必着でお願いします。"]

{"sheet":"内訳明細書作成作業選択画面","index":2,"n_rows":16,"n_cols":7,"rows_kept":16,"cut":false,"hidden":true,"merged":[[11,5,14,11],[15,5,18,11],[2,4,2,5],[5,4,6,11],[7,5,10,11],[2,6,2,11]]}
[]
[]
[null,null,null,null,"工事名：",null,{"$f":"IF(基本入力画面!E15=\"\",\"\",基本入力画面!E15)","v":""}]
[]
[]
[null,null,null,null,"内訳明細書作成作業選択"]
[]
[null,null,null,null,null,"新規契約用内訳明細書を作成する場合"]
[]
[]
[]
[null,null,null,null,null,"変更契約用内訳明細書を作成する場合\n（単価変更の時は、更新操作が含まれます。）"]
[]
[]
[]
[null,null,null,null,null,"保存作業の継続や内容確認を行う場合"]

{"sheet":"請求明細書作成作業選択画面","index":3,"n_rows":16,"n_cols":7,"rows_kept":16,"cut":false,"hidden":true,"merged":[[11,5,14,11],[15,5,18,11],[2,4,2,5],[5,4,6,11],[7,5,10,11],[2,6,2,11]]}
[]
[]
[null,null,null,null,"工事名：",null,{"$f":"IF(基本入力画面!E15=\"\",\"\",基本入力画面!E15)","v":""}]
[]
[]
[null,null,null,null,"請求明細書作成作業選択"]
[]
[null,null,null,null,null,"第１回目の出来高請求を行う場合"]
[]
[]
[]
[null,null,null,null,null,"第2回目以降の出来高請求を行う場合\n（請求累計金額更新されます。）"]
[]
[]
[]
[null,null,null,null,null,"保存作業の継続や内容確認を行う場合"]

{"sheet":"内訳明細書入力画面","index":4,"n_rows":325,"n_cols":22,"rows_kept":325,"cut":false,"hidden":true,"merged":[[264,17,264,18],[264,21,264,22],[263,7,263,11],[263,15,263,16],[263,17,263,18],[263,19,263,20],[263,21,263,22],[264,19,264,20],[261,21,261,22],[262,1,262,6],[262,7,262,11],[262,15,262,16],[262,17,262,18],[262,19,262,20],[262,21,262,22],[260,21,260,22],[261,1,261,6],[261,7,261,11],[261,15,261,16],[261,17,261,18],[261,19,261,20],[260,7,260,11],[260,15,260,16],[260,17,260,18],[260,19,260,20],[258,21,258,22],[259,1,259,6],[259,7,259,11],[259,15,259,16],[259,17,259,18],[259,19,259,20],[259,21,259,22],[257,21,257,22],[258,1,258,6],[258,7,258,11],[258,15,258,16],[258,17,258,18],[258,19,258,20],[257,7,257,11],[257,15,257,16],[257,17,257,18],[257,19,257,20],[255,21,255,22],[256,1,256,6],[256,7,256,11],[256,15,256,16],[256,17,256,18],[256,19,256,20],[256,21,256,22],[254,21,254,22],[255,1,255,6],[255,7,255,11],[255,15,255,16],[255,17,255,18],[255,19,255,20],[254,7,254,11],[254,15,254,16],[254,17,254,18],[254,19,254,20],[252,19,252,20],[252,21,252,22],[253,1,253,6],[253,7,253,11],[253,15,253,16],[253,17,253,18],[253,19,253,20],[253,21,253,22],[252,17,252,18],[250,21,250,22],[251,1,251,6],[251,7,251,11],[251,15,251,16],[251,17,251,18],[251,19,251,20],[251,21,251,22],[250,17,250,18],[250,19,250,20],[250,0,264,0],[250,1,250,6],[250,7,250,11],[250,15,250,16],[252,1,252,6],[252,7,252,11],[252,15,252,16],[264,1,264,6],[264,7,264,11],[264,15,264,16],[22,7,22,11],[23,7,23,11],[90,7,90,11],[70,7,70,11],[75,7,75,11],[71,7,71,11],[24,7,24,11],[76,7,76,11],[72,7,72,11],[73,7,73,11],[93,7,93,11],[77,7,77,11],[78,7,78,11],[79,7,79,11],[80,7,80,11],[89,7,89,11],[91,7,91,11],[92,7,92,11],[88,7,88,11],[244,15,244,16],[220,0,234,0],[226,1,226,6],[11,7,11,11],[19,7,19,11],[20,7,20,11],[21,7,21,11],[12,7,12,11],[13,7,13,11],[14,7,14,11],[15,7,15,11],[17,7,17,11],[18,7,18,11],[323,21,323,22],[324,15,324,16],[324,17,324,18],[324,19,324,20],[324,21,324,22],[323,15,323,16],[323,17,323,18],[323,19,323,20],[320,15,320,16],[320,17,320,18],[320,19,320,20],[320,21,320,22],[321,17,321,18],[321,19,321,20],[321,21,321,22],[322,15,322,16],[322,17,322,18],[322,19,322,20],[322,21,322,22],[321,15,321,16],[317,21,317,22],[318,15,318,16],[318,17,318,18],[318,19,318,20],[318,21,318,22],[319,21,319,22],[319,15,319,16],[317,15,317,16],[317,17,317,18],[317,19,317,20],[316,15,316,16],[316,17,316,18],[316,19,316,20],[319,17,319,18],[319,19,319,20],[316,21,316,22],[314,17,314,18],[314,19,314,20],[314,21,314,22],[315,21,315,22],[313,15,313,16],[313,17,313,18],[313,19,313,20],[313,21,313,22],[310,21,310,22],[311,15,311,16],[311,17,311,18],[311,21,311,22],[311,19,311,20],[315,15,315,16],[312,19,312,20],[315,17,315,18],[315,19,315,20],[314,15,314,16],[312,21,312,22],[249,15,249,16],[249,17,249,18],[249,19,249,20],[249,21,249,22],[265,17,265,18],[265,19,265,20],[265,21,265,22],[266,15,266,16],[266,17,266,18],[269,21,269,22],[273,15,273,16],[273,17,273,18],[272,15,272,16],[272,17,272,18],[272,19,272,20],[272,21,272,22],[273,19,273,20],[310,0,324,0],[310,15,310,16],[310,17,310,18],[310,19,310,20],[312,15,312,16],[312,17,312,18],[317,1,317,6],[318,1,318,6],[319,1,319,6],[312,1,312,6],[247,21,247,22],[248,15,248,16],[248,17,248,18],[248,19,248,20],[248,21,248,22],[247,15,247,16],[247,17,247,18],[247,19,247,20],[235,0,249,0],[236,1,236,6],[237,1,237,6],[266,7,266,11],[313,7,313,11],[314,7,314,11],[319,7,319,11],[320,7,320,11],[321,7,321,11],[322,7,322,11],[315,7,315,11],[316,7,316,11],[267,15,267,16],[269,15,269,16],[244,17,244,18],[244,19,244,20],[244,21,244,22],[245,17,245,18],[245,19,245,20],[245,21,245,22],[246,15,246,16],[246,17,246,18],[246,19,246,20],[246,21,246,22],[245,15,245,16],[243,7,243,11],[243,19,243,20],[241,21,241,22],[242,15,242,16],[242,17,242,18],[242,19,242,20],[242,21,242,22],[243,21,243,22],[243,15,243,16],[243,17,243,18],[239,19,239,20],[240,7,240,11],[241,7,241,11],[239,21,239,22],[240,15,240,16],[240,17,240,18],[240,19,240,20],[240,21,240,22],[241,19,241,20],[237,19,237,20],[237,21,237,22],[238,15,238,16],[238,17,238,18],[238,19,238,20],[238,21,238,22],[235,19,235,20],[235,21,235,22],[236,15,236,16],[236,17,236,18],[236,19,236,20],[236,21,236,22],[235,15,235,16],[235,17,235,18],[237,15,237,16],[237,17,237,18],[239,15,239,16],[239,17,239,18],[241,15,241,16],[241,17,241,18],[233,21,233,22],[234,15,234,16],[234,17,234,18],[234,19,234,20],[234,21,234,22],[233,15,233,16],[233,17,233,18],[233,19,233,20],[230,15,230,16],[230,17,230,18],[230,19,230,20],[230,21,230,22],[231,17,231,18],[231,19,231,20],[231,21,231,22],[232,15,232,16],[232,17,232,18],[232,19,232,20],[232,21,232,22],[231,15,231,16],[227,1,227,6],[228,1,228,6],[229,17,229,18],[229,19,229,20],[227,21,227,22],[228,15,228,16],[228,17,228,18],[228,19,228,20],[228,21,228,22],[229,21,229,22],[229,15,229,16],[227,15,227,16],[223,15,223,16],[223,17,223,18],[223,19,223,20],[223,21,223,22],[227,17,227,18],[227,19,227,20],[226,15,226,16],[226,17,226,18],[226,19,226,20],[225,15,225,16],[226,21,226,22],[224,17,224,18],[224,19,224,20],[224,21,224,22],[225,21,225,22],[221,1,221,6],[222,1,222,6],[223,1,223,6],[224,1,224,6],[225,1,225,6],[222,19,222,20],[225,17,225,18],[225,19,225,20],[224,15,224,16],[222,21,222,22],[219,15,219,16],[219,17,219,18],[219,19,219,20],[219,21,219,22],[220,21,220,22],[221,15,221,16],[221,17,221,18],[221,21,221,22],[221,19,221,20],[220,15,220,16],[220,17,220,18],[220,19,220,20],[222,15,222,16],[222,17,222,18],[217,21,217,22],[218,15,218,16],[218,17,218,18],[218,19,218,20],[218,21,218,22],[217,15,217,16],[217,17,217,18],[217,19,217,20],[214,15,214,16],[214,17,214,18],[214,19,214,20],[214,21,214,22],[215,17,215,18],[215,19,215,20],[215,21,215,22],[216,15,216,16],[216,17,216,18],[216,19,216,20],[216,21,216,22],[215,15,215,16],[212,15,212,16],[212,17,212,18],[212,19,212,20],[212,21,212,22],[213,21,213,22],[213,15,213,16],[211,19,211,20],[209,19,209,20],[209,21,209,22],[210,15,210,16],[210,17,210,18],[210,19,210,20],[210,21,210,22],[207,19,207,20],[207,21,207,22],[208,15,208,16],[208,17,208,18],[208,19,208,20],[208,21,208,22],[205,19,205,20],[205,21,205,22],[206,15,206,16],[206,17,206,18],[206,19,206,20],[206,21,206,22],[205,0,219,0],[205,15,205,16],[205,17,205,18],[207,15,207,16],[207,17,207,18],[209,15,209,16],[209,17,209,18],[211,15,211,16],[211,17,211,18],[213,17,213,18],[203,21,203,22],[204,15,204,16],[204,17,204,18],[204,19,204,20],[204,21,204,22],[203,15,203,16],[203,17,203,18],[203,19,203,20],[206,7,206,11],[207,7,207,11],[214,7,214,11],[215,7,215,11],[216,7,216,11],[217,7,217,11],[213,19,213,20],[211,21,211,22],[200,15,200,16],[200,17,200,18],[200,19,200,20],[200,21,200,22],[201,17,201,18],[201,19,201,20],[201,21,201,22],[202,15,202,16],[202,17,202,18],[202,19,202,20],[202,21,202,22],[201,15,201,16],[199,17,199,18],[199,19,199,20],[197,21,197,22],[198,15,198,16],[198,17,198,18],[198,19,198,20],[198,21,198,22],[199,21,199,22],[199,15,199,16],[197,15,197,16],[193,15,193,16],[193,17,193,18],[193,19,193,20],[193,21,193,22],[197,17,197,18],[197,19,197,20],[196,15,196,16],[196,17,196,18],[196,19,196,20],[195,15,195,16],[192,19,192,20],[195,17,195,18],[195,19,195,20],[194,15,194,16],[196,21,196,22],[194,17,194,18],[194,19,194,20],[194,21,194,22],[195,21,195,22],[192,21,192,22],[189,15,189,16],[189,17,189,18],[189,19,189,20],[189,21,189,22],[190,21,190,22],[191,15,191,16],[191,17,191,18],[191,21,191,22],[191,19,191,20],[190,0,204,0],[190,15,190,16],[190,17,190,18],[190,19,190,20],[192,15,192,16],[192,17,192,18],[196,1,196,6],[197,1,197,6],[198,1,198,6],[199,1,199,6],[190,1,190,6],[191,1,191,6],[191,7,191,11],[192,7,192,11],[193,7,193,11],[194,7,194,11],[195,7,195,11],[196,7,196,11],[197,7,197,11],[198,7,198,11],[199,7,199,11],[200,7,200,11],[201,7,201,11],[187,21,187,22],[188,15,188,16],[188,17,188,18],[188,19,188,20],[188,21,188,22],[187,15,187,16],[187,17,187,18],[187,19,187,20],[184,15,184,16],[184,17,184,18],[184,19,184,20],[184,21,184,22],[185,17,185,18],[185,19,185,20],[185,21,185,22],[186,15,186,16],[186,17,186,18],[186,19,186,20],[186,21,186,22],[185,15,185,16],[183,19,183,20],[181,21,181,22],[182,15,182,16],[182,17,182,18],[182,19,182,20],[182,21,182,22],[183,21,183,22],[183,15,183,16],[181,19,181,20],[179,19,179,20],[179,21,179,22],[180,15,180,16],[180,17,180,18],[180,19,180,20],[180,21,180,22],[177,19,177,20],[177,21,177,22],[178,15,178,16],[178,17,178,18],[178,19,178,20],[178,21,178,22],[175,19,175,20],[175,21,175,22],[176,15,176,16],[176,17,176,18],[176,19,176,20],[176,21,176,22],[175,0,189,0],[175,15,175,16],[175,17,175,18],[177,15,177,16],[177,17,177,18],[179,15,179,16],[179,17,179,18],[181,15,181,16],[181,17,181,18],[183,17,183,18],[173,21,173,22],[174,15,174,16],[174,17,174,18],[174,19,174,20],[174,21,174,22],[173,15,173,16],[173,17,173,18],[173,19,173,20],[178,1,178,6],[179,1,179,6],[180,1,180,6],[183,1,183,6],[181,1,181,6],[182,1,182,6],[184,1,184,6],[185,1,185,6],[165,17,165,18],[165,19,165,20],[164,15,164,16],[166,21,166,22],[164,17,164,18],[164,19,164,20],[164,21,164,22],[165,21,165,22],[162,21,162,22],[170,15,170,16],[170,17,170,18],[170,19,170,20],[170,21,170,22],[171,17,171,18],[171,19,171,20],[171,21,171,22],[172,15,172,16],[172,17,172,18],[172,19,172,20],[172,21,172,22],[171,15,171,16],[169,17,169,18],[169,19,169,20],[167,21,167,22],[168,15,168,16],[168,17,168,18],[168,19,168,20],[168,21,168,22],[169,21,169,22],[169,15,169,16],[167,15,167,16],[159,15,159,16],[159,17,159,18],[159,19,159,20],[159,21,159,22],[160,21,160,22],[161,15,161,16],[161,17,161,18],[161,21,161,22],[161,19,161,20],[160,0,174,0],[160,15,160,16],[160,17,160,18],[160,19,160,20],[162,15,162,16],[162,17,162,18],[166,1,166,6],[167,1,167,6],[168,1,168,6],[169,1,169,6],[160,1,160,6],[161,1,161,6],[163,15,163,16],[163,17,163,18],[163,19,163,20],[163,21,163,22],[167,17,167,18],[167,19,167,20],[166,15,166,16],[166,17,166,18],[166,19,166,20],[165,15,165,16],[162,19,162,20],[157,21,157,22],[158,15,158,16],[158,17,158,18],[158,19,158,20],[158,21,158,22],[157,15,157,16],[157,17,157,18],[157,19,157,20],[154,15,154,16],[154,17,154,18],[154,19,154,20],[154,21,154,22],[155,17,155,18],[155,19,155,20],[155,21,155,22],[156,15,156,16],[156,17,156,18],[156,19,156,20],[156,21,156,22],[155,15,155,16],[153,19,153,20],[151,21,151,22],[152,15,152,16],[152,17,152,18],[152,19,152,20],[152,21,152,22],[153,21,153,22],[153,15,153,16],[149,19,149,20],[150,7,150,11],[151,7,151,11],[149,21,149,22],[150,15,150,16],[150,17,150,18],[150,19,150,20],[150,21,150,22],[151,19,151,20],[147,19,147,20],[147,21,147,22],[148,15,148,16],[148,17,148,18],[148,19,148,20],[148,21,148,22],[145,19,145,20],[145,21,145,22],[146,15,146,16],[146,17,146,18],[146,19,146,20],[146,21,146,22],[145,0,159,0],[145,15,145,16],[145,17,145,18],[147,15,147,16],[147,17,147,18],[149,15,149,16],[149,17,149,18],[151,15,151,16],[151,17,151,18],[153,17,153,18],[146,1,146,6],[147,1,147,6],[145,1,145,6],[148,1,148,6],[149,1,149,6],[150,1,150,6],[153,1,153,6],[151,1,151,6],[152,1,152,6],[154,1,154,6],[143,21,143,22],[144,15,144,16],[144,17,144,18],[144,19,144,20],[144,21,144,22],[143,15,143,16],[143,17,143,18],[143,19,143,20],[140,15,140,16],[140,17,140,18],[140,19,140,20],[140,21,140,22],[141,17,141,18],[141,19,141,20],[141,21,141,22],[142,15,142,16],[142,17,142,18],[142,19,142,20],[142,21,142,22],[141,15,141,16],[139,17,139,18],[139,19,139,20],[137,21,137,22],[138,15,138,16],[138,17,138,18],[138,19,138,20],[138,21,138,22],[139,21,139,22],[139,15,139,16],[137,15,137,16],[133,15,133,16],[133,17,133,18],[133,19,133,20],[133,21,133,22],[137,17,137,18],[137,19,137,20],[136,15,136,16],[136,17,136,18],[136,19,136,20],[135,15,135,16],[132,19,132,20],[135,17,135,18],[135,19,135,20],[134,15,134,16],[136,21,136,22],[134,17,134,18],[134,19,134,20],[134,21,134,22],[135,21,135,22],[132,21,132,22],[129,15,129,16],[129,17,129,18],[129,19,129,20],[129,21,129,22],[130,21,130,22],[131,15,131,16],[131,17,131,18],[131,21,131,22],[131,19,131,20],[130,0,144,0],[130,15,130,16],[130,17,130,18],[130,19,130,20],[132,15,132,16],[132,17,132,18],[136,1,136,6],[137,1,137,6],[138,1,138,6],[139,1,139,6],[127,21,127,22],[128,15,128,16],[128,17,128,18],[128,19,128,20],[128,21,128,22],[127,15,127,16],[127,17,127,18],[127,19,127,20],[115,0,129,0],[132,1,132,6],[133,1,133,6],[134,1,134,6],[135,1,135,6],[140,1,140,6],[141,1,141,6],[142,1,142,6],[143,1,143,6],[144,1,144,6],[139,7,139,11],[140,7,140,11],[141,7,141,11],[124,7,124,11],[124,15,124,16],[124,17,124,18],[124,19,124,20],[124,21,124,22],[125,17,125,18],[125,19,125,20],[125,21,125,22],[126,15,126,16],[126,17,126,18],[126,19,126,20],[126,21,126,22],[125,15,125,16],[123,19,123,20],[121,21,121,22],[122,15,122,16],[122,17,122,18],[122,19,122,20],[122,21,122,22],[123,21,123,22],[123,15,123,16],[121,19,121,20],[121,15,121,16],[121,17,121,18],[123,17,123,18],[119,19,119,20],[119,21,119,22],[120,15,120,16],[120,17,120,18],[120,19,120,20],[120,21,120,22],[117,19,117,20],[117,21,117,22],[118,15,118,16],[118,17,118,18],[118,19,118,20],[118,21,118,22],[115,19,115,20],[115,21,115,22],[116,15,116,16],[116,17,116,18],[116,19,116,20],[116,21,116,22],[115,15,115,16],[115,17,115,18],[117,15,117,16],[117,17,117,18],[119,15,119,16],[119,17,119,18],[113,21,113,22],[114,15,114,16],[114,17,114,18],[114,19,114,20],[114,21,114,22],[113,15,113,16],[113,17,113,18],[113,19,113,20],[110,15,110,16],[110,17,110,18],[110,19,110,20],[110,21,110,22],[111,17,111,18],[111,19,111,20],[111,21,111,22],[112,15,112,16],[112,17,112,18],[112,19,112,20],[112,21,112,22],[111,15,111,16],[109,17,109,18],[109,19,109,20],[107,21,107,22],[108,15,108,16],[108,17,108,18],[108,19,108,20],[108,21,108,22],[109,21,109,22],[109,15,109,16],[107,15,107,16],[103,15,103,16],[103,17,103,18],[103,19,103,20],[103,21,103,22],[107,17,107,18],[107,19,107,20],[106,15,106,16],[106,17,106,18],[106,19,106,20],[105,15,105,16],[102,19,102,20],[105,17,105,18],[105,19,105,20],[104,15,104,16],[106,21,106,22],[104,17,104,18],[104,19,104,20],[104,21,104,22],[105,21,105,22],[102,21,102,22],[99,15,99,16],[99,17,99,18],[99,19,99,20],[99,21,99,22],[100,21,100,22],[101,15,101,16],[101,17,101,18],[101,21,101,22],[101,19,101,20],[100,0,114,0],[100,15,100,16],[100,17,100,18],[100,19,100,20],[102,15,102,16],[102,17,102,18],[106,1,106,6],[107,1,107,6],[108,1,108,6],[109,1,109,6],[98,15,98,16],[98,17,98,18],[98,19,98,20],[98,21,98,22],[97,15,97,16],[97,17,97,18],[97,19,97,20],[85,0,99,0],[86,1,86,6],[87,1,87,6],[85,1,85,6],[100,1,100,6],[101,1,101,6],[88,1,88,6],[89,1,89,6],[90,1,90,6],[93,1,93,6],[91,1,91,6],[92,1,92,6],[94,1,94,6],[95,1,95,6],[96,1,96,6],[96,15,96,16],[96,17,96,18],[96,19,96,20],[96,21,96,22],[94,15,94,16],[97,21,97,22],[95,21,95,22],[94,21,94,22],[92,21,92,22],[95,15,95,16],[95,17,95,18],[95,19,95,20],[94,17,94,18],[94,19,94,20],[91,19,91,20],[93,21,93,22],[93,15,93,16],[91,21,91,22],[92,15,92,16],[93,19,93,20],[92,17,92,18],[92,19,92,20],[91,15,91,16],[91,17,91,18],[93,17,93,18],[89,19,89,20],[89,21,89,22],[90,15,90,16],[90,17,90,18],[90,19,90,20],[90,21,90,22],[87,19,87,20],[87,21,87,22],[88,15,88,16],[88,17,88,18],[88,19,88,20],[88,21,88,22],[85,19,85,20],[85,21,85,22],[86,15,86,16],[86,17,86,18],[86,19,86,20],[86,21,86,22],[85,15,85,16],[85,17,85,18],[87,15,87,16],[87,17,87,18],[89,15,89,16],[89,17,89,18],[83,21,83,22],[84,15,84,16],[84,17,84,18],[84,19,84,20],[84,21,84,22],[83,15,83,16],[83,17,83,18],[83,19,83,20],[80,15,80,16],[80,17,80,18],[80,19,80,20],[80,21,80,22],[81,17,81,18],[81,19,81,20],[81,21,81,22],[82,15,82,16],[82,17,82,18],[82,19,82,20],[82,21,82,22],[81,15,81,16],[77,21,77,22],[78,15,78,16],[78,17,78,18],[78,19,78,20],[78,21,78,22],[79,21,79,22],[79,15,79,16]],"merged_total":1927,"flags":["merged_cut"]}
[]
[null,"内　訳　明　細　書　（取極め用）　入力画面",null,null,null,null,null,null,null,null,null,null,null,{"$f":"削除コメント","v":""}]
[]
[null,"工事名称：",null,{"$f":"IF(基本入力画面!E15=\"\",\"\",基本入力画面!E15)","v":""},null,null,null,null,null,null,null,null,null,"（カーソルのある画面頁の下に１頁挿入されます）"]
[]
[]
[null,"印刷部数選択",null,null,"印刷最終頁",null,{"$f":"最終頁","v":0},null,null,null,null,null,null,"（20頁以降に追加されます）"]
[]
["頁","工事種目／品目",null,null,null,null,null,"規格／仕様／寸法／メーカー名",null,null,null,null,"数　　量",null,"単位","単　　価",null,null,null,"金　　額"]
[null,null,null,null,null,null,null,null,null,null,null,null,"現在","変更後",null,"現在",null,"変更後",null,"現在",null,"変更後"]
[{"$f":"((ROW()-11)+15)/15","v":1},null,null,null,null,null,null,null,null,null,null,null,null,null,null,null,null,null,null,{"$f":"IF(P11=\"\",\"\",ROUNDDOWN(N(M11)*N(P11),0))","v":""},null,{"$f":"IF(R11=\"\",\"\",ROUNDDOWN(N(N11)*N(R11),0))","v":""}]
[null,null,null,null,null,null,null,null,null,null,null,null,null,null,null,null,null,null,null,{"$f":"IF(P12=\"\",\"\",ROUNDDOWN(N(M12)*N(P12),0))","v":""},null,{"$f":"IF(R12=\"\",\"\",ROUNDDOWN(N(N12)*N(R12),0))","v":""}]
[null,null,null,null,null,null,null,null,null,null,null,null,null,null,null,null,null,null,null,{"$f":"IF(P13=\"\",\"\",ROUNDDOWN(N(M13)*N(P13),0))","v":""},null,{"$f":"IF(R13=\"\",\"\",ROUNDDOWN(N(N13)*N(R13),0))","v":""}]
[null,null,null,null,null,null,null,null,null,null,null,null,null,null,null,null,null,null,null,{"$f":"IF(P14=\"\",\"\",ROUNDDOWN(N(M14)*N(P14),0))","v":""},null,{"$f":"IF(R14=\"\",\"\",ROUNDDOWN(N(N14)*N(R14),0))","v":""}]
[null,null,null,null,null,null,null,null,null,null,null,null,null,null,null,null,null,null,null,{"$f":"IF(P15=\"\",\"\",ROUNDDOWN(N(M15)*N(P15),0))","v":""},null,{"$f":"IF(R15=\"\",\"\",ROUNDDOWN(N(N15)*N(R15),0))","v":""}]
[null,null,null,null,null,null,null,null,null,null,null,null,null,null,null,null,null,null,null,{"$f":"IF(P16=\"\",\"\",ROUNDDOWN(N(M16)*N(P16),0))","v":""},null,{"$f":"IF(R16=\"\",\"\",ROUNDDOWN(N(N16)*N(R16),0))","v":""}]
[null,null,null,null,null,null,null,null,null,null,null,null,null,null,null,null,null,null,null,"",null,""]
[null,null,null,null,null,null,null,null,null,null,null,null,null,null,null,null,null,null,null,"",null,""]
[null,null,null,null,null,null,null,null,null,null,null,null,null,null,null,null,null,null,null,"",null,""]
[null,null,null,null,null,null,null,null,null,null,null,null,null,null,null,null,null,null,null,"",null,""]
[null,null,null,null,null,null,null,null,null,null,null,null,null,null,null,null,null,null,null,"",null,""]
[null,null,null,null,null,null,null,null,null,null,null,null,null,null,null,null,null,null,null,"",null,""]
[null,null,null,null,null,null,null,null,null,null,null,null,null,null,null,null,null,null,null,"",null,""]
[null,null,null,null,null,null,null,null,null,null,null,null,null,null,null,null,null,null,null,"",null,""]
[null,null,null,null,null,null,null,null,null,null,null,null,null,null,null,null,null,null,null,"",null,""]
[{"$f":"((ROW()-11)+15)/15","v":2},null,null,null,null,null,null,null,null,null,null,null,null,null,null,null,null,null,null,"",null,""]
[null,null,null,null,null,null,null,null,null,null,null,null,null,null,null,null,null,null,null,"",null,""]
[null,null,null,null,null,null,null,null,null,null,null,null,null,null,null,null,null,null,null,"",null,""]
[null,null,null,null,null,null,null,null,null,null,null,null,null,null,null,null,null,null,null,"",null,""]
[null,null,null,null,null,null,null,null,null,null,null,null,null,null,null,null,null,null,null,"",null,""]
[null,null,null,null,null,null,null,null,null,null,null,null,null,null,null,null,null,null,null,"",null,""]
[null,null,null,null,null,null,null,null,null,null,null,null,null,null,null,null,null,null,null,"",null,""]
[null,null,null,null,null,null,null,null,null,null,null,null,null,null,null,null,null,null,null,"",null,""]
[null,null,null,null,null,null,null,null,null,null,null,null,null,null,null,null,null,null,null,"",null,""]
[null,null,null,null,null,null,null,null,null,null,null,null,null,null,null,null,null,null,null,"",null,""]
[null,null,null,null,null,null,null,null,null,null,null,null,null,null,null,null,null,null,null,"",null,""]
[null,null,null,null,null,null,null,null,null,null,null,null,null,null,null,null,null,null,null,"",null,""]
[null,null,null,null,null,null,null,null,null,null,null,null,null,null,null,null,null,null,null,"",null,""]
[null,null,null,null,null,null,null,null,null,null,null,null,null,null,null,null,null,null,null,"",null,""]
[null,null,null,null,null,null,null,null,null,null,null,null,null,null,null,null,null,null,null,"",null,""]
[{"$f":"((ROW()-11)+15)/15","v":3},null,null,null,null,null,null,null,null,null,null,null,null,null,null,null,null,null,null,"",null,""]
[null,null,null,null,null,null,null,null,null,null,null,null,null,null,null,null,null,null,null,"",null,""]
[null,null,null,null,null,null,null,null,null,null,null,null,null,null,null,null,null,null,null,"",null,""]
[null,null,null,null,null,null,null,null,null,null,null,null,null,null,null,null,null,null,null,"",null,""]
[null,null,null,null,null,null,null,null,null,null,null,null,null,null,null,null,null,null,null,"",null,""]
[null,null,null,null,null,null,null,null,null,null,null,null,null,null,null,null,null,null,null,"",null,""]
[null,null,null,null,null,null,null,null,null,null,null,null,null,null,null,null,null,null,null,"",null,""]
[null,null,null,null,null,null,null,null,null,null,null,null,null,null,null,null,null,null,null,"",null,""]
[null,null,null,null,null,null,null,null,null,null,null,null,null,null,null,null,null,null,null,"",null,""]
[null,null,null,null,null,null,null,null,null,null,null,null,null,null,null,null,null,null,null,"",null,""]
[null,null,null,null,null,null,null,null,null,null,null,null,null,null,null,null,null,null,null,"",null,""]
[null,null,null,null,null,null,null,null,null,null,null,null,null,null,null,null,null,null,null,"",null,""]
[null,null,null,null,null,null,null,null,null,null,null,null,null,null,null,null,null,null,null,"",null,""]
[null,null,null,null,null,null,null,null,null,null,null,null,null,null,null,null,null,null,null,"",null,""]
[null,null,null,null,null,null,null,null,null,null,null,null,null,null,null,null,null,null,null,"",null,""]
[{"$f":"((ROW()-11)+15)/15","v":4},null,null,null,null,null,null,null,null,null,null,null,null,null,null,null,null,null,null,"",null,""]
[null,null,null,null,null,null,null,null,null,null,null,null,null,null,null,null,null,null,null,"",null,""]
[null,null,null,null,null,null,null,null,null,null,null,null,null,null,null,null,null,null,null,"",null,""]
[null,null,null,null,null,null,null,null,null,null,null,null,null,null,null,null,null,null,null,"",null,""]
[null,null,null,null,null,null,null,null,null,null,null,null,null,null,null,null,null,null,null,"",null,""]
[null,null,null,null,null,null,null,null,null,null,null,null,null,null,null,null,null,null,null,"",null,""]
[null,null,null,null,null,null,null,null,null,null,null,null,null,null,null,null,null,null,null,"",null,""]
[null,null,null,null,null,null,null,null,null,null,null,null,null,null,null,null,null,null,null,"",null,""]
[null,null,null,null,null,null,null,null,null,null,null,null,null,null,null,null,null,null,null,"",null,""]
[null,null,null,null,null,null,null,null,null,null,null,null,null,null,null,null,null,null,null,"",null,""]
[null,null,null,null,null,null,null,null,null,null,null,null,null,null,null,null,null,null,null,"",null,""]
[null,null,null,null,null,null,null,null,null,null,null,null,null,null,null,null,null,null,null,"",null,""]
[null,null,null,null,null,null,null,null,null,null,null,null,null,null,null,null,null,null,null,"",null,""]
[null,null,null,null,null,null,null,null,null,null,null,null,null,null,null,null,null,null,null,"",null,""]
[null,null,null,null,null,null,null,null,null,null,null,null,null,null,null,null,null,null,null,"",null,""]
[{"$f":"((ROW()-11)+15)/15","v":5},null,null,null,null,null,null,null,null,null,null,null,null,null,null,null,null,null,null,"",null,""]
[null,null,null,null,null,null,null,null,null,null,null,null,null,null,null,null,null,null,null,"",null,""]
[null,null,null,null,null,null,null,null,null,null,null,null,null,null,null,null,null,null,null,"",null,""]
[null,null,null,null,null,null,null,null,null,null,null,null,null,null,null,null,null,null,null,"",null,""]
[null,null,null,null,null,null,null,null,null,null,null,null,null,null,null,null,null,null,null,"",null,""]
[null,null,null,null,null,null,null,null,null,null,null,null,null,null,null,null,null,null,null,"",null,""]
[null,null,null,null,null,null,null,null,null,null,null,null,null,null,null,null,null,null,null,"",null,""]
[null,null,null,null,null,null,null,null,null,null,null,null,null,null,null,null,null,null,null,"",null,""]
[null,null,null,null,null,null,null,null,null,null,null,null,null,null,null,null,null,null,null,"",null,""]
[null,null,null,null,null,null,null,null,null,null,null,null,null,null,null,null,null,null,null,"",null,""]
[null,null,null,null,null,null,null,null,null,null,null,null,null,null,null,null,null,null,null,"",null,""]
[null,null,null,null,null,null,null,null,null,null,null,null,null,null,null,null,null,null,null,"",null,""]
[null,null,null,null,null,null,null,null,null,null,null,null,null,null,null,null,null,null,null,"",null,""]
[null,null,null,null,null,null,null,null,null,null,null,null,null,null,null,null,null,null,null,"",null,""]
[null,null,null,null,null,null,null,null,null,null,null,null,null,null,null,null,null,null,null,"",null,""]
[{"$f":"((ROW()-11)+15)/15","v":6},null,null,null,null,null,null,null,null,null,null,null,null,null,null,null,null,null,null,"",null,""]
[null,null,null,null,null,null,null,null,null,null,null,null,null,null,null,null,null,null,null,"",null,""]
[null,null,null,null,null,null,null,null,null,null,null,null,null,null,null,null,null,null,null,"",null,""]
[null,null,null,null,null,null,null,null,null,null,null,null,null,null,null,null,null,null,null,"",null,""]
[null,null,null,null,null,null,null,null,null,null,null,null,null,null,null,null,null,null,null,"",null,""]
[null,null,null,null,null,null,null,null,null,null,null,null,null,null,null,null,null,null,null,"",null,""]
[null,null,null,null,null,null,null,null,null,null,null,null,null,null,null,null,null,null,null,"",null,""]
[null,null,null,null,null,null,null,null,null,null,null,null,null,null,null,null,null,null,null,"",null,""]
[null,null,null,null,null,null,null,null,null,null,null,null,null,null,null,null,null,null,null,"",null,""]
[null,null,null,null,null,null,null,null,null,null,null,null,null,null,null,null,null,null,null,{"$f":"IF(P95=\"\",\"\",ROUNDDOWN(N(M95)*N(P95),0))","v":""},null,{"$f":"IF(R95=\"\",\"\",ROUNDDOWN(N(N95)*N(R95),0))","v":""}]
[null,null,null,null,null,null,null,null,null,null,null,null,null,null,null,null,null,null,null,"",null,""]
[null,null,null,null,null,null,null,null,null,null,null,null,null,null,null,null,null,null,null,"",null,""]
[null,null,null,null,null,null,null,null,null,null,null,null,null,null,null,null,null,null,null,"",null,""]
[null,null,null,null,null,null,null,null,null,null,null,null,null,null,null,null,null,null,null,"",null,""]
[null,null,null,null,null,null,null,null,null,null,null,null,null,null,null,null,null,null,null,"",null,""]
[{"$f":"((ROW()-11)+15)/15","v":7},null,null,null,null,null,null,null,null,null,null,null,null,null,null,null,null,null,null,"",null,""]
[null,null,null,null,null,null,null,null,null,null,null,null,null,null,null,null,null,null,null,"",null,""]
[null,null,null,null,null,null,null,null,null,null,null,null,null,null,null,null,null,null,null,"",null,""]
[null,null,null,null,null,null,null,null,null,null,null,null,null,null,null,null,null,null,null,"",null,""]
[null,null,null,null,null,null,null,null,null,null,null,null,null,null,null,null,null,null,null,"",null,""]
[null,null,null,null,null,null,null,null,null,null,null,null,null,null,null,null,null,null,null,"",null,""]
[null,null,null,null,null,null,null,null,null,null,null,null,null,null,null,null,null,null,null,"",null,""]
[null,null,null,null,null,null,null,null,null,null,null,null,null,null,null,null,null,null,null,"",null,""]
[null,null,null,null,null,null,null,null,null,null,null,null,null,null,null,null,null,null,null,"",null,""]
[null,null,null,null,null,null,null,null,null,null,null,null,null,null,null,null,null,null,null,"",null,""]
[null,null,null,null,null,null,null,null,null,null,null,null,null,null,null,null,null,null,null,"",null,""]
[null,null,null,null,null,null,null,null,null,null,null,null,null,null,null,null,null,null,null,"",null,""]
[null,null,null,null,null,null,null,null,null,null,null,null,null,null,null,null,null,null,null,"",null,""]
[null,null,null,null,null,null,null,null,null,null,null,null,null,null,null,null,null,null,null,"",null,""]
[null,null,null,null,null,null,null,null,null,null,null,null,null,null,null,null,null,null,null,"",null,""]
[{"$f":"((ROW()-11)+15)/15","v":8},null,null,null,null,null,null,null,null,null,null,null,null,null,null,null,null,null,null,"",null,""]
[null,null,null,null,null,null,null,null,null,null,null,null,null,null,null,null,null,null,null,"",null,""]
[null,null,null,null,null,null,null,null,null,null,null,null,null,null,null,null,null,null,null,"",null,""]
[null,null,null,null,null,null,null,null,null,null,null,null,null,null,null,null,null,null,null,"",null,""]
[null,null,null,null,null,null,null,null,null,null,null,null,null,null,null,null,null,null,null,"",null,""]
[null,null,null,null,null,null,null,null,null,null,null,null,null,null,null,null,null,null,null,"",null,""]
[null,null,null,null,null,null,null,null,null,null,null,null,null,null,null,null,null,null,null,"",null,""]
[null,null,null,null,null,null,null,null,null,null,null,null,null,null,null,null,null,null,null,"",null,""]
[null,null,null,null,null,null,null,null,null,null,null,null,null,null,null,null,null,null,null,"",null,""]
[null,null,null,null,null,null,null,null,null,null,null,null,null,null,null,null,null,null,null,"",null,""]
[null,null,null,null,null,null,null,null,null,null,null,null,null,null,null,null,null,null,null,"",null,""]
[null,null,null,null,null,null,null,null,null,null,null,null,null,null,null,null,null,null,null,"",null,""]
[null,null,null,null,null,null,null,null,null,null,null,null,null,null,null,null,null,null,null,"",null,""]
[null,null,null,null,null,null,null,null,null,null,null,null,null,null,null,null,null,null,null,"",null,""]
[null,null,null,null,null,null,null,null,null,null,null,null,null,null,null,null,null,null,null,"",null,""]
[{"$f":"((ROW()-11)+15)/15","v":9},null,null,null,null,null,null,null,null,null,null,null,null,null,null,null,null,null,null,"",null,""]
[null,null,null,null,null,null,null,null,null,null,null,null,null,null,null,null,null,null,null,"",null,""]
[null,null,null,null,null,null,null,null,null,null,null,null,null,null,null,null,null,null,null,"",null,""]
[null,null,null,null,null,null,null,null,null,null,null,null,null,null,null,null,null,null,null,"",null,""]
[null,null,null,null,null,null,null,null,null,null,null,null,null,null,null,null,null,null,null,"",null,""]
[null,null,null,null,null,null,null,null,null,null,null,null,null,null,null,null,null,null,null,"",null,""]
[null,null,null,null,null,null,null,null,null,null,null,null,null,null,null,null,null,null,null,"",null,""]
[null,null,null,null,null,null,null,null,null,null,null,null,null,null,null,null,null,null,null,"",null,""]
[null,null,null,null,null,null,null,null,null,null,null,null,null,null,null,null,null,null,null,"",null,""]
[null,null,null,null,null,null,null,null,null,null,null,null,null,null,null,null,null,null,null,"",null,""]
[null,null,null,null,null,null,null,null,null,null,null,null,null,null,null,null,null,null,null,"",null,""]
[null,null,null,null,null,null,null,null,null,null,null,null,null,null,null,null,null,null,null,"",null,""]
[null,null,null,null,null,null,null,null,null,null,null,null,null,null,null,null,null,null,null,"",null,""]
[null,null,null,null,null,null,null,null,null,null,null,null,null,null,null,null,null,null,null,"",null,""]
[null,null,null,null,null,null,null,null,null,null,null,null,null,null,null,null,null,null,null,"",null,""]
[{"$f":"((ROW()-11)+15)/15","v":10},null,null,null,null,null,null,null,null,null,null,null,null,null,null,null,null,null,null,"",null,""]
[null,null,null,null,null,null,null,null,null,null,null,null,null,null,null,null,null,null,null,"",null,""]
[null,null,null,null,null,null,null,null,null,null,null,null,null,null,null,null,null,null,null,"",null,""]
[null,null,null,null,null,null,null,null,null,null,null,null,null,null,null,null,null,null,null,"",null,""]
[null,null,null,null,null,null,null,null,null,null,null,null,null,null,null,null,null,null,null,"",null,""]
[null,null,null,null,null,null,null,null,null,null,null,null,null,null,null,null,null,null,null,"",null,""]
[null,null,null,null,null,null,null,null,null,null,null,null,null,null,null,null,null,null,null,"",null,""]
[null,null,null,null,null,null,null,null,null,null,null,null,null,null,null,null,null,null,null,"",null,""]
[null,null,null,null,null,null,null,null,null,null,null,null,null,null,null,null,null,null,null,"",null,""]
[null,null,null,null,null,null,null,null,null,null,null,null,null,null,null,null,null,null,null,"",null,""]
[null,null,null,null,null,null,null,null,null,null,null,null,null,null,null,null,null,null,null,"",null,""]
[null,null,null,null,null,null,null,null,null,null,null,null,null,null,null,null,null,null,null,"",null,""]
[null,null,null,null,null,null,null,null,null,null,null,null,null,null,null,null,null,null,null,"",null,""]
[null,null,null,null,null,null,null,null,null,null,null,null,null,null,null,null,null,null,null,{"$f":"IF(P159=\"\",\"\",ROUNDDOWN(N(M159)*N(P159),0))","v":""},null,{"$f":"IF(R159=\"\",\"\",ROUNDDOWN(N(N159)*N(R159),0))","v":""}]
[null,null,null,null,null,null,null,null,null,null,null,null,null,null,null,null,null,null,null,"",null,""]
[{"$f":"((ROW()-11)+15)/15","v":11},null,null,null,null,null,null,null,null,null,null,null,null,null,null,null,null,null,null,"",null,""]
[null,null,null,null,null,null,null,null,null,null,null,null,null,null,null,null,null,null,null,"",null,""]
[null,null,null,null,null,null,null,null,null,null,null,null,null,null,null,null,null,null,null,"",null,""]
[null,null,null,null,null,null,null,null,null,null,null,null,null,null,null,null,null,null,null,"",null,""]
[null,null,null,null,null,null,null,null,null,null,null,null,null,null,null,null,null,null,null,"",null,""]
[null,null,null,null,null,null,null,null,null,null,null,null,null,null,null,null,null,null,null,"",null,""]
[null,null,null,null,null,null,null,null,null,null,null,null,null,null,null,null,null,null,null,"",null,""]
[null,null,null,null,null,null,null,null,null,null,null,null,null,null,null,null,null,null,null,"",null,""]
[null,null,null,null,null,null,null,null,null,null,null,null,null,null,null,null,null,null,null,"",null,""]
[null,null,null,null,null,null,null,null,null,null,null,null,null,null,null,null,null,null,null,"",null,""]
[null,null,null,null,null,null,null,null,null,null,null,null,null,null,null,null,null,null,null,"",null,""]
[null,null,null,null,null,null,null,null,null,null,null,null,null,null,null,null,null,null,null,"",null,""]
[null,null,null,null,null,null,null,null,null,null,null,null,null,null,null,null,null,null,null,"",null,""]
[null,null,null,null,null,null,null,null,null,null,null,null,null,null,null,null,null,null,null,"",null,""]
[null,null,null,null,null,null,null,null,null,null,null,null,null,null,null,null,null,null,null,"",null,""]
[{"$f":"((ROW()-11)+15)/15","v":12},null,null,null,null,null,null,null,null,null,null,null,null,null,null,null,null,null,null,"",null,""]
[null,null,null,null,null,null,null,null,null,null,null,null,null,null,null,null,null,null,null,"",null,""]
[null,null,null,null,null,null,null,null,null,null,null,null,null,null,null,null,null,null,null,"",null,""]
[null,null,null,null,null,null,null,null,null,null,null,null,null,null,null,null,null,null,null,"",null,""]
[null,null,null,null,null,null,null,null,null,null,null,null,null,null,null,null,null,null,null,"",null,""]
[null,null,null,null,null,null,null,null,null,null,null,null,null,null,null,null,null,null,null,"",null,""]
[null,null,null,null,null,null,null,null,null,null,null,null,null,null,null,null,null,null,null,"",null,""]
[null,null,null,null,null,null,null,null,null,null,null,null,null,null,null,null,null,null,null,"",null,""]
[null,null,null,null,null,null,null,null,null,null,null,null,null,null,null,null,null,null,null,"",null,""]
[null,null,null,null,null,null,null,null,null,null,null,null,null,null,null,null,null,null,null,"",null,""]
[null,null,null,null,null,null,null,null,null,null,null,null,null,null,null,null,null,null,null,"",null,""]
[null,null,null,null,null,null,null,null,null,null,null,null,null,null,null,null,null,null,null,"",null,""]
[null,null,null,null,null,null,null,null,null,null,null,null,null,null,null,null,null,null,null,"",null,""]
[null,null,null,null,null,null,null,null,null,null,null,null,null,null,null,null,null,null,null,"",null,""]
[null,null,null,null,null,null,null,null,null,null,null,null,null,null,null,null,null,null,null,"",null,""]
[{"$f":"((ROW()-11)+15)/15","v":13},null,null,null,null,null,null,null,null,null,null,null,null,null,null,null,null,null,null,"",null,""]
[null,null,null,null,null,null,null,null,null,null,null,null,null,null,null,null,null,null,null,"",null,""]
[null,null,null,null,null,null,null,null,null,null,null,null,null,null,null,null,null,null,null,"",null,""]
[null,null,null,null,null,null,null,null,null,null,null,null,null,null,null,null,null,null,null,"",null,""]
[null,null,null,null,null,null,null,null,null,null,null,null,null,null,null,null,null,null,null,"",null,""]
[null,null,null,null,null,null,null,null,null,null,null,null,null,null,null,null,null,null,null,"",null,""]
[null,null,null,null,null,null,null,null,null,null,null,null,null,null,null,null,null,null,null,"",null,""]
[null,null,null,null,null,null,null,null,null,null,null,null,null,null,null,null,null,null,null,"",null,""]
[null,null,null,null,null,null,null,null,null,null,null,null,null,null,null,null,null,null,null,"",null,""]
[null,null,null,null,null,null,null,null,null,null,null,null,null,null,null,null,null,null,null,"",null,""]
[null,null,null,null,null,null,null,null,null,null,null,null,null,null,null,null,null,null,null,"",null,""]
[null,null,null,null,null,null,null,null,null,null,null,null,null,null,null,null,null,null,null,"",null,""]
[null,null,null,null,null,null,null,null,null,null,null,null,null,null,null,null,null,null,null,"",null,""]
[null,null,null,null,null,null,null,null,null,null,null,null,null,null,null,null,null,null,null,"",null,""]
[null,null,null,null,null,null,null,null,null,null,null,null,null,null,null,null,null,null,null,"",null,""]
[{"$f":"((ROW()-11)+15)/15","v":14},null,null,null,null,null,null,null,null,null,null,null,null,null,null,null,null,null,null,"",null,""]
[null,null,null,null,null,null,null,null,null,null,null,null,null,null,null,null,null,null,null,"",null,""]
[null,null,null,null,null,null,null,null,null,null,null,null,null,null,null,null,null,null,null,"",null,""]
[null,null,null,null,null,null,null,null,null,null,null,null,null,null,null,null,null,null,null,"",null,""]
[null,null,null,null,null,null,null,null,null,null,null,null,null,null,null,null,null,null,null,"",null,""]
[null,null,null,null,null,null,null,null,null,null,null,null,null,null,null,null,null,null,null,"",null,""]
[null,null,null,null,null,null,null,null,null,null,null,null,null,null,null,null,null,null,null,"",null,""]
[null,null,null,null,null,null,null,null,null,null,null,null,null,null,null,null,null,null,null,"",null,""]
[null,null,null,null,null,null,null,null,null,null,null,null,null,null,null,null,null,null,null,"",null,""]
[null,null,null,null,null,null,null,null,null,null,null,null,null,null,null,null,null,null,null,"",null,""]
[null,null,null,null,null,null,null,null,null,null,null,null,null,null,null,null,null,null,null,"",null,""]
[null,null,null,null,null,null,null,null,null,null,null,null,null,null,null,null,null,null,null,"",null,""]
[null,null,null,null,null,null,null,null,null,null,null,null,null,null,null,null,null,null,null,"",null,""]
[null,null,null,null,null,null,null,null,null,null,null,null,null,null,null,null,null,null,null,"",null,""]
[null,null,null,null,null,null,null,null,null,null,null,null,null,null,null,null,null,null,null,"",null,""]
[{"$f":"((ROW()-11)+15)/15","v":15},null,null,null,null,null,null,null,null,null,null,null,null,null,null,null,null,null,null,"",null,""]
[null,null,null,null,null,null,null,null,null,null,null,null,null,null,null,null,null,null,null,"",null,""]
[null,null,null,null,null,null,null,null,null,null,null,null,null,null,null,null,null,null,null,{"$f":"IF(P223=\"\",\"\",ROUNDDOWN(N(M223)*N(P223),0))","v":""},null,{"$f":"IF(R223=\"\",\"\",ROUNDDOWN(N(N223)*N(R223),0))","v":""}]
[null,null,null,null,null,null,null,null,null,null,null,null,null,null,null,null,null,null,null,"",null,""]
[null,null,null,null,null,null,null,null,null,null,null,null,null,null,null,null,null,null,null,"",null,""]
[null,null,null,null,null,null,null,null,null,null,null,null,null,null,null,null,null,null,null,"",null,""]
[null,null,null,null,null,null,null,null,null,null,null,null,null,null,null,null,null,null,null,"",null,""]
[null,null,null,null,null,null,null,null,null,null,null,null,null,null,null,null,null,null,null,"",null,""]
[null,null,null,null,null,null,null,null,null,null,null,null,null,null,null,null,null,null,null,"",null,""]
[null,null,null,null,null,null,null,null,null,null,null,null,null,null,null,null,null,null,null,"",null,""]
[null,null,null,null,null,null,null,null,null,null,null,null,null,null,null,null,null,null,null,"",null,""]
[null,null,null,null,null,null,null,null,null,null,null,null,null,null,null,null,null,null,null,"",null,""]
[null,null,null,null,null,null,null,null,null,null,null,null,null,null,null,null,null,null,null,"",null,""]
[null,null,null,null,null,null,null,null,null,null,null,null,null,null,null,null,null,null,null,"",null,""]
[null,null,null,null,null,null,null,null,null,null,null,null,null,null,null,null,null,null,null,"",null,""]
[{"$f":"((ROW()-11)+15)/15","v":16},null,null,null,null,null,null,null,null,null,null,null,null,null,null,null,null,null,null,"",null,""]
[null,null,null,null,null,null,null,null,null,null,null,null,null,null,null,null,null,null,null,"",null,""]
[null,null,null,null,null,null,null,null,null,null,null,null,null,null,null,null,null,null,null,"",null,""]
[null,null,null,null,null,null,null,null,null,null,null,null,null,null,null,null,null,null,null,"",null,""]
[null,null,null,null,null,null,null,null,null,null,null,null,null,null,null,null,null,null,null,"",null,""]
[null,null,null,null,null,null,null,null,null,null,null,null,null,null,null,null,null,null,null,"",null,""]
[null,null,null,null,null,null,null,null,null,null,null,null,null,null,null,null,null,null,null,"",null,""]
[null,null,null,null,null,null,null,null,null,null,null,null,null,null,null,null,null,null,null,"",null,""]
[null,null,null,null,null,null,null,null,null,null,null,null,null,null,null,null,null,null,null,"",null,""]
[null,null,null,null,null,null,null,null,null,null,null,null,null,null,null,null,null,null,null,"",null,""]
[null,null,null,null,null,null,null,null,null,null,null,null,null,null,null,null,null,null,null,"",null,""]
[null,null,null,null,null,null,null,null,null,null,null,null,null,null,null,null,null,null,null,"",null,""]
[null,null,null,null,null,null,null,null,null,null,null,null,null,null,null,null,null,null,null,"",null,""]
[null,null,null,null,null,null,null,null,null,null,null,null,null,null,null,null,null,null,null,"",null,""]
[null,null,null,null,null,null,null,null,null,null,null,null,null,null,null,null,null,null,null,"",null,""]
[{"$f":"((ROW()-11)+15)/15","v":17},null,null,null,null,null,null,null,null,null,null,null,null,null,null,null,null,null,null,"",null,""]
[null,null,null,null,null,null,null,null,null,null,null,null,null,null,null,null,null,null,null,"",null,""]
[null,null,null,null,null,null,null,null,null,null,null,null,null,null,null,null,null,null,null,"",null,""]
[null,null,null,null,null,null,null,null,null,null,null,null,null,null,null,null,null,null,null,"",null,""]
[null,null,null,null,null,null,null,null,null,null,null,null,null,null,null,null,null,null,null,"",null,""]
[null,null,null,null,null,null,null,null,null,null,null,null,null,null,null,null,null,null,null,"",null,""]
[null,null,null,null,null,null,null,null,null,null,null,null,null,null,null,null,null,null,null,"",null,""]
[null,null,null,null,null,null,null,null,null,null,null,null,null,null,null,null,null,null,null,"",null,""]
[null,null,null,null,null,null,null,null,null,null,null,null,null,null,null,null,null,null,null,"",null,""]
[null,null,null,null,null,null,null,null,null,null,null,null,null,null,null,null,null,null,null,"",null,""]
[null,null,null,null,null,null,null,null,null,null,null,null,null,null,null,null,null,null,null,"",null,""]
[null,null,null,null,null,null,null,null,null,null,null,null,null,null,null,null,null,null,null,"",null,""]
[null,null,null,null,null,null,null,null,null,null,null,null,null,null,null,null,null,null,null,"",null,""]
[null,null,null,null,null,null,null,null,null,null,null,null,null,null,null,null,null,null,null,"",null,""]
[null,null,null,null,null,null,null,null,null,null,null,null,null,null,null,null,null,null,null,"",null,""]
[{"$f":"((ROW()-11)+15)/15","v":18},null,null,null,null,null,null,null,null,null,null,null,null,null,null,null,null,null,null,{"$f":"IF(P266=\"\",\"\",ROUNDDOWN(N(M266)*N(P266),0))","v":""},null,{"$f":"IF(R266=\"\",\"\",ROUNDDOWN(N(N266)*N(R266),0))","v":""}]
[null,null,null,null,null,null,null,null,null,null,null,null,null,null,null,null,null,null,null,"",null,""]
[null,null,null,null,null,null,null,null,null,null,null,null,null,null,null,null,null,null,null,"",null,""]
[null,null,null,null,null,null,null,null,null,null,null,null,null,null,null,null,null,null,null,"",null,""]
[null,null,null,null,null,null,null,null,null,null,null,null,null,null,null,null,null,null,null,"",null,""]
[null,null,null,null,null,null,null,null,null,null,null,null,null,null,null,null,null,null,null,"",null,""]
[null,null,null,null,null,null,null,null,null,null,null,null,null,null,null,null,null,null,null,"",null,""]
[null,null,null,null,null,null,null,null,null,null,null,null,null,null,null,null,null,null,null,"",null,""]
[null,null,null,null,null,null,null,null,null,null,null,null,null,null,null,null,null,null,null,"",null,""]
[null,null,null,null,null,null,null,null,null,null,null,null,null,null,null,null,null,null,null,"",null,""]
[null,null,null,null,null,null,null,null,null,null,null,null,null,null,null,null,null,null,null,"",null,""]
[null,null,null,null,null,null,null,null,null,null,null,null,null,null,null,null,null,null,null,"",null,""]
[null,null,null,null,null,null,null,null,null,null,null,null,null,null,null,null,null,null,null,"",null,""]
[null,null,null,null,null,null,null,null,null,null,null,null,null,null,null,null,null,null,null,"",null,""]
[null,null,null,null,null,null,null,null,null,null,null,null,null,null,null,null,null,null,null,"",null,""]
[{"$f":"((ROW()-11)+15)/15","v":19},null,null,null,null,null,null,null,null,null,null,null,null,null,null,null,null,null,null,"",null,""]
[null,null,null,null,null,null,null,null,null,null,null,null,null,null,null,null,null,null,null,"",null,""]
[null,null,null,null,null,null,null,null,null,null,null,null,null,null,null,null,null,null,null,"",null,""]
[null,null,null,null,null,null,null,null,null,null,null,null,null,null,null,null,null,null,null,"",null,""]
[null,null,null,null,null,null,null,null,null,null,null,null,null,null,null,null,null,null,null,"",null,""]
[null,null,null,null,null,null,null,null,null,null,null,null,null,null,null,null,null,null,null,"",null,""]
[null,null,null,null,null,null,null,null,null,null,null,null,null,null,null,null,null,null,null,"",null,""]
[null,null,null,null,null,null,null,null,null,null,null,null,null,null,null,null,null,null,null,"",null,""]
[null,null,null,null,null,null,null,null,null,null,null,null,null,null,null,null,null,null,null,"",null,""]
[null,null,null,null,null,null,null,null,null,null,null,null,null,null,null,null,null,null,null,"",null,""]
[null,null,null,null,null,null,null,null,null,null,null,null,null,null,null,null,null,null,null,"",null,""]
[null,null,null,null,null,null,null,null,null,null,null,null,null,null,null,null,null,null,null,"",null,""]
[null,null,null,null,null,null,null,null,null,null,null,null,null,null,null,null,null,null,null,"",null,""]
[null,null,null,null,null,null,null,null,null,null,null,null,null,null,null,null,null,null,null,"",null,""]
[null,null,null,null,null,null,null,null,null,null,null,null,null,null,null,null,null,null,null,"",null,""]
[{"$f":"((ROW()-11)+15)/15","v":20},null,null,null,null,null,null,null,null,null,null,null,null,null,null,null,null,null,null,"",null,""]
[null,null,null,null,null,null,null,null,null,null,null,null,null,null,null,null,null,null,null,"",null,""]
[null,null,null,null,null,null,null,null,null,null,null,null,null,null,null,null,null,null,null,"",null,""]
[null,null,null,null,null,null,null,null,null,null,null,null,null,null,null,null,null,null,null,"",null,""]
[null,null,null,null,null,null,null,null,null,null,null,null,null,null,null,null,null,null,null,"",null,""]
[null,null,null,null,null,null,null,null,null,null,null,null,null,null,null,null,null,null,null,"",null,""]
[null,null,null,null,null,null,null,null,null,null,null,null,null,null,null,null,null,null,null,"",null,""]
[null,null,null,null,null,null,null,null,null,null,null,null,null,null,null,null,null,null,null,"",null,""]
[null,null,null,null,null,null,null,null,null,null,null,null,null,null,null,null,null,null,null,"",null,""]
[null,null,null,null,null,null,null,null,null,null,null,null,null,null,null,null,null,null,null,"",null,""]
[null,null,null,null,null,null,null,null,null,null,null,null,null,null,null,null,null,null,null,"",null,""]
[null,null,null,null,null,null,null,null,null,null,null,null,null,null,null,null,null,null,null,"",null,""]
[null,null,null,null,null,null,null,null,null,null,null,null,null,null,null,null,null,null,null,"",null,""]
[null,null,null,null,null,null,null,null,null,null,null,null,null,null,null,null,null,null,null,"",null,""]
[null,null,null,null,null,null,null,null,null,null,null,null,null,null,null,null,null,null,null,"",null,""]
[{"$f":"((ROW()-11)+15)/15","v":21},null,null,null,null,null,null,null,null,null,null,null,null,null,null,null,null,null,null,{"$f":"IF(P311=\"\",\"\",ROUNDDOWN(N(M311)*N(P311),0))","v":""},null,{"$f":"IF(R311=\"\",\"\",ROUNDDOWN(N(N311)*N(R311),0))","v":""}]
[null,null,null,null,null,null,null,null,null,null,null,null,null,null,null,null,null,null,null,"",null,""]
[null,null,null,null,null,null,null,null,null,null,null,null,null,null,null,null,null,null,null,"",null,""]
[null,null,null,null,null,null,null,null,null,null,null,null,null,null,null,null,null,null,null,"",null,""]
[null,null,null,null,null,null,null,null,null,null,null,null,null,null,null,null,null,null,null,"",null,""]
[null,null,null,null,null,null,null,null,null,null,null,null,null,null,null,null,null,null,null,"",null,""]
[null,null,null,null,null,null,null,null,null,null,null,null,null,null,null,null,null,null,null,"",null,""]
[null,null,null,null,null,null,null,null,null,null,null,null,null,null,null,null,null,null,null,"",null,""]
[null,null,null,null,null,null,null,null,null,null,null,null,null,null,null,null,null,null,null,"",null,""]
[null,null,null,null,null,null,null,null,null,null,null,null,null,null,null,null,null,null,null,"",null,""]
[null,null,null,null,null,null,null,null,null,null,null,null,null,null,null,null,null,null,null,"",null,""]
[null,null,null,null,null,null,null,null,null,null,null,null,null,null,null,null,null,null,null,"",null,""]
[null,null,null,null,null,null,null,null,null,null,null,null,null,null,null,null,null,null,null,"",null,""]
[null,null,null,null,null,null,null,null,null,null,null,null,null,null,null,null,null,null,null,"",null,""]
[null,null,null,null,null,null,null,null,null,null,null,null,null,null,null,null,null,null,null,"",null,""]

{"sheet":"内訳明細印刷（取極め用）","index":5,"n_rows":24,"n_cols":73,"rows_kept":24,"cut":false,"hidden":true,"merged":[[0,40,0,41],[0,33,0,35],[2,33,2,35],[1,33,1,35],[0,37,0,38],[1,36,1,49],[16,45,16,49],[16,40,16,44],[12,45,12,49],[11,45,11,49],[5,40,5,49],[6,32,6,35],[10,45,10,49],[9,36,9,39],[9,40,9,44],[9,45,9,49],[10,40,10,44],[7,45,7,49],[7,40,7,44],[8,36,8,39],[21,40,21,44],[18,45,18,49],[17,40,17,44],[20,45,20,49],[21,45,21,49],[19,45,19,49],[17,45,17,49],[23,47,23,48],[20,36,20,39],[20,40,20,44],[21,36,21,39],[23,40,23,42],[23,43,23,44],[12,11,12,20],[13,11,13,20],[14,11,14,20],[19,36,19,39],[19,40,19,44],[11,21,11,24],[11,25,11,28],[11,29,11,31],[17,32,17,35],[18,40,18,44],[13,21,13,24],[18,36,18,39],[17,36,17,39],[11,36,11,39],[11,40,11,44],[12,25,12,28],[12,29,12,31],[21,32,21,35],[20,25,20,28],[20,29,20,31],[21,25,21,28],[20,32,20,35],[16,25,16,28],[17,21,17,24],[17,25,17,28],[19,11,19,20],[18,25,18,28],[18,29,18,31],[19,29,19,31],[19,32,19,35],[18,32,18,35],[19,0,19,10],[21,11,21,20],[19,21,19,24],[19,25,19,28],[21,21,21,24],[21,29,21,31],[20,11,20,20],[21,0,21,10],[20,0,20,10],[20,21,20,24],[17,0,17,10],[17,29,17,31],[18,0,18,10],[18,21,18,24],[18,11,18,20],[17,11,17,20],[13,36,13,39],[13,40,13,44],[13,45,13,49],[16,36,16,39],[16,0,16,10],[16,21,16,24],[16,29,16,31],[16,11,16,20],[13,32,13,35],[16,32,16,35],[15,45,15,49],[14,36,14,39],[14,40,14,44],[15,36,15,39],[15,40,15,44],[14,32,14,35],[14,45,14,49],[15,32,15,35],[14,0,14,10],[15,29,15,31],[15,21,15,24],[15,25,15,28],[15,11,15,20],[15,0,15,10],[14,21,14,24],[14,25,14,28],[14,29,14,31],[9,0,9,10],[11,32,11,35],[13,0,13,10],[12,32,12,35],[12,36,12,39],[12,40,12,44],[12,0,12,10],[12,21,12,24],[13,25,13,28],[13,29,13,31],[11,0,11,10],[10,32,10,35],[10,36,10,39],[10,0,10,10],[10,21,10,24],[10,25,10,28],[10,29,10,31],[11,11,11,20],[10,11,10,20],[9,21,9,24],[9,25,9,28],[9,29,9,31],[9,32,9,35],[9,11,9,20],[7,0,7,10],[7,11,7,20],[7,21,7,24],[7,25,7,28],[8,0,8,10],[8,21,8,24],[8,25,8,28],[8,29,8,31],[8,45,8,49],[7,29,7,31],[7,32,7,35],[7,36,7,39],[8,32,8,35],[8,40,8,44],[8,11,8,20],[3,4,3,28],[6,36,6,39],[1,0,1,32],[6,40,6,44],[3,38,3,49],[2,36,2,49],[3,0,3,3],[6,45,6,49],[5,0,6,10],[5,29,6,31],[5,21,5,28],[6,21,6,24],[6,25,6,28],[5,11,6,20],[5,32,5,39],[3,34,3,37]]}
[null,null,null,null,null,null,null,null,null,null,null,null,null,null,null,null,null,null,null,null,null,null,null,null,null,null,null,null,null,null,null,null,null,"住       所",null,null,"〒",{"$f":"IF(BA1=\"\",\"\",BA1)","v":""},null,"－",{"$f":"IF(BB1=\"\",\"\",BB1)","v":""},null,null,null,null,null,null,null,null,null,null,"郵便番号"]
["内 訳 明 細 書 　（取極め用）",null,null,null,null,null,null,null,null,null,null,null,null,null,null,null,null,null,null,null,null,null,null,null,null,null,null,null,null,null,null,null,null,null,null,null,{"$f":"IF(BA2=\"\",\"\",BA2)","v":""},null,null,null,null,null,null,null,null,null,null,null,null,null,null,"住所"]
[null,null,null,null,null,null,null,null,null,null,null,null,null,null,null,null,null,null,null,null,null,null,null,null,null,null,null,null,null,null,null,null,null,"会  社  名",null,null,{"$f":"IF(BA3=\"\",\"\",BA3)","v":""},null,null,null,null,null,null,null,null,null,null,null,null,null,null,"会社名"]
["工事名称：",null,null,null,{"$f":"IF(BA4=\"\",\"\",BA4)","v":""},null,null,null,null,null,null,null,null,null,null,null,null,null,null,null,null,null,null,null,null,null,null,null,null,null,null,null,null,null,"支店・営業所名",null,null,null,{"$f":"IF(BC4=\"\",\"\",BC4)","v":""},null,null,null,null,null,null,null,null,null,null,null,null,"工事名称",null,"支店営業"]
[null,null,null,null,null,null,null,null,null,null,null,null,null,null,null,null,null,null,null,null,null,null,null,null,null,null,null,null,null,null,null,null,null,null,null,null,null,null,null,null,null,null,null,null,null,null,null,null,null,null,null,null,null,null,null,null,null,null,null,null,null,null,null,"数　量",null,null,"単　価",null,null,null,"金　額"]
["工事種目／品目",null,null,null,null,null,null,null,null,null,null,"規格／仕様／寸法／メーカー名",null,null,null,null,null,null,null,null,null,"数　量",null,null,null,null,null,null,null,"単位",null,null,"単　価",null,null,null,null,null,null,null,"金　額",null,null,null,null,null,null,null,null,null,null,null,"工事種目／品目",null,null,null,null,null,"規格／仕様／寸法／メーカー名",null,null,null,null,"現在","変更後","単位","現在",null,"変更後",null,"現在",null,"変更後"]
[null,null,null,null,null,null,null,null,null,null,null,null,null,null,null,null,null,null,null,null,null,"現在",null,null,null,"変更後",null,null,null,null,null,null,"現在",null,null,null,"変更後",null,null,null,"現在",null,null,null,null,"変更後",null,null,null,null,null,"明細1"]
[{"$f":"IF(BA7=\"\",\"\",BA7)","v":""},null,null,null,null,null,null,null,null,null,null,{"$f":"IF(BG7=\"\",\"\",BG7)","v":""},null,null,null,null,null,null,null,null,null,{"$f":"IF(BL7=\"\",\"\",BL7)","v":""},null,null,null,{"$f":"IF(BM7=\"\",\"\",BM7)","v":""},null,null,null,{"$f":"IF(BN7=\"\",\"\",BN7)","v":""},null,null,{"$f":"IF(BO7=\"\",\"\",BO7)","v":""},null,null,null,{"$f":"IF(BQ7=\"\",\"\",BQ7)","v":""},null,null,null,{"$f":"IF(BS7=\"\",\"\",BS7)","v":""},null,null,null,null,{"$f":"IF(BU7=\"\",\"\",BU7)","v":""},null,null,null,null,null,"明細2"]
[{"$f":"IF(BA8=\"\",\"\",BA8)","v":""},null,null,null,null,null,null,null,null,null,null,{"$f":"IF(BG8=\"\",\"\",BG8)","v":""},null,null,null,null,null,null,null,null,null,{"$f":"IF(BL8=\"\",\"\",BL8)","v":""},null,null,null,{"$f":"IF(BM8=\"\",\"\",BM8)","v":""},null,null,null,{"$f":"IF(BN8=\"\",\"\",BN8)","v":""},null,null,{"$f":"IF(BO8=\"\",\"\",BO8)","v":""},null,null,null,{"$f":"IF(BQ8=\"\",\"\",BQ8)","v":""},null,null,null,{"$f":"IF(BS8=\"\",\"\",BS8)","v":""},null,null,null,null,{"$f":"IF(BU8=\"\",\"\",BU8)","v":""},null,null,null,null,null,"明細3"]
["",null,null,null,null,null,null,null,null,null,null,"",null,null,null,null,null,null,null,null,null,"",null,null,null,"",null,null,null,"",null,null,"",null,null,null,"",null,null,null,"",null,null,null,null,"",null,null,null,null,null,"明細4"]
["",null,null,null,null,null,null,null,null,null,null,"",null,null,null,null,null,null,null,null,null,"",null,null,null,"",null,null,null,"",null,null,"",null,null,null,"",null,null,null,"",null,null,null,null,"",null,null,null,null,null,"明細5"]
["",null,null,null,null,null,null,null,null,null,null,"",null,null,null,null,null,null,null,null,null,"",null,null,null,"",null,null,null,"",null,null,"",null,null,null,"",null,null,null,"",null,null,null,null,"",null,null,null,null,null,"明細6"]
["",null,null,null,null,null,null,null,null,null,null,"",null,null,null,null,null,null,null,null,null,"",null,null,null,"",null,null,null,"",null,null,"",null,null,null,"",null,null,null,"",null,null,null,null,"",null,null,null,null,null,"明細7"]
["",null,null,null,null,null,null,null,null,null,null,"",null,null,null,null,null,null,null,null,null,"",null,null,null,"",null,null,null,"",null,null,"",null,null,null,"",null,null,null,"",null,null,null,null,"",null,null,null,null,null,"明細8"]
["",null,null,null,null,null,null,null,null,null,null,"",null,null,null,null,null,null,null,null,null,"",null,null,null,"",null,null,null,"",null,null,"",null,null,null,"",null,null,null,"",null,null,null,null,"",null,null,null,null,null,"明細9"]
["",null,null,null,null,null,null,null,null,null,null,"",null,null,null,null,null,null,null,null,null,"",null,null,null,"",null,null,null,"",null,null,"",null,null,null,"",null,null,null,"",null,null,null,null,"",null,null,null,null,null,"明細10"]
["",null,null,null,null,null,null,null,null,null,null,"",null,null,null,null,null,null,null,null,null,"",null,null,null,"",null,null,null,"",null,null,"",null,null,null,"",null,null,null,"",null,null,null,null,"",null,null,null,null,null,"明細11"]
["",null,null,null,null,null,null,null,null,null,null,"",null,null,null,null,null,null,null,null,null,"",null,null,null,"",null,null,null,"",null,null,"",null,null,null,"",null,null,null,"",null,null,null,null,"",null,null,null,null,null,"明細12"]
["",null,null,null,null,null,null,null,null,null,null,"",null,null,null,null,null,null,null,null,null,"",null,null,null,"",null,null,null,"",null,null,"",null,null,null,"",null,null,null,"",null,null,null,null,"",null,null,null,null,null,"明細13"]
["",null,null,null,null,null,null,null,null,null,null,"",null,null,null,null,null,null,null,null,null,"",null,null,null,"",null,null,null,"",null,null,"",null,null,null,"",null,null,null,"",null,null,null,null,"",null,null,null,null,null,"明細14"]
["",null,null,null,null,null,null,null,null,null,null,"",null,null,null,null,null,null,null,null,null,"",null,null,null,"",null,null,null,"",null,null,"",null,null,null,"",null,null,null,"",null,null,null,null,"",null,null,null,null,null,"明細15"]
["",null,null,null,null,null,null,null,null,null,null,"",null,null,null,null,null,null,null,null,null,"",null,null,null,"",null,null,null,"",null,null,"",null,null,null,"",null,null,null,"",null,null,null,null,""]
[null,null,null,null,null,null,null,null,null,null,null,null,null,null,null,null,null,null,null,null,null,null,null,null,null,null,null,null,null,null,null,null,null,null,null,null,null,null,null,null,null,null,null,null,null,null,null,null,null,null,null,"頁"]
[null,null,null,null,null,null,null,null,null,null,null,null,null,null,null,null,null,null,null,null,null,null,null,null,null,null,null,null,null,null,null,null,null,null,null,null,null,null,null,null,{"$f":"IF(BA23=\"\",\"\",BA23)","v":""},null,null,"頁中",null,"／",null,{"$f":"IF(BB23=\"\",\"\",BB23)","v":""},null,"頁"]

{"sheet":"内訳明細出力（取極め用）","index":6,"n_rows":8,"n_cols":33,"rows_kept":8,"cut":false,"hidden":true,"merged":[[3,7,3,9],[2,7,2,9],[1,7,1,9],[7,0,7,1],[5,0,6,1],[5,2,6,2],[5,5,6,5]]}
[null,null,null,null,null,null,"住       所 ","〒 999 － 9999"]
["　　内 訳 明 細 書 　（取極め用）"]
["契約№： ",null,null,null,null,null,"会  社  名 "]
["工事名称： ",null,null,null,null,null,"支店・営業所名"]
[]
["工事種目／品目",null,"規格／仕様／寸法／メーカー名","数　量",null,"単位","単　価",null,"金　額",null,null,"総頁",null,null,null,null,null,null,null,null,null,null,null,"数　量",null,null,"単　価",null,null,null,"金　額"]
[null,null,null,"現在","変更後",null,"現在","変更後","現在","変更後",null,null,"工事種目／品目",null,null,null,null,null,"規格／仕様／寸法／メーカー名",null,null,null,null,"現在","変更後","単位","現在",null,"変更後",null,"現在",null,"変更後"]
[{"$f":"IF(M8=\"\",\"\",M8)","v":""},null,null,null,null,null,null,null,null,null,null,"明細"]

{"sheet":"請求明細書入力印刷画面","index":7,"n_rows":325,"n_cols":50,"rows_kept":325,"cut":false,"hidden":true,"merged":[[268,37,268,40],[268,1,268,13],[268,14,268,17],[268,18,268,20],[268,21,268,24],[269,33,269,36],[268,25,268,28],[268,29,268,32],[268,33,268,36],[269,25,269,28],[270,49,270,52],[269,37,269,40],[263,49,263,52],[264,29,264,32],[264,33,264,36],[264,37,264,40],[264,41,264,44],[264,45,264,48],[264,49,264,52],[263,29,263,32],[263,33,263,36],[263,37,263,40],[264,25,264,28],[263,25,263,28],[266,29,266,32],[266,33,266,36],[266,37,266,40],[266,41,266,44],[266,45,266,48],[266,49,266,52],[267,21,267,24],[267,25,267,28],[267,29,267,32],[267,33,267,36],[262,25,262,28],[264,1,264,13],[264,14,264,17],[264,18,264,20],[264,21,264,24],[263,1,263,13],[263,14,263,17],[263,18,263,20],[263,21,263,24],[262,29,262,32],[262,33,262,36],[262,49,262,52],[267,37,267,40],[267,41,267,44],[261,33,261,36],[261,37,261,40],[261,41,261,44],[261,45,261,48],[261,49,261,52],[262,41,262,44],[262,45,262,48],[262,37,262,40],[263,41,263,44],[263,45,263,48],[265,41,265,44],[267,45,267,48],[267,49,267,52],[260,33,260,36],[260,37,260,40],[262,1,262,13],[262,14,262,17],[262,18,262,20],[262,21,262,24],[261,1,261,13],[261,14,261,17],[261,18,261,20],[261,21,261,24],[261,29,261,32],[260,29,260,32],[261,25,261,28],[260,49,260,52],[259,33,259,36],[259,37,259,40],[259,41,259,44],[259,45,259,48],[259,49,259,52],[260,41,260,44],[260,45,260,48],[259,29,259,32],[260,25,260,28],[259,25,259,28],[260,1,260,13],[260,14,260,17],[260,18,260,20],[260,21,260,24],[259,1,259,13],[259,14,259,17],[259,18,259,20],[259,21,259,24],[255,21,255,24],[254,25,254,28],[254,29,254,32],[254,33,254,36],[254,1,254,13],[254,14,254,17],[254,18,254,20],[254,21,254,24],[255,33,255,36],[258,29,258,32],[258,33,258,36],[258,41,258,44],[258,45,258,48],[258,49,258,52],[257,33,257,36],[257,37,257,40],[257,41,257,44],[257,45,257,48],[257,49,257,52],[258,37,258,40],[257,18,257,20],[257,21,257,24],[257,25,257,28],[258,1,258,13],[258,14,258,17],[258,18,258,20],[258,21,258,24],[254,45,254,48],[253,41,253,44],[253,45,253,48],[256,29,256,32],[254,49,254,52],[254,37,254,40],[254,41,254,44],[256,49,256,52],[255,37,255,40],[252,49,252,52],[253,1,253,13],[253,14,253,17],[253,18,253,20],[253,21,253,24],[253,25,253,28],[253,29,253,32],[253,33,253,36],[253,37,253,40],[253,49,253,52],[255,41,255,44],[255,45,255,48],[255,49,255,52],[256,33,256,36],[256,37,256,40],[256,41,256,44],[256,45,256,48],[256,1,256,13],[256,14,256,17],[256,18,256,20],[256,21,256,24],[255,25,255,28],[255,29,255,32],[255,18,255,20],[160,0,174,0],[251,49,251,52],[252,1,252,13],[252,14,252,17],[252,18,252,20],[252,21,252,24],[252,25,252,28],[252,29,252,32],[252,33,252,36],[252,37,252,40],[252,41,252,44],[251,41,251,44],[251,45,251,48],[250,29,250,32],[250,33,250,36],[250,37,250,40],[250,41,250,44],[250,45,250,48],[251,29,251,32],[251,33,251,36],[251,37,251,40],[250,49,250,52],[252,45,252,48],[249,49,249,52],[248,41,248,44],[248,45,248,48],[248,49,248,52],[249,41,249,44],[249,45,249,48],[249,14,249,17],[249,18,249,20],[249,21,249,24],[320,33,320,36],[250,0,264,0],[250,1,250,13],[250,14,250,17],[250,18,250,20],[250,21,250,24],[250,25,250,28],[251,1,251,13],[251,14,251,17],[251,18,251,20],[1,1,1,21],[8,37,8,44],[5,19,5,20],[8,29,8,36],[6,32,6,36],[3,3,3,4],[3,5,3,7],[3,9,3,10],[5,0,5,3],[6,37,6,38],[6,25,6,29],[6,30,6,31],[190,0,204,0],[70,0,84,0],[85,0,99,0],[100,0,114,0],[115,0,129,0],[10,0,24,0],[204,29,204,32],[202,25,202,28],[130,0,144,0],[145,0,159,0],[321,49,321,52],[320,41,320,44],[320,45,320,48],[320,49,320,52],[324,29,324,32],[324,33,324,36],[324,37,324,40],[205,0,219,0],[220,0,234,0],[235,0,249,0],[251,21,251,24],[251,25,251,28],[256,25,256,28],[257,29,257,32],[323,33,323,36],[324,45,324,48],[323,49,323,52],[324,41,324,44],[324,49,324,52],[323,37,323,40],[323,41,323,44],[323,45,323,48],[324,1,324,13],[310,0,324,0],[324,14,324,17],[257,1,257,13],[257,14,257,17],[320,14,320,17],[324,25,324,28],[321,29,321,32],[321,37,321,40],[321,33,321,36],[319,49,319,52],[318,41,318,44],[318,45,318,48],[318,49,318,52],[319,1,319,13],[319,25,319,28],[175,0,189,0],[324,18,324,20],[324,21,324,24],[321,14,321,17],[321,18,321,20],[321,21,321,24],[321,25,321,28],[320,1,320,13],[258,25,258,28],[322,41,322,44],[322,45,322,48],[322,49,322,52],[323,1,323,13],[323,14,323,17],[323,18,323,20],[323,21,323,24],[323,25,323,28],[323,29,323,32],[322,25,322,28],[322,29,322,32],[322,33,322,36],[322,37,322,40],[322,1,322,13],[322,14,322,17],[322,18,322,20],[322,21,322,24],[317,18,317,20],[318,1,318,13],[318,14,318,17],[317,21,317,24],[317,25,317,28],[317,29,317,32],[316,25,316,28],[316,29,316,32],[318,25,318,28],[318,29,318,32],[316,33,316,36],[320,37,320,40],[320,18,320,20],[320,21,320,24],[321,1,321,13],[317,45,317,48],[319,41,319,44],[319,14,319,17],[319,18,319,20],[319,21,319,24],[319,29,319,32],[319,37,319,40],[319,33,319,36],[318,18,318,20],[318,21,318,24],[318,33,318,36],[318,37,318,40],[319,45,319,48],[321,41,321,44],[321,45,321,48],[320,25,320,28],[320,29,320,32],[317,49,317,52],[316,41,316,44],[316,45,316,48],[316,49,316,52],[316,37,316,40],[315,49,315,52],[314,41,314,44],[314,45,314,48],[314,49,314,52],[315,41,315,44],[315,45,315,48],[315,14,315,17],[315,18,315,20],[315,21,315,24],[315,25,315,28],[316,1,316,13],[316,14,316,17],[316,18,316,20],[316,21,316,24],[315,29,315,32],[315,37,315,40],[315,33,315,36],[314,25,314,28],[314,29,314,32],[314,33,314,36],[314,37,314,40],[315,1,315,13],[317,41,317,44],[317,37,317,40],[317,33,317,36],[317,1,317,13],[317,14,317,17],[313,41,313,44],[313,45,313,48],[313,49,313,52],[313,1,313,13],[313,25,313,28],[314,1,314,13],[314,14,314,17],[314,18,314,20],[314,21,314,24],[312,45,312,48],[312,49,312,52],[313,14,313,17],[313,18,313,20],[313,21,313,24],[313,29,313,32],[313,37,313,40],[313,33,313,36],[312,25,312,28],[312,37,312,40],[312,1,312,13],[312,14,312,17],[312,18,312,20],[312,21,312,24],[312,41,312,44],[311,1,311,13],[311,14,311,17],[311,18,311,20],[311,21,311,24],[312,29,312,32],[312,33,312,36],[311,25,311,28],[311,29,311,32],[310,33,310,36],[310,37,310,40],[311,37,311,40],[311,33,311,36],[310,25,310,28],[310,29,310,32],[311,45,311,48],[311,49,311,52],[310,41,310,44],[310,45,310,48],[310,49,310,52],[311,41,311,44],[249,25,249,28],[310,1,310,13],[310,14,310,17],[310,18,310,20],[310,21,310,24],[255,1,255,13],[255,14,255,17],[249,29,249,32],[249,37,249,40],[249,33,249,36],[248,25,248,28],[248,29,248,32],[248,33,248,36],[248,37,248,40],[249,1,249,13],[265,29,265,32],[265,33,265,36],[265,37,265,40],[266,21,266,24],[266,25,266,28],[272,37,272,40],[272,1,272,13],[272,14,272,17],[272,18,272,20],[272,21,272,24],[273,33,273,36],[272,25,272,28],[272,29,272,32],[272,33,272,36],[273,25,273,28],[275,18,275,20],[275,21,275,24],[247,41,247,44],[247,45,247,48],[247,49,247,52],[247,1,247,13],[247,25,247,28],[248,1,248,13],[248,14,248,17],[248,18,248,20],[248,21,248,24],[246,45,246,48],[246,49,246,52],[247,14,247,17],[247,18,247,20],[247,21,247,24],[247,29,247,32],[247,37,247,40],[247,33,247,36],[246,25,246,28],[246,37,246,40],[246,1,246,13],[246,14,246,17],[246,18,246,20],[246,21,246,24],[246,41,246,44],[245,1,245,13],[245,14,245,17],[245,18,245,20],[245,21,245,24],[246,29,246,32],[246,33,246,36],[245,25,245,28],[245,29,245,32],[244,33,244,36],[244,37,244,40],[245,37,245,40],[245,33,245,36],[244,25,244,28],[244,29,244,32],[245,45,245,48],[245,49,245,52],[244,41,244,44],[244,45,244,48],[244,49,244,52],[245,41,245,44],[243,49,243,52],[242,41,242,44],[242,45,242,48],[242,49,242,52],[243,41,243,44],[243,45,243,48],[243,14,243,17],[243,18,243,20],[243,21,243,24],[243,25,243,28],[244,1,244,13],[244,14,244,17],[244,18,244,20],[244,21,244,24],[243,29,243,32],[243,37,243,40],[243,33,243,36],[242,25,242,28],[242,29,242,32],[242,33,242,36],[242,37,242,40],[243,1,243,13],[241,41,241,44],[241,45,241,48],[241,49,241,52],[241,1,241,13],[241,25,241,28],[242,1,242,13],[242,14,242,17],[242,18,242,20],[242,21,242,24],[240,45,240,48],[240,49,240,52],[241,14,241,17],[241,18,241,20],[241,21,241,24],[241,29,241,32],[241,37,241,40],[241,33,241,36],[240,25,240,28],[240,37,240,40],[240,1,240,13],[240,14,240,17],[240,18,240,20],[240,21,240,24],[240,41,240,44],[239,1,239,13],[239,14,239,17],[239,18,239,20],[239,21,239,24],[240,29,240,32],[240,33,240,36],[239,25,239,28],[239,29,239,32],[238,33,238,36],[238,37,238,40],[239,37,239,40],[239,33,239,36],[238,25,238,28],[238,29,238,32],[239,45,239,48],[239,49,239,52],[238,41,238,44],[238,45,238,48],[238,49,238,52],[239,41,239,44],[237,49,237,52],[236,41,236,44],[236,45,236,48],[236,49,236,52],[237,41,237,44],[237,45,237,48],[237,14,237,17],[237,18,237,20],[237,21,237,24],[237,25,237,28],[238,1,238,13],[238,14,238,17],[238,18,238,20],[238,21,238,24],[237,29,237,32],[237,37,237,40],[237,33,237,36],[236,25,236,28],[236,29,236,32],[236,33,236,36],[236,37,236,40],[237,1,237,13],[235,41,235,44],[235,45,235,48],[235,49,235,52],[235,1,235,13],[235,25,235,28],[236,1,236,13],[236,14,236,17],[236,18,236,20],[236,21,236,24],[234,45,234,48],[234,49,234,52],[235,14,235,17],[235,18,235,20],[235,21,235,24],[235,29,235,32],[235,37,235,40],[235,33,235,36],[234,25,234,28],[234,37,234,40],[234,1,234,13],[234,14,234,17],[234,18,234,20],[234,21,234,24],[234,41,234,44],[233,1,233,13],[233,14,233,17],[233,18,233,20],[233,21,233,24],[234,29,234,32],[234,33,234,36],[233,25,233,28],[233,29,233,32],[232,33,232,36],[232,37,232,40],[233,37,233,40],[233,33,233,36],[232,25,232,28],[232,29,232,32],[233,45,233,48],[233,49,233,52],[232,41,232,44],[232,45,232,48],[232,49,232,52],[233,41,233,44],[231,49,231,52],[230,41,230,44],[230,45,230,48],[230,49,230,52],[231,41,231,44],[231,45,231,48],[231,14,231,17],[231,18,231,20],[231,21,231,24],[231,25,231,28],[232,1,232,13],[232,14,232,17],[232,18,232,20],[232,21,232,24],[231,29,231,32],[231,37,231,40],[231,33,231,36],[230,25,230,28],[230,29,230,32],[230,33,230,36],[230,37,230,40],[231,1,231,13],[229,41,229,44],[229,45,229,48],[229,49,229,52],[229,1,229,13],[229,25,229,28],[230,1,230,13],[230,14,230,17],[230,18,230,20],[230,21,230,24],[228,45,228,48],[228,49,228,52],[229,14,229,17],[229,18,229,20],[229,21,229,24],[229,29,229,32],[229,37,229,40],[229,33,229,36],[228,25,228,28],[228,37,228,40],[228,1,228,13],[228,14,228,17],[228,18,228,20],[228,21,228,24],[228,41,228,44],[227,1,227,13],[227,14,227,17],[227,18,227,20],[227,21,227,24],[228,29,228,32],[228,33,228,36],[227,25,227,28],[227,29,227,32],[226,33,226,36],[226,37,226,40],[227,37,227,40],[227,33,227,36],[226,25,226,28],[226,29,226,32],[227,45,227,48],[227,49,227,52],[226,41,226,44],[226,45,226,48],[226,49,226,52],[227,41,227,44],[225,49,225,52],[224,41,224,44],[224,45,224,48],[224,49,224,52],[225,41,225,44],[225,45,225,48],[225,14,225,17],[225,18,225,20],[225,21,225,24],[225,25,225,28],[226,1,226,13],[226,14,226,17],[226,18,226,20],[226,21,226,24],[225,29,225,32],[225,37,225,40],[225,33,225,36],[224,25,224,28],[224,29,224,32],[224,33,224,36],[224,37,224,40],[225,1,225,13],[223,41,223,44],[223,45,223,48],[223,49,223,52],[223,1,223,13],[223,25,223,28],[224,1,224,13],[224,14,224,17],[224,18,224,20],[224,21,224,24],[222,45,222,48],[222,49,222,52],[223,14,223,17],[223,18,223,20],[223,21,223,24],[223,29,223,32],[223,37,223,40],[223,33,223,36],[222,25,222,28],[222,37,222,40],[222,1,222,13],[222,14,222,17],[222,18,222,20],[222,21,222,24],[222,41,222,44],[221,1,221,13],[221,14,221,17],[221,18,221,20],[221,21,221,24],[222,29,222,32],[222,33,222,36],[221,25,221,28],[221,29,221,32],[220,33,220,36],[220,37,220,40],[221,37,221,40],[221,33,221,36],[220,25,220,28],[220,29,220,32],[221,45,221,48],[221,49,221,52],[220,41,220,44],[220,45,220,48],[220,49,220,52],[221,41,221,44],[219,49,219,52],[218,41,218,44],[218,45,218,48],[218,49,218,52],[219,41,219,44],[219,45,219,48],[219,14,219,17],[219,18,219,20],[219,21,219,24],[219,25,219,28],[220,1,220,13],[220,14,220,17],[220,18,220,20],[220,21,220,24],[219,29,219,32],[219,37,219,40],[219,33,219,36],[218,25,218,28],[218,29,218,32],[218,33,218,36],[218,37,218,40],[219,1,219,13],[217,41,217,44],[217,45,217,48],[217,49,217,52],[217,1,217,13],[217,25,217,28],[218,1,218,13],[218,14,218,17],[218,18,218,20],[218,21,218,24],[216,45,216,48],[216,49,216,52],[217,14,217,17],[217,18,217,20],[217,21,217,24],[217,29,217,32],[217,37,217,40],[217,33,217,36],[216,25,216,28],[216,37,216,40],[216,1,216,13],[216,14,216,17],[216,18,216,20],[216,21,216,24],[216,41,216,44],[215,1,215,13],[215,14,215,17],[215,18,215,20],[215,21,215,24],[216,29,216,32],[216,33,216,36],[215,25,215,28],[215,29,215,32],[214,33,214,36],[214,37,214,40],[215,37,215,40],[215,33,215,36],[214,25,214,28],[214,29,214,32],[215,45,215,48],[215,49,215,52],[214,41,214,44],[214,45,214,48],[214,49,214,52],[215,41,215,44],[213,49,213,52],[212,41,212,44],[212,45,212,48],[212,49,212,52],[213,41,213,44],[213,45,213,48],[213,14,213,17],[213,18,213,20],[213,21,213,24],[213,25,213,28],[214,1,214,13],[214,14,214,17],[214,18,214,20],[214,21,214,24],[213,29,213,32],[213,37,213,40],[213,33,213,36],[212,25,212,28],[212,29,212,32],[212,33,212,36],[212,37,212,40],[213,1,213,13],[211,41,211,44],[211,45,211,48],[211,49,211,52],[211,1,211,13],[211,25,211,28],[212,1,212,13],[212,14,212,17],[212,18,212,20],[212,21,212,24],[210,45,210,48],[210,49,210,52],[211,14,211,17],[211,18,211,20],[211,21,211,24],[211,29,211,32],[211,37,211,40],[211,33,211,36],[210,25,210,28],[210,37,210,40],[210,1,210,13],[210,14,210,17],[210,18,210,20],[210,21,210,24],[210,41,210,44],[209,1,209,13],[209,14,209,17],[209,18,209,20],[209,21,209,24],[210,29,210,32],[210,33,210,36],[209,25,209,28],[209,29,209,32],[208,33,208,36],[208,37,208,40],[209,37,209,40],[209,33,209,36],[208,25,208,28],[208,29,208,32],[209,45,209,48],[209,49,209,52],[208,41,208,44],[208,45,208,48],[208,49,208,52],[209,41,209,44],[204,14,204,17],[204,18,204,20],[204,21,204,24],[207,49,207,52],[206,41,206,44],[206,45,206,48],[206,49,206,52],[207,41,207,44],[207,45,207,48],[207,14,207,17],[207,18,207,20],[207,21,207,24],[207,25,207,28],[208,1,208,13],[208,14,208,17],[208,18,208,20],[208,21,208,24],[207,29,207,32],[207,37,207,40],[207,33,207,36],[206,25,206,28],[206,29,206,32],[206,33,206,36],[206,37,206,40],[207,1,207,13],[205,41,205,44],[203,45,203,48],[203,49,203,52],[202,41,202,44],[202,45,202,48],[202,49,202,52],[203,41,203,44],[202,29,202,32],[202,33,202,36],[202,37,202,40],[203,25,203,28],[203,29,203,32],[205,45,205,48],[205,49,205,52],[205,1,205,13],[205,25,205,28],[206,1,206,13],[206,14,206,17],[206,18,206,20],[206,21,206,24],[204,41,204,44],[204,45,204,48],[204,49,204,52],[205,14,205,17],[205,18,205,20],[205,21,205,24],[205,29,205,32],[205,37,205,40],[205,33,205,36],[204,25,204,28],[204,33,204,36],[204,37,204,40],[204,1,204,13],[200,29,200,32],[200,33,200,36],[200,37,200,40],[202,1,202,13],[202,14,202,17],[202,18,202,20],[202,21,202,24],[203,37,203,40],[203,33,203,36],[203,1,203,13],[203,14,203,17],[203,18,203,20],[203,21,203,24],[201,1,201,13],[200,1,200,13],[200,14,200,17],[200,18,200,20],[200,21,200,24],[199,14,199,17],[199,18,199,20],[199,21,199,24],[199,29,199,32],[199,37,199,40],[199,33,199,36],[198,25,198,28],[198,37,198,40],[198,1,198,13],[198,14,198,17],[198,18,198,20],[198,21,198,24],[198,41,198,44],[201,49,201,52],[200,41,200,44],[200,45,200,48],[200,49,200,52],[201,41,201,44],[201,45,201,48],[201,14,201,17],[199,41,199,44],[199,45,199,48],[199,49,199,52],[199,1,199,13],[199,25,199,28],[201,18,201,20],[201,21,201,24],[201,25,201,28],[201,29,201,32],[201,37,201,40],[201,33,201,36],[200,25,200,28],[197,1,197,13],[197,14,197,17],[197,18,197,20],[197,21,197,24],[198,29,198,32],[198,33,198,36],[197,25,197,28],[197,29,197,32],[196,33,196,36],[196,37,196,40],[197,37,197,40],[197,33,197,36],[196,25,196,28],[196,29,196,32],[197,45,197,48],[197,49,197,52],[196,41,196,44],[196,45,196,48],[196,49,196,52],[197,41,197,44],[198,45,198,48],[198,49,198,52],[195,49,195,52],[194,41,194,44],[194,45,194,48],[194,49,194,52],[195,41,195,44],[195,45,195,48],[195,14,195,17],[195,18,195,20],[195,21,195,24]],"merged_total":3519,"flags":["merged_cut"]}
[]
[null,"請 求 明 細 書 入力・印刷画面　（取極め用）"]
[]
[null,null,null,"西暦",null,null,null,null,"年",null,null,"月",null,null,"日　請求分",null,null,null,null,null,null,null,null,null,null,null,null,null,null,null,null,null,null,{"$f":"クリアコメント","v":""}]
[]
["注　　文№",null,null,null,{"$f":"IF(基本入力画面!E21=\"\",\"\",基本入力画面!E21)","v":""},null,null,null,null,null,null,null,null,null,"－",{"$f":"IF(基本入力画面!L21=\"\",\"\",基本入力画面!L21)","v":""},null,null,"－",{"$f":"IF(基本入力画面!O21=\"\",\"\",基本入力画面!O21)","v":""}]
["工事名称：",null,null,null,{"$f":"IF(基本入力画面!E15=\"\",\"\",基本入力画面!E15)","v":""},null,null,null,null,null,null,null,null,null,null,null,null,null,null,null,null,null,null,null,null,"印刷部数選択",null,null,null,null,null,null,"印刷最終頁",null,null,null,null,{"$f":"内訳明細書入力画面!G7","v":0}]
[]
["頁","工事種目／品目",null,null,null,null,null,null,null,null,null,null,null,null,"①　現在注文金額",null,null,null,null,null,null,null,null,null,null,null,null,null,null,"②　前回までの請求累計額",null,null,null,null,null,null,null,"③　今回請求金額　",null,null,null,null,null,null,null,"②＋③　請求累計額"]
[null,null,null,null,null,null,null,null,null,null,null,null,null,null,"数  量",null,null,null,"単位",null,null,"単  価",null,null,null,"金  額",null,null,null,"数量",null,null,null,"金額",null,null,null,"数量",null,null,null,"金額",null,null,null,"数量",null,null,null,"金額"]
[{"$f":"((ROW()-11)+15)/15","v":1},{"$f":"IF(内訳明細書入力画面!B11=\"\",\"\",内訳明細書入力画面!B11)","v":""},null,null,null,null,null,null,null,null,null,null,null,null,{"$f":"IF(AND(内訳明細書入力画面!N11=\"\",内訳明細書入力画面!M11=\"\"),\"\",IF(内訳明細書入力画面!N11=\"\",内訳明細書入力画面!M11,内訳明細書入力画面!N11))","v":""},null,null,null,{"$f":"IF(内訳明細書入力画面!O11=\"\",\"\",内訳明細書入力画面!O11)","v":""},null,null,{"$f":"IF(AND(内訳明細書入力画面!R11=\"\",内訳明細書入力画面!P11=\"\"),\"\",IF(内訳明細書入力画面!R11=\"\",内訳明細書入力画面!P11,内訳明細書入力画面!R11))","v":""},null,null,null,{"$f":"IF(AND(内訳明細書入力画面!V11=\"\",内訳明細書入力画面!T11=\"\"),\"\",IF(内訳明細書入力画面!V11=\"\",内訳明細書入力画面!T11,内訳明細書入力画面!V11))","v":""},null,null,null,null,null,null,null,null,null,null,null,null,null,null,null,{"$f":"IF(AL11=\"\",\"\",ROUNDDOWN(N(V11)*N(AL11),0))","v":""},null,null,null,{"$f":"IF(AND(AD11=\"\",AL11=\"\"),\"\",N(AD11)+N(AL11))","v":""},null,null,null,{"$f":"IF(AND(AH11=\"\",AP11=\"\"),\"\",N(AH11)+N(AP11))","v":""}]
[null,{"$f":"IF(内訳明細書入力画面!B12=\"\",\"\",内訳明細書入力画面!B12)","v":""},null,null,null,null,null,null,null,null,null,null,null,null,{"$f":"IF(AND(内訳明細書入力画面!N12=\"\",内訳明細書入力画面!M12=\"\"),\"\",IF(内訳明細書入力画面!N12=\"\",内訳明細書入力画面!M12,内訳明細書入力画面!N12))","v":""},null,null,null,{"$f":"IF(内訳明細書入力画面!O12=\"\",\"\",内訳明細書入力画面!O12)","v":""},null,null,{"$f":"IF(AND(内訳明細書入力画面!R12=\"\",内訳明細書入力画面!P12=\"\"),\"\",IF(内訳明細書入力画面!R12=\"\",内訳明細書入力画面!P12,内訳明細書入力画面!R12))","v":""},null,null,null,{"$f":"IF(AND(内訳明細書入力画面!V12=\"\",内訳明細書入力画面!T12=\"\"),\"\",IF(内訳明細書入力画面!V12=\"\",内訳明細書入力画面!T12,内訳明細書入力画面!V12))","v":""},null,null,null,null,null,null,null,null,null,null,null,null,null,null,null,"",null,null,null,{"$f":"IF(AND(AD12=\"\",AL12=\"\"),\"\",N(AD12)+N(AL12))","v":""},null,null,null,{"$f":"IF(AND(AH12=\"\",AP12=\"\"),\"\",N(AH12)+N(AP12))","v":""}]
[null,{"$f":"IF(内訳明細書入力画面!B13=\"\",\"\",内訳明細書入力画面!B13)","v":""},null,null,null,null,null,null,null,null,null,null,null,null,{"$f":"IF(AND(内訳明細書入力画面!N13=\"\",内訳明細書入力画面!M13=\"\"),\"\",IF(内訳明細書入力画面!N13=\"\",内訳明細書入力画面!M13,内訳明細書入力画面!N13))","v":""},null,null,null,{"$f":"IF(内訳明細書入力画面!O13=\"\",\"\",内訳明細書入力画面!O13)","v":""},null,null,{"$f":"IF(AND(内訳明細書入力画面!R13=\"\",内訳明細書入力画面!P13=\"\"),\"\",IF(内訳明細書入力画面!R13=\"\",内訳明細書入力画面!P13,内訳明細書入力画面!R13))","v":""},null,null,null,{"$f":"IF(AND(内訳明細書入力画面!V13=\"\",内訳明細書入力画面!T13=\"\"),\"\",IF(内訳明細書入力画面!V13=\"\",内訳明細書入力画面!T13,内訳明細書入力画面!V13))","v":""},null,null,null,null,null,null,null,null,null,null,null,null,null,null,null,"",null,null,null,{"$f":"IF(AND(AD13=\"\",AL13=\"\"),\"\",N(AD13)+N(AL13))","v":""},null,null,null,{"$f":"IF(AND(AH13=\"\",AP13=\"\"),\"\",N(AH13)+N(AP13))","v":""}]
[null,{"$f":"IF(内訳明細書入力画面!B14=\"\",\"\",内訳明細書入力画面!B14)","v":""},null,null,null,null,null,null,null,null,null,null,null,null,{"$f":"IF(AND(内訳明細書入力画面!N14=\"\",内訳明細書入力画面!M14=\"\"),\"\",IF(内訳明細書入力画面!N14=\"\",内訳明細書入力画面!M14,内訳明細書入力画面!N14))","v":""},null,null,null,{"$f":"IF(内訳明細書入力画面!O14=\"\",\"\",内訳明細書入力画面!O14)","v":""},null,null,{"$f":"IF(AND(内訳明細書入力画面!R14=\"\",内訳明細書入力画面!P14=\"\"),\"\",IF(内訳明細書入力画面!R14=\"\",内訳明細書入力画面!P14,内訳明細書入力画面!R14))","v":""},null,null,null,{"$f":"IF(AND(内訳明細書入力画面!V14=\"\",内訳明細書入力画面!T14=\"\"),\"\",IF(内訳明細書入力画面!V14=\"\",内訳明細書入力画面!T14,内訳明細書入力画面!V14))","v":""},null,null,null,null,null,null,null,null,null,null,null,null,null,null,null,"",null,null,null,{"$f":"IF(AND(AD14=\"\",AL14=\"\"),\"\",N(AD14)+N(AL14))","v":""},null,null,null,{"$f":"IF(AND(AH14=\"\",AP14=\"\"),\"\",N(AH14)+N(AP14))","v":""}]
[null,{"$f":"IF(内訳明細書入力画面!B15=\"\",\"\",内訳明細書入力画面!B15)","v":""},null,null,null,null,null,null,null,null,null,null,null,null,{"$f":"IF(AND(内訳明細書入力画面!N15=\"\",内訳明細書入力画面!M15=\"\"),\"\",IF(内訳明細書入力画面!N15=\"\",内訳明細書入力画面!M15,内訳明細書入力画面!N15))","v":""},null,null,null,{"$f":"IF(内訳明細書入力画面!O15=\"\",\"\",内訳明細書入力画面!O15)","v":""},null,null,{"$f":"IF(AND(内訳明細書入力画面!R15=\"\",内訳明細書入力画面!P15=\"\"),\"\",IF(内訳明細書入力画面!R15=\"\",内訳明細書入力画面!P15,内訳明細書入力画面!R15))","v":""},null,null,null,{"$f":"IF(AND(内訳明細書入力画面!V15=\"\",内訳明細書入力画面!T15=\"\"),\"\",IF(内訳明細書入力画面!V15=\"\",内訳明細書入力画面!T15,内訳明細書入力画面!V15))","v":""},null,null,null,null,null,null,null,null,null,null,null,null,null,null,null,"",null,null,null,{"$f":"IF(AND(AD15=\"\",AL15=\"\"),\"\",N(AD15)+N(AL15))","v":""},null,null,null,{"$f":"IF(AND(AH15=\"\",AP15=\"\"),\"\",N(AH15)+N(AP15))","v":""}]
[null,{"$f":"IF(内訳明細書入力画面!B16=\"\",\"\",内訳明細書入力画面!B16)","v":""},null,null,null,null,null,null,null,null,null,null,null,null,{"$f":"IF(AND(内訳明細書入力画面!N16=\"\",内訳明細書入力画面!M16=\"\"),\"\",IF(内訳明細書入力画面!N16=\"\",内訳明細書入力画面!M16,内訳明細書入力画面!N16))","v":""},null,null,null,{"$f":"IF(内訳明細書入力画面!O16=\"\",\"\",内訳明細書入力画面!O16)","v":""},null,null,{"$f":"IF(AND(内訳明細書入力画面!R16=\"\",内訳明細書入力画面!P16=\"\"),\"\",IF(内訳明細書入力画面!R16=\"\",内訳明細書入力画面!P16,内訳明細書入力画面!R16))","v":""},null,null,null,{"$f":"IF(AND(内訳明細書入力画面!V16=\"\",内訳明細書入力画面!T16=\"\"),\"\",IF(内訳明細書入力画面!V16=\"\",内訳明細書入力画面!T16,内訳明細書入力画面!V16))","v":""},null,null,null,null,null,null,null,null,null,null,null,null,null,null,null,"",null,null,null,{"$f":"IF(AND(AD16=\"\",AL16=\"\"),\"\",N(AD16)+N(AL16))","v":""},null,null,null,{"$f":"IF(AND(AH16=\"\",AP16=\"\"),\"\",N(AH16)+N(AP16))","v":""}]
[null,{"$f":"IF(内訳明細書入力画面!B17=\"\",\"\",内訳明細書入力画面!B17)","v":""},null,null,null,null,null,null,null,null,null,null,null,null,{"$f":"IF(AND(内訳明細書入力画面!N17=\"\",内訳明細書入力画面!M17=\"\"),\"\",IF(内訳明細書入力画面!N17=\"\",内訳明細書入力画面!M17,内訳明細書入力画面!N17))","v":""},null,null,null,{"$f":"IF(内訳明細書入力画面!O17=\"\",\"\",内訳明細書入力画面!O17)","v":""},null,null,{"$f":"IF(AND(内訳明細書入力画面!R17=\"\",内訳明細書入力画面!P17=\"\"),\"\",IF(内訳明細書入力画面!R17=\"\",内訳明細書入力画面!P17,内訳明細書入力画面!R17))","v":""},null,null,null,{"$f":"IF(AND(内訳明細書入力画面!V17=\"\",内訳明細書入力画面!T17=\"\"),\"\",IF(内訳明細書入力画面!V17=\"\",内訳明細書入力画面!T17,内訳明細書入力画面!V17))","v":""},null,null,null,null,null,null,null,null,null,null,null,null,null,null,null,"",null,null,null,"",null,null,null,""]
[null,{"$f":"IF(内訳明細書入力画面!B18=\"\",\"\",内訳明細書入力画面!B18)","v":""},null,null,null,null,null,null,null,null,null,null,null,null,{"$f":"IF(AND(内訳明細書入力画面!N18=\"\",内訳明細書入力画面!M18=\"\"),\"\",IF(内訳明細書入力画面!N18=\"\",内訳明細書入力画面!M18,内訳明細書入力画面!N18))","v":""},null,null,null,{"$f":"IF(内訳明細書入力画面!O18=\"\",\"\",内訳明細書入力画面!O18)","v":""},null,null,{"$f":"IF(AND(内訳明細書入力画面!R18=\"\",内訳明細書入力画面!P18=\"\"),\"\",IF(内訳明細書入力画面!R18=\"\",内訳明細書入力画面!P18,内訳明細書入力画面!R18))","v":""},null,null,null,{"$f":"IF(AND(内訳明細書入力画面!V18=\"\",内訳明細書入力画面!T18=\"\"),\"\",IF(内訳明細書入力画面!V18=\"\",内訳明細書入力画面!T18,内訳明細書入力画面!V18))","v":""},null,null,null,null,null,null,null,null,null,null,null,null,null,null,null,"",null,null,null,"",null,null,null,""]
[null,{"$f":"IF(内訳明細書入力画面!B19=\"\",\"\",内訳明細書入力画面!B19)","v":""},null,null,null,null,null,null,null,null,null,null,null,null,{"$f":"IF(AND(内訳明細書入力画面!N19=\"\",内訳明細書入力画面!M19=\"\"),\"\",IF(内訳明細書入力画面!N19=\"\",内訳明細書入力画面!M19,内訳明細書入力画面!N19))","v":""},null,null,null,{"$f":"IF(内訳明細書入力画面!O19=\"\",\"\",内訳明細書入力画面!O19)","v":""},null,null,{"$f":"IF(AND(内訳明細書入力画面!R19=\"\",内訳明細書入力画面!P19=\"\"),\"\",IF(内訳明細書入力画面!R19=\"\",内訳明細書入力画面!P19,内訳明細書入力画面!R19))","v":""},null,null,null,{"$f":"IF(AND(内訳明細書入力画面!V19=\"\",内訳明細書入力画面!T19=\"\"),\"\",IF(内訳明細書入力画面!V19=\"\",内訳明細書入力画面!T19,内訳明細書入力画面!V19))","v":""},null,null,null,null,null,null,null,null,null,null,null,null,null,null,null,"",null,null,null,"",null,null,null,""]
[null,{"$f":"IF(内訳明細書入力画面!B20=\"\",\"\",内訳明細書入力画面!B20)","v":""},null,null,null,null,null,null,null,null,null,null,null,null,{"$f":"IF(AND(内訳明細書入力画面!N20=\"\",内訳明細書入力画面!M20=\"\"),\"\",IF(内訳明細書入力画面!N20=\"\",内訳明細書入力画面!M20,内訳明細書入力画面!N20))","v":""},null,null,null,{"$f":"IF(内訳明細書入力画面!O20=\"\",\"\",内訳明細書入力画面!O20)","v":""},null,null,{"$f":"IF(AND(内訳明細書入力画面!R20=\"\",内訳明細書入力画面!P20=\"\"),\"\",IF(内訳明細書入力画面!R20=\"\",内訳明細書入力画面!P20,内訳明細書入力画面!R20))","v":""},null,null,null,{"$f":"IF(AND(内訳明細書入力画面!V20=\"\",内訳明細書入力画面!T20=\"\"),\"\",IF(内訳明細書入力画面!V20=\"\",内訳明細書入力画面!T20,内訳明細書入力画面!V20))","v":""},null,null,null,null,null,null,null,null,null,null,null,null,null,null,null,"",null,null,null,"",null,null,null,""]
[null,{"$f":"IF(内訳明細書入力画面!B21=\"\",\"\",内訳明細書入力画面!B21)","v":""},null,null,null,null,null,null,null,null,null,null,null,null,{"$f":"IF(AND(内訳明細書入力画面!N21=\"\",内訳明細書入力画面!M21=\"\"),\"\",IF(内訳明細書入力画面!N21=\"\",内訳明細書入力画面!M21,内訳明細書入力画面!N21))","v":""},null,null,null,{"$f":"IF(内訳明細書入力画面!O21=\"\",\"\",内訳明細書入力画面!O21)","v":""},null,null,{"$f":"IF(AND(内訳明細書入力画面!R21=\"\",内訳明細書入力画面!P21=\"\"),\"\",IF(内訳明細書入力画面!R21=\"\",内訳明細書入力画面!P21,内訳明細書入力画面!R21))","v":""},null,null,null,{"$f":"IF(AND(内訳明細書入力画面!V21=\"\",内訳明細書入力画面!T21=\"\"),\"\",IF(内訳明細書入力画面!V21=\"\",内訳明細書入力画面!T21,内訳明細書入力画面!V21))","v":""},null,null,null,null,null,null,null,null,null,null,null,null,null,null,null,"",null,null,null,"",null,null,null,""]
[null,{"$f":"IF(内訳明細書入力画面!B22=\"\",\"\",内訳明細書入力画面!B22)","v":""},null,null,null,null,null,null,null,null,null,null,null,null,{"$f":"IF(AND(内訳明細書入力画面!N22=\"\",内訳明細書入力画面!M22=\"\"),\"\",IF(内訳明細書入力画面!N22=\"\",内訳明細書入力画面!M22,内訳明細書入力画面!N22))","v":""},null,null,null,{"$f":"IF(内訳明細書入力画面!O22=\"\",\"\",内訳明細書入力画面!O22)","v":""},null,null,{"$f":"IF(AND(内訳明細書入力画面!R22=\"\",内訳明細書入力画面!P22=\"\"),\"\",IF(内訳明細書入力画面!R22=\"\",内訳明細書入力画面!P22,内訳明細書入力画面!R22))","v":""},null,null,null,{"$f":"IF(AND(内訳明細書入力画面!V22=\"\",内訳明細書入力画面!T22=\"\"),\"\",IF(内訳明細書入力画面!V22=\"\",内訳明細書入力画面!T22,内訳明細書入力画面!V22))","v":""},null,null,null,null,null,null,null,null,null,null,null,null,null,null,null,"",null,null,null,"",null,null,null,""]
[null,{"$f":"IF(内訳明細書入力画面!B23=\"\",\"\",内訳明細書入力画面!B23)","v":""},null,null,null,null,null,null,null,null,null,null,null,null,{"$f":"IF(AND(内訳明細書入力画面!N23=\"\",内訳明細書入力画面!M23=\"\"),\"\",IF(内訳明細書入力画面!N23=\"\",内訳明細書入力画面!M23,内訳明細書入力画面!N23))","v":""},null,null,null,{"$f":"IF(内訳明細書入力画面!O23=\"\",\"\",内訳明細書入力画面!O23)","v":""},null,null,{"$f":"IF(AND(内訳明細書入力画面!R23=\"\",内訳明細書入力画面!P23=\"\"),\"\",IF(内訳明細書入力画面!R23=\"\",内訳明細書入力画面!P23,内訳明細書入力画面!R23))","v":""},null,null,null,{"$f":"IF(AND(内訳明細書入力画面!V23=\"\",内訳明細書入力画面!T23=\"\"),\"\",IF(内訳明細書入力画面!V23=\"\",内訳明細書入力画面!T23,内訳明細書入力画面!V23))","v":""},null,null,null,null,null,null,null,null,null,null,null,null,null,null,null,"",null,null,null,"",null,null,null,""]
[null,{"$f":"IF(内訳明細書入力画面!B24=\"\",\"\",内訳明細書入力画面!B24)","v":""},null,null,null,null,null,null,null,null,null,null,null,null,{"$f":"IF(AND(内訳明細書入力画面!N24=\"\",内訳明細書入力画面!M24=\"\"),\"\",IF(内訳明細書入力画面!N24=\"\",内訳明細書入力画面!M24,内訳明細書入力画面!N24))","v":""},null,null,null,{"$f":"IF(内訳明細書入力画面!O24=\"\",\"\",内訳明細書入力画面!O24)","v":""},null,null,{"$f":"IF(AND(内訳明細書入力画面!R24=\"\",内訳明細書入力画面!P24=\"\"),\"\",IF(内訳明細書入力画面!R24=\"\",内訳明細書入力画面!P24,内訳明細書入力画面!R24))","v":""},null,null,null,{"$f":"IF(AND(内訳明細書入力画面!V24=\"\",内訳明細書入力画面!T24=\"\"),\"\",IF(内訳明細書入力画面!V24=\"\",内訳明細書入力画面!T24,内訳明細書入力画面!V24))","v":""},null,null,null,null,null,null,null,null,null,null,null,null,null,null,null,"",null,null,null,"",null,null,null,""]
[null,{"$f":"IF(内訳明細書入力画面!B25=\"\",\"\",内訳明細書入力画面!B25)","v":""},null,null,null,null,null,null,null,null,null,null,null,null,{"$f":"IF(AND(内訳明細書入力画面!N25=\"\",内訳明細書入力画面!M25=\"\"),\"\",IF(内訳明細書入力画面!N25=\"\",内訳明細書入力画面!M25,内訳明細書入力画面!N25))","v":""},null,null,null,{"$f":"IF(内訳明細書入力画面!O25=\"\",\"\",内訳明細書入力画面!O25)","v":""},null,null,{"$f":"IF(AND(内訳明細書入力画面!R25=\"\",内訳明細書入力画面!P25=\"\"),\"\",IF(内訳明細書入力画面!R25=\"\",内訳明細書入力画面!P25,内訳明細書入力画面!R25))","v":""},null,null,null,{"$f":"IF(AND(内訳明細書入力画面!V25=\"\",内訳明細書入力画面!T25=\"\"),\"\",IF(内訳明細書入力画面!V25=\"\",内訳明細書入力画面!T25,内訳明細書入力画面!V25))","v":""},null,null,null,null,null,null,null,null,null,null,null,null,null,null,null,"",null,null,null,"",null,null,null,""]
[{"$f":"((ROW()-11)+15)/15","v":2},{"$f":"IF(内訳明細書入力画面!B26=\"\",\"\",内訳明細書入力画面!B26)","v":""},null,null,null,null,null,null,null,null,null,null,null,null,{"$f":"IF(AND(内訳明細書入力画面!N26=\"\",内訳明細書入力画面!M26=\"\"),\"\",IF(内訳明細書入力画面!N26=\"\",内訳明細書入力画面!M26,内訳明細書入力画面!N26))","v":""},null,null,null,{"$f":"IF(内訳明細書入力画面!O26=\"\",\"\",内訳明細書入力画面!O26)","v":""},null,null,{"$f":"IF(AND(内訳明細書入力画面!R26=\"\",内訳明細書入力画面!P26=\"\"),\"\",IF(内訳明細書入力画面!R26=\"\",内訳明細書入力画面!P26,内訳明細書入力画面!R26))","v":""},null,null,null,{"$f":"IF(AND(内訳明細書入力画面!V26=\"\",内訳明細書入力画面!T26=\"\"),\"\",IF(内訳明細書入力画面!V26=\"\",内訳明細書入力画面!T26,内訳明細書入力画面!V26))","v":""},null,null,null,null,null,null,null,null,null,null,null,null,null,null,null,"",null,null,null,"",null,null,null,""]
[null,{"$f":"IF(内訳明細書入力画面!B27=\"\",\"\",内訳明細書入力画面!B27)","v":""},null,null,null,null,null,null,null,null,null,null,null,null,{"$f":"IF(AND(内訳明細書入力画面!N27=\"\",内訳明細書入力画面!M27=\"\"),\"\",IF(内訳明細書入力画面!N27=\"\",内訳明細書入力画面!M27,内訳明細書入力画面!N27))","v":""},null,null,null,{"$f":"IF(内訳明細書入力画面!O27=\"\",\"\",内訳明細書入力画面!O27)","v":""},null,null,{"$f":"IF(AND(内訳明細書入力画面!R27=\"\",内訳明細書入力画面!P27=\"\"),\"\",IF(内訳明細書入力画面!R27=\"\",内訳明細書入力画面!P27,内訳明細書入力画面!R27))","v":""},null,null,null,{"$f":"IF(AND(内訳明細書入力画面!V27=\"\",内訳明細書入力画面!T27=\"\"),\"\",IF(内訳明細書入力画面!V27=\"\",内訳明細書入力画面!T27,内訳明細書入力画面!V27))","v":""},null,null,null,null,null,null,null,null,null,null,null,null,null,null,null,"",null,null,null,"",null,null,null,""]
[null,{"$f":"IF(内訳明細書入力画面!B28=\"\",\"\",内訳明細書入力画面!B28)","v":""},null,null,null,null,null,null,null,null,null,null,null,null,{"$f":"IF(AND(内訳明細書入力画面!N28=\"\",内訳明細書入力画面!M28=\"\"),\"\",IF(内訳明細書入力画面!N28=\"\",内訳明細書入力画面!M28,内訳明細書入力画面!N28))","v":""},null,null,null,{"$f":"IF(内訳明細書入力画面!O28=\"\",\"\",内訳明細書入力画面!O28)","v":""},null,null,{"$f":"IF(AND(内訳明細書入力画面!R28=\"\",内訳明細書入力画面!P28=\"\"),\"\",IF(内訳明細書入力画面!R28=\"\",内訳明細書入力画面!P28,内訳明細書入力画面!R28))","v":""},null,null,null,{"$f":"IF(AND(内訳明細書入力画面!V28=\"\",内訳明細書入力画面!T28=\"\"),\"\",IF(内訳明細書入力画面!V28=\"\",内訳明細書入力画面!T28,内訳明細書入力画面!V28))","v":""},null,null,null,null,null,null,null,null,null,null,null,null,null,null,null,"",null,null,null,"",null,null,null,""]
[null,{"$f":"IF(内訳明細書入力画面!B29=\"\",\"\",内訳明細書入力画面!B29)","v":""},null,null,null,null,null,null,null,null,null,null,null,null,{"$f":"IF(AND(内訳明細書入力画面!N29=\"\",内訳明細書入力画面!M29=\"\"),\"\",IF(内訳明細書入力画面!N29=\"\",内訳明細書入力画面!M29,内訳明細書入力画面!N29))","v":""},null,null,null,{"$f":"IF(内訳明細書入力画面!O29=\"\",\"\",内訳明細書入力画面!O29)","v":""},null,null,{"$f":"IF(AND(内訳明細書入力画面!R29=\"\",内訳明細書入力画面!P29=\"\"),\"\",IF(内訳明細書入力画面!R29=\"\",内訳明細書入力画面!P29,内訳明細書入力画面!R29))","v":""},null,null,null,{"$f":"IF(AND(内訳明細書入力画面!V29=\"\",内訳明細書入力画面!T29=\"\"),\"\",IF(内訳明細書入力画面!V29=\"\",内訳明細書入力画面!T29,内訳明細書入力画面!V29))","v":""},null,null,null,null,null,null,null,null,null,null,null,null,null,null,null,"",null,null,null,"",null,null,null,""]
[null,{"$f":"IF(内訳明細書入力画面!B30=\"\",\"\",内訳明細書入力画面!B30)","v":""},null,null,null,null,null,null,null,null,null,null,null,null,{"$f":"IF(AND(内訳明細書入力画面!N30=\"\",内訳明細書入力画面!M30=\"\"),\"\",IF(内訳明細書入力画面!N30=\"\",内訳明細書入力画面!M30,内訳明細書入力画面!N30))","v":""},null,null,null,{"$f":"IF(内訳明細書入力画面!O30=\"\",\"\",内訳明細書入力画面!O30)","v":""},null,null,{"$f":"IF(AND(内訳明細書入力画面!R30=\"\",内訳明細書入力画面!P30=\"\"),\"\",IF(内訳明細書入力画面!R30=\"\",内訳明細書入力画面!P30,内訳明細書入力画面!R30))","v":""},null,null,null,{"$f":"IF(AND(内訳明細書入力画面!V30=\"\",内訳明細書入力画面!T30=\"\"),\"\",IF(内訳明細書入力画面!V30=\"\",内訳明細書入力画面!T30,内訳明細書入力画面!V30))","v":""},null,null,null,null,null,null,null,null,null,null,null,null,null,null,null,"",null,null,null,"",null,null,null,""]
[null,{"$f":"IF(内訳明細書入力画面!B31=\"\",\"\",内訳明細書入力画面!B31)","v":""},null,null,null,null,null,null,null,null,null,null,null,null,{"$f":"IF(AND(内訳明細書入力画面!N31=\"\",内訳明細書入力画面!M31=\"\"),\"\",IF(内訳明細書入力画面!N31=\"\",内訳明細書入力画面!M31,内訳明細書入力画面!N31))","v":""},null,null,null,{"$f":"IF(内訳明細書入力画面!O31=\"\",\"\",内訳明細書入力画面!O31)","v":""},null,null,{"$f":"IF(AND(内訳明細書入力画面!R31=\"\",内訳明細書入力画面!P31=\"\"),\"\",IF(内訳明細書入力画面!R31=\"\",内訳明細書入力画面!P31,内訳明細書入力画面!R31))","v":""},null,null,null,{"$f":"IF(AND(内訳明細書入力画面!V31=\"\",内訳明細書入力画面!T31=\"\"),\"\",IF(内訳明細書入力画面!V31=\"\",内訳明細書入力画面!T31,内訳明細書入力画面!V31))","v":""},null,null,null,null,null,null,null,null,null,null,null,null,null,null,null,"",null,null,null,"",null,null,null,""]
[null,{"$f":"IF(内訳明細書入力画面!B32=\"\",\"\",内訳明細書入力画面!B32)","v":""},null,null,null,null,null,null,null,null,null,null,null,null,{"$f":"IF(AND(内訳明細書入力画面!N32=\"\",内訳明細書入力画面!M32=\"\"),\"\",IF(内訳明細書入力画面!N32=\"\",内訳明細書入力画面!M32,内訳明細書入力画面!N32))","v":""},null,null,null,{"$f":"IF(内訳明細書入力画面!O32=\"\",\"\",内訳明細書入力画面!O32)","v":""},null,null,{"$f":"IF(AND(内訳明細書入力画面!R32=\"\",内訳明細書入力画面!P32=\"\"),\"\",IF(内訳明細書入力画面!R32=\"\",内訳明細書入力画面!P32,内訳明細書入力画面!R32))","v":""},null,null,null,{"$f":"IF(AND(内訳明細書入力画面!V32=\"\",内訳明細書入力画面!T32=\"\"),\"\",IF(内訳明細書入力画面!V32=\"\",内訳明細書入力画面!T32,内訳明細書入力画面!V32))","v":""},null,null,null,null,null,null,null,null,null,null,null,null,null,null,null,"",null,null,null,"",null,null,null,""]
[null,{"$f":"IF(内訳明細書入力画面!B33=\"\",\"\",内訳明細書入力画面!B33)","v":""},null,null,null,null,null,null,null,null,null,null,null,null,{"$f":"IF(AND(内訳明細書入力画面!N33=\"\",内訳明細書入力画面!M33=\"\"),\"\",IF(内訳明細書入力画面!N33=\"\",内訳明細書入力画面!M33,内訳明細書入力画面!N33))","v":""},null,null,null,{"$f":"IF(内訳明細書入力画面!O33=\"\",\"\",内訳明細書入力画面!O33)","v":""},null,null,{"$f":"IF(AND(内訳明細書入力画面!R33=\"\",内訳明細書入力画面!P33=\"\"),\"\",IF(内訳明細書入力画面!R33=\"\",内訳明細書入力画面!P33,内訳明細書入力画面!R33))","v":""},null,null,null,{"$f":"IF(AND(内訳明細書入力画面!V33=\"\",内訳明細書入力画面!T33=\"\"),\"\",IF(内訳明細書入力画面!V33=\"\",内訳明細書入力画面!T33,内訳明細書入力画面!V33))","v":""},null,null,null,null,null,null,null,null,null,null,null,null,null,null,null,"",null,null,null,"",null,null,null,""]
[null,{"$f":"IF(内訳明細書入力画面!B34=\"\",\"\",内訳明細書入力画面!B34)","v":""},null,null,null,null,null,null,null,null,null,null,null,null,{"$f":"IF(AND(内訳明細書入力画面!N34=\"\",内訳明細書入力画面!M34=\"\"),\"\",IF(内訳明細書入力画面!N34=\"\",内訳明細書入力画面!M34,内訳明細書入力画面!N34))","v":""},null,null,null,{"$f":"IF(内訳明細書入力画面!O34=\"\",\"\",内訳明細書入力画面!O34)","v":""},null,null,{"$f":"IF(AND(内訳明細書入力画面!R34=\"\",内訳明細書入力画面!P34=\"\"),\"\",IF(内訳明細書入力画面!R34=\"\",内訳明細書入力画面!P34,内訳明細書入力画面!R34))","v":""},null,null,null,{"$f":"IF(AND(内訳明細書入力画面!V34=\"\",内訳明細書入力画面!T34=\"\"),\"\",IF(内訳明細書入力画面!V34=\"\",内訳明細書入力画面!T34,内訳明細書入力画面!V34))","v":""},null,null,null,null,null,null,null,null,null,null,null,null,null,null,null,"",null,null,null,"",null,null,null,""]
[null,{"$f":"IF(内訳明細書入力画面!B35=\"\",\"\",内訳明細書入力画面!B35)","v":""},null,null,null,null,null,null,null,null,null,null,null,null,{"$f":"IF(AND(内訳明細書入力画面!N35=\"\",内訳明細書入力画面!M35=\"\"),\"\",IF(内訳明細書入力画面!N35=\"\",内訳明細書入力画面!M35,内訳明細書入力画面!N35))","v":""},null,null,null,{"$f":"IF(内訳明細書入力画面!O35=\"\",\"\",内訳明細書入力画面!O35)","v":""},null,null,{"$f":"IF(AND(内訳明細書入力画面!R35=\"\",内訳明細書入力画面!P35=\"\"),\"\",IF(内訳明細書入力画面!R35=\"\",内訳明細書入力画面!P35,内訳明細書入力画面!R35))","v":""},null,null,null,{"$f":"IF(AND(内訳明細書入力画面!V35=\"\",内訳明細書入力画面!T35=\"\"),\"\",IF(内訳明細書入力画面!V35=\"\",内訳明細書入力画面!T35,内訳明細書入力画面!V35))","v":""},null,null,null,null,null,null,null,null,null,null,null,null,null,null,null,"",null,null,null,"",null,null,null,""]
[null,{"$f":"IF(内訳明細書入力画面!B36=\"\",\"\",内訳明細書入力画面!B36)","v":""},null,null,null,null,null,null,null,null,null,null,null,null,{"$f":"IF(AND(内訳明細書入力画面!N36=\"\",内訳明細書入力画面!M36=\"\"),\"\",IF(内訳明細書入力画面!N36=\"\",内訳明細書入力画面!M36,内訳明細書入力画面!N36))","v":""},null,null,null,{"$f":"IF(内訳明細書入力画面!O36=\"\",\"\",内訳明細書入力画面!O36)","v":""},null,null,{"$f":"IF(AND(内訳明細書入力画面!R36=\"\",内訳明細書入力画面!P36=\"\"),\"\",IF(内訳明細書入力画面!R36=\"\",内訳明細書入力画面!P36,内訳明細書入力画面!R36))","v":""},null,null,null,{"$f":"IF(AND(内訳明細書入力画面!V36=\"\",内訳明細書入力画面!T36=\"\"),\"\",IF(内訳明細書入力画面!V36=\"\",内訳明細書入力画面!T36,内訳明細書入力画面!V36))","v":""},null,null,null,null,null,null,null,null,null,null,null,null,null,null,null,"",null,null,null,"",null,null,null,""]
[null,{"$f":"IF(内訳明細書入力画面!B37=\"\",\"\",内訳明細書入力画面!B37)","v":""},null,null,null,null,null,null,null,null,null,null,null,null,{"$f":"IF(AND(内訳明細書入力画面!N37=\"\",内訳明細書入力画面!M37=\"\"),\"\",IF(内訳明細書入力画面!N37=\"\",内訳明細書入力画面!M37,内訳明細書入力画面!N37))","v":""},null,null,null,{"$f":"IF(内訳明細書入力画面!O37=\"\",\"\",内訳明細書入力画面!O37)","v":""},null,null,{"$f":"IF(AND(内訳明細書入力画面!R37=\"\",内訳明細書入力画面!P37=\"\"),\"\",IF(内訳明細書入力画面!R37=\"\",内訳明細書入力画面!P37,内訳明細書入力画面!R37))","v":""},null,null,null,{"$f":"IF(AND(内訳明細書入力画面!V37=\"\",内訳明細書入力画面!T37=\"\"),\"\",IF(内訳明細書入力画面!V37=\"\",内訳明細書入力画面!T37,内訳明細書入力画面!V37))","v":""},null,null,null,null,null,null,null,null,null,null,null,null,null,null,null,"",null,null,null,"",null,null,null,""]
[null,{"$f":"IF(内訳明細書入力画面!B38=\"\",\"\",内訳明細書入力画面!B38)","v":""},null,null,null,null,null,null,null,null,null,null,null,null,{"$f":"IF(AND(内訳明細書入力画面!N38=\"\",内訳明細書入力画面!M38=\"\"),\"\",IF(内訳明細書入力画面!N38=\"\",内訳明細書入力画面!M38,内訳明細書入力画面!N38))","v":""},null,null,null,{"$f":"IF(内訳明細書入力画面!O38=\"\",\"\",内訳明細書入力画面!O38)","v":""},null,null,{"$f":"IF(AND(内訳明細書入力画面!R38=\"\",内訳明細書入力画面!P38=\"\"),\"\",IF(内訳明細書入力画面!R38=\"\",内訳明細書入力画面!P38,内訳明細書入力画面!R38))","v":""},null,null,null,{"$f":"IF(AND(内訳明細書入力画面!V38=\"\",内訳明細書入力画面!T38=\"\"),\"\",IF(内訳明細書入力画面!V38=\"\",内訳明細書入力画面!T38,内訳明細書入力画面!V38))","v":""},null,null,null,null,null,null,null,null,null,null,null,null,null,null,null,"",null,null,null,"",null,null,null,""]
[null,{"$f":"IF(内訳明細書入力画面!B39=\"\",\"\",内訳明細書入力画面!B39)","v":""},null,null,null,null,null,null,null,null,null,null,null,null,{"$f":"IF(AND(内訳明細書入力画面!N39=\"\",内訳明細書入力画面!M39=\"\"),\"\",IF(内訳明細書入力画面!N39=\"\",内訳明細書入力画面!M39,内訳明細書入力画面!N39))","v":""},null,null,null,{"$f":"IF(内訳明細書入力画面!O39=\"\",\"\",内訳明細書入力画面!O39)","v":""},null,null,{"$f":"IF(AND(内訳明細書入力画面!R39=\"\",内訳明細書入力画面!P39=\"\"),\"\",IF(内訳明細書入力画面!R39=\"\",内訳明細書入力画面!P39,内訳明細書入力画面!R39))","v":""},null,null,null,{"$f":"IF(AND(内訳明細書入力画面!V39=\"\",内訳明細書入力画面!T39=\"\"),\"\",IF(内訳明細書入力画面!V39=\"\",内訳明細書入力画面!T39,内訳明細書入力画面!V39))","v":""},null,null,null,null,null,null,null,null,null,null,null,null,null,null,null,"",null,null,null,"",null,null,null,""]
[null,{"$f":"IF(内訳明細書入力画面!B40=\"\",\"\",内訳明細書入力画面!B40)","v":""},null,null,null,null,null,null,null,null,null,null,null,null,{"$f":"IF(AND(内訳明細書入力画面!N40=\"\",内訳明細書入力画面!M40=\"\"),\"\",IF(内訳明細書入力画面!N40=\"\",内訳明細書入力画面!M40,内訳明細書入力画面!N40))","v":""},null,null,null,{"$f":"IF(内訳明細書入力画面!O40=\"\",\"\",内訳明細書入力画面!O40)","v":""},null,null,{"$f":"IF(AND(内訳明細書入力画面!R40=\"\",内訳明細書入力画面!P40=\"\"),\"\",IF(内訳明細書入力画面!R40=\"\",内訳明細書入力画面!P40,内訳明細書入力画面!R40))","v":""},null,null,null,{"$f":"IF(AND(内訳明細書入力画面!V40=\"\",内訳明細書入力画面!T40=\"\"),\"\",IF(内訳明細書入力画面!V40=\"\",内訳明細書入力画面!T40,内訳明細書入力画面!V40))","v":""},null,null,null,null,null,null,null,null,null,null,null,null,null,null,null,"",null,null,null,"",null,null,null,""]
[{"$f":"((ROW()-11)+15)/15","v":3},{"$f":"IF(内訳明細書入力画面!B41=\"\",\"\",内訳明細書入力画面!B41)","v":""},null,null,null,null,null,null,null,null,null,null,null,null,{"$f":"IF(AND(内訳明細書入力画面!N41=\"\",内訳明細書入力画面!M41=\"\"),\"\",IF(内訳明細書入力画面!N41=\"\",内訳明細書入力画面!M41,内訳明細書入力画面!N41))","v":""},null,null,null,{"$f":"IF(内訳明細書入力画面!O41=\"\",\"\",内訳明細書入力画面!O41)","v":""},null,null,{"$f":"IF(AND(内訳明細書入力画面!R41=\"\",内訳明細書入力画面!P41=\"\"),\"\",IF(内訳明細書入力画面!R41=\"\",内訳明細書入力画面!P41,内訳明細書入力画面!R41))","v":""},null,null,null,{"$f":"IF(AND(内訳明細書入力画面!V41=\"\",内訳明細書入力画面!T41=\"\"),\"\",IF(内訳明細書入力画面!V41=\"\",内訳明細書入力画面!T41,内訳明細書入力画面!V41))","v":""},null,null,null,null,null,null,null,null,null,null,null,null,null,null,null,"",null,null,null,"",null,null,null,""]
[null,{"$f":"IF(内訳明細書入力画面!B42=\"\",\"\",内訳明細書入力画面!B42)","v":""},null,null,null,null,null,null,null,null,null,null,null,null,{"$f":"IF(AND(内訳明細書入力画面!N42=\"\",内訳明細書入力画面!M42=\"\"),\"\",IF(内訳明細書入力画面!N42=\"\",内訳明細書入力画面!M42,内訳明細書入力画面!N42))","v":""},null,null,null,{"$f":"IF(内訳明細書入力画面!O42=\"\",\"\",内訳明細書入力画面!O42)","v":""},null,null,{"$f":"IF(AND(内訳明細書入力画面!R42=\"\",内訳明細書入力画面!P42=\"\"),\"\",IF(内訳明細書入力画面!R42=\"\",内訳明細書入力画面!P42,内訳明細書入力画面!R42))","v":""},null,null,null,{"$f":"IF(AND(内訳明細書入力画面!V42=\"\",内訳明細書入力画面!T42=\"\"),\"\",IF(内訳明細書入力画面!V42=\"\",内訳明細書入力画面!T42,内訳明細書入力画面!V42))","v":""},null,null,null,null,null,null,null,null,null,null,null,null,null,null,null,"",null,null,null,"",null,null,null,""]
[null,{"$f":"IF(内訳明細書入力画面!B43=\"\",\"\",内訳明細書入力画面!B43)","v":""},null,null,null,null,null,null,null,null,null,null,null,null,{"$f":"IF(AND(内訳明細書入力画面!N43=\"\",内訳明細書入力画面!M43=\"\"),\"\",IF(内訳明細書入力画面!N43=\"\",内訳明細書入力画面!M43,内訳明細書入力画面!N43))","v":""},null,null,null,{"$f":"IF(内訳明細書入力画面!O43=\"\",\"\",内訳明細書入力画面!O43)","v":""},null,null,{"$f":"IF(AND(内訳明細書入力画面!R43=\"\",内訳明細書入力画面!P43=\"\"),\"\",IF(内訳明細書入力画面!R43=\"\",内訳明細書入力画面!P43,内訳明細書入力画面!R43))","v":""},null,null,null,{"$f":"IF(AND(内訳明細書入力画面!V43=\"\",内訳明細書入力画面!T43=\"\"),\"\",IF(内訳明細書入力画面!V43=\"\",内訳明細書入力画面!T43,内訳明細書入力画面!V43))","v":""},null,null,null,null,null,null,null,null,null,null,null,null,null,null,null,"",null,null,null,"",null,null,null,""]
[null,{"$f":"IF(内訳明細書入力画面!B44=\"\",\"\",内訳明細書入力画面!B44)","v":""},null,null,null,null,null,null,null,null,null,null,null,null,{"$f":"IF(AND(内訳明細書入力画面!N44=\"\",内訳明細書入力画面!M44=\"\"),\"\",IF(内訳明細書入力画面!N44=\"\",内訳明細書入力画面!M44,内訳明細書入力画面!N44))","v":""},null,null,null,{"$f":"IF(内訳明細書入力画面!O44=\"\",\"\",内訳明細書入力画面!O44)","v":""},null,null,{"$f":"IF(AND(内訳明細書入力画面!R44=\"\",内訳明細書入力画面!P44=\"\"),\"\",IF(内訳明細書入力画面!R44=\"\",内訳明細書入力画面!P44,内訳明細書入力画面!R44))","v":""},null,null,null,{"$f":"IF(AND(内訳明細書入力画面!V44=\"\",内訳明細書入力画面!T44=\"\"),\"\",IF(内訳明細書入力画面!V44=\"\",内訳明細書入力画面!T44,内訳明細書入力画面!V44))","v":""},null,null,null,null,null,null,null,null,null,null,null,null,null,null,null,"",null,null,null,"",null,null,null,""]
[null,{"$f":"IF(内訳明細書入力画面!B45=\"\",\"\",内訳明細書入力画面!B45)","v":""},null,null,null,null,null,null,null,null,null,null,null,null,{"$f":"IF(AND(内訳明細書入力画面!N45=\"\",内訳明細書入力画面!M45=\"\"),\"\",IF(内訳明細書入力画面!N45=\"\",内訳明細書入力画面!M45,内訳明細書入力画面!N45))","v":""},null,null,null,{"$f":"IF(内訳明細書入力画面!O45=\"\",\"\",内訳明細書入力画面!O45)","v":""},null,null,{"$f":"IF(AND(内訳明細書入力画面!R45=\"\",内訳明細書入力画面!P45=\"\"),\"\",IF(内訳明細書入力画面!R45=\"\",内訳明細書入力画面!P45,内訳明細書入力画面!R45))","v":""},null,null,null,{"$f":"IF(AND(内訳明細書入力画面!V45=\"\",内訳明細書入力画面!T45=\"\"),\"\",IF(内訳明細書入力画面!V45=\"\",内訳明細書入力画面!T45,内訳明細書入力画面!V45))","v":""},null,null,null,null,null,null,null,null,null,null,null,null,null,null,null,"",null,null,null,"",null,null,null,""]
[null,{"$f":"IF(内訳明細書入力画面!B46=\"\",\"\",内訳明細書入力画面!B46)","v":""},null,null,null,null,null,null,null,null,null,null,null,null,{"$f":"IF(AND(内訳明細書入力画面!N46=\"\",内訳明細書入力画面!M46=\"\"),\"\",IF(内訳明細書入力画面!N46=\"\",内訳明細書入力画面!M46,内訳明細書入力画面!N46))","v":""},null,null,null,{"$f":"IF(内訳明細書入力画面!O46=\"\",\"\",内訳明細書入力画面!O46)","v":""},null,null,{"$f":"IF(AND(内訳明細書入力画面!R46=\"\",内訳明細書入力画面!P46=\"\"),\"\",IF(内訳明細書入力画面!R46=\"\",内訳明細書入力画面!P46,内訳明細書入力画面!R46))","v":""},null,null,null,{"$f":"IF(AND(内訳明細書入力画面!V46=\"\",内訳明細書入力画面!T46=\"\"),\"\",IF(内訳明細書入力画面!V46=\"\",内訳明細書入力画面!T46,内訳明細書入力画面!V46))","v":""},null,null,null,null,null,null,null,null,null,null,null,null,null,null,null,"",null,null,null,"",null,null,null,""]
[null,{"$f":"IF(内訳明細書入力画面!B47=\"\",\"\",内訳明細書入力画面!B47)","v":""},null,null,null,null,null,null,null,null,null,null,null,null,{"$f":"IF(AND(内訳明細書入力画面!N47=\"\",内訳明細書入力画面!M47=\"\"),\"\",IF(内訳明細書入力画面!N47=\"\",内訳明細書入力画面!M47,内訳明細書入力画面!N47))","v":""},null,null,null,{"$f":"IF(内訳明細書入力画面!O47=\"\",\"\",内訳明細書入力画面!O47)","v":""},null,null,{"$f":"IF(AND(内訳明細書入力画面!R47=\"\",内訳明細書入力画面!P47=\"\"),\"\",IF(内訳明細書入力画面!R47=\"\",内訳明細書入力画面!P47,内訳明細書入力画面!R47))","v":""},null,null,null,{"$f":"IF(AND(内訳明細書入力画面!V47=\"\",内訳明細書入力画面!T47=\"\"),\"\",IF(内訳明細書入力画面!V47=\"\",内訳明細書入力画面!T47,内訳明細書入力画面!V47))","v":""},null,null,null,null,null,null,null,null,null,null,null,null,null,null,null,"",null,null,null,"",null,null,null,""]
[null,{"$f":"IF(内訳明細書入力画面!B48=\"\",\"\",内訳明細書入力画面!B48)","v":""},null,null,null,null,null,null,null,null,null,null,null,null,{"$f":"IF(AND(内訳明細書入力画面!N48=\"\",内訳明細書入力画面!M48=\"\"),\"\",IF(内訳明細書入力画面!N48=\"\",内訳明細書入力画面!M48,内訳明細書入力画面!N48))","v":""},null,null,null,{"$f":"IF(内訳明細書入力画面!O48=\"\",\"\",内訳明細書入力画面!O48)","v":""},null,null,{"$f":"IF(AND(内訳明細書入力画面!R48=\"\",内訳明細書入力画面!P48=\"\"),\"\",IF(内訳明細書入力画面!R48=\"\",内訳明細書入力画面!P48,内訳明細書入力画面!R48))","v":""},null,null,null,{"$f":"IF(AND(内訳明細書入力画面!V48=\"\",内訳明細書入力画面!T48=\"\"),\"\",IF(内訳明細書入力画面!V48=\"\",内訳明細書入力画面!T48,内訳明細書入力画面!V48))","v":""},null,null,null,null,null,null,null,null,null,null,null,null,null,null,null,"",null,null,null,"",null,null,null,""]
[null,{"$f":"IF(内訳明細書入力画面!B49=\"\",\"\",内訳明細書入力画面!B49)","v":""},null,null,null,null,null,null,null,null,null,null,null,null,{"$f":"IF(AND(内訳明細書入力画面!N49=\"\",内訳明細書入力画面!M49=\"\"),\"\",IF(内訳明細書入力画面!N49=\"\",内訳明細書入力画面!M49,内訳明細書入力画面!N49))","v":""},null,null,null,{"$f":"IF(内訳明細書入力画面!O49=\"\",\"\",内訳明細書入力画面!O49)","v":""},null,null,{"$f":"IF(AND(内訳明細書入力画面!R49=\"\",内訳明細書入力画面!P49=\"\"),\"\",IF(内訳明細書入力画面!R49=\"\",内訳明細書入力画面!P49,内訳明細書入力画面!R49))","v":""},null,null,null,{"$f":"IF(AND(内訳明細書入力画面!V49=\"\",内訳明細書入力画面!T49=\"\"),\"\",IF(内訳明細書入力画面!V49=\"\",内訳明細書入力画面!T49,内訳明細書入力画面!V49))","v":""},null,null,null,null,null,null,null,null,null,null,null,null,null,null,null,"",null,null,null,"",null,null,null,""]
[null,{"$f":"IF(内訳明細書入力画面!B50=\"\",\"\",内訳明細書入力画面!B50)","v":""},null,null,null,null,null,null,null,null,null,null,null,null,{"$f":"IF(AND(内訳明細書入力画面!N50=\"\",内訳明細書入力画面!M50=\"\"),\"\",IF(内訳明細書入力画面!N50=\"\",内訳明細書入力画面!M50,内訳明細書入力画面!N50))","v":""},null,null,null,{"$f":"IF(内訳明細書入力画面!O50=\"\",\"\",内訳明細書入力画面!O50)","v":""},null,null,{"$f":"IF(AND(内訳明細書入力画面!R50=\"\",内訳明細書入力画面!P50=\"\"),\"\",IF(内訳明細書入力画面!R50=\"\",内訳明細書入力画面!P50,内訳明細書入力画面!R50))","v":""},null,null,null,{"$f":"IF(AND(内訳明細書入力画面!V50=\"\",内訳明細書入力画面!T50=\"\"),\"\",IF(内訳明細書入力画面!V50=\"\",内訳明細書入力画面!T50,内訳明細書入力画面!V50))","v":""},null,null,null,null,null,null,null,null,null,null,null,null,null,null,null,"",null,null,null,"",null,null,null,""]
[null,{"$f":"IF(内訳明細書入力画面!B51=\"\",\"\",内訳明細書入力画面!B51)","v":""},null,null,null,null,null,null,null,null,null,null,null,null,{"$f":"IF(AND(内訳明細書入力画面!N51=\"\",内訳明細書入力画面!M51=\"\"),\"\",IF(内訳明細書入力画面!N51=\"\",内訳明細書入力画面!M51,内訳明細書入力画面!N51))","v":""},null,null,null,{"$f":"IF(内訳明細書入力画面!O51=\"\",\"\",内訳明細書入力画面!O51)","v":""},null,null,{"$f":"IF(AND(内訳明細書入力画面!R51=\"\",内訳明細書入力画面!P51=\"\"),\"\",IF(内訳明細書入力画面!R51=\"\",内訳明細書入力画面!P51,内訳明細書入力画面!R51))","v":""},null,null,null,{"$f":"IF(AND(内訳明細書入力画面!V51=\"\",内訳明細書入力画面!T51=\"\"),\"\",IF(内訳明細書入力画面!V51=\"\",内訳明細書入力画面!T51,内訳明細書入力画面!V51))","v":""},null,null,null,null,null,null,null,null,null,null,null,null,null,null,null,"",null,null,null,"",null,null,null,""]
[null,{"$f":"IF(内訳明細書入力画面!B52=\"\",\"\",内訳明細書入力画面!B52)","v":""},null,null,null,null,null,null,null,null,null,null,null,null,{"$f":"IF(AND(内訳明細書入力画面!N52=\"\",内訳明細書入力画面!M52=\"\"),\"\",IF(内訳明細書入力画面!N52=\"\",内訳明細書入力画面!M52,内訳明細書入力画面!N52))","v":""},null,null,null,{"$f":"IF(内訳明細書入力画面!O52=\"\",\"\",内訳明細書入力画面!O52)","v":""},null,null,{"$f":"IF(AND(内訳明細書入力画面!R52=\"\",内訳明細書入力画面!P52=\"\"),\"\",IF(内訳明細書入力画面!R52=\"\",内訳明細書入力画面!P52,内訳明細書入力画面!R52))","v":""},null,null,null,{"$f":"IF(AND(内訳明細書入力画面!V52=\"\",内訳明細書入力画面!T52=\"\"),\"\",IF(内訳明細書入力画面!V52=\"\",内訳明細書入力画面!T52,内訳明細書入力画面!V52))","v":""},null,null,null,null,null,null,null,null,null,null,null,null,null,null,null,"",null,null,null,"",null,null,null,""]
[null,{"$f":"IF(内訳明細書入力画面!B53=\"\",\"\",内訳明細書入力画面!B53)","v":""},null,null,null,null,null,null,null,null,null,null,null,null,{"$f":"IF(AND(内訳明細書入力画面!N53=\"\",内訳明細書入力画面!M53=\"\"),\"\",IF(内訳明細書入力画面!N53=\"\",内訳明細書入力画面!M53,内訳明細書入力画面!N53))","v":""},null,null,null,{"$f":"IF(内訳明細書入力画面!O53=\"\",\"\",内訳明細書入力画面!O53)","v":""},null,null,{"$f":"IF(AND(内訳明細書入力画面!R53=\"\",内訳明細書入力画面!P53=\"\"),\"\",IF(内訳明細書入力画面!R53=\"\",内訳明細書入力画面!P53,内訳明細書入力画面!R53))","v":""},null,null,null,{"$f":"IF(AND(内訳明細書入力画面!V53=\"\",内訳明細書入力画面!T53=\"\"),\"\",IF(内訳明細書入力画面!V53=\"\",内訳明細書入力画面!T53,内訳明細書入力画面!V53))","v":""},null,null,null,null,null,null,null,null,null,null,null,null,null,null,null,"",null,null,null,"",null,null,null,""]
[null,{"$f":"IF(内訳明細書入力画面!B54=\"\",\"\",内訳明細書入力画面!B54)","v":""},null,null,null,null,null,null,null,null,null,null,null,null,{"$f":"IF(AND(内訳明細書入力画面!N54=\"\",内訳明細書入力画面!M54=\"\"),\"\",IF(内訳明細書入力画面!N54=\"\",内訳明細書入力画面!M54,内訳明細書入力画面!N54))","v":""},null,null,null,{"$f":"IF(内訳明細書入力画面!O54=\"\",\"\",内訳明細書入力画面!O54)","v":""},null,null,{"$f":"IF(AND(内訳明細書入力画面!R54=\"\",内訳明細書入力画面!P54=\"\"),\"\",IF(内訳明細書入力画面!R54=\"\",内訳明細書入力画面!P54,内訳明細書入力画面!R54))","v":""},null,null,null,{"$f":"IF(AND(内訳明細書入力画面!V54=\"\",内訳明細書入力画面!T54=\"\"),\"\",IF(内訳明細書入力画面!V54=\"\",内訳明細書入力画面!T54,内訳明細書入力画面!V54))","v":""},null,null,null,null,null,null,null,null,null,null,null,null,null,null,null,"",null,null,null,"",null,null,null,""]
[null,{"$f":"IF(内訳明細書入力画面!B55=\"\",\"\",内訳明細書入力画面!B55)","v":""},null,null,null,null,null,null,null,null,null,null,null,null,{"$f":"IF(AND(内訳明細書入力画面!N55=\"\",内訳明細書入力画面!M55=\"\"),\"\",IF(内訳明細書入力画面!N55=\"\",内訳明細書入力画面!M55,内訳明細書入力画面!N55))","v":""},null,null,null,{"$f":"IF(内訳明細書入力画面!O55=\"\",\"\",内訳明細書入力画面!O55)","v":""},null,null,{"$f":"IF(AND(内訳明細書入力画面!R55=\"\",内訳明細書入力画面!P55=\"\"),\"\",IF(内訳明細書入力画面!R55=\"\",内訳明細書入力画面!P55,内訳明細書入力画面!R55))","v":""},null,null,null,{"$f":"IF(AND(内訳明細書入力画面!V55=\"\",内訳明細書入力画面!T55=\"\"),\"\",IF(内訳明細書入力画面!V55=\"\",内訳明細書入力画面!T55,内訳明細書入力画面!V55))","v":""},null,null,null,null,null,null,null,null,null,null,null,null,null,null,null,"",null,null,null,"",null,null,null,""]
[{"$f":"((ROW()-11)+15)/15","v":4},{"$f":"IF(内訳明細書入力画面!B56=\"\",\"\",内訳明細書入力画面!B56)","v":""},null,null,null,null,null,null,null,null,null,null,null,null,{"$f":"IF(AND(内訳明細書入力画面!N56=\"\",内訳明細書入力画面!M56=\"\"),\"\",IF(内訳明細書入力画面!N56=\"\",内訳明細書入力画面!M56,内訳明細書入力画面!N56))","v":""},null,null,null,{"$f":"IF(内訳明細書入力画面!O56=\"\",\"\",内訳明細書入力画面!O56)","v":""},null,null,{"$f":"IF(AND(内訳明細書入力画面!R56=\"\",内訳明細書入力画面!P56=\"\"),\"\",IF(内訳明細書入力画面!R56=\"\",内訳明細書入力画面!P56,内訳明細書入力画面!R56))","v":""},null,null,null,{"$f":"IF(AND(内訳明細書入力画面!V56=\"\",内訳明細書入力画面!T56=\"\"),\"\",IF(内訳明細書入力画面!V56=\"\",内訳明細書入力画面!T56,内訳明細書入力画面!V56))","v":""},null,null,null,null,null,null,null,null,null,null,null,null,null,null,null,"",null,null,null,"",null,null,null,""]
[null,{"$f":"IF(内訳明細書入力画面!B57=\"\",\"\",内訳明細書入力画面!B57)","v":""},null,null,null,null,null,null,null,null,null,null,null,null,{"$f":"IF(AND(内訳明細書入力画面!N57=\"\",内訳明細書入力画面!M57=\"\"),\"\",IF(内訳明細書入力画面!N57=\"\",内訳明細書入力画面!M57,内訳明細書入力画面!N57))","v":""},null,null,null,{"$f":"IF(内訳明細書入力画面!O57=\"\",\"\",内訳明細書入力画面!O57)","v":""},null,null,{"$f":"IF(AND(内訳明細書入力画面!R57=\"\",内訳明細書入力画面!P57=\"\"),\"\",IF(内訳明細書入力画面!R57=\"\",内訳明細書入力画面!P57,内訳明細書入力画面!R57))","v":""},null,null,null,{"$f":"IF(AND(内訳明細書入力画面!V57=\"\",内訳明細書入力画面!T57=\"\"),\"\",IF(内訳明細書入力画面!V57=\"\",内訳明細書入力画面!T57,内訳明細書入力画面!V57))","v":""},null,null,null,null,null,null,null,null,null,null,null,null,null,null,null,"",null,null,null,"",null,null,null,""]
[null,{"$f":"IF(内訳明細書入力画面!B58=\"\",\"\",内訳明細書入力画面!B58)","v":""},null,null,null,null,null,null,null,null,null,null,null,null,{"$f":"IF(AND(内訳明細書入力画面!N58=\"\",内訳明細書入力画面!M58=\"\"),\"\",IF(内訳明細書入力画面!N58=\"\",内訳明細書入力画面!M58,内訳明細書入力画面!N58))","v":""},null,null,null,{"$f":"IF(内訳明細書入力画面!O58=\"\",\"\",内訳明細書入力画面!O58)","v":""},null,null,{"$f":"IF(AND(内訳明細書入力画面!R58=\"\",内訳明細書入力画面!P58=\"\"),\"\",IF(内訳明細書入力画面!R58=\"\",内訳明細書入力画面!P58,内訳明細書入力画面!R58))","v":""},null,null,null,{"$f":"IF(AND(内訳明細書入力画面!V58=\"\",内訳明細書入力画面!T58=\"\"),\"\",IF(内訳明細書入力画面!V58=\"\",内訳明細書入力画面!T58,内訳明細書入力画面!V58))","v":""},null,null,null,null,null,null,null,null,null,null,null,null,null,null,null,"",null,null,null,"",null,null,null,""]
[null,{"$f":"IF(内訳明細書入力画面!B59=\"\",\"\",内訳明細書入力画面!B59)","v":""},null,null,null,null,null,null,null,null,null,null,null,null,{"$f":"IF(AND(内訳明細書入力画面!N59=\"\",内訳明細書入力画面!M59=\"\"),\"\",IF(内訳明細書入力画面!N59=\"\",内訳明細書入力画面!M59,内訳明細書入力画面!N59))","v":""},null,null,null,{"$f":"IF(内訳明細書入力画面!O59=\"\",\"\",内訳明細書入力画面!O59)","v":""},null,null,{"$f":"IF(AND(内訳明細書入力画面!R59=\"\",内訳明細書入力画面!P59=\"\"),\"\",IF(内訳明細書入力画面!R59=\"\",内訳明細書入力画面!P59,内訳明細書入力画面!R59))","v":""},null,null,null,{"$f":"IF(AND(内訳明細書入力画面!V59=\"\",内訳明細書入力画面!T59=\"\"),\"\",IF(内訳明細書入力画面!V59=\"\",内訳明細書入力画面!T59,内訳明細書入力画面!V59))","v":""},null,null,null,null,null,null,null,null,null,null,null,null,null,null,null,"",null,null,null,"",null,null,null,""]
[null,{"$f":"IF(内訳明細書入力画面!B60=\"\",\"\",内訳明細書入力画面!B60)","v":""},null,null,null,null,null,null,null,null,null,null,null,null,{"$f":"IF(AND(内訳明細書入力画面!N60=\"\",内訳明細書入力画面!M60=\"\"),\"\",IF(内訳明細書入力画面!N60=\"\",内訳明細書入力画面!M60,内訳明細書入力画面!N60))","v":""},null,null,null,{"$f":"IF(内訳明細書入力画面!O60=\"\",\"\",内訳明細書入力画面!O60)","v":""},null,null,{"$f":"IF(AND(内訳明細書入力画面!R60=\"\",内訳明細書入力画面!P60=\"\"),\"\",IF(内訳明細書入力画面!R60=\"\",内訳明細書入力画面!P60,内訳明細書入力画面!R60))","v":""},null,null,null,{"$f":"IF(AND(内訳明細書入力画面!V60=\"\",内訳明細書入力画面!T60=\"\"),\"\",IF(内訳明細書入力画面!V60=\"\",内訳明細書入力画面!T60,内訳明細書入力画面!V60))","v":""},null,null,null,null,null,null,null,null,null,null,null,null,null,null,null,"",null,null,null,"",null,null,null,""]
[null,{"$f":"IF(内訳明細書入力画面!B61=\"\",\"\",内訳明細書入力画面!B61)","v":""},null,null,null,null,null,null,null,null,null,null,null,null,{"$f":"IF(AND(内訳明細書入力画面!N61=\"\",内訳明細書入力画面!M61=\"\"),\"\",IF(内訳明細書入力画面!N61=\"\",内訳明細書入力画面!M61,内訳明細書入力画面!N61))","v":""},null,null,null,{"$f":"IF(内訳明細書入力画面!O61=\"\",\"\",内訳明細書入力画面!O61)","v":""},null,null,{"$f":"IF(AND(内訳明細書入力画面!R61=\"\",内訳明細書入力画面!P61=\"\"),\"\",IF(内訳明細書入力画面!R61=\"\",内訳明細書入力画面!P61,内訳明細書入力画面!R61))","v":""},null,null,null,{"$f":"IF(AND(内訳明細書入力画面!V61=\"\",内訳明細書入力画面!T61=\"\"),\"\",IF(内訳明細書入力画面!V61=\"\",内訳明細書入力画面!T61,内訳明細書入力画面!V61))","v":""},null,null,null,null,null,null,null,null,null,null,null,null,null,null,null,"",null,null,null,"",null,null,null,""]
[null,{"$f":"IF(内訳明細書入力画面!B62=\"\",\"\",内訳明細書入力画面!B62)","v":""},null,null,null,null,null,null,null,null,null,null,null,null,{"$f":"IF(AND(内訳明細書入力画面!N62=\"\",内訳明細書入力画面!M62=\"\"),\"\",IF(内訳明細書入力画面!N62=\"\",内訳明細書入力画面!M62,内訳明細書入力画面!N62))","v":""},null,null,null,{"$f":"IF(内訳明細書入力画面!O62=\"\",\"\",内訳明細書入力画面!O62)","v":""},null,null,{"$f":"IF(AND(内訳明細書入力画面!R62=\"\",内訳明細書入力画面!P62=\"\"),\"\",IF(内訳明細書入力画面!R62=\"\",内訳明細書入力画面!P62,内訳明細書入力画面!R62))","v":""},null,null,null,{"$f":"IF(AND(内訳明細書入力画面!V62=\"\",内訳明細書入力画面!T62=\"\"),\"\",IF(内訳明細書入力画面!V62=\"\",内訳明細書入力画面!T62,内訳明細書入力画面!V62))","v":""},null,null,null,null,null,null,null,null,null,null,null,null,null,null,null,"",null,null,null,"",null,null,null,""]
[null,{"$f":"IF(内訳明細書入力画面!B63=\"\",\"\",内訳明細書入力画面!B63)","v":""},null,null,null,null,null,null,null,null,null,null,null,null,{"$f":"IF(AND(内訳明細書入力画面!N63=\"\",内訳明細書入力画面!M63=\"\"),\"\",IF(内訳明細書入力画面!N63=\"\",内訳明細書入力画面!M63,内訳明細書入力画面!N63))","v":""},null,null,null,{"$f":"IF(内訳明細書入力画面!O63=\"\",\"\",内訳明細書入力画面!O63)","v":""},null,null,{"$f":"IF(AND(内訳明細書入力画面!R63=\"\",内訳明細書入力画面!P63=\"\"),\"\",IF(内訳明細書入力画面!R63=\"\",内訳明細書入力画面!P63,内訳明細書入力画面!R63))","v":""},null,null,null,{"$f":"IF(AND(内訳明細書入力画面!V63=\"\",内訳明細書入力画面!T63=\"\"),\"\",IF(内訳明細書入力画面!V63=\"\",内訳明細書入力画面!T63,内訳明細書入力画面!V63))","v":""},null,null,null,null,null,null,null,null,null,null,null,null,null,null,null,"",null,null,null,"",null,null,null,""]
[null,{"$f":"IF(内訳明細書入力画面!B64=\"\",\"\",内訳明細書入力画面!B64)","v":""},null,null,null,null,null,null,null,null,null,null,null,null,{"$f":"IF(AND(内訳明細書入力画面!N64=\"\",内訳明細書入力画面!M64=\"\"),\"\",IF(内訳明細書入力画面!N64=\"\",内訳明細書入力画面!M64,内訳明細書入力画面!N64))","v":""},null,null,null,{"$f":"IF(内訳明細書入力画面!O64=\"\",\"\",内訳明細書入力画面!O64)","v":""},null,null,{"$f":"IF(AND(内訳明細書入力画面!R64=\"\",内訳明細書入力画面!P64=\"\"),\"\",IF(内訳明細書入力画面!R64=\"\",内訳明細書入力画面!P64,内訳明細書入力画面!R64))","v":""},null,null,null,{"$f":"IF(AND(内訳明細書入力画面!V64=\"\",内訳明細書入力画面!T64=\"\"),\"\",IF(内訳明細書入力画面!V64=\"\",内訳明細書入力画面!T64,内訳明細書入力画面!V64))","v":""},null,null,null,null,null,null,null,null,null,null,null,null,null,null,null,"",null,null,null,"",null,null,null,""]
[null,{"$f":"IF(内訳明細書入力画面!B65=\"\",\"\",内訳明細書入力画面!B65)","v":""},null,null,null,null,null,null,null,null,null,null,null,null,{"$f":"IF(AND(内訳明細書入力画面!N65=\"\",内訳明細書入力画面!M65=\"\"),\"\",IF(内訳明細書入力画面!N65=\"\",内訳明細書入力画面!M65,内訳明細書入力画面!N65))","v":""},null,null,null,{"$f":"IF(内訳明細書入力画面!O65=\"\",\"\",内訳明細書入力画面!O65)","v":""},null,null,{"$f":"IF(AND(内訳明細書入力画面!R65=\"\",内訳明細書入力画面!P65=\"\"),\"\",IF(内訳明細書入力画面!R65=\"\",内訳明細書入力画面!P65,内訳明細書入力画面!R65))","v":""},null,null,null,{"$f":"IF(AND(内訳明細書入力画面!V65=\"\",内訳明細書入力画面!T65=\"\"),\"\",IF(内訳明細書入力画面!V65=\"\",内訳明細書入力画面!T65,内訳明細書入力画面!V65))","v":""},null,null,null,null,null,null,null,null,null,null,null,null,null,null,null,"",null,null,null,"",null,null,null,""]
[null,{"$f":"IF(内訳明細書入力画面!B66=\"\",\"\",内訳明細書入力画面!B66)","v":""},null,null,null,null,null,null,null,null,null,null,null,null,{"$f":"IF(AND(内訳明細書入力画面!N66=\"\",内訳明細書入力画面!M66=\"\"),\"\",IF(内訳明細書入力画面!N66=\"\",内訳明細書入力画面!M66,内訳明細書入力画面!N66))","v":""},null,null,null,{"$f":"IF(内訳明細書入力画面!O66=\"\",\"\",内訳明細書入力画面!O66)","v":""},null,null,{"$f":"IF(AND(内訳明細書入力画面!R66=\"\",内訳明細書入力画面!P66=\"\"),\"\",IF(内訳明細書入力画面!R66=\"\",内訳明細書入力画面!P66,内訳明細書入力画面!R66))","v":""},null,null,null,{"$f":"IF(AND(内訳明細書入力画面!V66=\"\",内訳明細書入力画面!T66=\"\"),\"\",IF(内訳明細書入力画面!V66=\"\",内訳明細書入力画面!T66,内訳明細書入力画面!V66))","v":""},null,null,null,null,null,null,null,null,null,null,null,null,null,null,null,"",null,null,null,"",null,null,null,""]
[null,{"$f":"IF(内訳明細書入力画面!B67=\"\",\"\",内訳明細書入力画面!B67)","v":""},null,null,null,null,null,null,null,null,null,null,null,null,{"$f":"IF(AND(内訳明細書入力画面!N67=\"\",内訳明細書入力画面!M67=\"\"),\"\",IF(内訳明細書入力画面!N67=\"\",内訳明細書入力画面!M67,内訳明細書入力画面!N67))","v":""},null,null,null,{"$f":"IF(内訳明細書入力画面!O67=\"\",\"\",内訳明細書入力画面!O67)","v":""},null,null,{"$f":"IF(AND(内訳明細書入力画面!R67=\"\",内訳明細書入力画面!P67=\"\"),\"\",IF(内訳明細書入力画面!R67=\"\",内訳明細書入力画面!P67,内訳明細書入力画面!R67))","v":""},null,null,null,{"$f":"IF(AND(内訳明細書入力画面!V67=\"\",内訳明細書入力画面!T67=\"\"),\"\",IF(内訳明細書入力画面!V67=\"\",内訳明細書入力画面!T67,内訳明細書入力画面!V67))","v":""},null,null,null,null,null,null,null,null,null,null,null,null,null,null,null,"",null,null,null,"",null,null,null,""]
[null,{"$f":"IF(内訳明細書入力画面!B68=\"\",\"\",内訳明細書入力画面!B68)","v":""},null,null,null,null,null,null,null,null,null,null,null,null,{"$f":"IF(AND(内訳明細書入力画面!N68=\"\",内訳明細書入力画面!M68=\"\"),\"\",IF(内訳明細書入力画面!N68=\"\",内訳明細書入力画面!M68,内訳明細書入力画面!N68))","v":""},null,null,null,{"$f":"IF(内訳明細書入力画面!O68=\"\",\"\",内訳明細書入力画面!O68)","v":""},null,null,{"$f":"IF(AND(内訳明細書入力画面!R68=\"\",内訳明細書入力画面!P68=\"\"),\"\",IF(内訳明細書入力画面!R68=\"\",内訳明細書入力画面!P68,内訳明細書入力画面!R68))","v":""},null,null,null,{"$f":"IF(AND(内訳明細書入力画面!V68=\"\",内訳明細書入力画面!T68=\"\"),\"\",IF(内訳明細書入力画面!V68=\"\",内訳明細書入力画面!T68,内訳明細書入力画面!V68))","v":""},null,null,null,null,null,null,null,null,null,null,null,null,null,null,null,"",null,null,null,"",null,null,null,""]
[null,{"$f":"IF(内訳明細書入力画面!B69=\"\",\"\",内訳明細書入力画面!B69)","v":""},null,null,null,null,null,null,null,null,null,null,null,null,{"$f":"IF(AND(内訳明細書入力画面!N69=\"\",内訳明細書入力画面!M69=\"\"),\"\",IF(内訳明細書入力画面!N69=\"\",内訳明細書入力画面!M69,内訳明細書入力画面!N69))","v":""},null,null,null,{"$f":"IF(内訳明細書入力画面!O69=\"\",\"\",内訳明細書入力画面!O69)","v":""},null,null,{"$f":"IF(AND(内訳明細書入力画面!R69=\"\",内訳明細書入力画面!P69=\"\"),\"\",IF(内訳明細書入力画面!R69=\"\",内訳明細書入力画面!P69,内訳明細書入力画面!R69))","v":""},null,null,null,{"$f":"IF(AND(内訳明細書入力画面!V69=\"\",内訳明細書入力画面!T69=\"\"),\"\",IF(内訳明細書入力画面!V69=\"\",内訳明細書入力画面!T69,内訳明細書入力画面!V69))","v":""},null,null,null,null,null,null,null,null,null,null,null,null,null,null,null,"",null,null,null,"",null,null,null,""]
[null,{"$f":"IF(内訳明細書入力画面!B70=\"\",\"\",内訳明細書入力画面!B70)","v":""},null,null,null,null,null,null,null,null,null,null,null,null,{"$f":"IF(AND(内訳明細書入力画面!N70=\"\",内訳明細書入力画面!M70=\"\"),\"\",IF(内訳明細書入力画面!N70=\"\",内訳明細書入力画面!M70,内訳明細書入力画面!N70))","v":""},null,null,null,{"$f":"IF(内訳明細書入力画面!O70=\"\",\"\",内訳明細書入力画面!O70)","v":""},null,null,{"$f":"IF(AND(内訳明細書入力画面!R70=\"\",内訳明細書入力画面!P70=\"\"),\"\",IF(内訳明細書入力画面!R70=\"\",内訳明細書入力画面!P70,内訳明細書入力画面!R70))","v":""},null,null,null,{"$f":"IF(AND(内訳明細書入力画面!V70=\"\",内訳明細書入力画面!T70=\"\"),\"\",IF(内訳明細書入力画面!V70=\"\",内訳明細書入力画面!T70,内訳明細書入力画面!V70))","v":""},null,null,null,null,null,null,null,null,null,null,null,null,null,null,null,"",null,null,null,"",null,null,null,""]
[{"$f":"((ROW()-11)+15)/15","v":5},{"$f":"IF(内訳明細書入力画面!B71=\"\",\"\",内訳明細書入力画面!B71)","v":""},null,null,null,null,null,null,null,null,null,null,null,null,{"$f":"IF(AND(内訳明細書入力画面!N71=\"\",内訳明細書入力画面!M71=\"\"),\"\",IF(内訳明細書入力画面!N71=\"\",内訳明細書入力画面!M71,内訳明細書入力画面!N71))","v":""},null,null,null,{"$f":"IF(内訳明細書入力画面!O71=\"\",\"\",内訳明細書入力画面!O71)","v":""},null,null,{"$f":"IF(AND(内訳明細書入力画面!R71=\"\",内訳明細書入力画面!P71=\"\"),\"\",IF(内訳明細書入力画面!R71=\"\",内訳明細書入力画面!P71,内訳明細書入力画面!R71))","v":""},null,null,null,{"$f":"IF(AND(内訳明細書入力画面!V71=\"\",内訳明細書入力画面!T71=\"\"),\"\",IF(内訳明細書入力画面!V71=\"\",内訳明細書入力画面!T71,内訳明細書入力画面!V71))","v":""},null,null,null,null,null,null,null,null,null,null,null,null,null,null,null,"",null,null,null,"",null,null,null,""]
[null,{"$f":"IF(内訳明細書入力画面!B72=\"\",\"\",内訳明細書入力画面!B72)","v":""},null,null,null,null,null,null,null,null,null,null,null,null,{"$f":"IF(AND(内訳明細書入力画面!N72=\"\",内訳明細書入力画面!M72=\"\"),\"\",IF(内訳明細書入力画面!N72=\"\",内訳明細書入力画面!M72,内訳明細書入力画面!N72))","v":""},null,null,null,{"$f":"IF(内訳明細書入力画面!O72=\"\",\"\",内訳明細書入力画面!O72)","v":""},null,null,{"$f":"IF(AND(内訳明細書入力画面!R72=\"\",内訳明細書入力画面!P72=\"\"),\"\",IF(内訳明細書入力画面!R72=\"\",内訳明細書入力画面!P72,内訳明細書入力画面!R72))","v":""},null,null,null,{"$f":"IF(AND(内訳明細書入力画面!V72=\"\",内訳明細書入力画面!T72=\"\"),\"\",IF(内訳明細書入力画面!V72=\"\",内訳明細書入力画面!T72,内訳明細書入力画面!V72))","v":""},null,null,null,null,null,null,null,null,null,null,null,null,null,null,null,"",null,null,null,"",null,null,null,""]
[null,{"$f":"IF(内訳明細書入力画面!B73=\"\",\"\",内訳明細書入力画面!B73)","v":""},null,null,null,null,null,null,null,null,null,null,null,null,{"$f":"IF(AND(内訳明細書入力画面!N73=\"\",内訳明細書入力画面!M73=\"\"),\"\",IF(内訳明細書入力画面!N73=\"\",内訳明細書入力画面!M73,内訳明細書入力画面!N73))","v":""},null,null,null,{"$f":"IF(内訳明細書入力画面!O73=\"\",\"\",内訳明細書入力画面!O73)","v":""},null,null,{"$f":"IF(AND(内訳明細書入力画面!R73=\"\",内訳明細書入力画面!P73=\"\"),\"\",IF(内訳明細書入力画面!R73=\"\",内訳明細書入力画面!P73,内訳明細書入力画面!R73))","v":""},null,null,null,{"$f":"IF(AND(内訳明細書入力画面!V73=\"\",内訳明細書入力画面!T73=\"\"),\"\",IF(内訳明細書入力画面!V73=\"\",内訳明細書入力画面!T73,内訳明細書入力画面!V73))","v":""},null,null,null,null,null,null,null,null,null,null,null,null,null,null,null,"",null,null,null,"",null,null,null,""]
[null,{"$f":"IF(内訳明細書入力画面!B74=\"\",\"\",内訳明細書入力画面!B74)","v":""},null,null,null,null,null,null,null,null,null,null,null,null,{"$f":"IF(AND(内訳明細書入力画面!N74=\"\",内訳明細書入力画面!M74=\"\"),\"\",IF(内訳明細書入力画面!N74=\"\",内訳明細書入力画面!M74,内訳明細書入力画面!N74))","v":""},null,null,null,{"$f":"IF(内訳明細書入力画面!O74=\"\",\"\",内訳明細書入力画面!O74)","v":""},null,null,{"$f":"IF(AND(内訳明細書入力画面!R74=\"\",内訳明細書入力画面!P74=\"\"),\"\",IF(内訳明細書入力画面!R74=\"\",内訳明細書入力画面!P74,内訳明細書入力画面!R74))","v":""},null,null,null,{"$f":"IF(AND(内訳明細書入力画面!V74=\"\",内訳明細書入力画面!T74=\"\"),\"\",IF(内訳明細書入力画面!V74=\"\",内訳明細書入力画面!T74,内訳明細書入力画面!V74))","v":""},null,null,null,null,null,null,null,null,null,null,null,null,null,null,null,"",null,null,null,"",null,null,null,""]
[null,{"$f":"IF(内訳明細書入力画面!B75=\"\",\"\",内訳明細書入力画面!B75)","v":""},null,null,null,null,null,null,null,null,null,null,null,null,{"$f":"IF(AND(内訳明細書入力画面!N75=\"\",内訳明細書入力画面!M75=\"\"),\"\",IF(内訳明細書入力画面!N75=\"\",内訳明細書入力画面!M75,内訳明細書入力画面!N75))","v":""},null,null,null,{"$f":"IF(内訳明細書入力画面!O75=\"\",\"\",内訳明細書入力画面!O75)","v":""},null,null,{"$f":"IF(AND(内訳明細書入力画面!R75=\"\",内訳明細書入力画面!P75=\"\"),\"\",IF(内訳明細書入力画面!R75=\"\",内訳明細書入力画面!P75,内訳明細書入力画面!R75))","v":""},null,null,null,{"$f":"IF(AND(内訳明細書入力画面!V75=\"\",内訳明細書入力画面!T75=\"\"),\"\",IF(内訳明細書入力画面!V75=\"\",内訳明細書入力画面!T75,内訳明細書入力画面!V75))","v":""},null,null,null,null,null,null,null,null,null,null,null,null,null,null,null,{"$f":"IF(AL75=\"\",\"\",ROUNDDOWN(N(V75)*N(AL75),0))","v":""},null,null,null,"",null,null,null,""]
[null,{"$f":"IF(内訳明細書入力画面!B76=\"\",\"\",内訳明細書入力画面!B76)","v":""},null,null,null,null,null,null,null,null,null,null,null,null,{"$f":"IF(AND(内訳明細書入力画面!N76=\"\",内訳明細書入力画面!M76=\"\"),\"\",IF(内訳明細書入力画面!N76=\"\",内訳明細書入力画面!M76,内訳明細書入力画面!N76))","v":""},null,null,null,{"$f":"IF(内訳明細書入力画面!O76=\"\",\"\",内訳明細書入力画面!O76)","v":""},null,null,{"$f":"IF(AND(内訳明細書入力画面!R76=\"\",内訳明細書入力画面!P76=\"\"),\"\",IF(内訳明細書入力画面!R76=\"\",内訳明細書入力画面!P76,内訳明細書入力画面!R76))","v":""},null,null,null,{"$f":"IF(AND(内訳明細書入力画面!V76=\"\",内訳明細書入力画面!T76=\"\"),\"\",IF(内訳明細書入力画面!V76=\"\",内訳明細書入力画面!T76,内訳明細書入力画面!V76))","v":""},null,null,null,null,null,null,null,null,null,null,null,null,null,null,null,"",null,null,null,"",null,null,null,""]
[null,{"$f":"IF(内訳明細書入力画面!B77=\"\",\"\",内訳明細書入力画面!B77)","v":""},null,null,null,null,null,null,null,null,null,null,null,null,{"$f":"IF(AND(内訳明細書入力画面!N77=\"\",内訳明細書入力画面!M77=\"\"),\"\",IF(内訳明細書入力画面!N77=\"\",内訳明細書入力画面!M77,内訳明細書入力画面!N77))","v":""},null,null,null,{"$f":"IF(内訳明細書入力画面!O77=\"\",\"\",内訳明細書入力画面!O77)","v":""},null,null,{"$f":"IF(AND(内訳明細書入力画面!R77=\"\",内訳明細書入力画面!P77=\"\"),\"\",IF(内訳明細書入力画面!R77=\"\",内訳明細書入力画面!P77,内訳明細書入力画面!R77))","v":""},null,null,null,{"$f":"IF(AND(内訳明細書入力画面!V77=\"\",内訳明細書入力画面!T77=\"\"),\"\",IF(内訳明細書入力画面!V77=\"\",内訳明細書入力画面!T77,内訳明細書入力画面!V77))","v":""},null,null,null,null,null,null,null,null,null,null,null,null,null,null,null,"",null,null,null,"",null,null,null,""]
[null,{"$f":"IF(内訳明細書入力画面!B78=\"\",\"\",内訳明細書入力画面!B78)","v":""},null,null,null,null,null,null,null,null,null,null,null,null,{"$f":"IF(AND(内訳明細書入力画面!N78=\"\",内訳明細書入力画面!M78=\"\"),\"\",IF(内訳明細書入力画面!N78=\"\",内訳明細書入力画面!M78,内訳明細書入力画面!N78))","v":""},null,null,null,{"$f":"IF(内訳明細書入力画面!O78=\"\",\"\",内訳明細書入力画面!O78)","v":""},null,null,{"$f":"IF(AND(内訳明細書入力画面!R78=\"\",内訳明細書入力画面!P78=\"\"),\"\",IF(内訳明細書入力画面!R78=\"\",内訳明細書入力画面!P78,内訳明細書入力画面!R78))","v":""},null,null,null,{"$f":"IF(AND(内訳明細書入力画面!V78=\"\",内訳明細書入力画面!T78=\"\"),\"\",IF(内訳明細書入力画面!V78=\"\",内訳明細書入力画面!T78,内訳明細書入力画面!V78))","v":""},null,null,null,null,null,null,null,null,null,null,null,null,null,null,null,"",null,null,null,"",null,null,null,""]
[null,{"$f":"IF(内訳明細書入力画面!B79=\"\",\"\",内訳明細書入力画面!B79)","v":""},null,null,null,null,null,null,null,null,null,null,null,null,{"$f":"IF(AND(内訳明細書入力画面!N79=\"\",内訳明細書入力画面!M79=\"\"),\"\",IF(内訳明細書入力画面!N79=\"\",内訳明細書入力画面!M79,内訳明細書入力画面!N79))","v":""},null,null,null,{"$f":"IF(内訳明細書入力画面!O79=\"\",\"\",内訳明細書入力画面!O79)","v":""},null,null,{"$f":"IF(AND(内訳明細書入力画面!R79=\"\",内訳明細書入力画面!P79=\"\"),\"\",IF(内訳明細書入力画面!R79=\"\",内訳明細書入力画面!P79,内訳明細書入力画面!R79))","v":""},null,null,null,{"$f":"IF(AND(内訳明細書入力画面!V79=\"\",内訳明細書入力画面!T79=\"\"),\"\",IF(内訳明細書入力画面!V79=\"\",内訳明細書入力画面!T79,内訳明細書入力画面!V79))","v":""},null,null,null,null,null,null,null,null,null,null,null,null,null,null,null,"",null,null,null,"",null,null,null,""]
[null,{"$f":"IF(内訳明細書入力画面!B80=\"\",\"\",内訳明細書入力画面!B80)","v":""},null,null,null,null,null,null,null,null,null,null,null,null,{"$f":"IF(AND(内訳明細書入力画面!N80=\"\",内訳明細書入力画面!M80=\"\"),\"\",IF(内訳明細書入力画面!N80=\"\",内訳明細書入力画面!M80,内訳明細書入力画面!N80))","v":""},null,null,null,{"$f":"IF(内訳明細書入力画面!O80=\"\",\"\",内訳明細書入力画面!O80)","v":""},null,null,{"$f":"IF(AND(内訳明細書入力画面!R80=\"\",内訳明細書入力画面!P80=\"\"),\"\",IF(内訳明細書入力画面!R80=\"\",内訳明細書入力画面!P80,内訳明細書入力画面!R80))","v":""},null,null,null,{"$f":"IF(AND(内訳明細書入力画面!V80=\"\",内訳明細書入力画面!T80=\"\"),\"\",IF(内訳明細書入力画面!V80=\"\",内訳明細書入力画面!T80,内訳明細書入力画面!V80))","v":""},null,null,null,null,null,null,null,null,null,null,null,null,null,null,null,"",null,null,null,"",null,null,null,""]
[null,{"$f":"IF(内訳明細書入力画面!B81=\"\",\"\",内訳明細書入力画面!B81)","v":""},null,null,null,null,null,null,null,null,null,null,null,null,{"$f":"IF(AND(内訳明細書入力画面!N81=\"\",内訳明細書入力画面!M81=\"\"),\"\",IF(内訳明細書入力画面!N81=\"\",内訳明細書入力画面!M81,内訳明細書入力画面!N81))","v":""},null,null,null,{"$f":"IF(内訳明細書入力画面!O81=\"\",\"\",内訳明細書入力画面!O81)","v":""},null,null,{"$f":"IF(AND(内訳明細書入力画面!R81=\"\",内訳明細書入力画面!P81=\"\"),\"\",IF(内訳明細書入力画面!R81=\"\",内訳明細書入力画面!P81,内訳明細書入力画面!R81))","v":""},null,null,null,{"$f":"IF(AND(内訳明細書入力画面!V81=\"\",内訳明細書入力画面!T81=\"\"),\"\",IF(内訳明細書入力画面!V81=\"\",内訳明細書入力画面!T81,内訳明細書入力画面!V81))","v":""},null,null,null,null,null,null,null,null,null,null,null,null,null,null,null,"",null,null,null,"",null,null,null,""]
[null,{"$f":"IF(内訳明細書入力画面!B82=\"\",\"\",内訳明細書入力画面!B82)","v":""},null,null,null,null,null,null,null,null,null,null,null,null,{"$f":"IF(AND(内訳明細書入力画面!N82=\"\",内訳明細書入力画面!M82=\"\"),\"\",IF(内訳明細書入力画面!N82=\"\",内訳明細書入力画面!M82,内訳明細書入力画面!N82))","v":""},null,null,null,{"$f":"IF(内訳明細書入力画面!O82=\"\",\"\",内訳明細書入力画面!O82)","v":""},null,null,{"$f":"IF(AND(内訳明細書入力画面!R82=\"\",内訳明細書入力画面!P82=\"\"),\"\",IF(内訳明細書入力画面!R82=\"\",内訳明細書入力画面!P82,内訳明細書入力画面!R82))","v":""},null,null,null,{"$f":"IF(AND(内訳明細書入力画面!V82=\"\",内訳明細書入力画面!T82=\"\"),\"\",IF(内訳明細書入力画面!V82=\"\",内訳明細書入力画面!T82,内訳明細書入力画面!V82))","v":""},null,null,null,null,null,null,null,null,null,null,null,null,null,null,null,"",null,null,null,"",null,null,null,""]
[null,{"$f":"IF(内訳明細書入力画面!B83=\"\",\"\",内訳明細書入力画面!B83)","v":""},null,null,null,null,null,null,null,null,null,null,null,null,{"$f":"IF(AND(内訳明細書入力画面!N83=\"\",内訳明細書入力画面!M83=\"\"),\"\",IF(内訳明細書入力画面!N83=\"\",内訳明細書入力画面!M83,内訳明細書入力画面!N83))","v":""},null,null,null,{"$f":"IF(内訳明細書入力画面!O83=\"\",\"\",内訳明細書入力画面!O83)","v":""},null,null,{"$f":"IF(AND(内訳明細書入力画面!R83=\"\",内訳明細書入力画面!P83=\"\"),\"\",IF(内訳明細書入力画面!R83=\"\",内訳明細書入力画面!P83,内訳明細書入力画面!R83))","v":""},null,null,null,{"$f":"IF(AND(内訳明細書入力画面!V83=\"\",内訳明細書入力画面!T83=\"\"),\"\",IF(内訳明細書入力画面!V83=\"\",内訳明細書入力画面!T83,内訳明細書入力画面!V83))","v":""},null,null,null,null,null,null,null,null,null,null,null,null,null,null,null,"",null,null,null,"",null,null,null,""]
[null,{"$f":"IF(内訳明細書入力画面!B84=\"\",\"\",内訳明細書入力画面!B84)","v":""},null,null,null,null,null,null,null,null,null,null,null,null,{"$f":"IF(AND(内訳明細書入力画面!N84=\"\",内訳明細書入力画面!M84=\"\"),\"\",IF(内訳明細書入力画面!N84=\"\",内訳明細書入力画面!M84,内訳明細書入力画面!N84))","v":""},null,null,null,{"$f":"IF(内訳明細書入力画面!O84=\"\",\"\",内訳明細書入力画面!O84)","v":""},null,null,{"$f":"IF(AND(内訳明細書入力画面!R84=\"\",内訳明細書入力画面!P84=\"\"),\"\",IF(内訳明細書入力画面!R84=\"\",内訳明細書入力画面!P84,内訳明細書入力画面!R84))","v":""},null,null,null,{"$f":"IF(AND(内訳明細書入力画面!V84=\"\",内訳明細書入力画面!T84=\"\"),\"\",IF(内訳明細書入力画面!V84=\"\",内訳明細書入力画面!T84,内訳明細書入力画面!V84))","v":""},null,null,null,null,null,null,null,null,null,null,null,null,null,null,null,"",null,null,null,"",null,null,null,""]
[null,{"$f":"IF(内訳明細書入力画面!B85=\"\",\"\",内訳明細書入力画面!B85)","v":""},null,null,null,null,null,null,null,null,null,null,null,null,{"$f":"IF(AND(内訳明細書入力画面!N85=\"\",内訳明細書入力画面!M85=\"\"),\"\",IF(内訳明細書入力画面!N85=\"\",内訳明細書入力画面!M85,内訳明細書入力画面!N85))","v":""},null,null,null,{"$f":"IF(内訳明細書入力画面!O85=\"\",\"\",内訳明細書入力画面!O85)","v":""},null,null,{"$f":"IF(AND(内訳明細書入力画面!R85=\"\",内訳明細書入力画面!P85=\"\"),\"\",IF(内訳明細書入力画面!R85=\"\",内訳明細書入力画面!P85,内訳明細書入力画面!R85))","v":""},null,null,null,{"$f":"IF(AND(内訳明細書入力画面!V85=\"\",内訳明細書入力画面!T85=\"\"),\"\",IF(内訳明細書入力画面!V85=\"\",内訳明細書入力画面!T85,内訳明細書入力画面!V85))","v":""},null,null,null,null,null,null,null,null,null,null,null,null,null,null,null,"",null,null,null,"",null,null,null,""]
[{"$f":"((ROW()-11)+15)/15","v":6},{"$f":"IF(内訳明細書入力画面!B86=\"\",\"\",内訳明細書入力画面!B86)","v":""},null,null,null,null,null,null,null,null,null,null,null,null,{"$f":"IF(AND(内訳明細書入力画面!N86=\"\",内訳明細書入力画面!M86=\"\"),\"\",IF(内訳明細書入力画面!N86=\"\",内訳明細書入力画面!M86,内訳明細書入力画面!N86))","v":""},null,null,null,{"$f":"IF(内訳明細書入力画面!O86=\"\",\"\",内訳明細書入力画面!O86)","v":""},null,null,{"$f":"IF(AND(内訳明細書入力画面!R86=\"\",内訳明細書入力画面!P86=\"\"),\"\",IF(内訳明細書入力画面!R86=\"\",内訳明細書入力画面!P86,内訳明細書入力画面!R86))","v":""},null,null,null,{"$f":"IF(AND(内訳明細書入力画面!V86=\"\",内訳明細書入力画面!T86=\"\"),\"\",IF(内訳明細書入力画面!V86=\"\",内訳明細書入力画面!T86,内訳明細書入力画面!V86))","v":""},null,null,null,null,null,null,null,null,null,null,null,null,null,null,null,"",null,null,null,"",null,null,null,""]
[null,{"$f":"IF(内訳明細書入力画面!B87=\"\",\"\",内訳明細書入力画面!B87)","v":""},null,null,null,null,null,null,null,null,null,null,null,null,{"$f":"IF(AND(内訳明細書入力画面!N87=\"\",内訳明細書入力画面!M87=\"\"),\"\",IF(内訳明細書入力画面!N87=\"\",内訳明細書入力画面!M87,内訳明細書入力画面!N87))","v":""},null,null,null,{"$f":"IF(内訳明細書入力画面!O87=\"\",\"\",内訳明細書入力画面!O87)","v":""},null,null,{"$f":"IF(AND(内訳明細書入力画面!R87=\"\",内訳明細書入力画面!P87=\"\"),\"\",IF(内訳明細書入力画面!R87=\"\",内訳明細書入力画面!P87,内訳明細書入力画面!R87))","v":""},null,null,null,{"$f":"IF(AND(内訳明細書入力画面!V87=\"\",内訳明細書入力画面!T87=\"\"),\"\",IF(内訳明細書入力画面!V87=\"\",内訳明細書入力画面!T87,内訳明細書入力画面!V87))","v":""},null,null,null,null,null,null,null,null,null,null,null,null,null,null,null,"",null,null,null,"",null,null,null,""]
[null,{"$f":"IF(内訳明細書入力画面!B88=\"\",\"\",内訳明細書入力画面!B88)","v":""},null,null,null,null,null,null,null,null,null,null,null,null,{"$f":"IF(AND(内訳明細書入力画面!N88=\"\",内訳明細書入力画面!M88=\"\"),\"\",IF(内訳明細書入力画面!N88=\"\",内訳明細書入力画面!M88,内訳明細書入力画面!N88))","v":""},null,null,null,{"$f":"IF(内訳明細書入力画面!O88=\"\",\"\",内訳明細書入力画面!O88)","v":""},null,null,{"$f":"IF(AND(内訳明細書入力画面!R88=\"\",内訳明細書入力画面!P88=\"\"),\"\",IF(内訳明細書入力画面!R88=\"\",内訳明細書入力画面!P88,内訳明細書入力画面!R88))","v":""},null,null,null,{"$f":"IF(AND(内訳明細書入力画面!V88=\"\",内訳明細書入力画面!T88=\"\"),\"\",IF(内訳明細書入力画面!V88=\"\",内訳明細書入力画面!T88,内訳明細書入力画面!V88))","v":""},null,null,null,null,null,null,null,null,null,null,null,null,null,null,null,"",null,null,null,"",null,null,null,""]
[null,{"$f":"IF(内訳明細書入力画面!B89=\"\",\"\",内訳明細書入力画面!B89)","v":""},null,null,null,null,null,null,null,null,null,null,null,null,{"$f":"IF(AND(内訳明細書入力画面!N89=\"\",内訳明細書入力画面!M89=\"\"),\"\",IF(内訳明細書入力画面!N89=\"\",内訳明細書入力画面!M89,内訳明細書入力画面!N89))","v":""},null,null,null,{"$f":"IF(内訳明細書入力画面!O89=\"\",\"\",内訳明細書入力画面!O89)","v":""},null,null,{"$f":"IF(AND(内訳明細書入力画面!R89=\"\",内訳明細書入力画面!P89=\"\"),\"\",IF(内訳明細書入力画面!R89=\"\",内訳明細書入力画面!P89,内訳明細書入力画面!R89))","v":""},null,null,null,{"$f":"IF(AND(内訳明細書入力画面!V89=\"\",内訳明細書入力画面!T89=\"\"),\"\",IF(内訳明細書入力画面!V89=\"\",内訳明細書入力画面!T89,内訳明細書入力画面!V89))","v":""},null,null,null,null,null,null,null,null,null,null,null,null,null,null,null,"",null,null,null,"",null,null,null,""]
[null,{"$f":"IF(内訳明細書入力画面!B90=\"\",\"\",内訳明細書入力画面!B90)","v":""},null,null,null,null,null,null,null,null,null,null,null,null,{"$f":"IF(AND(内訳明細書入力画面!N90=\"\",内訳明細書入力画面!M90=\"\"),\"\",IF(内訳明細書入力画面!N90=\"\",内訳明細書入力画面!M90,内訳明細書入力画面!N90))","v":""},null,null,null,{"$f":"IF(内訳明細書入力画面!O90=\"\",\"\",内訳明細書入力画面!O90)","v":""},null,null,{"$f":"IF(AND(内訳明細書入力画面!R90=\"\",内訳明細書入力画面!P90=\"\"),\"\",IF(内訳明細書入力画面!R90=\"\",内訳明細書入力画面!P90,内訳明細書入力画面!R90))","v":""},null,null,null,{"$f":"IF(AND(内訳明細書入力画面!V90=\"\",内訳明細書入力画面!T90=\"\"),\"\",IF(内訳明細書入力画面!V90=\"\",内訳明細書入力画面!T90,内訳明細書入力画面!V90))","v":""},null,null,null,null,null,null,null,null,null,null,null,null,null,null,null,"",null,null,null,"",null,null,null,""]
[null,{"$f":"IF(内訳明細書入力画面!B91=\"\",\"\",内訳明細書入力画面!B91)","v":""},null,null,null,null,null,null,null,null,null,null,null,null,{"$f":"IF(AND(内訳明細書入力画面!N91=\"\",内訳明細書入力画面!M91=\"\"),\"\",IF(内訳明細書入力画面!N91=\"\",内訳明細書入力画面!M91,内訳明細書入力画面!N91))","v":""},null,null,null,{"$f":"IF(内訳明細書入力画面!O91=\"\",\"\",内訳明細書入力画面!O91)","v":""},null,null,{"$f":"IF(AND(内訳明細書入力画面!R91=\"\",内訳明細書入力画面!P91=\"\"),\"\",IF(内訳明細書入力画面!R91=\"\",内訳明細書入力画面!P91,内訳明細書入力画面!R91))","v":""},null,null,null,{"$f":"IF(AND(内訳明細書入力画面!V91=\"\",内訳明細書入力画面!T91=\"\"),\"\",IF(内訳明細書入力画面!V91=\"\",内訳明細書入力画面!T91,内訳明細書入力画面!V91))","v":""},null,null,null,null,null,null,null,null,null,null,null,null,null,null,null,"",null,null,null,"",null,null,null,""]
[null,{"$f":"IF(内訳明細書入力画面!B92=\"\",\"\",内訳明細書入力画面!B92)","v":""},null,null,null,null,null,null,null,null,null,null,null,null,{"$f":"IF(AND(内訳明細書入力画面!N92=\"\",内訳明細書入力画面!M92=\"\"),\"\",IF(内訳明細書入力画面!N92=\"\",内訳明細書入力画面!M92,内訳明細書入力画面!N92))","v":""},null,null,null,{"$f":"IF(内訳明細書入力画面!O92=\"\",\"\",内訳明細書入力画面!O92)","v":""},null,null,{"$f":"IF(AND(内訳明細書入力画面!R92=\"\",内訳明細書入力画面!P92=\"\"),\"\",IF(内訳明細書入力画面!R92=\"\",内訳明細書入力画面!P92,内訳明細書入力画面!R92))","v":""},null,null,null,{"$f":"IF(AND(内訳明細書入力画面!V92=\"\",内訳明細書入力画面!T92=\"\"),\"\",IF(内訳明細書入力画面!V92=\"\",内訳明細書入力画面!T92,内訳明細書入力画面!V92))","v":""},null,null,null,null,null,null,null,null,null,null,null,null,null,null,null,"",null,null,null,"",null,null,null,""]
[null,{"$f":"IF(内訳明細書入力画面!B93=\"\",\"\",内訳明細書入力画面!B93)","v":""},null,null,null,null,null,null,null,null,null,null,null,null,{"$f":"IF(AND(内訳明細書入力画面!N93=\"\",内訳明細書入力画面!M93=\"\"),\"\",IF(内訳明細書入力画面!N93=\"\",内訳明細書入力画面!M93,内訳明細書入力画面!N93))","v":""},null,null,null,{"$f":"IF(内訳明細書入力画面!O93=\"\",\"\",内訳明細書入力画面!O93)","v":""},null,null,{"$f":"IF(AND(内訳明細書入力画面!R93=\"\",内訳明細書入力画面!P93=\"\"),\"\",IF(内訳明細書入力画面!R93=\"\",内訳明細書入力画面!P93,内訳明細書入力画面!R93))","v":""},null,null,null,{"$f":"IF(AND(内訳明細書入力画面!V93=\"\",内訳明細書入力画面!T93=\"\"),\"\",IF(内訳明細書入力画面!V93=\"\",内訳明細書入力画面!T93,内訳明細書入力画面!V93))","v":""},null,null,null,null,null,null,null,null,null,null,null,null,null,null,null,"",null,null,null,"",null,null,null,""]
[null,{"$f":"IF(内訳明細書入力画面!B94=\"\",\"\",内訳明細書入力画面!B94)","v":""},null,null,null,null,null,null,null,null,null,null,null,null,{"$f":"IF(AND(内訳明細書入力画面!N94=\"\",内訳明細書入力画面!M94=\"\"),\"\",IF(内訳明細書入力画面!N94=\"\",内訳明細書入力画面!M94,内訳明細書入力画面!N94))","v":""},null,null,null,{"$f":"IF(内訳明細書入力画面!O94=\"\",\"\",内訳明細書入力画面!O94)","v":""},null,null,{"$f":"IF(AND(内訳明細書入力画面!R94=\"\",内訳明細書入力画面!P94=\"\"),\"\",IF(内訳明細書入力画面!R94=\"\",内訳明細書入力画面!P94,内訳明細書入力画面!R94))","v":""},null,null,null,{"$f":"IF(AND(内訳明細書入力画面!V94=\"\",内訳明細書入力画面!T94=\"\"),\"\",IF(内訳明細書入力画面!V94=\"\",内訳明細書入力画面!T94,内訳明細書入力画面!V94))","v":""},null,null,null,null,null,null,null,null,null,null,null,null,null,null,null,"",null,null,null,"",null,null,null,""]
[null,{"$f":"IF(内訳明細書入力画面!B95=\"\",\"\",内訳明細書入力画面!B95)","v":""},null,null,null,null,null,null,null,null,null,null,null,null,{"$f":"IF(AND(内訳明細書入力画面!N95=\"\",内訳明細書入力画面!M95=\"\"),\"\",IF(内訳明細書入力画面!N95=\"\",内訳明細書入力画面!M95,内訳明細書入力画面!N95))","v":""},null,null,null,{"$f":"IF(内訳明細書入力画面!O95=\"\",\"\",内訳明細書入力画面!O95)","v":""},null,null,{"$f":"IF(AND(内訳明細書入力画面!R95=\"\",内訳明細書入力画面!P95=\"\"),\"\",IF(内訳明細書入力画面!R95=\"\",内訳明細書入力画面!P95,内訳明細書入力画面!R95))","v":""},null,null,null,{"$f":"IF(AND(内訳明細書入力画面!V95=\"\",内訳明細書入力画面!T95=\"\"),\"\",IF(内訳明細書入力画面!V95=\"\",内訳明細書入力画面!T95,内訳明細書入力画面!V95))","v":""},null,null,null,null,null,null,null,null,null,null,null,null,null,null,null,"",null,null,null,{"$f":"IF(AND(AD95=\"\",AL95=\"\"),\"\",N(AD95)+N(AL95))","v":""},null,null,null,{"$f":"IF(AND(AH95=\"\",AP95=\"\"),\"\",N(AH95)+N(AP95))","v":""}]
[null,{"$f":"IF(内訳明細書入力画面!B96=\"\",\"\",内訳明細書入力画面!B96)","v":""},null,null,null,null,null,null,null,null,null,null,null,null,{"$f":"IF(AND(内訳明細書入力画面!N96=\"\",内訳明細書入力画面!M96=\"\"),\"\",IF(内訳明細書入力画面!N96=\"\",内訳明細書入力画面!M96,内訳明細書入力画面!N96))","v":""},null,null,null,{"$f":"IF(内訳明細書入力画面!O96=\"\",\"\",内訳明細書入力画面!O96)","v":""},null,null,{"$f":"IF(AND(内訳明細書入力画面!R96=\"\",内訳明細書入力画面!P96=\"\"),\"\",IF(内訳明細書入力画面!R96=\"\",内訳明細書入力画面!P96,内訳明細書入力画面!R96))","v":""},null,null,null,{"$f":"IF(AND(内訳明細書入力画面!V96=\"\",内訳明細書入力画面!T96=\"\"),\"\",IF(内訳明細書入力画面!V96=\"\",内訳明細書入力画面!T96,内訳明細書入力画面!V96))","v":""},null,null,null,null,null,null,null,null,null,null,null,null,null,null,null,"",null,null,null,"",null,null,null,""]
[null,{"$f":"IF(内訳明細書入力画面!B97=\"\",\"\",内訳明細書入力画面!B97)","v":""},null,null,null,null,null,null,null,null,null,null,null,null,{"$f":"IF(AND(内訳明細書入力画面!N97=\"\",内訳明細書入力画面!M97=\"\"),\"\",IF(内訳明細書入力画面!N97=\"\",内訳明細書入力画面!M97,内訳明細書入力画面!N97))","v":""},null,null,null,{"$f":"IF(内訳明細書入力画面!O97=\"\",\"\",内訳明細書入力画面!O97)","v":""},null,null,{"$f":"IF(AND(内訳明細書入力画面!R97=\"\",内訳明細書入力画面!P97=\"\"),\"\",IF(内訳明細書入力画面!R97=\"\",内訳明細書入力画面!P97,内訳明細書入力画面!R97))","v":""},null,null,null,{"$f":"IF(AND(内訳明細書入力画面!V97=\"\",内訳明細書入力画面!T97=\"\"),\"\",IF(内訳明細書入力画面!V97=\"\",内訳明細書入力画面!T97,内訳明細書入力画面!V97))","v":""},null,null,null,null,null,null,null,null,null,null,null,null,null,null,null,"",null,null,null,"",null,null,null,""]
[null,{"$f":"IF(内訳明細書入力画面!B98=\"\",\"\",内訳明細書入力画面!B98)","v":""},null,null,null,null,null,null,null,null,null,null,null,null,{"$f":"IF(AND(内訳明細書入力画面!N98=\"\",内訳明細書入力画面!M98=\"\"),\"\",IF(内訳明細書入力画面!N98=\"\",内訳明細書入力画面!M98,内訳明細書入力画面!N98))","v":""},null,null,null,{"$f":"IF(内訳明細書入力画面!O98=\"\",\"\",内訳明細書入力画面!O98)","v":""},null,null,{"$f":"IF(AND(内訳明細書入力画面!R98=\"\",内訳明細書入力画面!P98=\"\"),\"\",IF(内訳明細書入力画面!R98=\"\",内訳明細書入力画面!P98,内訳明細書入力画面!R98))","v":""},null,null,null,{"$f":"IF(AND(内訳明細書入力画面!V98=\"\",内訳明細書入力画面!T98=\"\"),\"\",IF(内訳明細書入力画面!V98=\"\",内訳明細書入力画面!T98,内訳明細書入力画面!V98))","v":""},null,null,null,null,null,null,null,null,null,null,null,null,null,null,null,"",null,null,null,"",null,null,null,""]
[null,{"$f":"IF(内訳明細書入力画面!B99=\"\",\"\",内訳明細書入力画面!B99)","v":""},null,null,null,null,null,null,null,null,null,null,null,null,{"$f":"IF(AND(内訳明細書入力画面!N99=\"\",内訳明細書入力画面!M99=\"\"),\"\",IF(内訳明細書入力画面!N99=\"\",内訳明細書入力画面!M99,内訳明細書入力画面!N99))","v":""},null,null,null,{"$f":"IF(内訳明細書入力画面!O99=\"\",\"\",内訳明細書入力画面!O99)","v":""},null,null,{"$f":"IF(AND(内訳明細書入力画面!R99=\"\",内訳明細書入力画面!P99=\"\"),\"\",IF(内訳明細書入力画面!R99=\"\",内訳明細書入力画面!P99,内訳明細書入力画面!R99))","v":""},null,null,null,{"$f":"IF(AND(内訳明細書入力画面!V99=\"\",内訳明細書入力画面!T99=\"\"),\"\",IF(内訳明細書入力画面!V99=\"\",内訳明細書入力画面!T99,内訳明細書入力画面!V99))","v":""},null,null,null,null,null,null,null,null,null,null,null,null,null,null,null,"",null,null,null,"",null,null,null,""]
[null,{"$f":"IF(内訳明細書入力画面!B100=\"\",\"\",内訳明細書入力画面!B100)","v":""},null,null,null,null,null,null,null,null,null,null,null,null,{"$f":"IF(AND(内訳明細書入力画面!N100=\"\",内訳明細書入力画面!M100=\"\"),\"\",IF(内訳明細書入力画面!N100=\"\",内訳明細書入力画面!M100,内訳明細書入力画面!N100))","v":""},null,null,null,{"$f":"IF(内訳明細書入力画面!O100=\"\",\"\",内訳明細書入力画面!O100)","v":""},null,null,{"$f":"IF(AND(内訳明細書入力画面!R100=\"\",内訳明細書入力画面!P100=\"\"),\"\",IF(内訳明細書入力画面!R100=\"\",内訳明細書入力画面!P100,内訳明細書入力画面!R100))","v":""},null,null,null,{"$f":"IF(AND(内訳明細書入力画面!V100=\"\",内訳明細書入力画面!T100=\"\"),\"\",IF(内訳明細書入力画面!V100=\"\",内訳明細書入力画面!T100,内訳明細書入力画面!V100))","v":""},null,null,null,null,null,null,null,null,null,null,null,null,null,null,null,"",null,null,null,"",null,null,null,""]
[{"$f":"((ROW()-11)+15)/15","v":7},{"$f":"IF(内訳明細書入力画面!B101=\"\",\"\",内訳明細書入力画面!B101)","v":""},null,null,null,null,null,null,null,null,null,null,null,null,{"$f":"IF(AND(内訳明細書入力画面!N101=\"\",内訳明細書入力画面!M101=\"\"),\"\",IF(内訳明細書入力画面!N101=\"\",内訳明細書入力画面!M101,内訳明細書入力画面!N101))","v":""},null,null,null,{"$f":"IF(内訳明細書入力画面!O101=\"\",\"\",内訳明細書入力画面!O101)","v":""},null,null,{"$f":"IF(AND(内訳明細書入力画面!R101=\"\",内訳明細書入力画面!P101=\"\"),\"\",IF(内訳明細書入力画面!R101=\"\",内訳明細書入力画面!P101,内訳明細書入力画面!R101))","v":""},null,null,null,{"$f":"IF(AND(内訳明細書入力画面!V101=\"\",内訳明細書入力画面!T101=\"\"),\"\",IF(内訳明細書入力画面!V101=\"\",内訳明細書入力画面!T101,内訳明細書入力画面!V101))","v":""},null,null,null,null,null,null,null,null,null,null,null,null,null,null,null,"",null,null,null,"",null,null,null,""]
[null,{"$f":"IF(内訳明細書入力画面!B102=\"\",\"\",内訳明細書入力画面!B102)","v":""},null,null,null,null,null,null,null,null,null,null,null,null,{"$f":"IF(AND(内訳明細書入力画面!N102=\"\",内訳明細書入力画面!M102=\"\"),\"\",IF(内訳明細書入力画面!N102=\"\",内訳明細書入力画面!M102,内訳明細書入力画面!N102))","v":""},null,null,null,{"$f":"IF(内訳明細書入力画面!O102=\"\",\"\",内訳明細書入力画面!O102)","v":""},null,null,{"$f":"IF(AND(内訳明細書入力画面!R102=\"\",内訳明細書入力画面!P102=\"\"),\"\",IF(内訳明細書入力画面!R102=\"\",内訳明細書入力画面!P102,内訳明細書入力画面!R102))","v":""},null,null,null,{"$f":"IF(AND(内訳明細書入力画面!V102=\"\",内訳明細書入力画面!T102=\"\"),\"\",IF(内訳明細書入力画面!V102=\"\",内訳明細書入力画面!T102,内訳明細書入力画面!V102))","v":""},null,null,null,null,null,null,null,null,null,null,null,null,null,null,null,"",null,null,null,"",null,null,null,""]
[null,{"$f":"IF(内訳明細書入力画面!B103=\"\",\"\",内訳明細書入力画面!B103)","v":""},null,null,null,null,null,null,null,null,null,null,null,null,{"$f":"IF(AND(内訳明細書入力画面!N103=\"\",内訳明細書入力画面!M103=\"\"),\"\",IF(内訳明細書入力画面!N103=\"\",内訳明細書入力画面!M103,内訳明細書入力画面!N103))","v":""},null,null,null,{"$f":"IF(内訳明細書入力画面!O103=\"\",\"\",内訳明細書入力画面!O103)","v":""},null,null,{"$f":"IF(AND(内訳明細書入力画面!R103=\"\",内訳明細書入力画面!P103=\"\"),\"\",IF(内訳明細書入力画面!R103=\"\",内訳明細書入力画面!P103,内訳明細書入力画面!R103))","v":""},null,null,null,{"$f":"IF(AND(内訳明細書入力画面!V103=\"\",内訳明細書入力画面!T103=\"\"),\"\",IF(内訳明細書入力画面!V103=\"\",内訳明細書入力画面!T103,内訳明細書入力画面!V103))","v":""},null,null,null,null,null,null,null,null,null,null,null,null,null,null,null,"",null,null,null,"",null,null,null,""]
[null,{"$f":"IF(内訳明細書入力画面!B104=\"\",\"\",内訳明細書入力画面!B104)","v":""},null,null,null,null,null,null,null,null,null,null,null,null,{"$f":"IF(AND(内訳明細書入力画面!N104=\"\",内訳明細書入力画面!M104=\"\"),\"\",IF(内訳明細書入力画面!N104=\"\",内訳明細書入力画面!M104,内訳明細書入力画面!N104))","v":""},null,null,null,{"$f":"IF(内訳明細書入力画面!O104=\"\",\"\",内訳明細書入力画面!O104)","v":""},null,null,{"$f":"IF(AND(内訳明細書入力画面!R104=\"\",内訳明細書入力画面!P104=\"\"),\"\",IF(内訳明細書入力画面!R104=\"\",内訳明細書入力画面!P104,内訳明細書入力画面!R104))","v":""},null,null,null,{"$f":"IF(AND(内訳明細書入力画面!V104=\"\",内訳明細書入力画面!T104=\"\"),\"\",IF(内訳明細書入力画面!V104=\"\",内訳明細書入力画面!T104,内訳明細書入力画面!V104))","v":""},null,null,null,null,null,null,null,null,null,null,null,null,null,null,null,"",null,null,null,"",null,null,null,""]
[null,{"$f":"IF(内訳明細書入力画面!B105=\"\",\"\",内訳明細書入力画面!B105)","v":""},null,null,null,null,null,null,null,null,null,null,null,null,{"$f":"IF(AND(内訳明細書入力画面!N105=\"\",内訳明細書入力画面!M105=\"\"),\"\",IF(内訳明細書入力画面!N105=\"\",内訳明細書入力画面!M105,内訳明細書入力画面!N105))","v":""},null,null,null,{"$f":"IF(内訳明細書入力画面!O105=\"\",\"\",内訳明細書入力画面!O105)","v":""},null,null,{"$f":"IF(AND(内訳明細書入力画面!R105=\"\",内訳明細書入力画面!P105=\"\"),\"\",IF(内訳明細書入力画面!R105=\"\",内訳明細書入力画面!P105,内訳明細書入力画面!R105))","v":""},null,null,null,{"$f":"IF(AND(内訳明細書入力画面!V105=\"\",内訳明細書入力画面!T105=\"\"),\"\",IF(内訳明細書入力画面!V105=\"\",内訳明細書入力画面!T105,内訳明細書入力画面!V105))","v":""},null,null,null,null,null,null,null,null,null,null,null,null,null,null,null,"",null,null,null,"",null,null,null,""]
[null,{"$f":"IF(内訳明細書入力画面!B106=\"\",\"\",内訳明細書入力画面!B106)","v":""},null,null,null,null,null,null,null,null,null,null,null,null,{"$f":"IF(AND(内訳明細書入力画面!N106=\"\",内訳明細書入力画面!M106=\"\"),\"\",IF(内訳明細書入力画面!N106=\"\",内訳明細書入力画面!M106,内訳明細書入力画面!N106))","v":""},null,null,null,{"$f":"IF(内訳明細書入力画面!O106=\"\",\"\",内訳明細書入力画面!O106)","v":""},null,null,{"$f":"IF(AND(内訳明細書入力画面!R106=\"\",内訳明細書入力画面!P106=\"\"),\"\",IF(内訳明細書入力画面!R106=\"\",内訳明細書入力画面!P106,内訳明細書入力画面!R106))","v":""},null,null,null,{"$f":"IF(AND(内訳明細書入力画面!V106=\"\",内訳明細書入力画面!T106=\"\"),\"\",IF(内訳明細書入力画面!V106=\"\",内訳明細書入力画面!T106,内訳明細書入力画面!V106))","v":""},null,null,null,null,null,null,null,null,null,null,null,null,null,null,null,"",null,null,null,"",null,null,null,""]
[null,{"$f":"IF(内訳明細書入力画面!B107=\"\",\"\",内訳明細書入力画面!B107)","v":""},null,null,null,null,null,null,null,null,null,null,null,null,{"$f":"IF(AND(内訳明細書入力画面!N107=\"\",内訳明細書入力画面!M107=\"\"),\"\",IF(内訳明細書入力画面!N107=\"\",内訳明細書入力画面!M107,内訳明細書入力画面!N107))","v":""},null,null,null,{"$f":"IF(内訳明細書入力画面!O107=\"\",\"\",内訳明細書入力画面!O107)","v":""},null,null,{"$f":"IF(AND(内訳明細書入力画面!R107=\"\",内訳明細書入力画面!P107=\"\"),\"\",IF(内訳明細書入力画面!R107=\"\",内訳明細書入力画面!P107,内訳明細書入力画面!R107))","v":""},null,null,null,{"$f":"IF(AND(内訳明細書入力画面!V107=\"\",内訳明細書入力画面!T107=\"\"),\"\",IF(内訳明細書入力画面!V107=\"\",内訳明細書入力画面!T107,内訳明細書入力画面!V107))","v":""},null,null,null,null,null,null,null,null,null,null,null,null,null,null,null,"",null,null,null,"",null,null,null,""]
[null,{"$f":"IF(内訳明細書入力画面!B108=\"\",\"\",内訳明細書入力画面!B108)","v":""},null,null,null,null,null,null,null,null,null,null,null,null,{"$f":"IF(AND(内訳明細書入力画面!N108=\"\",内訳明細書入力画面!M108=\"\"),\"\",IF(内訳明細書入力画面!N108=\"\",内訳明細書入力画面!M108,内訳明細書入力画面!N108))","v":""},null,null,null,{"$f":"IF(内訳明細書入力画面!O108=\"\",\"\",内訳明細書入力画面!O108)","v":""},null,null,{"$f":"IF(AND(内訳明細書入力画面!R108=\"\",内訳明細書入力画面!P108=\"\"),\"\",IF(内訳明細書入力画面!R108=\"\",内訳明細書入力画面!P108,内訳明細書入力画面!R108))","v":""},null,null,null,{"$f":"IF(AND(内訳明細書入力画面!V108=\"\",内訳明細書入力画面!T108=\"\"),\"\",IF(内訳明細書入力画面!V108=\"\",内訳明細書入力画面!T108,内訳明細書入力画面!V108))","v":""},null,null,null,null,null,null,null,null,null,null,null,null,null,null,null,"",null,null,null,"",null,null,null,""]
[null,{"$f":"IF(内訳明細書入力画面!B109=\"\",\"\",内訳明細書入力画面!B109)","v":""},null,null,null,null,null,null,null,null,null,null,null,null,{"$f":"IF(AND(内訳明細書入力画面!N109=\"\",内訳明細書入力画面!M109=\"\"),\"\",IF(内訳明細書入力画面!N109=\"\",内訳明細書入力画面!M109,内訳明細書入力画面!N109))","v":""},null,null,null,{"$f":"IF(内訳明細書入力画面!O109=\"\",\"\",内訳明細書入力画面!O109)","v":""},null,null,{"$f":"IF(AND(内訳明細書入力画面!R109=\"\",内訳明細書入力画面!P109=\"\"),\"\",IF(内訳明細書入力画面!R109=\"\",内訳明細書入力画面!P109,内訳明細書入力画面!R109))","v":""},null,null,null,{"$f":"IF(AND(内訳明細書入力画面!V109=\"\",内訳明細書入力画面!T109=\"\"),\"\",IF(内訳明細書入力画面!V109=\"\",内訳明細書入力画面!T109,内訳明細書入力画面!V109))","v":""},null,null,null,null,null,null,null,null,null,null,null,null,null,null,null,"",null,null,null,"",null,null,null,""]
[null,{"$f":"IF(内訳明細書入力画面!B110=\"\",\"\",内訳明細書入力画面!B110)","v":""},null,null,null,null,null,null,null,null,null,null,null,null,{"$f":"IF(AND(内訳明細書入力画面!N110=\"\",内訳明細書入力画面!M110=\"\"),\"\",IF(内訳明細書入力画面!N110=\"\",内訳明細書入力画面!M110,内訳明細書入力画面!N110))","v":""},null,null,null,{"$f":"IF(内訳明細書入力画面!O110=\"\",\"\",内訳明細書入力画面!O110)","v":""},null,null,{"$f":"IF(AND(内訳明細書入力画面!R110=\"\",内訳明細書入力画面!P110=\"\"),\"\",IF(内訳明細書入力画面!R110=\"\",内訳明細書入力画面!P110,内訳明細書入力画面!R110))","v":""},null,null,null,{"$f":"IF(AND(内訳明細書入力画面!V110=\"\",内訳明細書入力画面!T110=\"\"),\"\",IF(内訳明細書入力画面!V110=\"\",内訳明細書入力画面!T110,内訳明細書入力画面!V110))","v":""},null,null,null,null,null,null,null,null,null,null,null,null,null,null,null,"",null,null,null,"",null,null,null,""]
[null,{"$f":"IF(内訳明細書入力画面!B111=\"\",\"\",内訳明細書入力画面!B111)","v":""},null,null,null,null,null,null,null,null,null,null,null,null,{"$f":"IF(AND(内訳明細書入力画面!N111=\"\",内訳明細書入力画面!M111=\"\"),\"\",IF(内訳明細書入力画面!N111=\"\",内訳明細書入力画面!M111,内訳明細書入力画面!N111))","v":""},null,null,null,{"$f":"IF(内訳明細書入力画面!O111=\"\",\"\",内訳明細書入力画面!O111)","v":""},null,null,{"$f":"IF(AND(内訳明細書入力画面!R111=\"\",内訳明細書入力画面!P111=\"\"),\"\",IF(内訳明細書入力画面!R111=\"\",内訳明細書入力画面!P111,内訳明細書入力画面!R111))","v":""},null,null,null,{"$f":"IF(AND(内訳明細書入力画面!V111=\"\",内訳明細書入力画面!T111=\"\"),\"\",IF(内訳明細書入力画面!V111=\"\",内訳明細書入力画面!T111,内訳明細書入力画面!V111))","v":""},null,null,null,null,null,null,null,null,null,null,null,null,null,null,null,"",null,null,null,"",null,null,null,""]
[null,{"$f":"IF(内訳明細書入力画面!B112=\"\",\"\",内訳明細書入力画面!B112)","v":""},null,null,null,null,null,null,null,null,null,null,null,null,{"$f":"IF(AND(内訳明細書入力画面!N112=\"\",内訳明細書入力画面!M112=\"\"),\"\",IF(内訳明細書入力画面!N112=\"\",内訳明細書入力画面!M112,内訳明細書入力画面!N112))","v":""},null,null,null,{"$f":"IF(内訳明細書入力画面!O112=\"\",\"\",内訳明細書入力画面!O112)","v":""},null,null,{"$f":"IF(AND(内訳明細書入力画面!R112=\"\",内訳明細書入力画面!P112=\"\"),\"\",IF(内訳明細書入力画面!R112=\"\",内訳明細書入力画面!P112,内訳明細書入力画面!R112))","v":""},null,null,null,{"$f":"IF(AND(内訳明細書入力画面!V112=\"\",内訳明細書入力画面!T112=\"\"),\"\",IF(内訳明細書入力画面!V112=\"\",内訳明細書入力画面!T112,内訳明細書入力画面!V112))","v":""},null,null,null,null,null,null,null,null,null,null,null,null,null,null,null,"",null,null,null,"",null,null,null,""]
[null,{"$f":"IF(内訳明細書入力画面!B113=\"\",\"\",内訳明細書入力画面!B113)","v":""},null,null,null,null,null,null,null,null,null,null,null,null,{"$f":"IF(AND(内訳明細書入力画面!N113=\"\",内訳明細書入力画面!M113=\"\"),\"\",IF(内訳明細書入力画面!N113=\"\",内訳明細書入力画面!M113,内訳明細書入力画面!N113))","v":""},null,null,null,{"$f":"IF(内訳明細書入力画面!O113=\"\",\"\",内訳明細書入力画面!O113)","v":""},null,null,{"$f":"IF(AND(内訳明細書入力画面!R113=\"\",内訳明細書入力画面!P113=\"\"),\"\",IF(内訳明細書入力画面!R113=\"\",内訳明細書入力画面!P113,内訳明細書入力画面!R113))","v":""},null,null,null,{"$f":"IF(AND(内訳明細書入力画面!V113=\"\",内訳明細書入力画面!T113=\"\"),\"\",IF(内訳明細書入力画面!V113=\"\",内訳明細書入力画面!T113,内訳明細書入力画面!V113))","v":""},null,null,null,null,null,null,null,null,null,null,null,null,null,null,null,"",null,null,null,"",null,null,null,""]
[null,{"$f":"IF(内訳明細書入力画面!B114=\"\",\"\",内訳明細書入力画面!B114)","v":""},null,null,null,null,null,null,null,null,null,null,null,null,{"$f":"IF(AND(内訳明細書入力画面!N114=\"\",内訳明細書入力画面!M114=\"\"),\"\",IF(内訳明細書入力画面!N114=\"\",内訳明細書入力画面!M114,内訳明細書入力画面!N114))","v":""},null,null,null,{"$f":"IF(内訳明細書入力画面!O114=\"\",\"\",内訳明細書入力画面!O114)","v":""},null,null,{"$f":"IF(AND(内訳明細書入力画面!R114=\"\",内訳明細書入力画面!P114=\"\"),\"\",IF(内訳明細書入力画面!R114=\"\",内訳明細書入力画面!P114,内訳明細書入力画面!R114))","v":""},null,null,null,{"$f":"IF(AND(内訳明細書入力画面!V114=\"\",内訳明細書入力画面!T114=\"\"),\"\",IF(内訳明細書入力画面!V114=\"\",内訳明細書入力画面!T114,内訳明細書入力画面!V114))","v":""},null,null,null,null,null,null,null,null,null,null,null,null,null,null,null,"",null,null,null,"",null,null,null,""]
[null,{"$f":"IF(内訳明細書入力画面!B115=\"\",\"\",内訳明細書入力画面!B115)","v":""},null,null,null,null,null,null,null,null,null,null,null,null,{"$f":"IF(AND(内訳明細書入力画面!N115=\"\",内訳明細書入力画面!M115=\"\"),\"\",IF(内訳明細書入力画面!N115=\"\",内訳明細書入力画面!M115,内訳明細書入力画面!N115))","v":""},null,null,null,{"$f":"IF(内訳明細書入力画面!O115=\"\",\"\",内訳明細書入力画面!O115)","v":""},null,null,{"$f":"IF(AND(内訳明細書入力画面!R115=\"\",内訳明細書入力画面!P115=\"\"),\"\",IF(内訳明細書入力画面!R115=\"\",内訳明細書入力画面!P115,内訳明細書入力画面!R115))","v":""},null,null,null,{"$f":"IF(AND(内訳明細書入力画面!V115=\"\",内訳明細書入力画面!T115=\"\"),\"\",IF(内訳明細書入力画面!V115=\"\",内訳明細書入力画面!T115,内訳明細書入力画面!V115))","v":""},null,null,null,null,null,null,null,null,null,null,null,null,null,null,null,"",null,null,null,"",null,null,null,""]
[{"$f":"((ROW()-11)+15)/15","v":8},{"$f":"IF(内訳明細書入力画面!B116=\"\",\"\",内訳明細書入力画面!B116)","v":""},null,null,null,null,null,null,null,null,null,null,null,null,{"$f":"IF(AND(内訳明細書入力画面!N116=\"\",内訳明細書入力画面!M116=\"\"),\"\",IF(内訳明細書入力画面!N116=\"\",内訳明細書入力画面!M116,内訳明細書入力画面!N116))","v":""},null,null,null,{"$f":"IF(内訳明細書入力画面!O116=\"\",\"\",内訳明細書入力画面!O116)","v":""},null,null,{"$f":"IF(AND(内訳明細書入力画面!R116=\"\",内訳明細書入力画面!P116=\"\"),\"\",IF(内訳明細書入力画面!R116=\"\",内訳明細書入力画面!P116,内訳明細書入力画面!R116))","v":""},null,null,null,{"$f":"IF(AND(内訳明細書入力画面!V116=\"\",内訳明細書入力画面!T116=\"\"),\"\",IF(内訳明細書入力画面!V116=\"\",内訳明細書入力画面!T116,内訳明細書入力画面!V116))","v":""},null,null,null,null,null,null,null,null,null,null,null,null,null,null,null,"",null,null,null,"",null,null,null,""]
[null,{"$f":"IF(内訳明細書入力画面!B117=\"\",\"\",内訳明細書入力画面!B117)","v":""},null,null,null,null,null,null,null,null,null,null,null,null,{"$f":"IF(AND(内訳明細書入力画面!N117=\"\",内訳明細書入力画面!M117=\"\"),\"\",IF(内訳明細書入力画面!N117=\"\",内訳明細書入力画面!M117,内訳明細書入力画面!N117))","v":""},null,null,null,{"$f":"IF(内訳明細書入力画面!O117=\"\",\"\",内訳明細書入力画面!O117)","v":""},null,null,{"$f":"IF(AND(内訳明細書入力画面!R117=\"\",内訳明細書入力画面!P117=\"\"),\"\",IF(内訳明細書入力画面!R117=\"\",内訳明細書入力画面!P117,内訳明細書入力画面!R117))","v":""},null,null,null,{"$f":"IF(AND(内訳明細書入力画面!V117=\"\",内訳明細書入力画面!T117=\"\"),\"\",IF(内訳明細書入力画面!V117=\"\",内訳明細書入力画面!T117,内訳明細書入力画面!V117))","v":""},null,null,null,null,null,null,null,null,null,null,null,null,null,null,null,"",null,null,null,"",null,null,null,""]
[null,{"$f":"IF(内訳明細書入力画面!B118=\"\",\"\",内訳明細書入力画面!B118)","v":""},null,null,null,null,null,null,null,null,null,null,null,null,{"$f":"IF(AND(内訳明細書入力画面!N118=\"\",内訳明細書入力画面!M118=\"\"),\"\",IF(内訳明細書入力画面!N118=\"\",内訳明細書入力画面!M118,内訳明細書入力画面!N118))","v":""},null,null,null,{"$f":"IF(内訳明細書入力画面!O118=\"\",\"\",内訳明細書入力画面!O118)","v":""},null,null,{"$f":"IF(AND(内訳明細書入力画面!R118=\"\",内訳明細書入力画面!P118=\"\"),\"\",IF(内訳明細書入力画面!R118=\"\",内訳明細書入力画面!P118,内訳明細書入力画面!R118))","v":""},null,null,null,{"$f":"IF(AND(内訳明細書入力画面!V118=\"\",内訳明細書入力画面!T118=\"\"),\"\",IF(内訳明細書入力画面!V118=\"\",内訳明細書入力画面!T118,内訳明細書入力画面!V118))","v":""},null,null,null,null,null,null,null,null,null,null,null,null,null,null,null,"",null,null,null,"",null,null,null,""]
[null,{"$f":"IF(内訳明細書入力画面!B119=\"\",\"\",内訳明細書入力画面!B119)","v":""},null,null,null,null,null,null,null,null,null,null,null,null,{"$f":"IF(AND(内訳明細書入力画面!N119=\"\",内訳明細書入力画面!M119=\"\"),\"\",IF(内訳明細書入力画面!N119=\"\",内訳明細書入力画面!M119,内訳明細書入力画面!N119))","v":""},null,null,null,{"$f":"IF(内訳明細書入力画面!O119=\"\",\"\",内訳明細書入力画面!O119)","v":""},null,null,{"$f":"IF(AND(内訳明細書入力画面!R119=\"\",内訳明細書入力画面!P119=\"\"),\"\",IF(内訳明細書入力画面!R119=\"\",内訳明細書入力画面!P119,内訳明細書入力画面!R119))","v":""},null,null,null,{"$f":"IF(AND(内訳明細書入力画面!V119=\"\",内訳明細書入力画面!T119=\"\"),\"\",IF(内訳明細書入力画面!V119=\"\",内訳明細書入力画面!T119,内訳明細書入力画面!V119))","v":""},null,null,null,null,null,null,null,null,null,null,null,null,null,null,null,"",null,null,null,"",null,null,null,""]
[null,{"$f":"IF(内訳明細書入力画面!B120=\"\",\"\",内訳明細書入力画面!B120)","v":""},null,null,null,null,null,null,null,null,null,null,null,null,{"$f":"IF(AND(内訳明細書入力画面!N120=\"\",内訳明細書入力画面!M120=\"\"),\"\",IF(内訳明細書入力画面!N120=\"\",内訳明細書入力画面!M120,内訳明細書入力画面!N120))","v":""},null,null,null,{"$f":"IF(内訳明細書入力画面!O120=\"\",\"\",内訳明細書入力画面!O120)","v":""},null,null,{"$f":"IF(AND(内訳明細書入力画面!R120=\"\",内訳明細書入力画面!P120=\"\"),\"\",IF(内訳明細書入力画面!R120=\"\",内訳明細書入力画面!P120,内訳明細書入力画面!R120))","v":""},null,null,null,{"$f":"IF(AND(内訳明細書入力画面!V120=\"\",内訳明細書入力画面!T120=\"\"),\"\",IF(内訳明細書入力画面!V120=\"\",内訳明細書入力画面!T120,内訳明細書入力画面!V120))","v":""},null,null,null,null,null,null,null,null,null,null,null,null,null,null,null,"",null,null,null,"",null,null,null,""]
[null,{"$f":"IF(内訳明細書入力画面!B121=\"\",\"\",内訳明細書入力画面!B121)","v":""},null,null,null,null,null,null,null,null,null,null,null,null,{"$f":"IF(AND(内訳明細書入力画面!N121=\"\",内訳明細書入力画面!M121=\"\"),\"\",IF(内訳明細書入力画面!N121=\"\",内訳明細書入力画面!M121,内訳明細書入力画面!N121))","v":""},null,null,null,{"$f":"IF(内訳明細書入力画面!O121=\"\",\"\",内訳明細書入力画面!O121)","v":""},null,null,{"$f":"IF(AND(内訳明細書入力画面!R121=\"\",内訳明細書入力画面!P121=\"\"),\"\",IF(内訳明細書入力画面!R121=\"\",内訳明細書入力画面!P121,内訳明細書入力画面!R121))","v":""},null,null,null,{"$f":"IF(AND(内訳明細書入力画面!V121=\"\",内訳明細書入力画面!T121=\"\"),\"\",IF(内訳明細書入力画面!V121=\"\",内訳明細書入力画面!T121,内訳明細書入力画面!V121))","v":""},null,null,null,null,null,null,null,null,null,null,null,null,null,null,null,"",null,null,null,"",null,null,null,""]
[null,{"$f":"IF(内訳明細書入力画面!B122=\"\",\"\",内訳明細書入力画面!B122)","v":""},null,null,null,null,null,null,null,null,null,null,null,null,{"$f":"IF(AND(内訳明細書入力画面!N122=\"\",内訳明細書入力画面!M122=\"\"),\"\",IF(内訳明細書入力画面!N122=\"\",内訳明細書入力画面!M122,内訳明細書入力画面!N122))","v":""},null,null,null,{"$f":"IF(内訳明細書入力画面!O122=\"\",\"\",内訳明細書入力画面!O122)","v":""},null,null,{"$f":"IF(AND(内訳明細書入力画面!R122=\"\",内訳明細書入力画面!P122=\"\"),\"\",IF(内訳明細書入力画面!R122=\"\",内訳明細書入力画面!P122,内訳明細書入力画面!R122))","v":""},null,null,null,{"$f":"IF(AND(内訳明細書入力画面!V122=\"\",内訳明細書入力画面!T122=\"\"),\"\",IF(内訳明細書入力画面!V122=\"\",内訳明細書入力画面!T122,内訳明細書入力画面!V122))","v":""},null,null,null,null,null,null,null,null,null,null,null,null,null,null,null,"",null,null,null,"",null,null,null,""]
[null,{"$f":"IF(内訳明細書入力画面!B123=\"\",\"\",内訳明細書入力画面!B123)","v":""},null,null,null,null,null,null,null,null,null,null,null,null,{"$f":"IF(AND(内訳明細書入力画面!N123=\"\",内訳明細書入力画面!M123=\"\"),\"\",IF(内訳明細書入力画面!N123=\"\",内訳明細書入力画面!M123,内訳明細書入力画面!N123))","v":""},null,null,null,{"$f":"IF(内訳明細書入力画面!O123=\"\",\"\",内訳明細書入力画面!O123)","v":""},null,null,{"$f":"IF(AND(内訳明細書入力画面!R123=\"\",内訳明細書入力画面!P123=\"\"),\"\",IF(内訳明細書入力画面!R123=\"\",内訳明細書入力画面!P123,内訳明細書入力画面!R123))","v":""},null,null,null,{"$f":"IF(AND(内訳明細書入力画面!V123=\"\",内訳明細書入力画面!T123=\"\"),\"\",IF(内訳明細書入力画面!V123=\"\",内訳明細書入力画面!T123,内訳明細書入力画面!V123))","v":""},null,null,null,null,null,null,null,null,null,null,null,null,null,null,null,"",null,null,null,"",null,null,null,""]
[null,{"$f":"IF(内訳明細書入力画面!B124=\"\",\"\",内訳明細書入力画面!B124)","v":""},null,null,null,null,null,null,null,null,null,null,null,null,{"$f":"IF(AND(内訳明細書入力画面!N124=\"\",内訳明細書入力画面!M124=\"\"),\"\",IF(内訳明細書入力画面!N124=\"\",内訳明細書入力画面!M124,内訳明細書入力画面!N124))","v":""},null,null,null,{"$f":"IF(内訳明細書入力画面!O124=\"\",\"\",内訳明細書入力画面!O124)","v":""},null,null,{"$f":"IF(AND(内訳明細書入力画面!R124=\"\",内訳明細書入力画面!P124=\"\"),\"\",IF(内訳明細書入力画面!R124=\"\",内訳明細書入力画面!P124,内訳明細書入力画面!R124))","v":""},null,null,null,{"$f":"IF(AND(内訳明細書入力画面!V124=\"\",内訳明細書入力画面!T124=\"\"),\"\",IF(内訳明細書入力画面!V124=\"\",内訳明細書入力画面!T124,内訳明細書入力画面!V124))","v":""},null,null,null,null,null,null,null,null,null,null,null,null,null,null,null,"",null,null,null,"",null,null,null,""]
[null,{"$f":"IF(内訳明細書入力画面!B125=\"\",\"\",内訳明細書入力画面!B125)","v":""},null,null,null,null,null,null,null,null,null,null,null,null,{"$f":"IF(AND(内訳明細書入力画面!N125=\"\",内訳明細書入力画面!M125=\"\"),\"\",IF(内訳明細書入力画面!N125=\"\",内訳明細書入力画面!M125,内訳明細書入力画面!N125))","v":""},null,null,null,{"$f":"IF(内訳明細書入力画面!O125=\"\",\"\",内訳明細書入力画面!O125)","v":""},null,null,{"$f":"IF(AND(内訳明細書入力画面!R125=\"\",内訳明細書入力画面!P125=\"\"),\"\",IF(内訳明細書入力画面!R125=\"\",内訳明細書入力画面!P125,内訳明細書入力画面!R125))","v":""},null,null,null,{"$f":"IF(AND(内訳明細書入力画面!V125=\"\",内訳明細書入力画面!T125=\"\"),\"\",IF(内訳明細書入力画面!V125=\"\",内訳明細書入力画面!T125,内訳明細書入力画面!V125))","v":""},null,null,null,null,null,null,null,null,null,null,null,null,null,null,null,"",null,null,null,"",null,null,null,""]
[null,{"$f":"IF(内訳明細書入力画面!B126=\"\",\"\",内訳明細書入力画面!B126)","v":""},null,null,null,null,null,null,null,null,null,null,null,null,{"$f":"IF(AND(内訳明細書入力画面!N126=\"\",内訳明細書入力画面!M126=\"\"),\"\",IF(内訳明細書入力画面!N126=\"\",内訳明細書入力画面!M126,内訳明細書入力画面!N126))","v":""},null,null,null,{"$f":"IF(内訳明細書入力画面!O126=\"\",\"\",内訳明細書入力画面!O126)","v":""},null,null,{"$f":"IF(AND(内訳明細書入力画面!R126=\"\",内訳明細書入力画面!P126=\"\"),\"\",IF(内訳明細書入力画面!R126=\"\",内訳明細書入力画面!P126,内訳明細書入力画面!R126))","v":""},null,null,null,{"$f":"IF(AND(内訳明細書入力画面!V126=\"\",内訳明細書入力画面!T126=\"\"),\"\",IF(内訳明細書入力画面!V126=\"\",内訳明細書入力画面!T126,内訳明細書入力画面!V126))","v":""},null,null,null,null,null,null,null,null,null,null,null,null,null,null,null,"",null,null,null,"",null,null,null,""]
[null,{"$f":"IF(内訳明細書入力画面!B127=\"\",\"\",内訳明細書入力画面!B127)","v":""},null,null,null,null,null,null,null,null,null,null,null,null,{"$f":"IF(AND(内訳明細書入力画面!N127=\"\",内訳明細書入力画面!M127=\"\"),\"\",IF(内訳明細書入力画面!N127=\"\",内訳明細書入力画面!M127,内訳明細書入力画面!N127))","v":""},null,null,null,{"$f":"IF(内訳明細書入力画面!O127=\"\",\"\",内訳明細書入力画面!O127)","v":""},null,null,{"$f":"IF(AND(内訳明細書入力画面!R127=\"\",内訳明細書入力画面!P127=\"\"),\"\",IF(内訳明細書入力画面!R127=\"\",内訳明細書入力画面!P127,内訳明細書入力画面!R127))","v":""},null,null,null,{"$f":"IF(AND(内訳明細書入力画面!V127=\"\",内訳明細書入力画面!T127=\"\"),\"\",IF(内訳明細書入力画面!V127=\"\",内訳明細書入力画面!T127,内訳明細書入力画面!V127))","v":""},null,null,null,null,null,null,null,null,null,null,null,null,null,null,null,"",null,null,null,"",null,null,null,""]
[null,{"$f":"IF(内訳明細書入力画面!B128=\"\",\"\",内訳明細書入力画面!B128)","v":""},null,null,null,null,null,null,null,null,null,null,null,null,{"$f":"IF(AND(内訳明細書入力画面!N128=\"\",内訳明細書入力画面!M128=\"\"),\"\",IF(内訳明細書入力画面!N128=\"\",内訳明細書入力画面!M128,内訳明細書入力画面!N128))","v":""},null,null,null,{"$f":"IF(内訳明細書入力画面!O128=\"\",\"\",内訳明細書入力画面!O128)","v":""},null,null,{"$f":"IF(AND(内訳明細書入力画面!R128=\"\",内訳明細書入力画面!P128=\"\"),\"\",IF(内訳明細書入力画面!R128=\"\",内訳明細書入力画面!P128,内訳明細書入力画面!R128))","v":""},null,null,null,{"$f":"IF(AND(内訳明細書入力画面!V128=\"\",内訳明細書入力画面!T128=\"\"),\"\",IF(内訳明細書入力画面!V128=\"\",内訳明細書入力画面!T128,内訳明細書入力画面!V128))","v":""},null,null,null,null,null,null,null,null,null,null,null,null,null,null,null,"",null,null,null,"",null,null,null,""]
[null,{"$f":"IF(内訳明細書入力画面!B129=\"\",\"\",内訳明細書入力画面!B129)","v":""},null,null,null,null,null,null,null,null,null,null,null,null,{"$f":"IF(AND(内訳明細書入力画面!N129=\"\",内訳明細書入力画面!M129=\"\"),\"\",IF(内訳明細書入力画面!N129=\"\",内訳明細書入力画面!M129,内訳明細書入力画面!N129))","v":""},null,null,null,{"$f":"IF(内訳明細書入力画面!O129=\"\",\"\",内訳明細書入力画面!O129)","v":""},null,null,{"$f":"IF(AND(内訳明細書入力画面!R129=\"\",内訳明細書入力画面!P129=\"\"),\"\",IF(内訳明細書入力画面!R129=\"\",内訳明細書入力画面!P129,内訳明細書入力画面!R129))","v":""},null,null,null,{"$f":"IF(AND(内訳明細書入力画面!V129=\"\",内訳明細書入力画面!T129=\"\"),\"\",IF(内訳明細書入力画面!V129=\"\",内訳明細書入力画面!T129,内訳明細書入力画面!V129))","v":""},null,null,null,null,null,null,null,null,null,null,null,null,null,null,null,"",null,null,null,"",null,null,null,""]
[null,{"$f":"IF(内訳明細書入力画面!B130=\"\",\"\",内訳明細書入力画面!B130)","v":""},null,null,null,null,null,null,null,null,null,null,null,null,{"$f":"IF(AND(内訳明細書入力画面!N130=\"\",内訳明細書入力画面!M130=\"\"),\"\",IF(内訳明細書入力画面!N130=\"\",内訳明細書入力画面!M130,内訳明細書入力画面!N130))","v":""},null,null,null,{"$f":"IF(内訳明細書入力画面!O130=\"\",\"\",内訳明細書入力画面!O130)","v":""},null,null,{"$f":"IF(AND(内訳明細書入力画面!R130=\"\",内訳明細書入力画面!P130=\"\"),\"\",IF(内訳明細書入力画面!R130=\"\",内訳明細書入力画面!P130,内訳明細書入力画面!R130))","v":""},null,null,null,{"$f":"IF(AND(内訳明細書入力画面!V130=\"\",内訳明細書入力画面!T130=\"\"),\"\",IF(内訳明細書入力画面!V130=\"\",内訳明細書入力画面!T130,内訳明細書入力画面!V130))","v":""},null,null,null,null,null,null,null,null,null,null,null,null,null,null,null,"",null,null,null,"",null,null,null,""]
[{"$f":"((ROW()-11)+15)/15","v":9},{"$f":"IF(内訳明細書入力画面!B131=\"\",\"\",内訳明細書入力画面!B131)","v":""},null,null,null,null,null,null,null,null,null,null,null,null,{"$f":"IF(AND(内訳明細書入力画面!N131=\"\",内訳明細書入力画面!M131=\"\"),\"\",IF(内訳明細書入力画面!N131=\"\",内訳明細書入力画面!M131,内訳明細書入力画面!N131))","v":""},null,null,null,{"$f":"IF(内訳明細書入力画面!O131=\"\",\"\",内訳明細書入力画面!O131)","v":""},null,null,{"$f":"IF(AND(内訳明細書入力画面!R131=\"\",内訳明細書入力画面!P131=\"\"),\"\",IF(内訳明細書入力画面!R131=\"\",内訳明細書入力画面!P131,内訳明細書入力画面!R131))","v":""},null,null,null,{"$f":"IF(AND(内訳明細書入力画面!V131=\"\",内訳明細書入力画面!T131=\"\"),\"\",IF(内訳明細書入力画面!V131=\"\",内訳明細書入力画面!T131,内訳明細書入力画面!V131))","v":""},null,null,null,null,null,null,null,null,null,null,null,null,null,null,null,"",null,null,null,"",null,null,null,""]
[null,{"$f":"IF(内訳明細書入力画面!B132=\"\",\"\",内訳明細書入力画面!B132)","v":""},null,null,null,null,null,null,null,null,null,null,null,null,{"$f":"IF(AND(内訳明細書入力画面!N132=\"\",内訳明細書入力画面!M132=\"\"),\"\",IF(内訳明細書入力画面!N132=\"\",内訳明細書入力画面!M132,内訳明細書入力画面!N132))","v":""},null,null,null,{"$f":"IF(内訳明細書入力画面!O132=\"\",\"\",内訳明細書入力画面!O132)","v":""},null,null,{"$f":"IF(AND(内訳明細書入力画面!R132=\"\",内訳明細書入力画面!P132=\"\"),\"\",IF(内訳明細書入力画面!R132=\"\",内訳明細書入力画面!P132,内訳明細書入力画面!R132))","v":""},null,null,null,{"$f":"IF(AND(内訳明細書入力画面!V132=\"\",内訳明細書入力画面!T132=\"\"),\"\",IF(内訳明細書入力画面!V132=\"\",内訳明細書入力画面!T132,内訳明細書入力画面!V132))","v":""},null,null,null,null,null,null,null,null,null,null,null,null,null,null,null,"",null,null,null,"",null,null,null,""]
[null,{"$f":"IF(内訳明細書入力画面!B133=\"\",\"\",内訳明細書入力画面!B133)","v":""},null,null,null,null,null,null,null,null,null,null,null,null,{"$f":"IF(AND(内訳明細書入力画面!N133=\"\",内訳明細書入力画面!M133=\"\"),\"\",IF(内訳明細書入力画面!N133=\"\",内訳明細書入力画面!M133,内訳明細書入力画面!N133))","v":""},null,null,null,{"$f":"IF(内訳明細書入力画面!O133=\"\",\"\",内訳明細書入力画面!O133)","v":""},null,null,{"$f":"IF(AND(内訳明細書入力画面!R133=\"\",内訳明細書入力画面!P133=\"\"),\"\",IF(内訳明細書入力画面!R133=\"\",内訳明細書入力画面!P133,内訳明細書入力画面!R133))","v":""},null,null,null,{"$f":"IF(AND(内訳明細書入力画面!V133=\"\",内訳明細書入力画面!T133=\"\"),\"\",IF(内訳明細書入力画面!V133=\"\",内訳明細書入力画面!T133,内訳明細書入力画面!V133))","v":""},null,null,null,null,null,null,null,null,null,null,null,null,null,null,null,"",null,null,null,"",null,null,null,""]
[null,{"$f":"IF(内訳明細書入力画面!B134=\"\",\"\",内訳明細書入力画面!B134)","v":""},null,null,null,null,null,null,null,null,null,null,null,null,{"$f":"IF(AND(内訳明細書入力画面!N134=\"\",内訳明細書入力画面!M134=\"\"),\"\",IF(内訳明細書入力画面!N134=\"\",内訳明細書入力画面!M134,内訳明細書入力画面!N134))","v":""},null,null,null,{"$f":"IF(内訳明細書入力画面!O134=\"\",\"\",内訳明細書入力画面!O134)","v":""},null,null,{"$f":"IF(AND(内訳明細書入力画面!R134=\"\",内訳明細書入力画面!P134=\"\"),\"\",IF(内訳明細書入力画面!R134=\"\",内訳明細書入力画面!P134,内訳明細書入力画面!R134))","v":""},null,null,null,{"$f":"IF(AND(内訳明細書入力画面!V134=\"\",内訳明細書入力画面!T134=\"\"),\"\",IF(内訳明細書入力画面!V134=\"\",内訳明細書入力画面!T134,内訳明細書入力画面!V134))","v":""},null,null,null,null,null,null,null,null,null,null,null,null,null,null,null,"",null,null,null,"",null,null,null,""]
[null,{"$f":"IF(内訳明細書入力画面!B135=\"\",\"\",内訳明細書入力画面!B135)","v":""},null,null,null,null,null,null,null,null,null,null,null,null,{"$f":"IF(AND(内訳明細書入力画面!N135=\"\",内訳明細書入力画面!M135=\"\"),\"\",IF(内訳明細書入力画面!N135=\"\",内訳明細書入力画面!M135,内訳明細書入力画面!N135))","v":""},null,null,null,{"$f":"IF(内訳明細書入力画面!O135=\"\",\"\",内訳明細書入力画面!O135)","v":""},null,null,{"$f":"IF(AND(内訳明細書入力画面!R135=\"\",内訳明細書入力画面!P135=\"\"),\"\",IF(内訳明細書入力画面!R135=\"\",内訳明細書入力画面!P135,内訳明細書入力画面!R135))","v":""},null,null,null,{"$f":"IF(AND(内訳明細書入力画面!V135=\"\",内訳明細書入力画面!T135=\"\"),\"\",IF(内訳明細書入力画面!V135=\"\",内訳明細書入力画面!T135,内訳明細書入力画面!V135))","v":""},null,null,null,null,null,null,null,null,null,null,null,null,null,null,null,"",null,null,null,"",null,null,null,""]
[null,{"$f":"IF(内訳明細書入力画面!B136=\"\",\"\",内訳明細書入力画面!B136)","v":""},null,null,null,null,null,null,null,null,null,null,null,null,{"$f":"IF(AND(内訳明細書入力画面!N136=\"\",内訳明細書入力画面!M136=\"\"),\"\",IF(内訳明細書入力画面!N136=\"\",内訳明細書入力画面!M136,内訳明細書入力画面!N136))","v":""},null,null,null,{"$f":"IF(内訳明細書入力画面!O136=\"\",\"\",内訳明細書入力画面!O136)","v":""},null,null,{"$f":"IF(AND(内訳明細書入力画面!R136=\"\",内訳明細書入力画面!P136=\"\"),\"\",IF(内訳明細書入力画面!R136=\"\",内訳明細書入力画面!P136,内訳明細書入力画面!R136))","v":""},null,null,null,{"$f":"IF(AND(内訳明細書入力画面!V136=\"\",内訳明細書入力画面!T136=\"\"),\"\",IF(内訳明細書入力画面!V136=\"\",内訳明細書入力画面!T136,内訳明細書入力画面!V136))","v":""},null,null,null,null,null,null,null,null,null,null,null,null,null,null,null,"",null,null,null,"",null,null,null,""]
[null,{"$f":"IF(内訳明細書入力画面!B137=\"\",\"\",内訳明細書入力画面!B137)","v":""},null,null,null,null,null,null,null,null,null,null,null,null,{"$f":"IF(AND(内訳明細書入力画面!N137=\"\",内訳明細書入力画面!M137=\"\"),\"\",IF(内訳明細書入力画面!N137=\"\",内訳明細書入力画面!M137,内訳明細書入力画面!N137))","v":""},null,null,null,{"$f":"IF(内訳明細書入力画面!O137=\"\",\"\",内訳明細書入力画面!O137)","v":""},null,null,{"$f":"IF(AND(内訳明細書入力画面!R137=\"\",内訳明細書入力画面!P137=\"\"),\"\",IF(内訳明細書入力画面!R137=\"\",内訳明細書入力画面!P137,内訳明細書入力画面!R137))","v":""},null,null,null,{"$f":"IF(AND(内訳明細書入力画面!V137=\"\",内訳明細書入力画面!T137=\"\"),\"\",IF(内訳明細書入力画面!V137=\"\",内訳明細書入力画面!T137,内訳明細書入力画面!V137))","v":""},null,null,null,null,null,null,null,null,null,null,null,null,null,null,null,"",null,null,null,"",null,null,null,""]
[null,{"$f":"IF(内訳明細書入力画面!B138=\"\",\"\",内訳明細書入力画面!B138)","v":""},null,null,null,null,null,null,null,null,null,null,null,null,{"$f":"IF(AND(内訳明細書入力画面!N138=\"\",内訳明細書入力画面!M138=\"\"),\"\",IF(内訳明細書入力画面!N138=\"\",内訳明細書入力画面!M138,内訳明細書入力画面!N138))","v":""},null,null,null,{"$f":"IF(内訳明細書入力画面!O138=\"\",\"\",内訳明細書入力画面!O138)","v":""},null,null,{"$f":"IF(AND(内訳明細書入力画面!R138=\"\",内訳明細書入力画面!P138=\"\"),\"\",IF(内訳明細書入力画面!R138=\"\",内訳明細書入力画面!P138,内訳明細書入力画面!R138))","v":""},null,null,null,{"$f":"IF(AND(内訳明細書入力画面!V138=\"\",内訳明細書入力画面!T138=\"\"),\"\",IF(内訳明細書入力画面!V138=\"\",内訳明細書入力画面!T138,内訳明細書入力画面!V138))","v":""},null,null,null,null,null,null,null,null,null,null,null,null,null,null,null,"",null,null,null,"",null,null,null,""]
[null,{"$f":"IF(内訳明細書入力画面!B139=\"\",\"\",内訳明細書入力画面!B139)","v":""},null,null,null,null,null,null,null,null,null,null,null,null,{"$f":"IF(AND(内訳明細書入力画面!N139=\"\",内訳明細書入力画面!M139=\"\"),\"\",IF(内訳明細書入力画面!N139=\"\",内訳明細書入力画面!M139,内訳明細書入力画面!N139))","v":""},null,null,null,{"$f":"IF(内訳明細書入力画面!O139=\"\",\"\",内訳明細書入力画面!O139)","v":""},null,null,{"$f":"IF(AND(内訳明細書入力画面!R139=\"\",内訳明細書入力画面!P139=\"\"),\"\",IF(内訳明細書入力画面!R139=\"\",内訳明細書入力画面!P139,内訳明細書入力画面!R139))","v":""},null,null,null,{"$f":"IF(AND(内訳明細書入力画面!V139=\"\",内訳明細書入力画面!T139=\"\"),\"\",IF(内訳明細書入力画面!V139=\"\",内訳明細書入力画面!T139,内訳明細書入力画面!V139))","v":""},null,null,null,null,null,null,null,null,null,null,null,null,null,null,null,{"$f":"IF(AL139=\"\",\"\",ROUNDDOWN(N(V139)*N(AL139),0))","v":""},null,null,null,"",null,null,null,""]
[null,{"$f":"IF(内訳明細書入力画面!B140=\"\",\"\",内訳明細書入力画面!B140)","v":""},null,null,null,null,null,null,null,null,null,null,null,null,{"$f":"IF(AND(内訳明細書入力画面!N140=\"\",内訳明細書入力画面!M140=\"\"),\"\",IF(内訳明細書入力画面!N140=\"\",内訳明細書入力画面!M140,内訳明細書入力画面!N140))","v":""},null,null,null,{"$f":"IF(内訳明細書入力画面!O140=\"\",\"\",内訳明細書入力画面!O140)","v":""},null,null,{"$f":"IF(AND(内訳明細書入力画面!R140=\"\",内訳明細書入力画面!P140=\"\"),\"\",IF(内訳明細書入力画面!R140=\"\",内訳明細書入力画面!P140,内訳明細書入力画面!R140))","v":""},null,null,null,{"$f":"IF(AND(内訳明細書入力画面!V140=\"\",内訳明細書入力画面!T140=\"\"),\"\",IF(内訳明細書入力画面!V140=\"\",内訳明細書入力画面!T140,内訳明細書入力画面!V140))","v":""},null,null,null,null,null,null,null,null,null,null,null,null,null,null,null,"",null,null,null,"",null,null,null,""]
[null,{"$f":"IF(内訳明細書入力画面!B141=\"\",\"\",内訳明細書入力画面!B141)","v":""},null,null,null,null,null,null,null,null,null,null,null,null,{"$f":"IF(AND(内訳明細書入力画面!N141=\"\",内訳明細書入力画面!M141=\"\"),\"\",IF(内訳明細書入力画面!N141=\"\",内訳明細書入力画面!M141,内訳明細書入力画面!N141))","v":""},null,null,null,{"$f":"IF(内訳明細書入力画面!O141=\"\",\"\",内訳明細書入力画面!O141)","v":""},null,null,{"$f":"IF(AND(内訳明細書入力画面!R141=\"\",内訳明細書入力画面!P141=\"\"),\"\",IF(内訳明細書入力画面!R141=\"\",内訳明細書入力画面!P141,内訳明細書入力画面!R141))","v":""},null,null,null,{"$f":"IF(AND(内訳明細書入力画面!V141=\"\",内訳明細書入力画面!T141=\"\"),\"\",IF(内訳明細書入力画面!V141=\"\",内訳明細書入力画面!T141,内訳明細書入力画面!V141))","v":""},null,null,null,null,null,null,null,null,null,null,null,null,null,null,null,"",null,null,null,"",null,null,null,""]
[null,{"$f":"IF(内訳明細書入力画面!B142=\"\",\"\",内訳明細書入力画面!B142)","v":""},null,null,null,null,null,null,null,null,null,null,null,null,{"$f":"IF(AND(内訳明細書入力画面!N142=\"\",内訳明細書入力画面!M142=\"\"),\"\",IF(内訳明細書入力画面!N142=\"\",内訳明細書入力画面!M142,内訳明細書入力画面!N142))","v":""},null,null,null,{"$f":"IF(内訳明細書入力画面!O142=\"\",\"\",内訳明細書入力画面!O142)","v":""},null,null,{"$f":"IF(AND(内訳明細書入力画面!R142=\"\",内訳明細書入力画面!P142=\"\"),\"\",IF(内訳明細書入力画面!R142=\"\",内訳明細書入力画面!P142,内訳明細書入力画面!R142))","v":""},null,null,null,{"$f":"IF(AND(内訳明細書入力画面!V142=\"\",内訳明細書入力画面!T142=\"\"),\"\",IF(内訳明細書入力画面!V142=\"\",内訳明細書入力画面!T142,内訳明細書入力画面!V142))","v":""},null,null,null,null,null,null,null,null,null,null,null,null,null,null,null,"",null,null,null,"",null,null,null,""]
[null,{"$f":"IF(内訳明細書入力画面!B143=\"\",\"\",内訳明細書入力画面!B143)","v":""},null,null,null,null,null,null,null,null,null,null,null,null,{"$f":"IF(AND(内訳明細書入力画面!N143=\"\",内訳明細書入力画面!M143=\"\"),\"\",IF(内訳明細書入力画面!N143=\"\",内訳明細書入力画面!M143,内訳明細書入力画面!N143))","v":""},null,null,null,{"$f":"IF(内訳明細書入力画面!O143=\"\",\"\",内訳明細書入力画面!O143)","v":""},null,null,{"$f":"IF(AND(内訳明細書入力画面!R143=\"\",内訳明細書入力画面!P143=\"\"),\"\",IF(内訳明細書入力画面!R143=\"\",内訳明細書入力画面!P143,内訳明細書入力画面!R143))","v":""},null,null,null,{"$f":"IF(AND(内訳明細書入力画面!V143=\"\",内訳明細書入力画面!T143=\"\"),\"\",IF(内訳明細書入力画面!V143=\"\",内訳明細書入力画面!T143,内訳明細書入力画面!V143))","v":""},null,null,null,null,null,null,null,null,null,null,null,null,null,null,null,"",null,null,null,"",null,null,null,""]
[null,{"$f":"IF(内訳明細書入力画面!B144=\"\",\"\",内訳明細書入力画面!B144)","v":""},null,null,null,null,null,null,null,null,null,null,null,null,{"$f":"IF(AND(内訳明細書入力画面!N144=\"\",内訳明細書入力画面!M144=\"\"),\"\",IF(内訳明細書入力画面!N144=\"\",内訳明細書入力画面!M144,内訳明細書入力画面!N144))","v":""},null,null,null,{"$f":"IF(内訳明細書入力画面!O144=\"\",\"\",内訳明細書入力画面!O144)","v":""},null,null,{"$f":"IF(AND(内訳明細書入力画面!R144=\"\",内訳明細書入力画面!P144=\"\"),\"\",IF(内訳明細書入力画面!R144=\"\",内訳明細書入力画面!P144,内訳明細書入力画面!R144))","v":""},null,null,null,{"$f":"IF(AND(内訳明細書入力画面!V144=\"\",内訳明細書入力画面!T144=\"\"),\"\",IF(内訳明細書入力画面!V144=\"\",内訳明細書入力画面!T144,内訳明細書入力画面!V144))","v":""},null,null,null,null,null,null,null,null,null,null,null,null,null,null,null,"",null,null,null,"",null,null,null,""]
[null,{"$f":"IF(内訳明細書入力画面!B145=\"\",\"\",内訳明細書入力画面!B145)","v":""},null,null,null,null,null,null,null,null,null,null,null,null,{"$f":"IF(AND(内訳明細書入力画面!N145=\"\",内訳明細書入力画面!M145=\"\"),\"\",IF(内訳明細書入力画面!N145=\"\",内訳明細書入力画面!M145,内訳明細書入力画面!N145))","v":""},null,null,null,{"$f":"IF(内訳明細書入力画面!O145=\"\",\"\",内訳明細書入力画面!O145)","v":""},null,null,{"$f":"IF(AND(内訳明細書入力画面!R145=\"\",内訳明細書入力画面!P145=\"\"),\"\",IF(内訳明細書入力画面!R145=\"\",内訳明細書入力画面!P145,内訳明細書入力画面!R145))","v":""},null,null,null,{"$f":"IF(AND(内訳明細書入力画面!V145=\"\",内訳明細書入力画面!T145=\"\"),\"\",IF(内訳明細書入力画面!V145=\"\",内訳明細書入力画面!T145,内訳明細書入力画面!V145))","v":""},null,null,null,null,null,null,null,null,null,null,null,null,null,null,null,"",null,null,null,"",null,null,null,""]
[{"$f":"((ROW()-11)+15)/15","v":10},{"$f":"IF(内訳明細書入力画面!B146=\"\",\"\",内訳明細書入力画面!B146)","v":""},null,null,null,null,null,null,null,null,null,null,null,null,{"$f":"IF(AND(内訳明細書入力画面!N146=\"\",内訳明細書入力画面!M146=\"\"),\"\",IF(内訳明細書入力画面!N146=\"\",内訳明細書入力画面!M146,内訳明細書入力画面!N146))","v":""},null,null,null,{"$f":"IF(内訳明細書入力画面!O146=\"\",\"\",内訳明細書入力画面!O146)","v":""},null,null,{"$f":"IF(AND(内訳明細書入力画面!R146=\"\",内訳明細書入力画面!P146=\"\"),\"\",IF(内訳明細書入力画面!R146=\"\",内訳明細書入力画面!P146,内訳明細書入力画面!R146))","v":""},null,null,null,{"$f":"IF(AND(内訳明細書入力画面!V146=\"\",内訳明細書入力画面!T146=\"\"),\"\",IF(内訳明細書入力画面!V146=\"\",内訳明細書入力画面!T146,内訳明細書入力画面!V146))","v":""},null,null,null,null,null,null,null,null,null,null,null,null,null,null,null,"",null,null,null,"",null,null,null,""]
[null,{"$f":"IF(内訳明細書入力画面!B147=\"\",\"\",内訳明細書入力画面!B147)","v":""},null,null,null,null,null,null,null,null,null,null,null,null,{"$f":"IF(AND(内訳明細書入力画面!N147=\"\",内訳明細書入力画面!M147=\"\"),\"\",IF(内訳明細書入力画面!N147=\"\",内訳明細書入力画面!M147,内訳明細書入力画面!N147))","v":""},null,null,null,{"$f":"IF(内訳明細書入力画面!O147=\"\",\"\",内訳明細書入力画面!O147)","v":""},null,null,{"$f":"IF(AND(内訳明細書入力画面!R147=\"\",内訳明細書入力画面!P147=\"\"),\"\",IF(内訳明細書入力画面!R147=\"\",内訳明細書入力画面!P147,内訳明細書入力画面!R147))","v":""},null,null,null,{"$f":"IF(AND(内訳明細書入力画面!V147=\"\",内訳明細書入力画面!T147=\"\"),\"\",IF(内訳明細書入力画面!V147=\"\",内訳明細書入力画面!T147,内訳明細書入力画面!V147))","v":""},null,null,null,null,null,null,null,null,null,null,null,null,null,null,null,"",null,null,null,"",null,null,null,""]
[null,{"$f":"IF(内訳明細書入力画面!B148=\"\",\"\",内訳明細書入力画面!B148)","v":""},null,null,null,null,null,null,null,null,null,null,null,null,{"$f":"IF(AND(内訳明細書入力画面!N148=\"\",内訳明細書入力画面!M148=\"\"),\"\",IF(内訳明細書入力画面!N148=\"\",内訳明細書入力画面!M148,内訳明細書入力画面!N148))","v":""},null,null,null,{"$f":"IF(内訳明細書入力画面!O148=\"\",\"\",内訳明細書入力画面!O148)","v":""},null,null,{"$f":"IF(AND(内訳明細書入力画面!R148=\"\",内訳明細書入力画面!P148=\"\"),\"\",IF(内訳明細書入力画面!R148=\"\",内訳明細書入力画面!P148,内訳明細書入力画面!R148))","v":""},null,null,null,{"$f":"IF(AND(内訳明細書入力画面!V148=\"\",内訳明細書入力画面!T148=\"\"),\"\",IF(内訳明細書入力画面!V148=\"\",内訳明細書入力画面!T148,内訳明細書入力画面!V148))","v":""},null,null,null,null,null,null,null,null,null,null,null,null,null,null,null,"",null,null,null,"",null,null,null,""]
[null,{"$f":"IF(内訳明細書入力画面!B149=\"\",\"\",内訳明細書入力画面!B149)","v":""},null,null,null,null,null,null,null,null,null,null,null,null,{"$f":"IF(AND(内訳明細書入力画面!N149=\"\",内訳明細書入力画面!M149=\"\"),\"\",IF(内訳明細書入力画面!N149=\"\",内訳明細書入力画面!M149,内訳明細書入力画面!N149))","v":""},null,null,null,{"$f":"IF(内訳明細書入力画面!O149=\"\",\"\",内訳明細書入力画面!O149)","v":""},null,null,{"$f":"IF(AND(内訳明細書入力画面!R149=\"\",内訳明細書入力画面!P149=\"\"),\"\",IF(内訳明細書入力画面!R149=\"\",内訳明細書入力画面!P149,内訳明細書入力画面!R149))","v":""},null,null,null,{"$f":"IF(AND(内訳明細書入力画面!V149=\"\",内訳明細書入力画面!T149=\"\"),\"\",IF(内訳明細書入力画面!V149=\"\",内訳明細書入力画面!T149,内訳明細書入力画面!V149))","v":""},null,null,null,null,null,null,null,null,null,null,null,null,null,null,null,"",null,null,null,"",null,null,null,""]
[null,{"$f":"IF(内訳明細書入力画面!B150=\"\",\"\",内訳明細書入力画面!B150)","v":""},null,null,null,null,null,null,null,null,null,null,null,null,{"$f":"IF(AND(内訳明細書入力画面!N150=\"\",内訳明細書入力画面!M150=\"\"),\"\",IF(内訳明細書入力画面!N150=\"\",内訳明細書入力画面!M150,内訳明細書入力画面!N150))","v":""},null,null,null,{"$f":"IF(内訳明細書入力画面!O150=\"\",\"\",内訳明細書入力画面!O150)","v":""},null,null,{"$f":"IF(AND(内訳明細書入力画面!R150=\"\",内訳明細書入力画面!P150=\"\"),\"\",IF(内訳明細書入力画面!R150=\"\",内訳明細書入力画面!P150,内訳明細書入力画面!R150))","v":""},null,null,null,{"$f":"IF(AND(内訳明細書入力画面!V150=\"\",内訳明細書入力画面!T150=\"\"),\"\",IF(内訳明細書入力画面!V150=\"\",内訳明細書入力画面!T150,内訳明細書入力画面!V150))","v":""},null,null,null,null,null,null,null,null,null,null,null,null,null,null,null,"",null,null,null,"",null,null,null,""]
[null,{"$f":"IF(内訳明細書入力画面!B151=\"\",\"\",内訳明細書入力画面!B151)","v":""},null,null,null,null,null,null,null,null,null,null,null,null,{"$f":"IF(AND(内訳明細書入力画面!N151=\"\",内訳明細書入力画面!M151=\"\"),\"\",IF(内訳明細書入力画面!N151=\"\",内訳明細書入力画面!M151,内訳明細書入力画面!N151))","v":""},null,null,null,{"$f":"IF(内訳明細書入力画面!O151=\"\",\"\",内訳明細書入力画面!O151)","v":""},null,null,{"$f":"IF(AND(内訳明細書入力画面!R151=\"\",内訳明細書入力画面!P151=\"\"),\"\",IF(内訳明細書入力画面!R151=\"\",内訳明細書入力画面!P151,内訳明細書入力画面!R151))","v":""},null,null,null,{"$f":"IF(AND(内訳明細書入力画面!V151=\"\",内訳明細書入力画面!T151=\"\"),\"\",IF(内訳明細書入力画面!V151=\"\",内訳明細書入力画面!T151,内訳明細書入力画面!V151))","v":""},null,null,null,null,null,null,null,null,null,null,null,null,null,null,null,"",null,null,null,"",null,null,null,""]
[null,{"$f":"IF(内訳明細書入力画面!B152=\"\",\"\",内訳明細書入力画面!B152)","v":""},null,null,null,null,null,null,null,null,null,null,null,null,{"$f":"IF(AND(内訳明細書入力画面!N152=\"\",内訳明細書入力画面!M152=\"\"),\"\",IF(内訳明細書入力画面!N152=\"\",内訳明細書入力画面!M152,内訳明細書入力画面!N152))","v":""},null,null,null,{"$f":"IF(内訳明細書入力画面!O152=\"\",\"\",内訳明細書入力画面!O152)","v":""},null,null,{"$f":"IF(AND(内訳明細書入力画面!R152=\"\",内訳明細書入力画面!P152=\"\"),\"\",IF(内訳明細書入力画面!R152=\"\",内訳明細書入力画面!P152,内訳明細書入力画面!R152))","v":""},null,null,null,{"$f":"IF(AND(内訳明細書入力画面!V152=\"\",内訳明細書入力画面!T152=\"\"),\"\",IF(内訳明細書入力画面!V152=\"\",内訳明細書入力画面!T152,内訳明細書入力画面!V152))","v":""},null,null,null,null,null,null,null,null,null,null,null,null,null,null,null,"",null,null,null,"",null,null,null,""]
[null,{"$f":"IF(内訳明細書入力画面!B153=\"\",\"\",内訳明細書入力画面!B153)","v":""},null,null,null,null,null,null,null,null,null,null,null,null,{"$f":"IF(AND(内訳明細書入力画面!N153=\"\",内訳明細書入力画面!M153=\"\"),\"\",IF(内訳明細書入力画面!N153=\"\",内訳明細書入力画面!M153,内訳明細書入力画面!N153))","v":""},null,null,null,{"$f":"IF(内訳明細書入力画面!O153=\"\",\"\",内訳明細書入力画面!O153)","v":""},null,null,{"$f":"IF(AND(内訳明細書入力画面!R153=\"\",内訳明細書入力画面!P153=\"\"),\"\",IF(内訳明細書入力画面!R153=\"\",内訳明細書入力画面!P153,内訳明細書入力画面!R153))","v":""},null,null,null,{"$f":"IF(AND(内訳明細書入力画面!V153=\"\",内訳明細書入力画面!T153=\"\"),\"\",IF(内訳明細書入力画面!V153=\"\",内訳明細書入力画面!T153,内訳明細書入力画面!V153))","v":""},null,null,null,null,null,null,null,null,null,null,null,null,null,null,null,"",null,null,null,"",null,null,null,""]
[null,{"$f":"IF(内訳明細書入力画面!B154=\"\",\"\",内訳明細書入力画面!B154)","v":""},null,null,null,null,null,null,null,null,null,null,null,null,{"$f":"IF(AND(内訳明細書入力画面!N154=\"\",内訳明細書入力画面!M154=\"\"),\"\",IF(内訳明細書入力画面!N154=\"\",内訳明細書入力画面!M154,内訳明細書入力画面!N154))","v":""},null,null,null,{"$f":"IF(内訳明細書入力画面!O154=\"\",\"\",内訳明細書入力画面!O154)","v":""},null,null,{"$f":"IF(AND(内訳明細書入力画面!R154=\"\",内訳明細書入力画面!P154=\"\"),\"\",IF(内訳明細書入力画面!R154=\"\",内訳明細書入力画面!P154,内訳明細書入力画面!R154))","v":""},null,null,null,{"$f":"IF(AND(内訳明細書入力画面!V154=\"\",内訳明細書入力画面!T154=\"\"),\"\",IF(内訳明細書入力画面!V154=\"\",内訳明細書入力画面!T154,内訳明細書入力画面!V154))","v":""},null,null,null,null,null,null,null,null,null,null,null,null,null,null,null,"",null,null,null,"",null,null,null,""]
[null,{"$f":"IF(内訳明細書入力画面!B155=\"\",\"\",内訳明細書入力画面!B155)","v":""},null,null,null,null,null,null,null,null,null,null,null,null,{"$f":"IF(AND(内訳明細書入力画面!N155=\"\",内訳明細書入力画面!M155=\"\"),\"\",IF(内訳明細書入力画面!N155=\"\",内訳明細書入力画面!M155,内訳明細書入力画面!N155))","v":""},null,null,null,{"$f":"IF(内訳明細書入力画面!O155=\"\",\"\",内訳明細書入力画面!O155)","v":""},null,null,{"$f":"IF(AND(内訳明細書入力画面!R155=\"\",内訳明細書入力画面!P155=\"\"),\"\",IF(内訳明細書入力画面!R155=\"\",内訳明細書入力画面!P155,内訳明細書入力画面!R155))","v":""},null,null,null,{"$f":"IF(AND(内訳明細書入力画面!V155=\"\",内訳明細書入力画面!T155=\"\"),\"\",IF(内訳明細書入力画面!V155=\"\",内訳明細書入力画面!T155,内訳明細書入力画面!V155))","v":""},null,null,null,null,null,null,null,null,null,null,null,null,null,null,null,"",null,null,null,"",null,null,null,""]
[null,{"$f":"IF(内訳明細書入力画面!B156=\"\",\"\",内訳明細書入力画面!B156)","v":""},null,null,null,null,null,null,null,null,null,null,null,null,{"$f":"IF(AND(内訳明細書入力画面!N156=\"\",内訳明細書入力画面!M156=\"\"),\"\",IF(内訳明細書入力画面!N156=\"\",内訳明細書入力画面!M156,内訳明細書入力画面!N156))","v":""},null,null,null,{"$f":"IF(内訳明細書入力画面!O156=\"\",\"\",内訳明細書入力画面!O156)","v":""},null,null,{"$f":"IF(AND(内訳明細書入力画面!R156=\"\",内訳明細書入力画面!P156=\"\"),\"\",IF(内訳明細書入力画面!R156=\"\",内訳明細書入力画面!P156,内訳明細書入力画面!R156))","v":""},null,null,null,{"$f":"IF(AND(内訳明細書入力画面!V156=\"\",内訳明細書入力画面!T156=\"\"),\"\",IF(内訳明細書入力画面!V156=\"\",内訳明細書入力画面!T156,内訳明細書入力画面!V156))","v":""},null,null,null,null,null,null,null,null,null,null,null,null,null,null,null,"",null,null,null,"",null,null,null,""]
[null,{"$f":"IF(内訳明細書入力画面!B157=\"\",\"\",内訳明細書入力画面!B157)","v":""},null,null,null,null,null,null,null,null,null,null,null,null,{"$f":"IF(AND(内訳明細書入力画面!N157=\"\",内訳明細書入力画面!M157=\"\"),\"\",IF(内訳明細書入力画面!N157=\"\",内訳明細書入力画面!M157,内訳明細書入力画面!N157))","v":""},null,null,null,{"$f":"IF(内訳明細書入力画面!O157=\"\",\"\",内訳明細書入力画面!O157)","v":""},null,null,{"$f":"IF(AND(内訳明細書入力画面!R157=\"\",内訳明細書入力画面!P157=\"\"),\"\",IF(内訳明細書入力画面!R157=\"\",内訳明細書入力画面!P157,内訳明細書入力画面!R157))","v":""},null,null,null,{"$f":"IF(AND(内訳明細書入力画面!V157=\"\",内訳明細書入力画面!T157=\"\"),\"\",IF(内訳明細書入力画面!V157=\"\",内訳明細書入力画面!T157,内訳明細書入力画面!V157))","v":""},null,null,null,null,null,null,null,null,null,null,null,null,null,null,null,"",null,null,null,"",null,null,null,""]
[null,{"$f":"IF(内訳明細書入力画面!B158=\"\",\"\",内訳明細書入力画面!B158)","v":""},null,null,null,null,null,null,null,null,null,null,null,null,{"$f":"IF(AND(内訳明細書入力画面!N158=\"\",内訳明細書入力画面!M158=\"\"),\"\",IF(内訳明細書入力画面!N158=\"\",内訳明細書入力画面!M158,内訳明細書入力画面!N158))","v":""},null,null,null,{"$f":"IF(内訳明細書入力画面!O158=\"\",\"\",内訳明細書入力画面!O158)","v":""},null,null,{"$f":"IF(AND(内訳明細書入力画面!R158=\"\",内訳明細書入力画面!P158=\"\"),\"\",IF(内訳明細書入力画面!R158=\"\",内訳明細書入力画面!P158,内訳明細書入力画面!R158))","v":""},null,null,null,{"$f":"IF(AND(内訳明細書入力画面!V158=\"\",内訳明細書入力画面!T158=\"\"),\"\",IF(内訳明細書入力画面!V158=\"\",内訳明細書入力画面!T158,内訳明細書入力画面!V158))","v":""},null,null,null,null,null,null,null,null,null,null,null,null,null,null,null,"",null,null,null,"",null,null,null,""]
[null,{"$f":"IF(内訳明細書入力画面!B159=\"\",\"\",内訳明細書入力画面!B159)","v":""},null,null,null,null,null,null,null,null,null,null,null,null,{"$f":"IF(AND(内訳明細書入力画面!N159=\"\",内訳明細書入力画面!M159=\"\"),\"\",IF(内訳明細書入力画面!N159=\"\",内訳明細書入力画面!M159,内訳明細書入力画面!N159))","v":""},null,null,null,{"$f":"IF(内訳明細書入力画面!O159=\"\",\"\",内訳明細書入力画面!O159)","v":""},null,null,{"$f":"IF(AND(内訳明細書入力画面!R159=\"\",内訳明細書入力画面!P159=\"\"),\"\",IF(内訳明細書入力画面!R159=\"\",内訳明細書入力画面!P159,内訳明細書入力画面!R159))","v":""},null,null,null,{"$f":"IF(AND(内訳明細書入力画面!V159=\"\",内訳明細書入力画面!T159=\"\"),\"\",IF(内訳明細書入力画面!V159=\"\",内訳明細書入力画面!T159,内訳明細書入力画面!V159))","v":""},null,null,null,null,null,null,null,null,null,null,null,null,null,null,null,"",null,null,null,{"$f":"IF(AND(AD159=\"\",AL159=\"\"),\"\",N(AD159)+N(AL159))","v":""},null,null,null,{"$f":"IF(AND(AH159=\"\",AP159=\"\"),\"\",N(AH159)+N(AP159))","v":""}]
[null,{"$f":"IF(内訳明細書入力画面!B160=\"\",\"\",内訳明細書入力画面!B160)","v":""},null,null,null,null,null,null,null,null,null,null,null,null,{"$f":"IF(AND(内訳明細書入力画面!N160=\"\",内訳明細書入力画面!M160=\"\"),\"\",IF(内訳明細書入力画面!N160=\"\",内訳明細書入力画面!M160,内訳明細書入力画面!N160))","v":""},null,null,null,{"$f":"IF(内訳明細書入力画面!O160=\"\",\"\",内訳明細書入力画面!O160)","v":""},null,null,{"$f":"IF(AND(内訳明細書入力画面!R160=\"\",内訳明細書入力画面!P160=\"\"),\"\",IF(内訳明細書入力画面!R160=\"\",内訳明細書入力画面!P160,内訳明細書入力画面!R160))","v":""},null,null,null,{"$f":"IF(AND(内訳明細書入力画面!V160=\"\",内訳明細書入力画面!T160=\"\"),\"\",IF(内訳明細書入力画面!V160=\"\",内訳明細書入力画面!T160,内訳明細書入力画面!V160))","v":""},null,null,null,null,null,null,null,null,null,null,null,null,null,null,null,"",null,null,null,"",null,null,null,""]
[{"$f":"((ROW()-11)+15)/15","v":11},{"$f":"IF(内訳明細書入力画面!B161=\"\",\"\",内訳明細書入力画面!B161)","v":""},null,null,null,null,null,null,null,null,null,null,null,null,{"$f":"IF(AND(内訳明細書入力画面!N161=\"\",内訳明細書入力画面!M161=\"\"),\"\",IF(内訳明細書入力画面!N161=\"\",内訳明細書入力画面!M161,内訳明細書入力画面!N161))","v":""},null,null,null,{"$f":"IF(内訳明細書入力画面!O161=\"\",\"\",内訳明細書入力画面!O161)","v":""},null,null,{"$f":"IF(AND(内訳明細書入力画面!R161=\"\",内訳明細書入力画面!P161=\"\"),\"\",IF(内訳明細書入力画面!R161=\"\",内訳明細書入力画面!P161,内訳明細書入力画面!R161))","v":""},null,null,null,{"$f":"IF(AND(内訳明細書入力画面!V161=\"\",内訳明細書入力画面!T161=\"\"),\"\",IF(内訳明細書入力画面!V161=\"\",内訳明細書入力画面!T161,内訳明細書入力画面!V161))","v":""},null,null,null,null,null,null,null,null,null,null,null,null,null,null,null,"",null,null,null,"",null,null,null,""]
[null,{"$f":"IF(内訳明細書入力画面!B162=\"\",\"\",内訳明細書入力画面!B162)","v":""},null,null,null,null,null,null,null,null,null,null,null,null,{"$f":"IF(AND(内訳明細書入力画面!N162=\"\",内訳明細書入力画面!M162=\"\"),\"\",IF(内訳明細書入力画面!N162=\"\",内訳明細書入力画面!M162,内訳明細書入力画面!N162))","v":""},null,null,null,{"$f":"IF(内訳明細書入力画面!O162=\"\",\"\",内訳明細書入力画面!O162)","v":""},null,null,{"$f":"IF(AND(内訳明細書入力画面!R162=\"\",内訳明細書入力画面!P162=\"\"),\"\",IF(内訳明細書入力画面!R162=\"\",内訳明細書入力画面!P162,内訳明細書入力画面!R162))","v":""},null,null,null,{"$f":"IF(AND(内訳明細書入力画面!V162=\"\",内訳明細書入力画面!T162=\"\"),\"\",IF(内訳明細書入力画面!V162=\"\",内訳明細書入力画面!T162,内訳明細書入力画面!V162))","v":""},null,null,null,null,null,null,null,null,null,null,null,null,null,null,null,"",null,null,null,"",null,null,null,""]
[null,{"$f":"IF(内訳明細書入力画面!B163=\"\",\"\",内訳明細書入力画面!B163)","v":""},null,null,null,null,null,null,null,null,null,null,null,null,{"$f":"IF(AND(内訳明細書入力画面!N163=\"\",内訳明細書入力画面!M163=\"\"),\"\",IF(内訳明細書入力画面!N163=\"\",内訳明細書入力画面!M163,内訳明細書入力画面!N163))","v":""},null,null,null,{"$f":"IF(内訳明細書入力画面!O163=\"\",\"\",内訳明細書入力画面!O163)","v":""},null,null,{"$f":"IF(AND(内訳明細書入力画面!R163=\"\",内訳明細書入力画面!P163=\"\"),\"\",IF(内訳明細書入力画面!R163=\"\",内訳明細書入力画面!P163,内訳明細書入力画面!R163))","v":""},null,null,null,{"$f":"IF(AND(内訳明細書入力画面!V163=\"\",内訳明細書入力画面!T163=\"\"),\"\",IF(内訳明細書入力画面!V163=\"\",内訳明細書入力画面!T163,内訳明細書入力画面!V163))","v":""},null,null,null,null,null,null,null,null,null,null,null,null,null,null,null,"",null,null,null,"",null,null,null,""]
[null,{"$f":"IF(内訳明細書入力画面!B164=\"\",\"\",内訳明細書入力画面!B164)","v":""},null,null,null,null,null,null,null,null,null,null,null,null,{"$f":"IF(AND(内訳明細書入力画面!N164=\"\",内訳明細書入力画面!M164=\"\"),\"\",IF(内訳明細書入力画面!N164=\"\",内訳明細書入力画面!M164,内訳明細書入力画面!N164))","v":""},null,null,null,{"$f":"IF(内訳明細書入力画面!O164=\"\",\"\",内訳明細書入力画面!O164)","v":""},null,null,{"$f":"IF(AND(内訳明細書入力画面!R164=\"\",内訳明細書入力画面!P164=\"\"),\"\",IF(内訳明細書入力画面!R164=\"\",内訳明細書入力画面!P164,内訳明細書入力画面!R164))","v":""},null,null,null,{"$f":"IF(AND(内訳明細書入力画面!V164=\"\",内訳明細書入力画面!T164=\"\"),\"\",IF(内訳明細書入力画面!V164=\"\",内訳明細書入力画面!T164,内訳明細書入力画面!V164))","v":""},null,null,null,null,null,null,null,null,null,null,null,null,null,null,null,"",null,null,null,"",null,null,null,""]
[null,{"$f":"IF(内訳明細書入力画面!B165=\"\",\"\",内訳明細書入力画面!B165)","v":""},null,null,null,null,null,null,null,null,null,null,null,null,{"$f":"IF(AND(内訳明細書入力画面!N165=\"\",内訳明細書入力画面!M165=\"\"),\"\",IF(内訳明細書入力画面!N165=\"\",内訳明細書入力画面!M165,内訳明細書入力画面!N165))","v":""},null,null,null,{"$f":"IF(内訳明細書入力画面!O165=\"\",\"\",内訳明細書入力画面!O165)","v":""},null,null,{"$f":"IF(AND(内訳明細書入力画面!R165=\"\",内訳明細書入力画面!P165=\"\"),\"\",IF(内訳明細書入力画面!R165=\"\",内訳明細書入力画面!P165,内訳明細書入力画面!R165))","v":""},null,null,null,{"$f":"IF(AND(内訳明細書入力画面!V165=\"\",内訳明細書入力画面!T165=\"\"),\"\",IF(内訳明細書入力画面!V165=\"\",内訳明細書入力画面!T165,内訳明細書入力画面!V165))","v":""},null,null,null,null,null,null,null,null,null,null,null,null,null,null,null,"",null,null,null,"",null,null,null,""]
[null,{"$f":"IF(内訳明細書入力画面!B166=\"\",\"\",内訳明細書入力画面!B166)","v":""},null,null,null,null,null,null,null,null,null,null,null,null,{"$f":"IF(AND(内訳明細書入力画面!N166=\"\",内訳明細書入力画面!M166=\"\"),\"\",IF(内訳明細書入力画面!N166=\"\",内訳明細書入力画面!M166,内訳明細書入力画面!N166))","v":""},null,null,null,{"$f":"IF(内訳明細書入力画面!O166=\"\",\"\",内訳明細書入力画面!O166)","v":""},null,null,{"$f":"IF(AND(内訳明細書入力画面!R166=\"\",内訳明細書入力画面!P166=\"\"),\"\",IF(内訳明細書入力画面!R166=\"\",内訳明細書入力画面!P166,内訳明細書入力画面!R166))","v":""},null,null,null,{"$f":"IF(AND(内訳明細書入力画面!V166=\"\",内訳明細書入力画面!T166=\"\"),\"\",IF(内訳明細書入力画面!V166=\"\",内訳明細書入力画面!T166,内訳明細書入力画面!V166))","v":""},null,null,null,null,null,null,null,null,null,null,null,null,null,null,null,"",null,null,null,"",null,null,null,""]
[null,{"$f":"IF(内訳明細書入力画面!B167=\"\",\"\",内訳明細書入力画面!B167)","v":""},null,null,null,null,null,null,null,null,null,null,null,null,{"$f":"IF(AND(内訳明細書入力画面!N167=\"\",内訳明細書入力画面!M167=\"\"),\"\",IF(内訳明細書入力画面!N167=\"\",内訳明細書入力画面!M167,内訳明細書入力画面!N167))","v":""},null,null,null,{"$f":"IF(内訳明細書入力画面!O167=\"\",\"\",内訳明細書入力画面!O167)","v":""},null,null,{"$f":"IF(AND(内訳明細書入力画面!R167=\"\",内訳明細書入力画面!P167=\"\"),\"\",IF(内訳明細書入力画面!R167=\"\",内訳明細書入力画面!P167,内訳明細書入力画面!R167))","v":""},null,null,null,{"$f":"IF(AND(内訳明細書入力画面!V167=\"\",内訳明細書入力画面!T167=\"\"),\"\",IF(内訳明細書入力画面!V167=\"\",内訳明細書入力画面!T167,内訳明細書入力画面!V167))","v":""},null,null,null,null,null,null,null,null,null,null,null,null,null,null,null,"",null,null,null,"",null,null,null,""]
[null,{"$f":"IF(内訳明細書入力画面!B168=\"\",\"\",内訳明細書入力画面!B168)","v":""},null,null,null,null,null,null,null,null,null,null,null,null,{"$f":"IF(AND(内訳明細書入力画面!N168=\"\",内訳明細書入力画面!M168=\"\"),\"\",IF(内訳明細書入力画面!N168=\"\",内訳明細書入力画面!M168,内訳明細書入力画面!N168))","v":""},null,null,null,{"$f":"IF(内訳明細書入力画面!O168=\"\",\"\",内訳明細書入力画面!O168)","v":""},null,null,{"$f":"IF(AND(内訳明細書入力画面!R168=\"\",内訳明細書入力画面!P168=\"\"),\"\",IF(内訳明細書入力画面!R168=\"\",内訳明細書入力画面!P168,内訳明細書入力画面!R168))","v":""},null,null,null,{"$f":"IF(AND(内訳明細書入力画面!V168=\"\",内訳明細書入力画面!T168=\"\"),\"\",IF(内訳明細書入力画面!V168=\"\",内訳明細書入力画面!T168,内訳明細書入力画面!V168))","v":""},null,null,null,null,null,null,null,null,null,null,null,null,null,null,null,"",null,null,null,"",null,null,null,""]
[null,{"$f":"IF(内訳明細書入力画面!B169=\"\",\"\",内訳明細書入力画面!B169)","v":""},null,null,null,null,null,null,null,null,null,null,null,null,{"$f":"IF(AND(内訳明細書入力画面!N169=\"\",内訳明細書入力画面!M169=\"\"),\"\",IF(内訳明細書入力画面!N169=\"\",内訳明細書入力画面!M169,内訳明細書入力画面!N169))","v":""},null,null,null,{"$f":"IF(内訳明細書入力画面!O169=\"\",\"\",内訳明細書入力画面!O169)","v":""},null,null,{"$f":"IF(AND(内訳明細書入力画面!R169=\"\",内訳明細書入力画面!P169=\"\"),\"\",IF(内訳明細書入力画面!R169=\"\",内訳明細書入力画面!P169,内訳明細書入力画面!R169))","v":""},null,null,null,{"$f":"IF(AND(内訳明細書入力画面!V169=\"\",内訳明細書入力画面!T169=\"\"),\"\",IF(内訳明細書入力画面!V169=\"\",内訳明細書入力画面!T169,内訳明細書入力画面!V169))","v":""},null,null,null,null,null,null,null,null,null,null,null,null,null,null,null,"",null,null,null,"",null,null,null,""]
[null,{"$f":"IF(内訳明細書入力画面!B170=\"\",\"\",内訳明細書入力画面!B170)","v":""},null,null,null,null,null,null,null,null,null,null,null,null,{"$f":"IF(AND(内訳明細書入力画面!N170=\"\",内訳明細書入力画面!M170=\"\"),\"\",IF(内訳明細書入力画面!N170=\"\",内訳明細書入力画面!M170,内訳明細書入力画面!N170))","v":""},null,null,null,{"$f":"IF(内訳明細書入力画面!O170=\"\",\"\",内訳明細書入力画面!O170)","v":""},null,null,{"$f":"IF(AND(内訳明細書入力画面!R170=\"\",内訳明細書入力画面!P170=\"\"),\"\",IF(内訳明細書入力画面!R170=\"\",内訳明細書入力画面!P170,内訳明細書入力画面!R170))","v":""},null,null,null,{"$f":"IF(AND(内訳明細書入力画面!V170=\"\",内訳明細書入力画面!T170=\"\"),\"\",IF(内訳明細書入力画面!V170=\"\",内訳明細書入力画面!T170,内訳明細書入力画面!V170))","v":""},null,null,null,null,null,null,null,null,null,null,null,null,null,null,null,"",null,null,null,"",null,null,null,""]
[null,{"$f":"IF(内訳明細書入力画面!B171=\"\",\"\",内訳明細書入力画面!B171)","v":""},null,null,null,null,null,null,null,null,null,null,null,null,{"$f":"IF(AND(内訳明細書入力画面!N171=\"\",内訳明細書入力画面!M171=\"\"),\"\",IF(内訳明細書入力画面!N171=\"\",内訳明細書入力画面!M171,内訳明細書入力画面!N171))","v":""},null,null,null,{"$f":"IF(内訳明細書入力画面!O171=\"\",\"\",内訳明細書入力画面!O171)","v":""},null,null,{"$f":"IF(AND(内訳明細書入力画面!R171=\"\",内訳明細書入力画面!P171=\"\"),\"\",IF(内訳明細書入力画面!R171=\"\",内訳明細書入力画面!P171,内訳明細書入力画面!R171))","v":""},null,null,null,{"$f":"IF(AND(内訳明細書入力画面!V171=\"\",内訳明細書入力画面!T171=\"\"),\"\",IF(内訳明細書入力画面!V171=\"\",内訳明細書入力画面!T171,内訳明細書入力画面!V171))","v":""},null,null,null,null,null,null,null,null,null,null,null,null,null,null,null,"",null,null,null,"",null,null,null,""]
[null,{"$f":"IF(内訳明細書入力画面!B172=\"\",\"\",内訳明細書入力画面!B172)","v":""},null,null,null,null,null,null,null,null,null,null,null,null,{"$f":"IF(AND(内訳明細書入力画面!N172=\"\",内訳明細書入力画面!M172=\"\"),\"\",IF(内訳明細書入力画面!N172=\"\",内訳明細書入力画面!M172,内訳明細書入力画面!N172))","v":""},null,null,null,{"$f":"IF(内訳明細書入力画面!O172=\"\",\"\",内訳明細書入力画面!O172)","v":""},null,null,{"$f":"IF(AND(内訳明細書入力画面!R172=\"\",内訳明細書入力画面!P172=\"\"),\"\",IF(内訳明細書入力画面!R172=\"\",内訳明細書入力画面!P172,内訳明細書入力画面!R172))","v":""},null,null,null,{"$f":"IF(AND(内訳明細書入力画面!V172=\"\",内訳明細書入力画面!T172=\"\"),\"\",IF(内訳明細書入力画面!V172=\"\",内訳明細書入力画面!T172,内訳明細書入力画面!V172))","v":""},null,null,null,null,null,null,null,null,null,null,null,null,null,null,null,"",null,null,null,"",null,null,null,""]
[null,{"$f":"IF(内訳明細書入力画面!B173=\"\",\"\",内訳明細書入力画面!B173)","v":""},null,null,null,null,null,null,null,null,null,null,null,null,{"$f":"IF(AND(内訳明細書入力画面!N173=\"\",内訳明細書入力画面!M173=\"\"),\"\",IF(内訳明細書入力画面!N173=\"\",内訳明細書入力画面!M173,内訳明細書入力画面!N173))","v":""},null,null,null,{"$f":"IF(内訳明細書入力画面!O173=\"\",\"\",内訳明細書入力画面!O173)","v":""},null,null,{"$f":"IF(AND(内訳明細書入力画面!R173=\"\",内訳明細書入力画面!P173=\"\"),\"\",IF(内訳明細書入力画面!R173=\"\",内訳明細書入力画面!P173,内訳明細書入力画面!R173))","v":""},null,null,null,{"$f":"IF(AND(内訳明細書入力画面!V173=\"\",内訳明細書入力画面!T173=\"\"),\"\",IF(内訳明細書入力画面!V173=\"\",内訳明細書入力画面!T173,内訳明細書入力画面!V173))","v":""},null,null,null,null,null,null,null,null,null,null,null,null,null,null,null,"",null,null,null,"",null,null,null,""]
[null,{"$f":"IF(内訳明細書入力画面!B174=\"\",\"\",内訳明細書入力画面!B174)","v":""},null,null,null,null,null,null,null,null,null,null,null,null,{"$f":"IF(AND(内訳明細書入力画面!N174=\"\",内訳明細書入力画面!M174=\"\"),\"\",IF(内訳明細書入力画面!N174=\"\",内訳明細書入力画面!M174,内訳明細書入力画面!N174))","v":""},null,null,null,{"$f":"IF(内訳明細書入力画面!O174=\"\",\"\",内訳明細書入力画面!O174)","v":""},null,null,{"$f":"IF(AND(内訳明細書入力画面!R174=\"\",内訳明細書入力画面!P174=\"\"),\"\",IF(内訳明細書入力画面!R174=\"\",内訳明細書入力画面!P174,内訳明細書入力画面!R174))","v":""},null,null,null,{"$f":"IF(AND(内訳明細書入力画面!V174=\"\",内訳明細書入力画面!T174=\"\"),\"\",IF(内訳明細書入力画面!V174=\"\",内訳明細書入力画面!T174,内訳明細書入力画面!V174))","v":""},null,null,null,null,null,null,null,null,null,null,null,null,null,null,null,"",null,null,null,"",null,null,null,""]
[null,{"$f":"IF(内訳明細書入力画面!B175=\"\",\"\",内訳明細書入力画面!B175)","v":""},null,null,null,null,null,null,null,null,null,null,null,null,{"$f":"IF(AND(内訳明細書入力画面!N175=\"\",内訳明細書入力画面!M175=\"\"),\"\",IF(内訳明細書入力画面!N175=\"\",内訳明細書入力画面!M175,内訳明細書入力画面!N175))","v":""},null,null,null,{"$f":"IF(内訳明細書入力画面!O175=\"\",\"\",内訳明細書入力画面!O175)","v":""},null,null,{"$f":"IF(AND(内訳明細書入力画面!R175=\"\",内訳明細書入力画面!P175=\"\"),\"\",IF(内訳明細書入力画面!R175=\"\",内訳明細書入力画面!P175,内訳明細書入力画面!R175))","v":""},null,null,null,{"$f":"IF(AND(内訳明細書入力画面!V175=\"\",内訳明細書入力画面!T175=\"\"),\"\",IF(内訳明細書入力画面!V175=\"\",内訳明細書入力画面!T175,内訳明細書入力画面!V175))","v":""},null,null,null,null,null,null,null,null,null,null,null,null,null,null,null,"",null,null,null,"",null,null,null,""]
[{"$f":"((ROW()-11)+15)/15","v":12},{"$f":"IF(内訳明細書入力画面!B176=\"\",\"\",内訳明細書入力画面!B176)","v":""},null,null,null,null,null,null,null,null,null,null,null,null,{"$f":"IF(AND(内訳明細書入力画面!N176=\"\",内訳明細書入力画面!M176=\"\"),\"\",IF(内訳明細書入力画面!N176=\"\",内訳明細書入力画面!M176,内訳明細書入力画面!N176))","v":""},null,null,null,{"$f":"IF(内訳明細書入力画面!O176=\"\",\"\",内訳明細書入力画面!O176)","v":""},null,null,{"$f":"IF(AND(内訳明細書入力画面!R176=\"\",内訳明細書入力画面!P176=\"\"),\"\",IF(内訳明細書入力画面!R176=\"\",内訳明細書入力画面!P176,内訳明細書入力画面!R176))","v":""},null,null,null,{"$f":"IF(AND(内訳明細書入力画面!V176=\"\",内訳明細書入力画面!T176=\"\"),\"\",IF(内訳明細書入力画面!V176=\"\",内訳明細書入力画面!T176,内訳明細書入力画面!V176))","v":""},null,null,null,null,null,null,null,null,null,null,null,null,null,null,null,"",null,null,null,"",null,null,null,""]
[null,{"$f":"IF(内訳明細書入力画面!B177=\"\",\"\",内訳明細書入力画面!B177)","v":""},null,null,null,null,null,null,null,null,null,null,null,null,{"$f":"IF(AND(内訳明細書入力画面!N177=\"\",内訳明細書入力画面!M177=\"\"),\"\",IF(内訳明細書入力画面!N177=\"\",内訳明細書入力画面!M177,内訳明細書入力画面!N177))","v":""},null,null,null,{"$f":"IF(内訳明細書入力画面!O177=\"\",\"\",内訳明細書入力画面!O177)","v":""},null,null,{"$f":"IF(AND(内訳明細書入力画面!R177=\"\",内訳明細書入力画面!P177=\"\"),\"\",IF(内訳明細書入力画面!R177=\"\",内訳明細書入力画面!P177,内訳明細書入力画面!R177))","v":""},null,null,null,{"$f":"IF(AND(内訳明細書入力画面!V177=\"\",内訳明細書入力画面!T177=\"\"),\"\",IF(内訳明細書入力画面!V177=\"\",内訳明細書入力画面!T177,内訳明細書入力画面!V177))","v":""},null,null,null,null,null,null,null,null,null,null,null,null,null,null,null,"",null,null,null,"",null,null,null,""]
[null,{"$f":"IF(内訳明細書入力画面!B178=\"\",\"\",内訳明細書入力画面!B178)","v":""},null,null,null,null,null,null,null,null,null,null,null,null,{"$f":"IF(AND(内訳明細書入力画面!N178=\"\",内訳明細書入力画面!M178=\"\"),\"\",IF(内訳明細書入力画面!N178=\"\",内訳明細書入力画面!M178,内訳明細書入力画面!N178))","v":""},null,null,null,{"$f":"IF(内訳明細書入力画面!O178=\"\",\"\",内訳明細書入力画面!O178)","v":""},null,null,{"$f":"IF(AND(内訳明細書入力画面!R178=\"\",内訳明細書入力画面!P178=\"\"),\"\",IF(内訳明細書入力画面!R178=\"\",内訳明細書入力画面!P178,内訳明細書入力画面!R178))","v":""},null,null,null,{"$f":"IF(AND(内訳明細書入力画面!V178=\"\",内訳明細書入力画面!T178=\"\"),\"\",IF(内訳明細書入力画面!V178=\"\",内訳明細書入力画面!T178,内訳明細書入力画面!V178))","v":""},null,null,null,null,null,null,null,null,null,null,null,null,null,null,null,"",null,null,null,"",null,null,null,""]
[null,{"$f":"IF(内訳明細書入力画面!B179=\"\",\"\",内訳明細書入力画面!B179)","v":""},null,null,null,null,null,null,null,null,null,null,null,null,{"$f":"IF(AND(内訳明細書入力画面!N179=\"\",内訳明細書入力画面!M179=\"\"),\"\",IF(内訳明細書入力画面!N179=\"\",内訳明細書入力画面!M179,内訳明細書入力画面!N179))","v":""},null,null,null,{"$f":"IF(内訳明細書入力画面!O179=\"\",\"\",内訳明細書入力画面!O179)","v":""},null,null,{"$f":"IF(AND(内訳明細書入力画面!R179=\"\",内訳明細書入力画面!P179=\"\"),\"\",IF(内訳明細書入力画面!R179=\"\",内訳明細書入力画面!P179,内訳明細書入力画面!R179))","v":""},null,null,null,{"$f":"IF(AND(内訳明細書入力画面!V179=\"\",内訳明細書入力画面!T179=\"\"),\"\",IF(内訳明細書入力画面!V179=\"\",内訳明細書入力画面!T179,内訳明細書入力画面!V179))","v":""},null,null,null,null,null,null,null,null,null,null,null,null,null,null,null,"",null,null,null,"",null,null,null,""]
[null,{"$f":"IF(内訳明細書入力画面!B180=\"\",\"\",内訳明細書入力画面!B180)","v":""},null,null,null,null,null,null,null,null,null,null,null,null,{"$f":"IF(AND(内訳明細書入力画面!N180=\"\",内訳明細書入力画面!M180=\"\"),\"\",IF(内訳明細書入力画面!N180=\"\",内訳明細書入力画面!M180,内訳明細書入力画面!N180))","v":""},null,null,null,{"$f":"IF(内訳明細書入力画面!O180=\"\",\"\",内訳明細書入力画面!O180)","v":""},null,null,{"$f":"IF(AND(内訳明細書入力画面!R180=\"\",内訳明細書入力画面!P180=\"\"),\"\",IF(内訳明細書入力画面!R180=\"\",内訳明細書入力画面!P180,内訳明細書入力画面!R180))","v":""},null,null,null,{"$f":"IF(AND(内訳明細書入力画面!V180=\"\",内訳明細書入力画面!T180=\"\"),\"\",IF(内訳明細書入力画面!V180=\"\",内訳明細書入力画面!T180,内訳明細書入力画面!V180))","v":""},null,null,null,null,null,null,null,null,null,null,null,null,null,null,null,"",null,null,null,"",null,null,null,""]
[null,{"$f":"IF(内訳明細書入力画面!B181=\"\",\"\",内訳明細書入力画面!B181)","v":""},null,null,null,null,null,null,null,null,null,null,null,null,{"$f":"IF(AND(内訳明細書入力画面!N181=\"\",内訳明細書入力画面!M181=\"\"),\"\",IF(内訳明細書入力画面!N181=\"\",内訳明細書入力画面!M181,内訳明細書入力画面!N181))","v":""},null,null,null,{"$f":"IF(内訳明細書入力画面!O181=\"\",\"\",内訳明細書入力画面!O181)","v":""},null,null,{"$f":"IF(AND(内訳明細書入力画面!R181=\"\",内訳明細書入力画面!P181=\"\"),\"\",IF(内訳明細書入力画面!R181=\"\",内訳明細書入力画面!P181,内訳明細書入力画面!R181))","v":""},null,null,null,{"$f":"IF(AND(内訳明細書入力画面!V181=\"\",内訳明細書入力画面!T181=\"\"),\"\",IF(内訳明細書入力画面!V181=\"\",内訳明細書入力画面!T181,内訳明細書入力画面!V181))","v":""},null,null,null,null,null,null,null,null,null,null,null,null,null,null,null,"",null,null,null,"",null,null,null,""]
[null,{"$f":"IF(内訳明細書入力画面!B182=\"\",\"\",内訳明細書入力画面!B182)","v":""},null,null,null,null,null,null,null,null,null,null,null,null,{"$f":"IF(AND(内訳明細書入力画面!N182=\"\",内訳明細書入力画面!M182=\"\"),\"\",IF(内訳明細書入力画面!N182=\"\",内訳明細書入力画面!M182,内訳明細書入力画面!N182))","v":""},null,null,null,{"$f":"IF(内訳明細書入力画面!O182=\"\",\"\",内訳明細書入力画面!O182)","v":""},null,null,{"$f":"IF(AND(内訳明細書入力画面!R182=\"\",内訳明細書入力画面!P182=\"\"),\"\",IF(内訳明細書入力画面!R182=\"\",内訳明細書入力画面!P182,内訳明細書入力画面!R182))","v":""},null,null,null,{"$f":"IF(AND(内訳明細書入力画面!V182=\"\",内訳明細書入力画面!T182=\"\"),\"\",IF(内訳明細書入力画面!V182=\"\",内訳明細書入力画面!T182,内訳明細書入力画面!V182))","v":""},null,null,null,null,null,null,null,null,null,null,null,null,null,null,null,"",null,null,null,"",null,null,null,""]
[null,{"$f":"IF(内訳明細書入力画面!B183=\"\",\"\",内訳明細書入力画面!B183)","v":""},null,null,null,null,null,null,null,null,null,null,null,null,{"$f":"IF(AND(内訳明細書入力画面!N183=\"\",内訳明細書入力画面!M183=\"\"),\"\",IF(内訳明細書入力画面!N183=\"\",内訳明細書入力画面!M183,内訳明細書入力画面!N183))","v":""},null,null,null,{"$f":"IF(内訳明細書入力画面!O183=\"\",\"\",内訳明細書入力画面!O183)","v":""},null,null,{"$f":"IF(AND(内訳明細書入力画面!R183=\"\",内訳明細書入力画面!P183=\"\"),\"\",IF(内訳明細書入力画面!R183=\"\",内訳明細書入力画面!P183,内訳明細書入力画面!R183))","v":""},null,null,null,{"$f":"IF(AND(内訳明細書入力画面!V183=\"\",内訳明細書入力画面!T183=\"\"),\"\",IF(内訳明細書入力画面!V183=\"\",内訳明細書入力画面!T183,内訳明細書入力画面!V183))","v":""},null,null,null,null,null,null,null,null,null,null,null,null,null,null,null,"",null,null,null,"",null,null,null,""]
[null,{"$f":"IF(内訳明細書入力画面!B184=\"\",\"\",内訳明細書入力画面!B184)","v":""},null,null,null,null,null,null,null,null,null,null,null,null,{"$f":"IF(AND(内訳明細書入力画面!N184=\"\",内訳明細書入力画面!M184=\"\"),\"\",IF(内訳明細書入力画面!N184=\"\",内訳明細書入力画面!M184,内訳明細書入力画面!N184))","v":""},null,null,null,{"$f":"IF(内訳明細書入力画面!O184=\"\",\"\",内訳明細書入力画面!O184)","v":""},null,null,{"$f":"IF(AND(内訳明細書入力画面!R184=\"\",内訳明細書入力画面!P184=\"\"),\"\",IF(内訳明細書入力画面!R184=\"\",内訳明細書入力画面!P184,内訳明細書入力画面!R184))","v":""},null,null,null,{"$f":"IF(AND(内訳明細書入力画面!V184=\"\",内訳明細書入力画面!T184=\"\"),\"\",IF(内訳明細書入力画面!V184=\"\",内訳明細書入力画面!T184,内訳明細書入力画面!V184))","v":""},null,null,null,null,null,null,null,null,null,null,null,null,null,null,null,"",null,null,null,"",null,null,null,""]
[null,{"$f":"IF(内訳明細書入力画面!B185=\"\",\"\",内訳明細書入力画面!B185)","v":""},null,null,null,null,null,null,null,null,null,null,null,null,{"$f":"IF(AND(内訳明細書入力画面!N185=\"\",内訳明細書入力画面!M185=\"\"),\"\",IF(内訳明細書入力画面!N185=\"\",内訳明細書入力画面!M185,内訳明細書入力画面!N185))","v":""},null,null,null,{"$f":"IF(内訳明細書入力画面!O185=\"\",\"\",内訳明細書入力画面!O185)","v":""},null,null,{"$f":"IF(AND(内訳明細書入力画面!R185=\"\",内訳明細書入力画面!P185=\"\"),\"\",IF(内訳明細書入力画面!R185=\"\",内訳明細書入力画面!P185,内訳明細書入力画面!R185))","v":""},null,null,null,{"$f":"IF(AND(内訳明細書入力画面!V185=\"\",内訳明細書入力画面!T185=\"\"),\"\",IF(内訳明細書入力画面!V185=\"\",内訳明細書入力画面!T185,内訳明細書入力画面!V185))","v":""},null,null,null,null,null,null,null,null,null,null,null,null,null,null,null,"",null,null,null,"",null,null,null,""]
[null,{"$f":"IF(内訳明細書入力画面!B186=\"\",\"\",内訳明細書入力画面!B186)","v":""},null,null,null,null,null,null,null,null,null,null,null,null,{"$f":"IF(AND(内訳明細書入力画面!N186=\"\",内訳明細書入力画面!M186=\"\"),\"\",IF(内訳明細書入力画面!N186=\"\",内訳明細書入力画面!M186,内訳明細書入力画面!N186))","v":""},null,null,null,{"$f":"IF(内訳明細書入力画面!O186=\"\",\"\",内訳明細書入力画面!O186)","v":""},null,null,{"$f":"IF(AND(内訳明細書入力画面!R186=\"\",内訳明細書入力画面!P186=\"\"),\"\",IF(内訳明細書入力画面!R186=\"\",内訳明細書入力画面!P186,内訳明細書入力画面!R186))","v":""},null,null,null,{"$f":"IF(AND(内訳明細書入力画面!V186=\"\",内訳明細書入力画面!T186=\"\"),\"\",IF(内訳明細書入力画面!V186=\"\",内訳明細書入力画面!T186,内訳明細書入力画面!V186))","v":""},null,null,null,null,null,null,null,null,null,null,null,null,null,null,null,"",null,null,null,"",null,null,null,""]
[null,{"$f":"IF(内訳明細書入力画面!B187=\"\",\"\",内訳明細書入力画面!B187)","v":""},null,null,null,null,null,null,null,null,null,null,null,null,{"$f":"IF(AND(内訳明細書入力画面!N187=\"\",内訳明細書入力画面!M187=\"\"),\"\",IF(内訳明細書入力画面!N187=\"\",内訳明細書入力画面!M187,内訳明細書入力画面!N187))","v":""},null,null,null,{"$f":"IF(内訳明細書入力画面!O187=\"\",\"\",内訳明細書入力画面!O187)","v":""},null,null,{"$f":"IF(AND(内訳明細書入力画面!R187=\"\",内訳明細書入力画面!P187=\"\"),\"\",IF(内訳明細書入力画面!R187=\"\",内訳明細書入力画面!P187,内訳明細書入力画面!R187))","v":""},null,null,null,{"$f":"IF(AND(内訳明細書入力画面!V187=\"\",内訳明細書入力画面!T187=\"\"),\"\",IF(内訳明細書入力画面!V187=\"\",内訳明細書入力画面!T187,内訳明細書入力画面!V187))","v":""},null,null,null,null,null,null,null,null,null,null,null,null,null,null,null,"",null,null,null,"",null,null,null,""]
[null,{"$f":"IF(内訳明細書入力画面!B188=\"\",\"\",内訳明細書入力画面!B188)","v":""},null,null,null,null,null,null,null,null,null,null,null,null,{"$f":"IF(AND(内訳明細書入力画面!N188=\"\",内訳明細書入力画面!M188=\"\"),\"\",IF(内訳明細書入力画面!N188=\"\",内訳明細書入力画面!M188,内訳明細書入力画面!N188))","v":""},null,null,null,{"$f":"IF(内訳明細書入力画面!O188=\"\",\"\",内訳明細書入力画面!O188)","v":""},null,null,{"$f":"IF(AND(内訳明細書入力画面!R188=\"\",内訳明細書入力画面!P188=\"\"),\"\",IF(内訳明細書入力画面!R188=\"\",内訳明細書入力画面!P188,内訳明細書入力画面!R188))","v":""},null,null,null,{"$f":"IF(AND(内訳明細書入力画面!V188=\"\",内訳明細書入力画面!T188=\"\"),\"\",IF(内訳明細書入力画面!V188=\"\",内訳明細書入力画面!T188,内訳明細書入力画面!V188))","v":""},null,null,null,null,null,null,null,null,null,null,null,null,null,null,null,"",null,null,null,"",null,null,null,""]
[null,{"$f":"IF(内訳明細書入力画面!B189=\"\",\"\",内訳明細書入力画面!B189)","v":""},null,null,null,null,null,null,null,null,null,null,null,null,{"$f":"IF(AND(内訳明細書入力画面!N189=\"\",内訳明細書入力画面!M189=\"\"),\"\",IF(内訳明細書入力画面!N189=\"\",内訳明細書入力画面!M189,内訳明細書入力画面!N189))","v":""},null,null,null,{"$f":"IF(内訳明細書入力画面!O189=\"\",\"\",内訳明細書入力画面!O189)","v":""},null,null,{"$f":"IF(AND(内訳明細書入力画面!R189=\"\",内訳明細書入力画面!P189=\"\"),\"\",IF(内訳明細書入力画面!R189=\"\",内訳明細書入力画面!P189,内訳明細書入力画面!R189))","v":""},null,null,null,{"$f":"IF(AND(内訳明細書入力画面!V189=\"\",内訳明細書入力画面!T189=\"\"),\"\",IF(内訳明細書入力画面!V189=\"\",内訳明細書入力画面!T189,内訳明細書入力画面!V189))","v":""},null,null,null,null,null,null,null,null,null,null,null,null,null,null,null,"",null,null,null,"",null,null,null,""]
[null,{"$f":"IF(内訳明細書入力画面!B190=\"\",\"\",内訳明細書入力画面!B190)","v":""},null,null,null,null,null,null,null,null,null,null,null,null,{"$f":"IF(AND(内訳明細書入力画面!N190=\"\",内訳明細書入力画面!M190=\"\"),\"\",IF(内訳明細書入力画面!N190=\"\",内訳明細書入力画面!M190,内訳明細書入力画面!N190))","v":""},null,null,null,{"$f":"IF(内訳明細書入力画面!O190=\"\",\"\",内訳明細書入力画面!O190)","v":""},null,null,{"$f":"IF(AND(内訳明細書入力画面!R190=\"\",内訳明細書入力画面!P190=\"\"),\"\",IF(内訳明細書入力画面!R190=\"\",内訳明細書入力画面!P190,内訳明細書入力画面!R190))","v":""},null,null,null,{"$f":"IF(AND(内訳明細書入力画面!V190=\"\",内訳明細書入力画面!T190=\"\"),\"\",IF(内訳明細書入力画面!V190=\"\",内訳明細書入力画面!T190,内訳明細書入力画面!V190))","v":""},null,null,null,null,null,null,null,null,null,null,null,null,null,null,null,"",null,null,null,"",null,null,null,""]
[{"$f":"((ROW()-11)+15)/15","v":13},{"$f":"IF(内訳明細書入力画面!B191=\"\",\"\",内訳明細書入力画面!B191)","v":""},null,null,null,null,null,null,null,null,null,null,null,null,{"$f":"IF(AND(内訳明細書入力画面!N191=\"\",内訳明細書入力画面!M191=\"\"),\"\",IF(内訳明細書入力画面!N191=\"\",内訳明細書入力画面!M191,内訳明細書入力画面!N191))","v":""},null,null,null,{"$f":"IF(内訳明細書入力画面!O191=\"\",\"\",内訳明細書入力画面!O191)","v":""},null,null,{"$f":"IF(AND(内訳明細書入力画面!R191=\"\",内訳明細書入力画面!P191=\"\"),\"\",IF(内訳明細書入力画面!R191=\"\",内訳明細書入力画面!P191,内訳明細書入力画面!R191))","v":""},null,null,null,{"$f":"IF(AND(内訳明細書入力画面!V191=\"\",内訳明細書入力画面!T191=\"\"),\"\",IF(内訳明細書入力画面!V191=\"\",内訳明細書入力画面!T191,内訳明細書入力画面!V191))","v":""},null,null,null,null,null,null,null,null,null,null,null,null,null,null,null,"",null,null,null,"",null,null,null,""]
[null,{"$f":"IF(内訳明細書入力画面!B192=\"\",\"\",内訳明細書入力画面!B192)","v":""},null,null,null,null,null,null,null,null,null,null,null,null,{"$f":"IF(AND(内訳明細書入力画面!N192=\"\",内訳明細書入力画面!M192=\"\"),\"\",IF(内訳明細書入力画面!N192=\"\",内訳明細書入力画面!M192,内訳明細書入力画面!N192))","v":""},null,null,null,{"$f":"IF(内訳明細書入力画面!O192=\"\",\"\",内訳明細書入力画面!O192)","v":""},null,null,{"$f":"IF(AND(内訳明細書入力画面!R192=\"\",内訳明細書入力画面!P192=\"\"),\"\",IF(内訳明細書入力画面!R192=\"\",内訳明細書入力画面!P192,内訳明細書入力画面!R192))","v":""},null,null,null,{"$f":"IF(AND(内訳明細書入力画面!V192=\"\",内訳明細書入力画面!T192=\"\"),\"\",IF(内訳明細書入力画面!V192=\"\",内訳明細書入力画面!T192,内訳明細書入力画面!V192))","v":""},null,null,null,null,null,null,null,null,null,null,null,null,null,null,null,"",null,null,null,"",null,null,null,""]
[null,{"$f":"IF(内訳明細書入力画面!B193=\"\",\"\",内訳明細書入力画面!B193)","v":""},null,null,null,null,null,null,null,null,null,null,null,null,{"$f":"IF(AND(内訳明細書入力画面!N193=\"\",内訳明細書入力画面!M193=\"\"),\"\",IF(内訳明細書入力画面!N193=\"\",内訳明細書入力画面!M193,内訳明細書入力画面!N193))","v":""},null,null,null,{"$f":"IF(内訳明細書入力画面!O193=\"\",\"\",内訳明細書入力画面!O193)","v":""},null,null,{"$f":"IF(AND(内訳明細書入力画面!R193=\"\",内訳明細書入力画面!P193=\"\"),\"\",IF(内訳明細書入力画面!R193=\"\",内訳明細書入力画面!P193,内訳明細書入力画面!R193))","v":""},null,null,null,{"$f":"IF(AND(内訳明細書入力画面!V193=\"\",内訳明細書入力画面!T193=\"\"),\"\",IF(内訳明細書入力画面!V193=\"\",内訳明細書入力画面!T193,内訳明細書入力画面!V193))","v":""},null,null,null,null,null,null,null,null,null,null,null,null,null,null,null,"",null,null,null,"",null,null,null,""]
[null,{"$f":"IF(内訳明細書入力画面!B194=\"\",\"\",内訳明細書入力画面!B194)","v":""},null,null,null,null,null,null,null,null,null,null,null,null,{"$f":"IF(AND(内訳明細書入力画面!N194=\"\",内訳明細書入力画面!M194=\"\"),\"\",IF(内訳明細書入力画面!N194=\"\",内訳明細書入力画面!M194,内訳明細書入力画面!N194))","v":""},null,null,null,{"$f":"IF(内訳明細書入力画面!O194=\"\",\"\",内訳明細書入力画面!O194)","v":""},null,null,{"$f":"IF(AND(内訳明細書入力画面!R194=\"\",内訳明細書入力画面!P194=\"\"),\"\",IF(内訳明細書入力画面!R194=\"\",内訳明細書入力画面!P194,内訳明細書入力画面!R194))","v":""},null,null,null,{"$f":"IF(AND(内訳明細書入力画面!V194=\"\",内訳明細書入力画面!T194=\"\"),\"\",IF(内訳明細書入力画面!V194=\"\",内訳明細書入力画面!T194,内訳明細書入力画面!V194))","v":""},null,null,null,null,null,null,null,null,null,null,null,null,null,null,null,"",null,null,null,"",null,null,null,""]
[null,{"$f":"IF(内訳明細書入力画面!B195=\"\",\"\",内訳明細書入力画面!B195)","v":""},null,null,null,null,null,null,null,null,null,null,null,null,{"$f":"IF(AND(内訳明細書入力画面!N195=\"\",内訳明細書入力画面!M195=\"\"),\"\",IF(内訳明細書入力画面!N195=\"\",内訳明細書入力画面!M195,内訳明細書入力画面!N195))","v":""},null,null,null,{"$f":"IF(内訳明細書入力画面!O195=\"\",\"\",内訳明細書入力画面!O195)","v":""},null,null,{"$f":"IF(AND(内訳明細書入力画面!R195=\"\",内訳明細書入力画面!P195=\"\"),\"\",IF(内訳明細書入力画面!R195=\"\",内訳明細書入力画面!P195,内訳明細書入力画面!R195))","v":""},null,null,null,{"$f":"IF(AND(内訳明細書入力画面!V195=\"\",内訳明細書入力画面!T195=\"\"),\"\",IF(内訳明細書入力画面!V195=\"\",内訳明細書入力画面!T195,内訳明細書入力画面!V195))","v":""},null,null,null,null,null,null,null,null,null,null,null,null,null,null,null,"",null,null,null,"",null,null,null,""]
[null,{"$f":"IF(内訳明細書入力画面!B196=\"\",\"\",内訳明細書入力画面!B196)","v":""},null,null,null,null,null,null,null,null,null,null,null,null,{"$f":"IF(AND(内訳明細書入力画面!N196=\"\",内訳明細書入力画面!M196=\"\"),\"\",IF(内訳明細書入力画面!N196=\"\",内訳明細書入力画面!M196,内訳明細書入力画面!N196))","v":""},null,null,null,{"$f":"IF(内訳明細書入力画面!O196=\"\",\"\",内訳明細書入力画面!O196)","v":""},null,null,{"$f":"IF(AND(内訳明細書入力画面!R196=\"\",内訳明細書入力画面!P196=\"\"),\"\",IF(内訳明細書入力画面!R196=\"\",内訳明細書入力画面!P196,内訳明細書入力画面!R196))","v":""},null,null,null,{"$f":"IF(AND(内訳明細書入力画面!V196=\"\",内訳明細書入力画面!T196=\"\"),\"\",IF(内訳明細書入力画面!V196=\"\",内訳明細書入力画面!T196,内訳明細書入力画面!V196))","v":""},null,null,null,null,null,null,null,null,null,null,null,null,null,null,null,"",null,null,null,"",null,null,null,""]
[null,{"$f":"IF(内訳明細書入力画面!B197=\"\",\"\",内訳明細書入力画面!B197)","v":""},null,null,null,null,null,null,null,null,null,null,null,null,{"$f":"IF(AND(内訳明細書入力画面!N197=\"\",内訳明細書入力画面!M197=\"\"),\"\",IF(内訳明細書入力画面!N197=\"\",内訳明細書入力画面!M197,内訳明細書入力画面!N197))","v":""},null,null,null,{"$f":"IF(内訳明細書入力画面!O197=\"\",\"\",内訳明細書入力画面!O197)","v":""},null,null,{"$f":"IF(AND(内訳明細書入力画面!R197=\"\",内訳明細書入力画面!P197=\"\"),\"\",IF(内訳明細書入力画面!R197=\"\",内訳明細書入力画面!P197,内訳明細書入力画面!R197))","v":""},null,null,null,{"$f":"IF(AND(内訳明細書入力画面!V197=\"\",内訳明細書入力画面!T197=\"\"),\"\",IF(内訳明細書入力画面!V197=\"\",内訳明細書入力画面!T197,内訳明細書入力画面!V197))","v":""},null,null,null,null,null,null,null,null,null,null,null,null,null,null,null,"",null,null,null,"",null,null,null,""]
[null,{"$f":"IF(内訳明細書入力画面!B198=\"\",\"\",内訳明細書入力画面!B198)","v":""},null,null,null,null,null,null,null,null,null,null,null,null,{"$f":"IF(AND(内訳明細書入力画面!N198=\"\",内訳明細書入力画面!M198=\"\"),\"\",IF(内訳明細書入力画面!N198=\"\",内訳明細書入力画面!M198,内訳明細書入力画面!N198))","v":""},null,null,null,{"$f":"IF(内訳明細書入力画面!O198=\"\",\"\",内訳明細書入力画面!O198)","v":""},null,null,{"$f":"IF(AND(内訳明細書入力画面!R198=\"\",内訳明細書入力画面!P198=\"\"),\"\",IF(内訳明細書入力画面!R198=\"\",内訳明細書入力画面!P198,内訳明細書入力画面!R198))","v":""},null,null,null,{"$f":"IF(AND(内訳明細書入力画面!V198=\"\",内訳明細書入力画面!T198=\"\"),\"\",IF(内訳明細書入力画面!V198=\"\",内訳明細書入力画面!T198,内訳明細書入力画面!V198))","v":""},null,null,null,null,null,null,null,null,null,null,null,null,null,null,null,"",null,null,null,"",null,null,null,""]
[null,{"$f":"IF(内訳明細書入力画面!B199=\"\",\"\",内訳明細書入力画面!B199)","v":""},null,null,null,null,null,null,null,null,null,null,null,null,{"$f":"IF(AND(内訳明細書入力画面!N199=\"\",内訳明細書入力画面!M199=\"\"),\"\",IF(内訳明細書入力画面!N199=\"\",内訳明細書入力画面!M199,内訳明細書入力画面!N199))","v":""},null,null,null,{"$f":"IF(内訳明細書入力画面!O199=\"\",\"\",内訳明細書入力画面!O199)","v":""},null,null,{"$f":"IF(AND(内訳明細書入力画面!R199=\"\",内訳明細書入力画面!P199=\"\"),\"\",IF(内訳明細書入力画面!R199=\"\",内訳明細書入力画面!P199,内訳明細書入力画面!R199))","v":""},null,null,null,{"$f":"IF(AND(内訳明細書入力画面!V199=\"\",内訳明細書入力画面!T199=\"\"),\"\",IF(内訳明細書入力画面!V199=\"\",内訳明細書入力画面!T199,内訳明細書入力画面!V199))","v":""},null,null,null,null,null,null,null,null,null,null,null,null,null,null,null,"",null,null,null,"",null,null,null,""]
[null,{"$f":"IF(内訳明細書入力画面!B200=\"\",\"\",内訳明細書入力画面!B200)","v":""},null,null,null,null,null,null,null,null,null,null,null,null,{"$f":"IF(AND(内訳明細書入力画面!N200=\"\",内訳明細書入力画面!M200=\"\"),\"\",IF(内訳明細書入力画面!N200=\"\",内訳明細書入力画面!M200,内訳明細書入力画面!N200))","v":""},null,null,null,{"$f":"IF(内訳明細書入力画面!O200=\"\",\"\",内訳明細書入力画面!O200)","v":""},null,null,{"$f":"IF(AND(内訳明細書入力画面!R200=\"\",内訳明細書入力画面!P200=\"\"),\"\",IF(内訳明細書入力画面!R200=\"\",内訳明細書入力画面!P200,内訳明細書入力画面!R200))","v":""},null,null,null,{"$f":"IF(AND(内訳明細書入力画面!V200=\"\",内訳明細書入力画面!T200=\"\"),\"\",IF(内訳明細書入力画面!V200=\"\",内訳明細書入力画面!T200,内訳明細書入力画面!V200))","v":""},null,null,null,null,null,null,null,null,null,null,null,null,null,null,null,"",null,null,null,"",null,null,null,""]
[null,{"$f":"IF(内訳明細書入力画面!B201=\"\",\"\",内訳明細書入力画面!B201)","v":""},null,null,null,null,null,null,null,null,null,null,null,null,{"$f":"IF(AND(内訳明細書入力画面!N201=\"\",内訳明細書入力画面!M201=\"\"),\"\",IF(内訳明細書入力画面!N201=\"\",内訳明細書入力画面!M201,内訳明細書入力画面!N201))","v":""},null,null,null,{"$f":"IF(内訳明細書入力画面!O201=\"\",\"\",内訳明細書入力画面!O201)","v":""},null,null,{"$f":"IF(AND(内訳明細書入力画面!R201=\"\",内訳明細書入力画面!P201=\"\"),\"\",IF(内訳明細書入力画面!R201=\"\",内訳明細書入力画面!P201,内訳明細書入力画面!R201))","v":""},null,null,null,{"$f":"IF(AND(内訳明細書入力画面!V201=\"\",内訳明細書入力画面!T201=\"\"),\"\",IF(内訳明細書入力画面!V201=\"\",内訳明細書入力画面!T201,内訳明細書入力画面!V201))","v":""},null,null,null,null,null,null,null,null,null,null,null,null,null,null,null,"",null,null,null,"",null,null,null,""]
[null,{"$f":"IF(内訳明細書入力画面!B202=\"\",\"\",内訳明細書入力画面!B202)","v":""},null,null,null,null,null,null,null,null,null,null,null,null,{"$f":"IF(AND(内訳明細書入力画面!N202=\"\",内訳明細書入力画面!M202=\"\"),\"\",IF(内訳明細書入力画面!N202=\"\",内訳明細書入力画面!M202,内訳明細書入力画面!N202))","v":""},null,null,null,{"$f":"IF(内訳明細書入力画面!O202=\"\",\"\",内訳明細書入力画面!O202)","v":""},null,null,{"$f":"IF(AND(内訳明細書入力画面!R202=\"\",内訳明細書入力画面!P202=\"\"),\"\",IF(内訳明細書入力画面!R202=\"\",内訳明細書入力画面!P202,内訳明細書入力画面!R202))","v":""},null,null,null,{"$f":"IF(AND(内訳明細書入力画面!V202=\"\",内訳明細書入力画面!T202=\"\"),\"\",IF(内訳明細書入力画面!V202=\"\",内訳明細書入力画面!T202,内訳明細書入力画面!V202))","v":""},null,null,null,null,null,null,null,null,null,null,null,null,null,null,null,"",null,null,null,"",null,null,null,""]
[null,{"$f":"IF(内訳明細書入力画面!B203=\"\",\"\",内訳明細書入力画面!B203)","v":""},null,null,null,null,null,null,null,null,null,null,null,null,{"$f":"IF(AND(内訳明細書入力画面!N203=\"\",内訳明細書入力画面!M203=\"\"),\"\",IF(内訳明細書入力画面!N203=\"\",内訳明細書入力画面!M203,内訳明細書入力画面!N203))","v":""},null,null,null,{"$f":"IF(内訳明細書入力画面!O203=\"\",\"\",内訳明細書入力画面!O203)","v":""},null,null,{"$f":"IF(AND(内訳明細書入力画面!R203=\"\",内訳明細書入力画面!P203=\"\"),\"\",IF(内訳明細書入力画面!R203=\"\",内訳明細書入力画面!P203,内訳明細書入力画面!R203))","v":""},null,null,null,{"$f":"IF(AND(内訳明細書入力画面!V203=\"\",内訳明細書入力画面!T203=\"\"),\"\",IF(内訳明細書入力画面!V203=\"\",内訳明細書入力画面!T203,内訳明細書入力画面!V203))","v":""},null,null,null,null,null,null,null,null,null,null,null,null,null,null,null,{"$f":"IF(AL203=\"\",\"\",ROUNDDOWN(N(V203)*N(AL203),0))","v":""},null,null,null,"",null,null,null,""]
[null,{"$f":"IF(内訳明細書入力画面!B204=\"\",\"\",内訳明細書入力画面!B204)","v":""},null,null,null,null,null,null,null,null,null,null,null,null,{"$f":"IF(AND(内訳明細書入力画面!N204=\"\",内訳明細書入力画面!M204=\"\"),\"\",IF(内訳明細書入力画面!N204=\"\",内訳明細書入力画面!M204,内訳明細書入力画面!N204))","v":""},null,null,null,{"$f":"IF(内訳明細書入力画面!O204=\"\",\"\",内訳明細書入力画面!O204)","v":""},null,null,{"$f":"IF(AND(内訳明細書入力画面!R204=\"\",内訳明細書入力画面!P204=\"\"),\"\",IF(内訳明細書入力画面!R204=\"\",内訳明細書入力画面!P204,内訳明細書入力画面!R204))","v":""},null,null,null,{"$f":"IF(AND(内訳明細書入力画面!V204=\"\",内訳明細書入力画面!T204=\"\"),\"\",IF(内訳明細書入力画面!V204=\"\",内訳明細書入力画面!T204,内訳明細書入力画面!V204))","v":""},null,null,null,null,null,null,null,null,null,null,null,null,null,null,null,"",null,null,null,"",null,null,null,""]
[null,{"$f":"IF(内訳明細書入力画面!B205=\"\",\"\",内訳明細書入力画面!B205)","v":""},null,null,null,null,null,null,null,null,null,null,null,null,{"$f":"IF(AND(内訳明細書入力画面!N205=\"\",内訳明細書入力画面!M205=\"\"),\"\",IF(内訳明細書入力画面!N205=\"\",内訳明細書入力画面!M205,内訳明細書入力画面!N205))","v":""},null,null,null,{"$f":"IF(内訳明細書入力画面!O205=\"\",\"\",内訳明細書入力画面!O205)","v":""},null,null,{"$f":"IF(AND(内訳明細書入力画面!R205=\"\",内訳明細書入力画面!P205=\"\"),\"\",IF(内訳明細書入力画面!R205=\"\",内訳明細書入力画面!P205,内訳明細書入力画面!R205))","v":""},null,null,null,{"$f":"IF(AND(内訳明細書入力画面!V205=\"\",内訳明細書入力画面!T205=\"\"),\"\",IF(内訳明細書入力画面!V205=\"\",内訳明細書入力画面!T205,内訳明細書入力画面!V205))","v":""},null,null,null,null,null,null,null,null,null,null,null,null,null,null,null,"",null,null,null,"",null,null,null,""]
[{"$f":"((ROW()-11)+15)/15","v":14},{"$f":"IF(内訳明細書入力画面!B206=\"\",\"\",内訳明細書入力画面!B206)","v":""},null,null,null,null,null,null,null,null,null,null,null,null,{"$f":"IF(AND(内訳明細書入力画面!N206=\"\",内訳明細書入力画面!M206=\"\"),\"\",IF(内訳明細書入力画面!N206=\"\",内訳明細書入力画面!M206,内訳明細書入力画面!N206))","v":""},null,null,null,{"$f":"IF(内訳明細書入力画面!O206=\"\",\"\",内訳明細書入力画面!O206)","v":""},null,null,{"$f":"IF(AND(内訳明細書入力画面!R206=\"\",内訳明細書入力画面!P206=\"\"),\"\",IF(内訳明細書入力画面!R206=\"\",内訳明細書入力画面!P206,内訳明細書入力画面!R206))","v":""},null,null,null,{"$f":"IF(AND(内訳明細書入力画面!V206=\"\",内訳明細書入力画面!T206=\"\"),\"\",IF(内訳明細書入力画面!V206=\"\",内訳明細書入力画面!T206,内訳明細書入力画面!V206))","v":""},null,null,null,null,null,null,null,null,null,null,null,null,null,null,null,"",null,null,null,"",null,null,null,""]
[null,{"$f":"IF(内訳明細書入力画面!B207=\"\",\"\",内訳明細書入力画面!B207)","v":""},null,null,null,null,null,null,null,null,null,null,null,null,{"$f":"IF(AND(内訳明細書入力画面!N207=\"\",内訳明細書入力画面!M207=\"\"),\"\",IF(内訳明細書入力画面!N207=\"\",内訳明細書入力画面!M207,内訳明細書入力画面!N207))","v":""},null,null,null,{"$f":"IF(内訳明細書入力画面!O207=\"\",\"\",内訳明細書入力画面!O207)","v":""},null,null,{"$f":"IF(AND(内訳明細書入力画面!R207=\"\",内訳明細書入力画面!P207=\"\"),\"\",IF(内訳明細書入力画面!R207=\"\",内訳明細書入力画面!P207,内訳明細書入力画面!R207))","v":""},null,null,null,{"$f":"IF(AND(内訳明細書入力画面!V207=\"\",内訳明細書入力画面!T207=\"\"),\"\",IF(内訳明細書入力画面!V207=\"\",内訳明細書入力画面!T207,内訳明細書入力画面!V207))","v":""},null,null,null,null,null,null,null,null,null,null,null,null,null,null,null,"",null,null,null,"",null,null,null,""]
[null,{"$f":"IF(内訳明細書入力画面!B208=\"\",\"\",内訳明細書入力画面!B208)","v":""},null,null,null,null,null,null,null,null,null,null,null,null,{"$f":"IF(AND(内訳明細書入力画面!N208=\"\",内訳明細書入力画面!M208=\"\"),\"\",IF(内訳明細書入力画面!N208=\"\",内訳明細書入力画面!M208,内訳明細書入力画面!N208))","v":""},null,null,null,{"$f":"IF(内訳明細書入力画面!O208=\"\",\"\",内訳明細書入力画面!O208)","v":""},null,null,{"$f":"IF(AND(内訳明細書入力画面!R208=\"\",内訳明細書入力画面!P208=\"\"),\"\",IF(内訳明細書入力画面!R208=\"\",内訳明細書入力画面!P208,内訳明細書入力画面!R208))","v":""},null,null,null,{"$f":"IF(AND(内訳明細書入力画面!V208=\"\",内訳明細書入力画面!T208=\"\"),\"\",IF(内訳明細書入力画面!V208=\"\",内訳明細書入力画面!T208,内訳明細書入力画面!V208))","v":""},null,null,null,null,null,null,null,null,null,null,null,null,null,null,null,"",null,null,null,"",null,null,null,""]
[null,{"$f":"IF(内訳明細書入力画面!B209=\"\",\"\",内訳明細書入力画面!B209)","v":""},null,null,null,null,null,null,null,null,null,null,null,null,{"$f":"IF(AND(内訳明細書入力画面!N209=\"\",内訳明細書入力画面!M209=\"\"),\"\",IF(内訳明細書入力画面!N209=\"\",内訳明細書入力画面!M209,内訳明細書入力画面!N209))","v":""},null,null,null,{"$f":"IF(内訳明細書入力画面!O209=\"\",\"\",内訳明細書入力画面!O209)","v":""},null,null,{"$f":"IF(AND(内訳明細書入力画面!R209=\"\",内訳明細書入力画面!P209=\"\"),\"\",IF(内訳明細書入力画面!R209=\"\",内訳明細書入力画面!P209,内訳明細書入力画面!R209))","v":""},null,null,null,{"$f":"IF(AND(内訳明細書入力画面!V209=\"\",内訳明細書入力画面!T209=\"\"),\"\",IF(内訳明細書入力画面!V209=\"\",内訳明細書入力画面!T209,内訳明細書入力画面!V209))","v":""},null,null,null,null,null,null,null,null,null,null,null,null,null,null,null,"",null,null,null,"",null,null,null,""]
[null,{"$f":"IF(内訳明細書入力画面!B210=\"\",\"\",内訳明細書入力画面!B210)","v":""},null,null,null,null,null,null,null,null,null,null,null,null,{"$f":"IF(AND(内訳明細書入力画面!N210=\"\",内訳明細書入力画面!M210=\"\"),\"\",IF(内訳明細書入力画面!N210=\"\",内訳明細書入力画面!M210,内訳明細書入力画面!N210))","v":""},null,null,null,{"$f":"IF(内訳明細書入力画面!O210=\"\",\"\",内訳明細書入力画面!O210)","v":""},null,null,{"$f":"IF(AND(内訳明細書入力画面!R210=\"\",内訳明細書入力画面!P210=\"\"),\"\",IF(内訳明細書入力画面!R210=\"\",内訳明細書入力画面!P210,内訳明細書入力画面!R210))","v":""},null,null,null,{"$f":"IF(AND(内訳明細書入力画面!V210=\"\",内訳明細書入力画面!T210=\"\"),\"\",IF(内訳明細書入力画面!V210=\"\",内訳明細書入力画面!T210,内訳明細書入力画面!V210))","v":""},null,null,null,null,null,null,null,null,null,null,null,null,null,null,null,"",null,null,null,"",null,null,null,""]
[null,{"$f":"IF(内訳明細書入力画面!B211=\"\",\"\",内訳明細書入力画面!B211)","v":""},null,null,null,null,null,null,null,null,null,null,null,null,{"$f":"IF(AND(内訳明細書入力画面!N211=\"\",内訳明細書入力画面!M211=\"\"),\"\",IF(内訳明細書入力画面!N211=\"\",内訳明細書入力画面!M211,内訳明細書入力画面!N211))","v":""},null,null,null,{"$f":"IF(内訳明細書入力画面!O211=\"\",\"\",内訳明細書入力画面!O211)","v":""},null,null,{"$f":"IF(AND(内訳明細書入力画面!R211=\"\",内訳明細書入力画面!P211=\"\"),\"\",IF(内訳明細書入力画面!R211=\"\",内訳明細書入力画面!P211,内訳明細書入力画面!R211))","v":""},null,null,null,{"$f":"IF(AND(内訳明細書入力画面!V211=\"\",内訳明細書入力画面!T211=\"\"),\"\",IF(内訳明細書入力画面!V211=\"\",内訳明細書入力画面!T211,内訳明細書入力画面!V211))","v":""},null,null,null,null,null,null,null,null,null,null,null,null,null,null,null,"",null,null,null,"",null,null,null,""]
[null,{"$f":"IF(内訳明細書入力画面!B212=\"\",\"\",内訳明細書入力画面!B212)","v":""},null,null,null,null,null,null,null,null,null,null,null,null,{"$f":"IF(AND(内訳明細書入力画面!N212=\"\",内訳明細書入力画面!M212=\"\"),\"\",IF(内訳明細書入力画面!N212=\"\",内訳明細書入力画面!M212,内訳明細書入力画面!N212))","v":""},null,null,null,{"$f":"IF(内訳明細書入力画面!O212=\"\",\"\",内訳明細書入力画面!O212)","v":""},null,null,{"$f":"IF(AND(内訳明細書入力画面!R212=\"\",内訳明細書入力画面!P212=\"\"),\"\",IF(内訳明細書入力画面!R212=\"\",内訳明細書入力画面!P212,内訳明細書入力画面!R212))","v":""},null,null,null,{"$f":"IF(AND(内訳明細書入力画面!V212=\"\",内訳明細書入力画面!T212=\"\"),\"\",IF(内訳明細書入力画面!V212=\"\",内訳明細書入力画面!T212,内訳明細書入力画面!V212))","v":""},null,null,null,null,null,null,null,null,null,null,null,null,null,null,null,"",null,null,null,"",null,null,null,""]
[null,{"$f":"IF(内訳明細書入力画面!B213=\"\",\"\",内訳明細書入力画面!B213)","v":""},null,null,null,null,null,null,null,null,null,null,null,null,{"$f":"IF(AND(内訳明細書入力画面!N213=\"\",内訳明細書入力画面!M213=\"\"),\"\",IF(内訳明細書入力画面!N213=\"\",内訳明細書入力画面!M213,内訳明細書入力画面!N213))","v":""},null,null,null,{"$f":"IF(内訳明細書入力画面!O213=\"\",\"\",内訳明細書入力画面!O213)","v":""},null,null,{"$f":"IF(AND(内訳明細書入力画面!R213=\"\",内訳明細書入力画面!P213=\"\"),\"\",IF(内訳明細書入力画面!R213=\"\",内訳明細書入力画面!P213,内訳明細書入力画面!R213))","v":""},null,null,null,{"$f":"IF(AND(内訳明細書入力画面!V213=\"\",内訳明細書入力画面!T213=\"\"),\"\",IF(内訳明細書入力画面!V213=\"\",内訳明細書入力画面!T213,内訳明細書入力画面!V213))","v":""},null,null,null,null,null,null,null,null,null,null,null,null,null,null,null,"",null,null,null,"",null,null,null,""]
[null,{"$f":"IF(内訳明細書入力画面!B214=\"\",\"\",内訳明細書入力画面!B214)","v":""},null,null,null,null,null,null,null,null,null,null,null,null,{"$f":"IF(AND(内訳明細書入力画面!N214=\"\",内訳明細書入力画面!M214=\"\"),\"\",IF(内訳明細書入力画面!N214=\"\",内訳明細書入力画面!M214,内訳明細書入力画面!N214))","v":""},null,null,null,{"$f":"IF(内訳明細書入力画面!O214=\"\",\"\",内訳明細書入力画面!O214)","v":""},null,null,{"$f":"IF(AND(内訳明細書入力画面!R214=\"\",内訳明細書入力画面!P214=\"\"),\"\",IF(内訳明細書入力画面!R214=\"\",内訳明細書入力画面!P214,内訳明細書入力画面!R214))","v":""},null,null,null,{"$f":"IF(AND(内訳明細書入力画面!V214=\"\",内訳明細書入力画面!T214=\"\"),\"\",IF(内訳明細書入力画面!V214=\"\",内訳明細書入力画面!T214,内訳明細書入力画面!V214))","v":""},null,null,null,null,null,null,null,null,null,null,null,null,null,null,null,"",null,null,null,"",null,null,null,""]
[null,{"$f":"IF(内訳明細書入力画面!B215=\"\",\"\",内訳明細書入力画面!B215)","v":""},null,null,null,null,null,null,null,null,null,null,null,null,{"$f":"IF(AND(内訳明細書入力画面!N215=\"\",内訳明細書入力画面!M215=\"\"),\"\",IF(内訳明細書入力画面!N215=\"\",内訳明細書入力画面!M215,内訳明細書入力画面!N215))","v":""},null,null,null,{"$f":"IF(内訳明細書入力画面!O215=\"\",\"\",内訳明細書入力画面!O215)","v":""},null,null,{"$f":"IF(AND(内訳明細書入力画面!R215=\"\",内訳明細書入力画面!P215=\"\"),\"\",IF(内訳明細書入力画面!R215=\"\",内訳明細書入力画面!P215,内訳明細書入力画面!R215))","v":""},null,null,null,{"$f":"IF(AND(内訳明細書入力画面!V215=\"\",内訳明細書入力画面!T215=\"\"),\"\",IF(内訳明細書入力画面!V215=\"\",内訳明細書入力画面!T215,内訳明細書入力画面!V215))","v":""},null,null,null,null,null,null,null,null,null,null,null,null,null,null,null,"",null,null,null,"",null,null,null,""]
[null,{"$f":"IF(内訳明細書入力画面!B216=\"\",\"\",内訳明細書入力画面!B216)","v":""},null,null,null,null,null,null,null,null,null,null,null,null,{"$f":"IF(AND(内訳明細書入力画面!N216=\"\",内訳明細書入力画面!M216=\"\"),\"\",IF(内訳明細書入力画面!N216=\"\",内訳明細書入力画面!M216,内訳明細書入力画面!N216))","v":""},null,null,null,{"$f":"IF(内訳明細書入力画面!O216=\"\",\"\",内訳明細書入力画面!O216)","v":""},null,null,{"$f":"IF(AND(内訳明細書入力画面!R216=\"\",内訳明細書入力画面!P216=\"\"),\"\",IF(内訳明細書入力画面!R216=\"\",内訳明細書入力画面!P216,内訳明細書入力画面!R216))","v":""},null,null,null,{"$f":"IF(AND(内訳明細書入力画面!V216=\"\",内訳明細書入力画面!T216=\"\"),\"\",IF(内訳明細書入力画面!V216=\"\",内訳明細書入力画面!T216,内訳明細書入力画面!V216))","v":""},null,null,null,null,null,null,null,null,null,null,null,null,null,null,null,"",null,null,null,"",null,null,null,""]
[null,{"$f":"IF(内訳明細書入力画面!B217=\"\",\"\",内訳明細書入力画面!B217)","v":""},null,null,null,null,null,null,null,null,null,null,null,null,{"$f":"IF(AND(内訳明細書入力画面!N217=\"\",内訳明細書入力画面!M217=\"\"),\"\",IF(内訳明細書入力画面!N217=\"\",内訳明細書入力画面!M217,内訳明細書入力画面!N217))","v":""},null,null,null,{"$f":"IF(内訳明細書入力画面!O217=\"\",\"\",内訳明細書入力画面!O217)","v":""},null,null,{"$f":"IF(AND(内訳明細書入力画面!R217=\"\",内訳明細書入力画面!P217=\"\"),\"\",IF(内訳明細書入力画面!R217=\"\",内訳明細書入力画面!P217,内訳明細書入力画面!R217))","v":""},null,null,null,{"$f":"IF(AND(内訳明細書入力画面!V217=\"\",内訳明細書入力画面!T217=\"\"),\"\",IF(内訳明細書入力画面!V217=\"\",内訳明細書入力画面!T217,内訳明細書入力画面!V217))","v":""},null,null,null,null,null,null,null,null,null,null,null,null,null,null,null,"",null,null,null,"",null,null,null,""]
[null,{"$f":"IF(内訳明細書入力画面!B218=\"\",\"\",内訳明細書入力画面!B218)","v":""},null,null,null,null,null,null,null,null,null,null,null,null,{"$f":"IF(AND(内訳明細書入力画面!N218=\"\",内訳明細書入力画面!M218=\"\"),\"\",IF(内訳明細書入力画面!N218=\"\",内訳明細書入力画面!M218,内訳明細書入力画面!N218))","v":""},null,null,null,{"$f":"IF(内訳明細書入力画面!O218=\"\",\"\",内訳明細書入力画面!O218)","v":""},null,null,{"$f":"IF(AND(内訳明細書入力画面!R218=\"\",内訳明細書入力画面!P218=\"\"),\"\",IF(内訳明細書入力画面!R218=\"\",内訳明細書入力画面!P218,内訳明細書入力画面!R218))","v":""},null,null,null,{"$f":"IF(AND(内訳明細書入力画面!V218=\"\",内訳明細書入力画面!T218=\"\"),\"\",IF(内訳明細書入力画面!V218=\"\",内訳明細書入力画面!T218,内訳明細書入力画面!V218))","v":""},null,null,null,null,null,null,null,null,null,null,null,null,null,null,null,"",null,null,null,"",null,null,null,""]
[null,{"$f":"IF(内訳明細書入力画面!B219=\"\",\"\",内訳明細書入力画面!B219)","v":""},null,null,null,null,null,null,null,null,null,null,null,null,{"$f":"IF(AND(内訳明細書入力画面!N219=\"\",内訳明細書入力画面!M219=\"\"),\"\",IF(内訳明細書入力画面!N219=\"\",内訳明細書入力画面!M219,内訳明細書入力画面!N219))","v":""},null,null,null,{"$f":"IF(内訳明細書入力画面!O219=\"\",\"\",内訳明細書入力画面!O219)","v":""},null,null,{"$f":"IF(AND(内訳明細書入力画面!R219=\"\",内訳明細書入力画面!P219=\"\"),\"\",IF(内訳明細書入力画面!R219=\"\",内訳明細書入力画面!P219,内訳明細書入力画面!R219))","v":""},null,null,null,{"$f":"IF(AND(内訳明細書入力画面!V219=\"\",内訳明細書入力画面!T219=\"\"),\"\",IF(内訳明細書入力画面!V219=\"\",内訳明細書入力画面!T219,内訳明細書入力画面!V219))","v":""},null,null,null,null,null,null,null,null,null,null,null,null,null,null,null,"",null,null,null,"",null,null,null,""]
[null,{"$f":"IF(内訳明細書入力画面!B220=\"\",\"\",内訳明細書入力画面!B220)","v":""},null,null,null,null,null,null,null,null,null,null,null,null,{"$f":"IF(AND(内訳明細書入力画面!N220=\"\",内訳明細書入力画面!M220=\"\"),\"\",IF(内訳明細書入力画面!N220=\"\",内訳明細書入力画面!M220,内訳明細書入力画面!N220))","v":""},null,null,null,{"$f":"IF(内訳明細書入力画面!O220=\"\",\"\",内訳明細書入力画面!O220)","v":""},null,null,{"$f":"IF(AND(内訳明細書入力画面!R220=\"\",内訳明細書入力画面!P220=\"\"),\"\",IF(内訳明細書入力画面!R220=\"\",内訳明細書入力画面!P220,内訳明細書入力画面!R220))","v":""},null,null,null,{"$f":"IF(AND(内訳明細書入力画面!V220=\"\",内訳明細書入力画面!T220=\"\"),\"\",IF(内訳明細書入力画面!V220=\"\",内訳明細書入力画面!T220,内訳明細書入力画面!V220))","v":""},null,null,null,null,null,null,null,null,null,null,null,null,null,null,null,"",null,null,null,"",null,null,null,""]
[{"$f":"((ROW()-11)+15)/15","v":15},{"$f":"IF(内訳明細書入力画面!B221=\"\",\"\",内訳明細書入力画面!B221)","v":""},null,null,null,null,null,null,null,null,null,null,null,null,{"$f":"IF(AND(内訳明細書入力画面!N221=\"\",内訳明細書入力画面!M221=\"\"),\"\",IF(内訳明細書入力画面!N221=\"\",内訳明細書入力画面!M221,内訳明細書入力画面!N221))","v":""},null,null,null,{"$f":"IF(内訳明細書入力画面!O221=\"\",\"\",内訳明細書入力画面!O221)","v":""},null,null,{"$f":"IF(AND(内訳明細書入力画面!R221=\"\",内訳明細書入力画面!P221=\"\"),\"\",IF(内訳明細書入力画面!R221=\"\",内訳明細書入力画面!P221,内訳明細書入力画面!R221))","v":""},null,null,null,{"$f":"IF(AND(内訳明細書入力画面!V221=\"\",内訳明細書入力画面!T221=\"\"),\"\",IF(内訳明細書入力画面!V221=\"\",内訳明細書入力画面!T221,内訳明細書入力画面!V221))","v":""},null,null,null,null,null,null,null,null,null,null,null,null,null,null,null,"",null,null,null,"",null,null,null,""]
[null,{"$f":"IF(内訳明細書入力画面!B222=\"\",\"\",内訳明細書入力画面!B222)","v":""},null,null,null,null,null,null,null,null,null,null,null,null,{"$f":"IF(AND(内訳明細書入力画面!N222=\"\",内訳明細書入力画面!M222=\"\"),\"\",IF(内訳明細書入力画面!N222=\"\",内訳明細書入力画面!M222,内訳明細書入力画面!N222))","v":""},null,null,null,{"$f":"IF(内訳明細書入力画面!O222=\"\",\"\",内訳明細書入力画面!O222)","v":""},null,null,{"$f":"IF(AND(内訳明細書入力画面!R222=\"\",内訳明細書入力画面!P222=\"\"),\"\",IF(内訳明細書入力画面!R222=\"\",内訳明細書入力画面!P222,内訳明細書入力画面!R222))","v":""},null,null,null,{"$f":"IF(AND(内訳明細書入力画面!V222=\"\",内訳明細書入力画面!T222=\"\"),\"\",IF(内訳明細書入力画面!V222=\"\",内訳明細書入力画面!T222,内訳明細書入力画面!V222))","v":""},null,null,null,null,null,null,null,null,null,null,null,null,null,null,null,"",null,null,null,"",null,null,null,""]
[null,{"$f":"IF(内訳明細書入力画面!B223=\"\",\"\",内訳明細書入力画面!B223)","v":""},null,null,null,null,null,null,null,null,null,null,null,null,{"$f":"IF(AND(内訳明細書入力画面!N223=\"\",内訳明細書入力画面!M223=\"\"),\"\",IF(内訳明細書入力画面!N223=\"\",内訳明細書入力画面!M223,内訳明細書入力画面!N223))","v":""},null,null,null,{"$f":"IF(内訳明細書入力画面!O223=\"\",\"\",内訳明細書入力画面!O223)","v":""},null,null,{"$f":"IF(AND(内訳明細書入力画面!R223=\"\",内訳明細書入力画面!P223=\"\"),\"\",IF(内訳明細書入力画面!R223=\"\",内訳明細書入力画面!P223,内訳明細書入力画面!R223))","v":""},null,null,null,{"$f":"IF(AND(内訳明細書入力画面!V223=\"\",内訳明細書入力画面!T223=\"\"),\"\",IF(内訳明細書入力画面!V223=\"\",内訳明細書入力画面!T223,内訳明細書入力画面!V223))","v":""},null,null,null,null,null,null,null,null,null,null,null,null,null,null,null,"",null,null,null,{"$f":"IF(AND(AD223=\"\",AL223=\"\"),\"\",N(AD223)+N(AL223))","v":""},null,null,null,{"$f":"IF(AND(AH223=\"\",AP223=\"\"),\"\",N(AH223)+N(AP223))","v":""}]
[null,{"$f":"IF(内訳明細書入力画面!B224=\"\",\"\",内訳明細書入力画面!B224)","v":""},null,null,null,null,null,null,null,null,null,null,null,null,{"$f":"IF(AND(内訳明細書入力画面!N224=\"\",内訳明細書入力画面!M224=\"\"),\"\",IF(内訳明細書入力画面!N224=\"\",内訳明細書入力画面!M224,内訳明細書入力画面!N224))","v":""},null,null,null,{"$f":"IF(内訳明細書入力画面!O224=\"\",\"\",内訳明細書入力画面!O224)","v":""},null,null,{"$f":"IF(AND(内訳明細書入力画面!R224=\"\",内訳明細書入力画面!P224=\"\"),\"\",IF(内訳明細書入力画面!R224=\"\",内訳明細書入力画面!P224,内訳明細書入力画面!R224))","v":""},null,null,null,{"$f":"IF(AND(内訳明細書入力画面!V224=\"\",内訳明細書入力画面!T224=\"\"),\"\",IF(内訳明細書入力画面!V224=\"\",内訳明細書入力画面!T224,内訳明細書入力画面!V224))","v":""},null,null,null,null,null,null,null,null,null,null,null,null,null,null,null,"",null,null,null,"",null,null,null,""]
[null,{"$f":"IF(内訳明細書入力画面!B225=\"\",\"\",内訳明細書入力画面!B225)","v":""},null,null,null,null,null,null,null,null,null,null,null,null,{"$f":"IF(AND(内訳明細書入力画面!N225=\"\",内訳明細書入力画面!M225=\"\"),\"\",IF(内訳明細書入力画面!N225=\"\",内訳明細書入力画面!M225,内訳明細書入力画面!N225))","v":""},null,null,null,{"$f":"IF(内訳明細書入力画面!O225=\"\",\"\",内訳明細書入力画面!O225)","v":""},null,null,{"$f":"IF(AND(内訳明細書入力画面!R225=\"\",内訳明細書入力画面!P225=\"\"),\"\",IF(内訳明細書入力画面!R225=\"\",内訳明細書入力画面!P225,内訳明細書入力画面!R225))","v":""},null,null,null,{"$f":"IF(AND(内訳明細書入力画面!V225=\"\",内訳明細書入力画面!T225=\"\"),\"\",IF(内訳明細書入力画面!V225=\"\",内訳明細書入力画面!T225,内訳明細書入力画面!V225))","v":""},null,null,null,null,null,null,null,null,null,null,null,null,null,null,null,"",null,null,null,"",null,null,null,""]
[null,{"$f":"IF(内訳明細書入力画面!B226=\"\",\"\",内訳明細書入力画面!B226)","v":""},null,null,null,null,null,null,null,null,null,null,null,null,{"$f":"IF(AND(内訳明細書入力画面!N226=\"\",内訳明細書入力画面!M226=\"\"),\"\",IF(内訳明細書入力画面!N226=\"\",内訳明細書入力画面!M226,内訳明細書入力画面!N226))","v":""},null,null,null,{"$f":"IF(内訳明細書入力画面!O226=\"\",\"\",内訳明細書入力画面!O226)","v":""},null,null,{"$f":"IF(AND(内訳明細書入力画面!R226=\"\",内訳明細書入力画面!P226=\"\"),\"\",IF(内訳明細書入力画面!R226=\"\",内訳明細書入力画面!P226,内訳明細書入力画面!R226))","v":""},null,null,null,{"$f":"IF(AND(内訳明細書入力画面!V226=\"\",内訳明細書入力画面!T226=\"\"),\"\",IF(内訳明細書入力画面!V226=\"\",内訳明細書入力画面!T226,内訳明細書入力画面!V226))","v":""},null,null,null,null,null,null,null,null,null,null,null,null,null,null,null,"",null,null,null,"",null,null,null,""]
[null,{"$f":"IF(内訳明細書入力画面!B227=\"\",\"\",内訳明細書入力画面!B227)","v":""},null,null,null,null,null,null,null,null,null,null,null,null,{"$f":"IF(AND(内訳明細書入力画面!N227=\"\",内訳明細書入力画面!M227=\"\"),\"\",IF(内訳明細書入力画面!N227=\"\",内訳明細書入力画面!M227,内訳明細書入力画面!N227))","v":""},null,null,null,{"$f":"IF(内訳明細書入力画面!O227=\"\",\"\",内訳明細書入力画面!O227)","v":""},null,null,{"$f":"IF(AND(内訳明細書入力画面!R227=\"\",内訳明細書入力画面!P227=\"\"),\"\",IF(内訳明細書入力画面!R227=\"\",内訳明細書入力画面!P227,内訳明細書入力画面!R227))","v":""},null,null,null,{"$f":"IF(AND(内訳明細書入力画面!V227=\"\",内訳明細書入力画面!T227=\"\"),\"\",IF(内訳明細書入力画面!V227=\"\",内訳明細書入力画面!T227,内訳明細書入力画面!V227))","v":""},null,null,null,null,null,null,null,null,null,null,null,null,null,null,null,"",null,null,null,"",null,null,null,""]
[null,{"$f":"IF(内訳明細書入力画面!B228=\"\",\"\",内訳明細書入力画面!B228)","v":""},null,null,null,null,null,null,null,null,null,null,null,null,{"$f":"IF(AND(内訳明細書入力画面!N228=\"\",内訳明細書入力画面!M228=\"\"),\"\",IF(内訳明細書入力画面!N228=\"\",内訳明細書入力画面!M228,内訳明細書入力画面!N228))","v":""},null,null,null,{"$f":"IF(内訳明細書入力画面!O228=\"\",\"\",内訳明細書入力画面!O228)","v":""},null,null,{"$f":"IF(AND(内訳明細書入力画面!R228=\"\",内訳明細書入力画面!P228=\"\"),\"\",IF(内訳明細書入力画面!R228=\"\",内訳明細書入力画面!P228,内訳明細書入力画面!R228))","v":""},null,null,null,{"$f":"IF(AND(内訳明細書入力画面!V228=\"\",内訳明細書入力画面!T228=\"\"),\"\",IF(内訳明細書入力画面!V228=\"\",内訳明細書入力画面!T228,内訳明細書入力画面!V228))","v":""},null,null,null,null,null,null,null,null,null,null,null,null,null,null,null,"",null,null,null,"",null,null,null,""]
[null,{"$f":"IF(内訳明細書入力画面!B229=\"\",\"\",内訳明細書入力画面!B229)","v":""},null,null,null,null,null,null,null,null,null,null,null,null,{"$f":"IF(AND(内訳明細書入力画面!N229=\"\",内訳明細書入力画面!M229=\"\"),\"\",IF(内訳明細書入力画面!N229=\"\",内訳明細書入力画面!M229,内訳明細書入力画面!N229))","v":""},null,null,null,{"$f":"IF(内訳明細書入力画面!O229=\"\",\"\",内訳明細書入力画面!O229)","v":""},null,null,{"$f":"IF(AND(内訳明細書入力画面!R229=\"\",内訳明細書入力画面!P229=\"\"),\"\",IF(内訳明細書入力画面!R229=\"\",内訳明細書入力画面!P229,内訳明細書入力画面!R229))","v":""},null,null,null,{"$f":"IF(AND(内訳明細書入力画面!V229=\"\",内訳明細書入力画面!T229=\"\"),\"\",IF(内訳明細書入力画面!V229=\"\",内訳明細書入力画面!T229,内訳明細書入力画面!V229))","v":""},null,null,null,null,null,null,null,null,null,null,null,null,null,null,null,"",null,null,null,"",null,null,null,""]
[null,{"$f":"IF(内訳明細書入力画面!B230=\"\",\"\",内訳明細書入力画面!B230)","v":""},null,null,null,null,null,null,null,null,null,null,null,null,{"$f":"IF(AND(内訳明細書入力画面!N230=\"\",内訳明細書入力画面!M230=\"\"),\"\",IF(内訳明細書入力画面!N230=\"\",内訳明細書入力画面!M230,内訳明細書入力画面!N230))","v":""},null,null,null,{"$f":"IF(内訳明細書入力画面!O230=\"\",\"\",内訳明細書入力画面!O230)","v":""},null,null,{"$f":"IF(AND(内訳明細書入力画面!R230=\"\",内訳明細書入力画面!P230=\"\"),\"\",IF(内訳明細書入力画面!R230=\"\",内訳明細書入力画面!P230,内訳明細書入力画面!R230))","v":""},null,null,null,{"$f":"IF(AND(内訳明細書入力画面!V230=\"\",内訳明細書入力画面!T230=\"\"),\"\",IF(内訳明細書入力画面!V230=\"\",内訳明細書入力画面!T230,内訳明細書入力画面!V230))","v":""},null,null,null,null,null,null,null,null,null,null,null,null,null,null,null,"",null,null,null,"",null,null,null,""]
[null,{"$f":"IF(内訳明細書入力画面!B231=\"\",\"\",内訳明細書入力画面!B231)","v":""},null,null,null,null,null,null,null,null,null,null,null,null,{"$f":"IF(AND(内訳明細書入力画面!N231=\"\",内訳明細書入力画面!M231=\"\"),\"\",IF(内訳明細書入力画面!N231=\"\",内訳明細書入力画面!M231,内訳明細書入力画面!N231))","v":""},null,null,null,{"$f":"IF(内訳明細書入力画面!O231=\"\",\"\",内訳明細書入力画面!O231)","v":""},null,null,{"$f":"IF(AND(内訳明細書入力画面!R231=\"\",内訳明細書入力画面!P231=\"\"),\"\",IF(内訳明細書入力画面!R231=\"\",内訳明細書入力画面!P231,内訳明細書入力画面!R231))","v":""},null,null,null,{"$f":"IF(AND(内訳明細書入力画面!V231=\"\",内訳明細書入力画面!T231=\"\"),\"\",IF(内訳明細書入力画面!V231=\"\",内訳明細書入力画面!T231,内訳明細書入力画面!V231))","v":""},null,null,null,null,null,null,null,null,null,null,null,null,null,null,null,"",null,null,null,"",null,null,null,""]
[null,{"$f":"IF(内訳明細書入力画面!B232=\"\",\"\",内訳明細書入力画面!B232)","v":""},null,null,null,null,null,null,null,null,null,null,null,null,{"$f":"IF(AND(内訳明細書入力画面!N232=\"\",内訳明細書入力画面!M232=\"\"),\"\",IF(内訳明細書入力画面!N232=\"\",内訳明細書入力画面!M232,内訳明細書入力画面!N232))","v":""},null,null,null,{"$f":"IF(内訳明細書入力画面!O232=\"\",\"\",内訳明細書入力画面!O232)","v":""},null,null,{"$f":"IF(AND(内訳明細書入力画面!R232=\"\",内訳明細書入力画面!P232=\"\"),\"\",IF(内訳明細書入力画面!R232=\"\",内訳明細書入力画面!P232,内訳明細書入力画面!R232))","v":""},null,null,null,{"$f":"IF(AND(内訳明細書入力画面!V232=\"\",内訳明細書入力画面!T232=\"\"),\"\",IF(内訳明細書入力画面!V232=\"\",内訳明細書入力画面!T232,内訳明細書入力画面!V232))","v":""},null,null,null,null,null,null,null,null,null,null,null,null,null,null,null,"",null,null,null,"",null,null,null,""]
[null,{"$f":"IF(内訳明細書入力画面!B233=\"\",\"\",内訳明細書入力画面!B233)","v":""},null,null,null,null,null,null,null,null,null,null,null,null,{"$f":"IF(AND(内訳明細書入力画面!N233=\"\",内訳明細書入力画面!M233=\"\"),\"\",IF(内訳明細書入力画面!N233=\"\",内訳明細書入力画面!M233,内訳明細書入力画面!N233))","v":""},null,null,null,{"$f":"IF(内訳明細書入力画面!O233=\"\",\"\",内訳明細書入力画面!O233)","v":""},null,null,{"$f":"IF(AND(内訳明細書入力画面!R233=\"\",内訳明細書入力画面!P233=\"\"),\"\",IF(内訳明細書入力画面!R233=\"\",内訳明細書入力画面!P233,内訳明細書入力画面!R233))","v":""},null,null,null,{"$f":"IF(AND(内訳明細書入力画面!V233=\"\",内訳明細書入力画面!T233=\"\"),\"\",IF(内訳明細書入力画面!V233=\"\",内訳明細書入力画面!T233,内訳明細書入力画面!V233))","v":""},null,null,null,null,null,null,null,null,null,null,null,null,null,null,null,"",null,null,null,"",null,null,null,""]
[null,{"$f":"IF(内訳明細書入力画面!B234=\"\",\"\",内訳明細書入力画面!B234)","v":""},null,null,null,null,null,null,null,null,null,null,null,null,{"$f":"IF(AND(内訳明細書入力画面!N234=\"\",内訳明細書入力画面!M234=\"\"),\"\",IF(内訳明細書入力画面!N234=\"\",内訳明細書入力画面!M234,内訳明細書入力画面!N234))","v":""},null,null,null,{"$f":"IF(内訳明細書入力画面!O234=\"\",\"\",内訳明細書入力画面!O234)","v":""},null,null,{"$f":"IF(AND(内訳明細書入力画面!R234=\"\",内訳明細書入力画面!P234=\"\"),\"\",IF(内訳明細書入力画面!R234=\"\",内訳明細書入力画面!P234,内訳明細書入力画面!R234))","v":""},null,null,null,{"$f":"IF(AND(内訳明細書入力画面!V234=\"\",内訳明細書入力画面!T234=\"\"),\"\",IF(内訳明細書入力画面!V234=\"\",内訳明細書入力画面!T234,内訳明細書入力画面!V234))","v":""},null,null,null,null,null,null,null,null,null,null,null,null,null,null,null,"",null,null,null,"",null,null,null,""]
[null,{"$f":"IF(内訳明細書入力画面!B235=\"\",\"\",内訳明細書入力画面!B235)","v":""},null,null,null,null,null,null,null,null,null,null,null,null,{"$f":"IF(AND(内訳明細書入力画面!N235=\"\",内訳明細書入力画面!M235=\"\"),\"\",IF(内訳明細書入力画面!N235=\"\",内訳明細書入力画面!M235,内訳明細書入力画面!N235))","v":""},null,null,null,{"$f":"IF(内訳明細書入力画面!O235=\"\",\"\",内訳明細書入力画面!O235)","v":""},null,null,{"$f":"IF(AND(内訳明細書入力画面!R235=\"\",内訳明細書入力画面!P235=\"\"),\"\",IF(内訳明細書入力画面!R235=\"\",内訳明細書入力画面!P235,内訳明細書入力画面!R235))","v":""},null,null,null,{"$f":"IF(AND(内訳明細書入力画面!V235=\"\",内訳明細書入力画面!T235=\"\"),\"\",IF(内訳明細書入力画面!V235=\"\",内訳明細書入力画面!T235,内訳明細書入力画面!V235))","v":""},null,null,null,null,null,null,null,null,null,null,null,null,null,null,null,"",null,null,null,"",null,null,null,""]
[{"$f":"((ROW()-11)+15)/15","v":16},{"$f":"IF(内訳明細書入力画面!B236=\"\",\"\",内訳明細書入力画面!B236)","v":""},null,null,null,null,null,null,null,null,null,null,null,null,{"$f":"IF(AND(内訳明細書入力画面!N236=\"\",内訳明細書入力画面!M236=\"\"),\"\",IF(内訳明細書入力画面!N236=\"\",内訳明細書入力画面!M236,内訳明細書入力画面!N236))","v":""},null,null,null,{"$f":"IF(内訳明細書入力画面!O236=\"\",\"\",内訳明細書入力画面!O236)","v":""},null,null,{"$f":"IF(AND(内訳明細書入力画面!R236=\"\",内訳明細書入力画面!P236=\"\"),\"\",IF(内訳明細書入力画面!R236=\"\",内訳明細書入力画面!P236,内訳明細書入力画面!R236))","v":""},null,null,null,{"$f":"IF(AND(内訳明細書入力画面!V236=\"\",内訳明細書入力画面!T236=\"\"),\"\",IF(内訳明細書入力画面!V236=\"\",内訳明細書入力画面!T236,内訳明細書入力画面!V236))","v":""},null,null,null,null,null,null,null,null,null,null,null,null,null,null,null,"",null,null,null,"",null,null,null,""]
[null,{"$f":"IF(内訳明細書入力画面!B237=\"\",\"\",内訳明細書入力画面!B237)","v":""},null,null,null,null,null,null,null,null,null,null,null,null,{"$f":"IF(AND(内訳明細書入力画面!N237=\"\",内訳明細書入力画面!M237=\"\"),\"\",IF(内訳明細書入力画面!N237=\"\",内訳明細書入力画面!M237,内訳明細書入力画面!N237))","v":""},null,null,null,{"$f":"IF(内訳明細書入力画面!O237=\"\",\"\",内訳明細書入力画面!O237)","v":""},null,null,{"$f":"IF(AND(内訳明細書入力画面!R237=\"\",内訳明細書入力画面!P237=\"\"),\"\",IF(内訳明細書入力画面!R237=\"\",内訳明細書入力画面!P237,内訳明細書入力画面!R237))","v":""},null,null,null,{"$f":"IF(AND(内訳明細書入力画面!V237=\"\",内訳明細書入力画面!T237=\"\"),\"\",IF(内訳明細書入力画面!V237=\"\",内訳明細書入力画面!T237,内訳明細書入力画面!V237))","v":""},null,null,null,null,null,null,null,null,null,null,null,null,null,null,null,"",null,null,null,"",null,null,null,""]
[null,{"$f":"IF(内訳明細書入力画面!B238=\"\",\"\",内訳明細書入力画面!B238)","v":""},null,null,null,null,null,null,null,null,null,null,null,null,{"$f":"IF(AND(内訳明細書入力画面!N238=\"\",内訳明細書入力画面!M238=\"\"),\"\",IF(内訳明細書入力画面!N238=\"\",内訳明細書入力画面!M238,内訳明細書入力画面!N238))","v":""},null,null,null,{"$f":"IF(内訳明細書入力画面!O238=\"\",\"\",内訳明細書入力画面!O238)","v":""},null,null,{"$f":"IF(AND(内訳明細書入力画面!R238=\"\",内訳明細書入力画面!P238=\"\"),\"\",IF(内訳明細書入力画面!R238=\"\",内訳明細書入力画面!P238,内訳明細書入力画面!R238))","v":""},null,null,null,{"$f":"IF(AND(内訳明細書入力画面!V238=\"\",内訳明細書入力画面!T238=\"\"),\"\",IF(内訳明細書入力画面!V238=\"\",内訳明細書入力画面!T238,内訳明細書入力画面!V238))","v":""},null,null,null,null,null,null,null,null,null,null,null,null,null,null,null,"",null,null,null,"",null,null,null,""]
[null,{"$f":"IF(内訳明細書入力画面!B239=\"\",\"\",内訳明細書入力画面!B239)","v":""},null,null,null,null,null,null,null,null,null,null,null,null,{"$f":"IF(AND(内訳明細書入力画面!N239=\"\",内訳明細書入力画面!M239=\"\"),\"\",IF(内訳明細書入力画面!N239=\"\",内訳明細書入力画面!M239,内訳明細書入力画面!N239))","v":""},null,null,null,{"$f":"IF(内訳明細書入力画面!O239=\"\",\"\",内訳明細書入力画面!O239)","v":""},null,null,{"$f":"IF(AND(内訳明細書入力画面!R239=\"\",内訳明細書入力画面!P239=\"\"),\"\",IF(内訳明細書入力画面!R239=\"\",内訳明細書入力画面!P239,内訳明細書入力画面!R239))","v":""},null,null,null,{"$f":"IF(AND(内訳明細書入力画面!V239=\"\",内訳明細書入力画面!T239=\"\"),\"\",IF(内訳明細書入力画面!V239=\"\",内訳明細書入力画面!T239,内訳明細書入力画面!V239))","v":""},null,null,null,null,null,null,null,null,null,null,null,null,null,null,null,"",null,null,null,"",null,null,null,""]
[null,{"$f":"IF(内訳明細書入力画面!B240=\"\",\"\",内訳明細書入力画面!B240)","v":""},null,null,null,null,null,null,null,null,null,null,null,null,{"$f":"IF(AND(内訳明細書入力画面!N240=\"\",内訳明細書入力画面!M240=\"\"),\"\",IF(内訳明細書入力画面!N240=\"\",内訳明細書入力画面!M240,内訳明細書入力画面!N240))","v":""},null,null,null,{"$f":"IF(内訳明細書入力画面!O240=\"\",\"\",内訳明細書入力画面!O240)","v":""},null,null,{"$f":"IF(AND(内訳明細書入力画面!R240=\"\",内訳明細書入力画面!P240=\"\"),\"\",IF(内訳明細書入力画面!R240=\"\",内訳明細書入力画面!P240,内訳明細書入力画面!R240))","v":""},null,null,null,{"$f":"IF(AND(内訳明細書入力画面!V240=\"\",内訳明細書入力画面!T240=\"\"),\"\",IF(内訳明細書入力画面!V240=\"\",内訳明細書入力画面!T240,内訳明細書入力画面!V240))","v":""},null,null,null,null,null,null,null,null,null,null,null,null,null,null,null,"",null,null,null,"",null,null,null,""]
[null,{"$f":"IF(内訳明細書入力画面!B241=\"\",\"\",内訳明細書入力画面!B241)","v":""},null,null,null,null,null,null,null,null,null,null,null,null,{"$f":"IF(AND(内訳明細書入力画面!N241=\"\",内訳明細書入力画面!M241=\"\"),\"\",IF(内訳明細書入力画面!N241=\"\",内訳明細書入力画面!M241,内訳明細書入力画面!N241))","v":""},null,null,null,{"$f":"IF(内訳明細書入力画面!O241=\"\",\"\",内訳明細書入力画面!O241)","v":""},null,null,{"$f":"IF(AND(内訳明細書入力画面!R241=\"\",内訳明細書入力画面!P241=\"\"),\"\",IF(内訳明細書入力画面!R241=\"\",内訳明細書入力画面!P241,内訳明細書入力画面!R241))","v":""},null,null,null,{"$f":"IF(AND(内訳明細書入力画面!V241=\"\",内訳明細書入力画面!T241=\"\"),\"\",IF(内訳明細書入力画面!V241=\"\",内訳明細書入力画面!T241,内訳明細書入力画面!V241))","v":""},null,null,null,null,null,null,null,null,null,null,null,null,null,null,null,"",null,null,null,"",null,null,null,""]
[null,{"$f":"IF(内訳明細書入力画面!B242=\"\",\"\",内訳明細書入力画面!B242)","v":""},null,null,null,null,null,null,null,null,null,null,null,null,{"$f":"IF(AND(内訳明細書入力画面!N242=\"\",内訳明細書入力画面!M242=\"\"),\"\",IF(内訳明細書入力画面!N242=\"\",内訳明細書入力画面!M242,内訳明細書入力画面!N242))","v":""},null,null,null,{"$f":"IF(内訳明細書入力画面!O242=\"\",\"\",内訳明細書入力画面!O242)","v":""},null,null,{"$f":"IF(AND(内訳明細書入力画面!R242=\"\",内訳明細書入力画面!P242=\"\"),\"\",IF(内訳明細書入力画面!R242=\"\",内訳明細書入力画面!P242,内訳明細書入力画面!R242))","v":""},null,null,null,{"$f":"IF(AND(内訳明細書入力画面!V242=\"\",内訳明細書入力画面!T242=\"\"),\"\",IF(内訳明細書入力画面!V242=\"\",内訳明細書入力画面!T242,内訳明細書入力画面!V242))","v":""},null,null,null,null,null,null,null,null,null,null,null,null,null,null,null,"",null,null,null,"",null,null,null,""]
[null,{"$f":"IF(内訳明細書入力画面!B243=\"\",\"\",内訳明細書入力画面!B243)","v":""},null,null,null,null,null,null,null,null,null,null,null,null,{"$f":"IF(AND(内訳明細書入力画面!N243=\"\",内訳明細書入力画面!M243=\"\"),\"\",IF(内訳明細書入力画面!N243=\"\",内訳明細書入力画面!M243,内訳明細書入力画面!N243))","v":""},null,null,null,{"$f":"IF(内訳明細書入力画面!O243=\"\",\"\",内訳明細書入力画面!O243)","v":""},null,null,{"$f":"IF(AND(内訳明細書入力画面!R243=\"\",内訳明細書入力画面!P243=\"\"),\"\",IF(内訳明細書入力画面!R243=\"\",内訳明細書入力画面!P243,内訳明細書入力画面!R243))","v":""},null,null,null,{"$f":"IF(AND(内訳明細書入力画面!V243=\"\",内訳明細書入力画面!T243=\"\"),\"\",IF(内訳明細書入力画面!V243=\"\",内訳明細書入力画面!T243,内訳明細書入力画面!V243))","v":""},null,null,null,null,null,null,null,null,null,null,null,null,null,null,null,"",null,null,null,"",null,null,null,""]
[null,{"$f":"IF(内訳明細書入力画面!B244=\"\",\"\",内訳明細書入力画面!B244)","v":""},null,null,null,null,null,null,null,null,null,null,null,null,{"$f":"IF(AND(内訳明細書入力画面!N244=\"\",内訳明細書入力画面!M244=\"\"),\"\",IF(内訳明細書入力画面!N244=\"\",内訳明細書入力画面!M244,内訳明細書入力画面!N244))","v":""},null,null,null,{"$f":"IF(内訳明細書入力画面!O244=\"\",\"\",内訳明細書入力画面!O244)","v":""},null,null,{"$f":"IF(AND(内訳明細書入力画面!R244=\"\",内訳明細書入力画面!P244=\"\"),\"\",IF(内訳明細書入力画面!R244=\"\",内訳明細書入力画面!P244,内訳明細書入力画面!R244))","v":""},null,null,null,{"$f":"IF(AND(内訳明細書入力画面!V244=\"\",内訳明細書入力画面!T244=\"\"),\"\",IF(内訳明細書入力画面!V244=\"\",内訳明細書入力画面!T244,内訳明細書入力画面!V244))","v":""},null,null,null,null,null,null,null,null,null,null,null,null,null,null,null,"",null,null,null,"",null,null,null,""]
[null,{"$f":"IF(内訳明細書入力画面!B245=\"\",\"\",内訳明細書入力画面!B245)","v":""},null,null,null,null,null,null,null,null,null,null,null,null,{"$f":"IF(AND(内訳明細書入力画面!N245=\"\",内訳明細書入力画面!M245=\"\"),\"\",IF(内訳明細書入力画面!N245=\"\",内訳明細書入力画面!M245,内訳明細書入力画面!N245))","v":""},null,null,null,{"$f":"IF(内訳明細書入力画面!O245=\"\",\"\",内訳明細書入力画面!O245)","v":""},null,null,{"$f":"IF(AND(内訳明細書入力画面!R245=\"\",内訳明細書入力画面!P245=\"\"),\"\",IF(内訳明細書入力画面!R245=\"\",内訳明細書入力画面!P245,内訳明細書入力画面!R245))","v":""},null,null,null,{"$f":"IF(AND(内訳明細書入力画面!V245=\"\",内訳明細書入力画面!T245=\"\"),\"\",IF(内訳明細書入力画面!V245=\"\",内訳明細書入力画面!T245,内訳明細書入力画面!V245))","v":""},null,null,null,null,null,null,null,null,null,null,null,null,null,null,null,"",null,null,null,"",null,null,null,""]
[null,{"$f":"IF(内訳明細書入力画面!B246=\"\",\"\",内訳明細書入力画面!B246)","v":""},null,null,null,null,null,null,null,null,null,null,null,null,{"$f":"IF(AND(内訳明細書入力画面!N246=\"\",内訳明細書入力画面!M246=\"\"),\"\",IF(内訳明細書入力画面!N246=\"\",内訳明細書入力画面!M246,内訳明細書入力画面!N246))","v":""},null,null,null,{"$f":"IF(内訳明細書入力画面!O246=\"\",\"\",内訳明細書入力画面!O246)","v":""},null,null,{"$f":"IF(AND(内訳明細書入力画面!R246=\"\",内訳明細書入力画面!P246=\"\"),\"\",IF(内訳明細書入力画面!R246=\"\",内訳明細書入力画面!P246,内訳明細書入力画面!R246))","v":""},null,null,null,{"$f":"IF(AND(内訳明細書入力画面!V246=\"\",内訳明細書入力画面!T246=\"\"),\"\",IF(内訳明細書入力画面!V246=\"\",内訳明細書入力画面!T246,内訳明細書入力画面!V246))","v":""},null,null,null,null,null,null,null,null,null,null,null,null,null,null,null,"",null,null,null,"",null,null,null,""]
[null,{"$f":"IF(内訳明細書入力画面!B247=\"\",\"\",内訳明細書入力画面!B247)","v":""},null,null,null,null,null,null,null,null,null,null,null,null,{"$f":"IF(AND(内訳明細書入力画面!N247=\"\",内訳明細書入力画面!M247=\"\"),\"\",IF(内訳明細書入力画面!N247=\"\",内訳明細書入力画面!M247,内訳明細書入力画面!N247))","v":""},null,null,null,{"$f":"IF(内訳明細書入力画面!O247=\"\",\"\",内訳明細書入力画面!O247)","v":""},null,null,{"$f":"IF(AND(内訳明細書入力画面!R247=\"\",内訳明細書入力画面!P247=\"\"),\"\",IF(内訳明細書入力画面!R247=\"\",内訳明細書入力画面!P247,内訳明細書入力画面!R247))","v":""},null,null,null,{"$f":"IF(AND(内訳明細書入力画面!V247=\"\",内訳明細書入力画面!T247=\"\"),\"\",IF(内訳明細書入力画面!V247=\"\",内訳明細書入力画面!T247,内訳明細書入力画面!V247))","v":""},null,null,null,null,null,null,null,null,null,null,null,null,null,null,null,"",null,null,null,"",null,null,null,""]
[null,{"$f":"IF(内訳明細書入力画面!B248=\"\",\"\",内訳明細書入力画面!B248)","v":""},null,null,null,null,null,null,null,null,null,null,null,null,{"$f":"IF(AND(内訳明細書入力画面!N248=\"\",内訳明細書入力画面!M248=\"\"),\"\",IF(内訳明細書入力画面!N248=\"\",内訳明細書入力画面!M248,内訳明細書入力画面!N248))","v":""},null,null,null,{"$f":"IF(内訳明細書入力画面!O248=\"\",\"\",内訳明細書入力画面!O248)","v":""},null,null,{"$f":"IF(AND(内訳明細書入力画面!R248=\"\",内訳明細書入力画面!P248=\"\"),\"\",IF(内訳明細書入力画面!R248=\"\",内訳明細書入力画面!P248,内訳明細書入力画面!R248))","v":""},null,null,null,{"$f":"IF(AND(内訳明細書入力画面!V248=\"\",内訳明細書入力画面!T248=\"\"),\"\",IF(内訳明細書入力画面!V248=\"\",内訳明細書入力画面!T248,内訳明細書入力画面!V248))","v":""},null,null,null,null,null,null,null,null,null,null,null,null,null,null,null,"",null,null,null,"",null,null,null,""]
[null,{"$f":"IF(内訳明細書入力画面!B249=\"\",\"\",内訳明細書入力画面!B249)","v":""},null,null,null,null,null,null,null,null,null,null,null,null,{"$f":"IF(AND(内訳明細書入力画面!N249=\"\",内訳明細書入力画面!M249=\"\"),\"\",IF(内訳明細書入力画面!N249=\"\",内訳明細書入力画面!M249,内訳明細書入力画面!N249))","v":""},null,null,null,{"$f":"IF(内訳明細書入力画面!O249=\"\",\"\",内訳明細書入力画面!O249)","v":""},null,null,{"$f":"IF(AND(内訳明細書入力画面!R249=\"\",内訳明細書入力画面!P249=\"\"),\"\",IF(内訳明細書入力画面!R249=\"\",内訳明細書入力画面!P249,内訳明細書入力画面!R249))","v":""},null,null,null,{"$f":"IF(AND(内訳明細書入力画面!V249=\"\",内訳明細書入力画面!T249=\"\"),\"\",IF(内訳明細書入力画面!V249=\"\",内訳明細書入力画面!T249,内訳明細書入力画面!V249))","v":""},null,null,null,null,null,null,null,null,null,null,null,null,null,null,null,"",null,null,null,"",null,null,null,""]
[null,{"$f":"IF(内訳明細書入力画面!B250=\"\",\"\",内訳明細書入力画面!B250)","v":""},null,null,null,null,null,null,null,null,null,null,null,null,{"$f":"IF(AND(内訳明細書入力画面!N250=\"\",内訳明細書入力画面!M250=\"\"),\"\",IF(内訳明細書入力画面!N250=\"\",内訳明細書入力画面!M250,内訳明細書入力画面!N250))","v":""},null,null,null,{"$f":"IF(内訳明細書入力画面!O250=\"\",\"\",内訳明細書入力画面!O250)","v":""},null,null,{"$f":"IF(AND(内訳明細書入力画面!R250=\"\",内訳明細書入力画面!P250=\"\"),\"\",IF(内訳明細書入力画面!R250=\"\",内訳明細書入力画面!P250,内訳明細書入力画面!R250))","v":""},null,null,null,{"$f":"IF(AND(内訳明細書入力画面!V250=\"\",内訳明細書入力画面!T250=\"\"),\"\",IF(内訳明細書入力画面!V250=\"\",内訳明細書入力画面!T250,内訳明細書入力画面!V250))","v":""},null,null,null,null,null,null,null,null,null,null,null,null,null,null,null,"",null,null,null,"",null,null,null,""]
[{"$f":"((ROW()-11)+15)/15","v":17},{"$f":"IF(内訳明細書入力画面!B251=\"\",\"\",内訳明細書入力画面!B251)","v":""},null,null,null,null,null,null,null,null,null,null,null,null,{"$f":"IF(AND(内訳明細書入力画面!N251=\"\",内訳明細書入力画面!M251=\"\"),\"\",IF(内訳明細書入力画面!N251=\"\",内訳明細書入力画面!M251,内訳明細書入力画面!N251))","v":""},null,null,null,{"$f":"IF(内訳明細書入力画面!O251=\"\",\"\",内訳明細書入力画面!O251)","v":""},null,null,{"$f":"IF(AND(内訳明細書入力画面!R251=\"\",内訳明細書入力画面!P251=\"\"),\"\",IF(内訳明細書入力画面!R251=\"\",内訳明細書入力画面!P251,内訳明細書入力画面!R251))","v":""},null,null,null,{"$f":"IF(AND(内訳明細書入力画面!V251=\"\",内訳明細書入力画面!T251=\"\"),\"\",IF(内訳明細書入力画面!V251=\"\",内訳明細書入力画面!T251,内訳明細書入力画面!V251))","v":""},null,null,null,null,null,null,null,null,null,null,null,null,null,null,null,"",null,null,null,"",null,null,null,""]
[null,{"$f":"IF(内訳明細書入力画面!B252=\"\",\"\",内訳明細書入力画面!B252)","v":""},null,null,null,null,null,null,null,null,null,null,null,null,{"$f":"IF(AND(内訳明細書入力画面!N252=\"\",内訳明細書入力画面!M252=\"\"),\"\",IF(内訳明細書入力画面!N252=\"\",内訳明細書入力画面!M252,内訳明細書入力画面!N252))","v":""},null,null,null,{"$f":"IF(内訳明細書入力画面!O252=\"\",\"\",内訳明細書入力画面!O252)","v":""},null,null,{"$f":"IF(AND(内訳明細書入力画面!R252=\"\",内訳明細書入力画面!P252=\"\"),\"\",IF(内訳明細書入力画面!R252=\"\",内訳明細書入力画面!P252,内訳明細書入力画面!R252))","v":""},null,null,null,{"$f":"IF(AND(内訳明細書入力画面!V252=\"\",内訳明細書入力画面!T252=\"\"),\"\",IF(内訳明細書入力画面!V252=\"\",内訳明細書入力画面!T252,内訳明細書入力画面!V252))","v":""},null,null,null,null,null,null,null,null,null,null,null,null,null,null,null,"",null,null,null,"",null,null,null,""]
[null,{"$f":"IF(内訳明細書入力画面!B253=\"\",\"\",内訳明細書入力画面!B253)","v":""},null,null,null,null,null,null,null,null,null,null,null,null,{"$f":"IF(AND(内訳明細書入力画面!N253=\"\",内訳明細書入力画面!M253=\"\"),\"\",IF(内訳明細書入力画面!N253=\"\",内訳明細書入力画面!M253,内訳明細書入力画面!N253))","v":""},null,null,null,{"$f":"IF(内訳明細書入力画面!O253=\"\",\"\",内訳明細書入力画面!O253)","v":""},null,null,{"$f":"IF(AND(内訳明細書入力画面!R253=\"\",内訳明細書入力画面!P253=\"\"),\"\",IF(内訳明細書入力画面!R253=\"\",内訳明細書入力画面!P253,内訳明細書入力画面!R253))","v":""},null,null,null,{"$f":"IF(AND(内訳明細書入力画面!V253=\"\",内訳明細書入力画面!T253=\"\"),\"\",IF(内訳明細書入力画面!V253=\"\",内訳明細書入力画面!T253,内訳明細書入力画面!V253))","v":""},null,null,null,null,null,null,null,null,null,null,null,null,null,null,null,"",null,null,null,"",null,null,null,""]
[null,{"$f":"IF(内訳明細書入力画面!B254=\"\",\"\",内訳明細書入力画面!B254)","v":""},null,null,null,null,null,null,null,null,null,null,null,null,{"$f":"IF(AND(内訳明細書入力画面!N254=\"\",内訳明細書入力画面!M254=\"\"),\"\",IF(内訳明細書入力画面!N254=\"\",内訳明細書入力画面!M254,内訳明細書入力画面!N254))","v":""},null,null,null,{"$f":"IF(内訳明細書入力画面!O254=\"\",\"\",内訳明細書入力画面!O254)","v":""},null,null,{"$f":"IF(AND(内訳明細書入力画面!R254=\"\",内訳明細書入力画面!P254=\"\"),\"\",IF(内訳明細書入力画面!R254=\"\",内訳明細書入力画面!P254,内訳明細書入力画面!R254))","v":""},null,null,null,{"$f":"IF(AND(内訳明細書入力画面!V254=\"\",内訳明細書入力画面!T254=\"\"),\"\",IF(内訳明細書入力画面!V254=\"\",内訳明細書入力画面!T254,内訳明細書入力画面!V254))","v":""},null,null,null,null,null,null,null,null,null,null,null,null,null,null,null,"",null,null,null,"",null,null,null,""]
[null,{"$f":"IF(内訳明細書入力画面!B255=\"\",\"\",内訳明細書入力画面!B255)","v":""},null,null,null,null,null,null,null,null,null,null,null,null,{"$f":"IF(AND(内訳明細書入力画面!N255=\"\",内訳明細書入力画面!M255=\"\"),\"\",IF(内訳明細書入力画面!N255=\"\",内訳明細書入力画面!M255,内訳明細書入力画面!N255))","v":""},null,null,null,{"$f":"IF(内訳明細書入力画面!O255=\"\",\"\",内訳明細書入力画面!O255)","v":""},null,null,{"$f":"IF(AND(内訳明細書入力画面!R255=\"\",内訳明細書入力画面!P255=\"\"),\"\",IF(内訳明細書入力画面!R255=\"\",内訳明細書入力画面!P255,内訳明細書入力画面!R255))","v":""},null,null,null,{"$f":"IF(AND(内訳明細書入力画面!V255=\"\",内訳明細書入力画面!T255=\"\"),\"\",IF(内訳明細書入力画面!V255=\"\",内訳明細書入力画面!T255,内訳明細書入力画面!V255))","v":""},null,null,null,null,null,null,null,null,null,null,null,null,null,null,null,"",null,null,null,"",null,null,null,""]
[null,{"$f":"IF(内訳明細書入力画面!B256=\"\",\"\",内訳明細書入力画面!B256)","v":""},null,null,null,null,null,null,null,null,null,null,null,null,{"$f":"IF(AND(内訳明細書入力画面!N256=\"\",内訳明細書入力画面!M256=\"\"),\"\",IF(内訳明細書入力画面!N256=\"\",内訳明細書入力画面!M256,内訳明細書入力画面!N256))","v":""},null,null,null,{"$f":"IF(内訳明細書入力画面!O256=\"\",\"\",内訳明細書入力画面!O256)","v":""},null,null,{"$f":"IF(AND(内訳明細書入力画面!R256=\"\",内訳明細書入力画面!P256=\"\"),\"\",IF(内訳明細書入力画面!R256=\"\",内訳明細書入力画面!P256,内訳明細書入力画面!R256))","v":""},null,null,null,{"$f":"IF(AND(内訳明細書入力画面!V256=\"\",内訳明細書入力画面!T256=\"\"),\"\",IF(内訳明細書入力画面!V256=\"\",内訳明細書入力画面!T256,内訳明細書入力画面!V256))","v":""},null,null,null,null,null,null,null,null,null,null,null,null,null,null,null,"",null,null,null,"",null,null,null,""]
[null,{"$f":"IF(内訳明細書入力画面!B257=\"\",\"\",内訳明細書入力画面!B257)","v":""},null,null,null,null,null,null,null,null,null,null,null,null,{"$f":"IF(AND(内訳明細書入力画面!N257=\"\",内訳明細書入力画面!M257=\"\"),\"\",IF(内訳明細書入力画面!N257=\"\",内訳明細書入力画面!M257,内訳明細書入力画面!N257))","v":""},null,null,null,{"$f":"IF(内訳明細書入力画面!O257=\"\",\"\",内訳明細書入力画面!O257)","v":""},null,null,{"$f":"IF(AND(内訳明細書入力画面!R257=\"\",内訳明細書入力画面!P257=\"\"),\"\",IF(内訳明細書入力画面!R257=\"\",内訳明細書入力画面!P257,内訳明細書入力画面!R257))","v":""},null,null,null,{"$f":"IF(AND(内訳明細書入力画面!V257=\"\",内訳明細書入力画面!T257=\"\"),\"\",IF(内訳明細書入力画面!V257=\"\",内訳明細書入力画面!T257,内訳明細書入力画面!V257))","v":""},null,null,null,null,null,null,null,null,null,null,null,null,null,null,null,"",null,null,null,"",null,null,null,""]
[null,{"$f":"IF(内訳明細書入力画面!B258=\"\",\"\",内訳明細書入力画面!B258)","v":""},null,null,null,null,null,null,null,null,null,null,null,null,{"$f":"IF(AND(内訳明細書入力画面!N258=\"\",内訳明細書入力画面!M258=\"\"),\"\",IF(内訳明細書入力画面!N258=\"\",内訳明細書入力画面!M258,内訳明細書入力画面!N258))","v":""},null,null,null,{"$f":"IF(内訳明細書入力画面!O258=\"\",\"\",内訳明細書入力画面!O258)","v":""},null,null,{"$f":"IF(AND(内訳明細書入力画面!R258=\"\",内訳明細書入力画面!P258=\"\"),\"\",IF(内訳明細書入力画面!R258=\"\",内訳明細書入力画面!P258,内訳明細書入力画面!R258))","v":""},null,null,null,{"$f":"IF(AND(内訳明細書入力画面!V258=\"\",内訳明細書入力画面!T258=\"\"),\"\",IF(内訳明細書入力画面!V258=\"\",内訳明細書入力画面!T258,内訳明細書入力画面!V258))","v":""},null,null,null,null,null,null,null,null,null,null,null,null,null,null,null,"",null,null,null,"",null,null,null,""]
[null,{"$f":"IF(内訳明細書入力画面!B259=\"\",\"\",内訳明細書入力画面!B259)","v":""},null,null,null,null,null,null,null,null,null,null,null,null,{"$f":"IF(AND(内訳明細書入力画面!N259=\"\",内訳明細書入力画面!M259=\"\"),\"\",IF(内訳明細書入力画面!N259=\"\",内訳明細書入力画面!M259,内訳明細書入力画面!N259))","v":""},null,null,null,{"$f":"IF(内訳明細書入力画面!O259=\"\",\"\",内訳明細書入力画面!O259)","v":""},null,null,{"$f":"IF(AND(内訳明細書入力画面!R259=\"\",内訳明細書入力画面!P259=\"\"),\"\",IF(内訳明細書入力画面!R259=\"\",内訳明細書入力画面!P259,内訳明細書入力画面!R259))","v":""},null,null,null,{"$f":"IF(AND(内訳明細書入力画面!V259=\"\",内訳明細書入力画面!T259=\"\"),\"\",IF(内訳明細書入力画面!V259=\"\",内訳明細書入力画面!T259,内訳明細書入力画面!V259))","v":""},null,null,null,null,null,null,null,null,null,null,null,null,null,null,null,"",null,null,null,"",null,null,null,""]
[null,{"$f":"IF(内訳明細書入力画面!B260=\"\",\"\",内訳明細書入力画面!B260)","v":""},null,null,null,null,null,null,null,null,null,null,null,null,{"$f":"IF(AND(内訳明細書入力画面!N260=\"\",内訳明細書入力画面!M260=\"\"),\"\",IF(内訳明細書入力画面!N260=\"\",内訳明細書入力画面!M260,内訳明細書入力画面!N260))","v":""},null,null,null,{"$f":"IF(内訳明細書入力画面!O260=\"\",\"\",内訳明細書入力画面!O260)","v":""},null,null,{"$f":"IF(AND(内訳明細書入力画面!R260=\"\",内訳明細書入力画面!P260=\"\"),\"\",IF(内訳明細書入力画面!R260=\"\",内訳明細書入力画面!P260,内訳明細書入力画面!R260))","v":""},null,null,null,{"$f":"IF(AND(内訳明細書入力画面!V260=\"\",内訳明細書入力画面!T260=\"\"),\"\",IF(内訳明細書入力画面!V260=\"\",内訳明細書入力画面!T260,内訳明細書入力画面!V260))","v":""},null,null,null,null,null,null,null,null,null,null,null,null,null,null,null,"",null,null,null,"",null,null,null,""]
[null,{"$f":"IF(内訳明細書入力画面!B261=\"\",\"\",内訳明細書入力画面!B261)","v":""},null,null,null,null,null,null,null,null,null,null,null,null,{"$f":"IF(AND(内訳明細書入力画面!N261=\"\",内訳明細書入力画面!M261=\"\"),\"\",IF(内訳明細書入力画面!N261=\"\",内訳明細書入力画面!M261,内訳明細書入力画面!N261))","v":""},null,null,null,{"$f":"IF(内訳明細書入力画面!O261=\"\",\"\",内訳明細書入力画面!O261)","v":""},null,null,{"$f":"IF(AND(内訳明細書入力画面!R261=\"\",内訳明細書入力画面!P261=\"\"),\"\",IF(内訳明細書入力画面!R261=\"\",内訳明細書入力画面!P261,内訳明細書入力画面!R261))","v":""},null,null,null,{"$f":"IF(AND(内訳明細書入力画面!V261=\"\",内訳明細書入力画面!T261=\"\"),\"\",IF(内訳明細書入力画面!V261=\"\",内訳明細書入力画面!T261,内訳明細書入力画面!V261))","v":""},null,null,null,null,null,null,null,null,null,null,null,null,null,null,null,"",null,null,null,"",null,null,null,""]
[null,{"$f":"IF(内訳明細書入力画面!B262=\"\",\"\",内訳明細書入力画面!B262)","v":""},null,null,null,null,null,null,null,null,null,null,null,null,{"$f":"IF(AND(内訳明細書入力画面!N262=\"\",内訳明細書入力画面!M262=\"\"),\"\",IF(内訳明細書入力画面!N262=\"\",内訳明細書入力画面!M262,内訳明細書入力画面!N262))","v":""},null,null,null,{"$f":"IF(内訳明細書入力画面!O262=\"\",\"\",内訳明細書入力画面!O262)","v":""},null,null,{"$f":"IF(AND(内訳明細書入力画面!R262=\"\",内訳明細書入力画面!P262=\"\"),\"\",IF(内訳明細書入力画面!R262=\"\",内訳明細書入力画面!P262,内訳明細書入力画面!R262))","v":""},null,null,null,{"$f":"IF(AND(内訳明細書入力画面!V262=\"\",内訳明細書入力画面!T262=\"\"),\"\",IF(内訳明細書入力画面!V262=\"\",内訳明細書入力画面!T262,内訳明細書入力画面!V262))","v":""},null,null,null,null,null,null,null,null,null,null,null,null,null,null,null,"",null,null,null,"",null,null,null,""]
[null,{"$f":"IF(内訳明細書入力画面!B263=\"\",\"\",内訳明細書入力画面!B263)","v":""},null,null,null,null,null,null,null,null,null,null,null,null,{"$f":"IF(AND(内訳明細書入力画面!N263=\"\",内訳明細書入力画面!M263=\"\"),\"\",IF(内訳明細書入力画面!N263=\"\",内訳明細書入力画面!M263,内訳明細書入力画面!N263))","v":""},null,null,null,{"$f":"IF(内訳明細書入力画面!O263=\"\",\"\",内訳明細書入力画面!O263)","v":""},null,null,{"$f":"IF(AND(内訳明細書入力画面!R263=\"\",内訳明細書入力画面!P263=\"\"),\"\",IF(内訳明細書入力画面!R263=\"\",内訳明細書入力画面!P263,内訳明細書入力画面!R263))","v":""},null,null,null,{"$f":"IF(AND(内訳明細書入力画面!V263=\"\",内訳明細書入力画面!T263=\"\"),\"\",IF(内訳明細書入力画面!V263=\"\",内訳明細書入力画面!T263,内訳明細書入力画面!V263))","v":""},null,null,null,null,null,null,null,null,null,null,null,null,null,null,null,"",null,null,null,"",null,null,null,""]
[null,{"$f":"IF(内訳明細書入力画面!B264=\"\",\"\",内訳明細書入力画面!B264)","v":""},null,null,null,null,null,null,null,null,null,null,null,null,{"$f":"IF(AND(内訳明細書入力画面!N264=\"\",内訳明細書入力画面!M264=\"\"),\"\",IF(内訳明細書入力画面!N264=\"\",内訳明細書入力画面!M264,内訳明細書入力画面!N264))","v":""},null,null,null,{"$f":"IF(内訳明細書入力画面!O264=\"\",\"\",内訳明細書入力画面!O264)","v":""},null,null,{"$f":"IF(AND(内訳明細書入力画面!R264=\"\",内訳明細書入力画面!P264=\"\"),\"\",IF(内訳明細書入力画面!R264=\"\",内訳明細書入力画面!P264,内訳明細書入力画面!R264))","v":""},null,null,null,{"$f":"IF(AND(内訳明細書入力画面!V264=\"\",内訳明細書入力画面!T264=\"\"),\"\",IF(内訳明細書入力画面!V264=\"\",内訳明細書入力画面!T264,内訳明細書入力画面!V264))","v":""},null,null,null,null,null,null,null,null,null,null,null,null,null,null,null,"",null,null,null,"",null,null,null,""]
[null,{"$f":"IF(内訳明細書入力画面!B265=\"\",\"\",内訳明細書入力画面!B265)","v":""},null,null,null,null,null,null,null,null,null,null,null,null,{"$f":"IF(AND(内訳明細書入力画面!N265=\"\",内訳明細書入力画面!M265=\"\"),\"\",IF(内訳明細書入力画面!N265=\"\",内訳明細書入力画面!M265,内訳明細書入力画面!N265))","v":""},null,null,null,{"$f":"IF(内訳明細書入力画面!O265=\"\",\"\",内訳明細書入力画面!O265)","v":""},null,null,{"$f":"IF(AND(内訳明細書入力画面!R265=\"\",内訳明細書入力画面!P265=\"\"),\"\",IF(内訳明細書入力画面!R265=\"\",内訳明細書入力画面!P265,内訳明細書入力画面!R265))","v":""},null,null,null,{"$f":"IF(AND(内訳明細書入力画面!V265=\"\",内訳明細書入力画面!T265=\"\"),\"\",IF(内訳明細書入力画面!V265=\"\",内訳明細書入力画面!T265,内訳明細書入力画面!V265))","v":""},null,null,null,null,null,null,null,null,null,null,null,null,null,null,null,"",null,null,null,"",null,null,null,""]
[{"$f":"((ROW()-11)+15)/15","v":18},{"$f":"IF(内訳明細書入力画面!B266=\"\",\"\",内訳明細書入力画面!B266)","v":""},null,null,null,null,null,null,null,null,null,null,null,null,{"$f":"IF(AND(内訳明細書入力画面!N266=\"\",内訳明細書入力画面!M266=\"\"),\"\",IF(内訳明細書入力画面!N266=\"\",内訳明細書入力画面!M266,内訳明細書入力画面!N266))","v":""},null,null,null,{"$f":"IF(内訳明細書入力画面!O266=\"\",\"\",内訳明細書入力画面!O266)","v":""},null,null,{"$f":"IF(AND(内訳明細書入力画面!R266=\"\",内訳明細書入力画面!P266=\"\"),\"\",IF(内訳明細書入力画面!R266=\"\",内訳明細書入力画面!P266,内訳明細書入力画面!R266))","v":""},null,null,null,{"$f":"IF(AND(内訳明細書入力画面!V266=\"\",内訳明細書入力画面!T266=\"\"),\"\",IF(内訳明細書入力画面!V266=\"\",内訳明細書入力画面!T266,内訳明細書入力画面!V266))","v":""},null,null,null,null,null,null,null,null,null,null,null,null,null,null,null,"",null,null,null,{"$f":"IF(AND(AD266=\"\",AL266=\"\"),\"\",N(AD266)+N(AL266))","v":""},null,null,null,{"$f":"IF(AND(AH266=\"\",AP266=\"\"),\"\",N(AH266)+N(AP266))","v":""}]
[null,{"$f":"IF(内訳明細書入力画面!B267=\"\",\"\",内訳明細書入力画面!B267)","v":""},null,null,null,null,null,null,null,null,null,null,null,null,{"$f":"IF(AND(内訳明細書入力画面!N267=\"\",内訳明細書入力画面!M267=\"\"),\"\",IF(内訳明細書入力画面!N267=\"\",内訳明細書入力画面!M267,内訳明細書入力画面!N267))","v":""},null,null,null,{"$f":"IF(内訳明細書入力画面!O267=\"\",\"\",内訳明細書入力画面!O267)","v":""},null,null,{"$f":"IF(AND(内訳明細書入力画面!R267=\"\",内訳明細書入力画面!P267=\"\"),\"\",IF(内訳明細書入力画面!R267=\"\",内訳明細書入力画面!P267,内訳明細書入力画面!R267))","v":""},null,null,null,{"$f":"IF(AND(内訳明細書入力画面!V267=\"\",内訳明細書入力画面!T267=\"\"),\"\",IF(内訳明細書入力画面!V267=\"\",内訳明細書入力画面!T267,内訳明細書入力画面!V267))","v":""},null,null,null,null,null,null,null,null,null,null,null,null,null,null,null,{"$f":"IF(AL267=\"\",\"\",ROUNDDOWN(N(V267)*N(AL267),0))","v":""},null,null,null,"",null,null,null,""]
[null,{"$f":"IF(内訳明細書入力画面!B268=\"\",\"\",内訳明細書入力画面!B268)","v":""},null,null,null,null,null,null,null,null,null,null,null,null,{"$f":"IF(AND(内訳明細書入力画面!N268=\"\",内訳明細書入力画面!M268=\"\"),\"\",IF(内訳明細書入力画面!N268=\"\",内訳明細書入力画面!M268,内訳明細書入力画面!N268))","v":""},null,null,null,{"$f":"IF(内訳明細書入力画面!O268=\"\",\"\",内訳明細書入力画面!O268)","v":""},null,null,{"$f":"IF(AND(内訳明細書入力画面!R268=\"\",内訳明細書入力画面!P268=\"\"),\"\",IF(内訳明細書入力画面!R268=\"\",内訳明細書入力画面!P268,内訳明細書入力画面!R268))","v":""},null,null,null,{"$f":"IF(AND(内訳明細書入力画面!V268=\"\",内訳明細書入力画面!T268=\"\"),\"\",IF(内訳明細書入力画面!V268=\"\",内訳明細書入力画面!T268,内訳明細書入力画面!V268))","v":""},null,null,null,null,null,null,null,null,null,null,null,null,null,null,null,"",null,null,null,"",null,null,null,""]
[null,{"$f":"IF(内訳明細書入力画面!B269=\"\",\"\",内訳明細書入力画面!B269)","v":""},null,null,null,null,null,null,null,null,null,null,null,null,{"$f":"IF(AND(内訳明細書入力画面!N269=\"\",内訳明細書入力画面!M269=\"\"),\"\",IF(内訳明細書入力画面!N269=\"\",内訳明細書入力画面!M269,内訳明細書入力画面!N269))","v":""},null,null,null,{"$f":"IF(内訳明細書入力画面!O269=\"\",\"\",内訳明細書入力画面!O269)","v":""},null,null,{"$f":"IF(AND(内訳明細書入力画面!R269=\"\",内訳明細書入力画面!P269=\"\"),\"\",IF(内訳明細書入力画面!R269=\"\",内訳明細書入力画面!P269,内訳明細書入力画面!R269))","v":""},null,null,null,{"$f":"IF(AND(内訳明細書入力画面!V269=\"\",内訳明細書入力画面!T269=\"\"),\"\",IF(内訳明細書入力画面!V269=\"\",内訳明細書入力画面!T269,内訳明細書入力画面!V269))","v":""},null,null,null,null,null,null,null,null,null,null,null,null,null,null,null,"",null,null,null,"",null,null,null,""]
[null,{"$f":"IF(内訳明細書入力画面!B270=\"\",\"\",内訳明細書入力画面!B270)","v":""},null,null,null,null,null,null,null,null,null,null,null,null,{"$f":"IF(AND(内訳明細書入力画面!N270=\"\",内訳明細書入力画面!M270=\"\"),\"\",IF(内訳明細書入力画面!N270=\"\",内訳明細書入力画面!M270,内訳明細書入力画面!N270))","v":""},null,null,null,{"$f":"IF(内訳明細書入力画面!O270=\"\",\"\",内訳明細書入力画面!O270)","v":""},null,null,{"$f":"IF(AND(内訳明細書入力画面!R270=\"\",内訳明細書入力画面!P270=\"\"),\"\",IF(内訳明細書入力画面!R270=\"\",内訳明細書入力画面!P270,内訳明細書入力画面!R270))","v":""},null,null,null,{"$f":"IF(AND(内訳明細書入力画面!V270=\"\",内訳明細書入力画面!T270=\"\"),\"\",IF(内訳明細書入力画面!V270=\"\",内訳明細書入力画面!T270,内訳明細書入力画面!V270))","v":""},null,null,null,null,null,null,null,null,null,null,null,null,null,null,null,"",null,null,null,"",null,null,null,""]
[null,{"$f":"IF(内訳明細書入力画面!B271=\"\",\"\",内訳明細書入力画面!B271)","v":""},null,null,null,null,null,null,null,null,null,null,null,null,{"$f":"IF(AND(内訳明細書入力画面!N271=\"\",内訳明細書入力画面!M271=\"\"),\"\",IF(内訳明細書入力画面!N271=\"\",内訳明細書入力画面!M271,内訳明細書入力画面!N271))","v":""},null,null,null,{"$f":"IF(内訳明細書入力画面!O271=\"\",\"\",内訳明細書入力画面!O271)","v":""},null,null,{"$f":"IF(AND(内訳明細書入力画面!R271=\"\",内訳明細書入力画面!P271=\"\"),\"\",IF(内訳明細書入力画面!R271=\"\",内訳明細書入力画面!P271,内訳明細書入力画面!R271))","v":""},null,null,null,{"$f":"IF(AND(内訳明細書入力画面!V271=\"\",内訳明細書入力画面!T271=\"\"),\"\",IF(内訳明細書入力画面!V271=\"\",内訳明細書入力画面!T271,内訳明細書入力画面!V271))","v":""},null,null,null,null,null,null,null,null,null,null,null,null,null,null,null,"",null,null,null,"",null,null,null,""]
[null,{"$f":"IF(内訳明細書入力画面!B272=\"\",\"\",内訳明細書入力画面!B272)","v":""},null,null,null,null,null,null,null,null,null,null,null,null,{"$f":"IF(AND(内訳明細書入力画面!N272=\"\",内訳明細書入力画面!M272=\"\"),\"\",IF(内訳明細書入力画面!N272=\"\",内訳明細書入力画面!M272,内訳明細書入力画面!N272))","v":""},null,null,null,{"$f":"IF(内訳明細書入力画面!O272=\"\",\"\",内訳明細書入力画面!O272)","v":""},null,null,{"$f":"IF(AND(内訳明細書入力画面!R272=\"\",内訳明細書入力画面!P272=\"\"),\"\",IF(内訳明細書入力画面!R272=\"\",内訳明細書入力画面!P272,内訳明細書入力画面!R272))","v":""},null,null,null,{"$f":"IF(AND(内訳明細書入力画面!V272=\"\",内訳明細書入力画面!T272=\"\"),\"\",IF(内訳明細書入力画面!V272=\"\",内訳明細書入力画面!T272,内訳明細書入力画面!V272))","v":""},null,null,null,null,null,null,null,null,null,null,null,null,null,null,null,"",null,null,null,"",null,null,null,""]
[null,{"$f":"IF(内訳明細書入力画面!B273=\"\",\"\",内訳明細書入力画面!B273)","v":""},null,null,null,null,null,null,null,null,null,null,null,null,{"$f":"IF(AND(内訳明細書入力画面!N273=\"\",内訳明細書入力画面!M273=\"\"),\"\",IF(内訳明細書入力画面!N273=\"\",内訳明細書入力画面!M273,内訳明細書入力画面!N273))","v":""},null,null,null,{"$f":"IF(内訳明細書入力画面!O273=\"\",\"\",内訳明細書入力画面!O273)","v":""},null,null,{"$f":"IF(AND(内訳明細書入力画面!R273=\"\",内訳明細書入力画面!P273=\"\"),\"\",IF(内訳明細書入力画面!R273=\"\",内訳明細書入力画面!P273,内訳明細書入力画面!R273))","v":""},null,null,null,{"$f":"IF(AND(内訳明細書入力画面!V273=\"\",内訳明細書入力画面!T273=\"\"),\"\",IF(内訳明細書入力画面!V273=\"\",内訳明細書入力画面!T273,内訳明細書入力画面!V273))","v":""},null,null,null,null,null,null,null,null,null,null,null,null,null,null,null,"",null,null,null,"",null,null,null,""]
[null,{"$f":"IF(内訳明細書入力画面!B274=\"\",\"\",内訳明細書入力画面!B274)","v":""},null,null,null,null,null,null,null,null,null,null,null,null,{"$f":"IF(AND(内訳明細書入力画面!N274=\"\",内訳明細書入力画面!M274=\"\"),\"\",IF(内訳明細書入力画面!N274=\"\",内訳明細書入力画面!M274,内訳明細書入力画面!N274))","v":""},null,null,null,{"$f":"IF(内訳明細書入力画面!O274=\"\",\"\",内訳明細書入力画面!O274)","v":""},null,null,{"$f":"IF(AND(内訳明細書入力画面!R274=\"\",内訳明細書入力画面!P274=\"\"),\"\",IF(内訳明細書入力画面!R274=\"\",内訳明細書入力画面!P274,内訳明細書入力画面!R274))","v":""},null,null,null,{"$f":"IF(AND(内訳明細書入力画面!V274=\"\",内訳明細書入力画面!T274=\"\"),\"\",IF(内訳明細書入力画面!V274=\"\",内訳明細書入力画面!T274,内訳明細書入力画面!V274))","v":""},null,null,null,null,null,null,null,null,null,null,null,null,null,null,null,"",null,null,null,"",null,null,null,""]
[null,{"$f":"IF(内訳明細書入力画面!B275=\"\",\"\",内訳明細書入力画面!B275)","v":""},null,null,null,null,null,null,null,null,null,null,null,null,{"$f":"IF(AND(内訳明細書入力画面!N275=\"\",内訳明細書入力画面!M275=\"\"),\"\",IF(内訳明細書入力画面!N275=\"\",内訳明細書入力画面!M275,内訳明細書入力画面!N275))","v":""},null,null,null,{"$f":"IF(内訳明細書入力画面!O275=\"\",\"\",内訳明細書入力画面!O275)","v":""},null,null,{"$f":"IF(AND(内訳明細書入力画面!R275=\"\",内訳明細書入力画面!P275=\"\"),\"\",IF(内訳明細書入力画面!R275=\"\",内訳明細書入力画面!P275,内訳明細書入力画面!R275))","v":""},null,null,null,{"$f":"IF(AND(内訳明細書入力画面!V275=\"\",内訳明細書入力画面!T275=\"\"),\"\",IF(内訳明細書入力画面!V275=\"\",内訳明細書入力画面!T275,内訳明細書入力画面!V275))","v":""},null,null,null,null,null,null,null,null,null,null,null,null,null,null,null,"",null,null,null,"",null,null,null,""]
[null,{"$f":"IF(内訳明細書入力画面!B276=\"\",\"\",内訳明細書入力画面!B276)","v":""},null,null,null,null,null,null,null,null,null,null,null,null,{"$f":"IF(AND(内訳明細書入力画面!N276=\"\",内訳明細書入力画面!M276=\"\"),\"\",IF(内訳明細書入力画面!N276=\"\",内訳明細書入力画面!M276,内訳明細書入力画面!N276))","v":""},null,null,null,{"$f":"IF(内訳明細書入力画面!O276=\"\",\"\",内訳明細書入力画面!O276)","v":""},null,null,{"$f":"IF(AND(内訳明細書入力画面!R276=\"\",内訳明細書入力画面!P276=\"\"),\"\",IF(内訳明細書入力画面!R276=\"\",内訳明細書入力画面!P276,内訳明細書入力画面!R276))","v":""},null,null,null,{"$f":"IF(AND(内訳明細書入力画面!V276=\"\",内訳明細書入力画面!T276=\"\"),\"\",IF(内訳明細書入力画面!V276=\"\",内訳明細書入力画面!T276,内訳明細書入力画面!V276))","v":""},null,null,null,null,null,null,null,null,null,null,null,null,null,null,null,"",null,null,null,"",null,null,null,""]
[null,{"$f":"IF(内訳明細書入力画面!B277=\"\",\"\",内訳明細書入力画面!B277)","v":""},null,null,null,null,null,null,null,null,null,null,null,null,{"$f":"IF(AND(内訳明細書入力画面!N277=\"\",内訳明細書入力画面!M277=\"\"),\"\",IF(内訳明細書入力画面!N277=\"\",内訳明細書入力画面!M277,内訳明細書入力画面!N277))","v":""},null,null,null,{"$f":"IF(内訳明細書入力画面!O277=\"\",\"\",内訳明細書入力画面!O277)","v":""},null,null,{"$f":"IF(AND(内訳明細書入力画面!R277=\"\",内訳明細書入力画面!P277=\"\"),\"\",IF(内訳明細書入力画面!R277=\"\",内訳明細書入力画面!P277,内訳明細書入力画面!R277))","v":""},null,null,null,{"$f":"IF(AND(内訳明細書入力画面!V277=\"\",内訳明細書入力画面!T277=\"\"),\"\",IF(内訳明細書入力画面!V277=\"\",内訳明細書入力画面!T277,内訳明細書入力画面!V277))","v":""},null,null,null,null,null,null,null,null,null,null,null,null,null,null,null,"",null,null,null,"",null,null,null,""]
[null,{"$f":"IF(内訳明細書入力画面!B278=\"\",\"\",内訳明細書入力画面!B278)","v":""},null,null,null,null,null,null,null,null,null,null,null,null,{"$f":"IF(AND(内訳明細書入力画面!N278=\"\",内訳明細書入力画面!M278=\"\"),\"\",IF(内訳明細書入力画面!N278=\"\",内訳明細書入力画面!M278,内訳明細書入力画面!N278))","v":""},null,null,null,{"$f":"IF(内訳明細書入力画面!O278=\"\",\"\",内訳明細書入力画面!O278)","v":""},null,null,{"$f":"IF(AND(内訳明細書入力画面!R278=\"\",内訳明細書入力画面!P278=\"\"),\"\",IF(内訳明細書入力画面!R278=\"\",内訳明細書入力画面!P278,内訳明細書入力画面!R278))","v":""},null,null,null,{"$f":"IF(AND(内訳明細書入力画面!V278=\"\",内訳明細書入力画面!T278=\"\"),\"\",IF(内訳明細書入力画面!V278=\"\",内訳明細書入力画面!T278,内訳明細書入力画面!V278))","v":""},null,null,null,null,null,null,null,null,null,null,null,null,null,null,null,"",null,null,null,"",null,null,null,""]
[null,{"$f":"IF(内訳明細書入力画面!B279=\"\",\"\",内訳明細書入力画面!B279)","v":""},null,null,null,null,null,null,null,null,null,null,null,null,{"$f":"IF(AND(内訳明細書入力画面!N279=\"\",内訳明細書入力画面!M279=\"\"),\"\",IF(内訳明細書入力画面!N279=\"\",内訳明細書入力画面!M279,内訳明細書入力画面!N279))","v":""},null,null,null,{"$f":"IF(内訳明細書入力画面!O279=\"\",\"\",内訳明細書入力画面!O279)","v":""},null,null,{"$f":"IF(AND(内訳明細書入力画面!R279=\"\",内訳明細書入力画面!P279=\"\"),\"\",IF(内訳明細書入力画面!R279=\"\",内訳明細書入力画面!P279,内訳明細書入力画面!R279))","v":""},null,null,null,{"$f":"IF(AND(内訳明細書入力画面!V279=\"\",内訳明細書入力画面!T279=\"\"),\"\",IF(内訳明細書入力画面!V279=\"\",内訳明細書入力画面!T279,内訳明細書入力画面!V279))","v":""},null,null,null,null,null,null,null,null,null,null,null,null,null,null,null,"",null,null,null,"",null,null,null,""]
[null,{"$f":"IF(内訳明細書入力画面!B280=\"\",\"\",内訳明細書入力画面!B280)","v":""},null,null,null,null,null,null,null,null,null,null,null,null,{"$f":"IF(AND(内訳明細書入力画面!N280=\"\",内訳明細書入力画面!M280=\"\"),\"\",IF(内訳明細書入力画面!N280=\"\",内訳明細書入力画面!M280,内訳明細書入力画面!N280))","v":""},null,null,null,{"$f":"IF(内訳明細書入力画面!O280=\"\",\"\",内訳明細書入力画面!O280)","v":""},null,null,{"$f":"IF(AND(内訳明細書入力画面!R280=\"\",内訳明細書入力画面!P280=\"\"),\"\",IF(内訳明細書入力画面!R280=\"\",内訳明細書入力画面!P280,内訳明細書入力画面!R280))","v":""},null,null,null,{"$f":"IF(AND(内訳明細書入力画面!V280=\"\",内訳明細書入力画面!T280=\"\"),\"\",IF(内訳明細書入力画面!V280=\"\",内訳明細書入力画面!T280,内訳明細書入力画面!V280))","v":""},null,null,null,null,null,null,null,null,null,null,null,null,null,null,null,"",null,null,null,"",null,null,null,""]
[{"$f":"((ROW()-11)+15)/15","v":19},{"$f":"IF(内訳明細書入力画面!B281=\"\",\"\",内訳明細書入力画面!B281)","v":""},null,null,null,null,null,null,null,null,null,null,null,null,{"$f":"IF(AND(内訳明細書入力画面!N281=\"\",内訳明細書入力画面!M281=\"\"),\"\",IF(内訳明細書入力画面!N281=\"\",内訳明細書入力画面!M281,内訳明細書入力画面!N281))","v":""},null,null,null,{"$f":"IF(内訳明細書入力画面!O281=\"\",\"\",内訳明細書入力画面!O281)","v":""},null,null,{"$f":"IF(AND(内訳明細書入力画面!R281=\"\",内訳明細書入力画面!P281=\"\"),\"\",IF(内訳明細書入力画面!R281=\"\",内訳明細書入力画面!P281,内訳明細書入力画面!R281))","v":""},null,null,null,{"$f":"IF(AND(内訳明細書入力画面!V281=\"\",内訳明細書入力画面!T281=\"\"),\"\",IF(内訳明細書入力画面!V281=\"\",内訳明細書入力画面!T281,内訳明細書入力画面!V281))","v":""},null,null,null,null,null,null,null,null,null,null,null,null,null,null,null,"",null,null,null,"",null,null,null,""]
[null,{"$f":"IF(内訳明細書入力画面!B282=\"\",\"\",内訳明細書入力画面!B282)","v":""},null,null,null,null,null,null,null,null,null,null,null,null,{"$f":"IF(AND(内訳明細書入力画面!N282=\"\",内訳明細書入力画面!M282=\"\"),\"\",IF(内訳明細書入力画面!N282=\"\",内訳明細書入力画面!M282,内訳明細書入力画面!N282))","v":""},null,null,null,{"$f":"IF(内訳明細書入力画面!O282=\"\",\"\",内訳明細書入力画面!O282)","v":""},null,null,{"$f":"IF(AND(内訳明細書入力画面!R282=\"\",内訳明細書入力画面!P282=\"\"),\"\",IF(内訳明細書入力画面!R282=\"\",内訳明細書入力画面!P282,内訳明細書入力画面!R282))","v":""},null,null,null,{"$f":"IF(AND(内訳明細書入力画面!V282=\"\",内訳明細書入力画面!T282=\"\"),\"\",IF(内訳明細書入力画面!V282=\"\",内訳明細書入力画面!T282,内訳明細書入力画面!V282))","v":""},null,null,null,null,null,null,null,null,null,null,null,null,null,null,null,"",null,null,null,"",null,null,null,""]
[null,{"$f":"IF(内訳明細書入力画面!B283=\"\",\"\",内訳明細書入力画面!B283)","v":""},null,null,null,null,null,null,null,null,null,null,null,null,{"$f":"IF(AND(内訳明細書入力画面!N283=\"\",内訳明細書入力画面!M283=\"\"),\"\",IF(内訳明細書入力画面!N283=\"\",内訳明細書入力画面!M283,内訳明細書入力画面!N283))","v":""},null,null,null,{"$f":"IF(内訳明細書入力画面!O283=\"\",\"\",内訳明細書入力画面!O283)","v":""},null,null,{"$f":"IF(AND(内訳明細書入力画面!R283=\"\",内訳明細書入力画面!P283=\"\"),\"\",IF(内訳明細書入力画面!R283=\"\",内訳明細書入力画面!P283,内訳明細書入力画面!R283))","v":""},null,null,null,{"$f":"IF(AND(内訳明細書入力画面!V283=\"\",内訳明細書入力画面!T283=\"\"),\"\",IF(内訳明細書入力画面!V283=\"\",内訳明細書入力画面!T283,内訳明細書入力画面!V283))","v":""},null,null,null,null,null,null,null,null,null,null,null,null,null,null,null,"",null,null,null,"",null,null,null,""]
[null,{"$f":"IF(内訳明細書入力画面!B284=\"\",\"\",内訳明細書入力画面!B284)","v":""},null,null,null,null,null,null,null,null,null,null,null,null,{"$f":"IF(AND(内訳明細書入力画面!N284=\"\",内訳明細書入力画面!M284=\"\"),\"\",IF(内訳明細書入力画面!N284=\"\",内訳明細書入力画面!M284,内訳明細書入力画面!N284))","v":""},null,null,null,{"$f":"IF(内訳明細書入力画面!O284=\"\",\"\",内訳明細書入力画面!O284)","v":""},null,null,{"$f":"IF(AND(内訳明細書入力画面!R284=\"\",内訳明細書入力画面!P284=\"\"),\"\",IF(内訳明細書入力画面!R284=\"\",内訳明細書入力画面!P284,内訳明細書入力画面!R284))","v":""},null,null,null,{"$f":"IF(AND(内訳明細書入力画面!V284=\"\",内訳明細書入力画面!T284=\"\"),\"\",IF(内訳明細書入力画面!V284=\"\",内訳明細書入力画面!T284,内訳明細書入力画面!V284))","v":""},null,null,null,null,null,null,null,null,null,null,null,null,null,null,null,"",null,null,null,"",null,null,null,""]
[null,{"$f":"IF(内訳明細書入力画面!B285=\"\",\"\",内訳明細書入力画面!B285)","v":""},null,null,null,null,null,null,null,null,null,null,null,null,{"$f":"IF(AND(内訳明細書入力画面!N285=\"\",内訳明細書入力画面!M285=\"\"),\"\",IF(内訳明細書入力画面!N285=\"\",内訳明細書入力画面!M285,内訳明細書入力画面!N285))","v":""},null,null,null,{"$f":"IF(内訳明細書入力画面!O285=\"\",\"\",内訳明細書入力画面!O285)","v":""},null,null,{"$f":"IF(AND(内訳明細書入力画面!R285=\"\",内訳明細書入力画面!P285=\"\"),\"\",IF(内訳明細書入力画面!R285=\"\",内訳明細書入力画面!P285,内訳明細書入力画面!R285))","v":""},null,null,null,{"$f":"IF(AND(内訳明細書入力画面!V285=\"\",内訳明細書入力画面!T285=\"\"),\"\",IF(内訳明細書入力画面!V285=\"\",内訳明細書入力画面!T285,内訳明細書入力画面!V285))","v":""},null,null,null,null,null,null,null,null,null,null,null,null,null,null,null,"",null,null,null,"",null,null,null,""]
[null,{"$f":"IF(内訳明細書入力画面!B286=\"\",\"\",内訳明細書入力画面!B286)","v":""},null,null,null,null,null,null,null,null,null,null,null,null,{"$f":"IF(AND(内訳明細書入力画面!N286=\"\",内訳明細書入力画面!M286=\"\"),\"\",IF(内訳明細書入力画面!N286=\"\",内訳明細書入力画面!M286,内訳明細書入力画面!N286))","v":""},null,null,null,{"$f":"IF(内訳明細書入力画面!O286=\"\",\"\",内訳明細書入力画面!O286)","v":""},null,null,{"$f":"IF(AND(内訳明細書入力画面!R286=\"\",内訳明細書入力画面!P286=\"\"),\"\",IF(内訳明細書入力画面!R286=\"\",内訳明細書入力画面!P286,内訳明細書入力画面!R286))","v":""},null,null,null,{"$f":"IF(AND(内訳明細書入力画面!V286=\"\",内訳明細書入力画面!T286=\"\"),\"\",IF(内訳明細書入力画面!V286=\"\",内訳明細書入力画面!T286,内訳明細書入力画面!V286))","v":""},null,null,null,null,null,null,null,null,null,null,null,null,null,null,null,"",null,null,null,"",null,null,null,""]
[null,{"$f":"IF(内訳明細書入力画面!B287=\"\",\"\",内訳明細書入力画面!B287)","v":""},null,null,null,null,null,null,null,null,null,null,null,null,{"$f":"IF(AND(内訳明細書入力画面!N287=\"\",内訳明細書入力画面!M287=\"\"),\"\",IF(内訳明細書入力画面!N287=\"\",内訳明細書入力画面!M287,内訳明細書入力画面!N287))","v":""},null,null,null,{"$f":"IF(内訳明細書入力画面!O287=\"\",\"\",内訳明細書入力画面!O287)","v":""},null,null,{"$f":"IF(AND(内訳明細書入力画面!R287=\"\",内訳明細書入力画面!P287=\"\"),\"\",IF(内訳明細書入力画面!R287=\"\",内訳明細書入力画面!P287,内訳明細書入力画面!R287))","v":""},null,null,null,{"$f":"IF(AND(内訳明細書入力画面!V287=\"\",内訳明細書入力画面!T287=\"\"),\"\",IF(内訳明細書入力画面!V287=\"\",内訳明細書入力画面!T287,内訳明細書入力画面!V287))","v":""},null,null,null,null,null,null,null,null,null,null,null,null,null,null,null,"",null,null,null,"",null,null,null,""]
[null,{"$f":"IF(内訳明細書入力画面!B288=\"\",\"\",内訳明細書入力画面!B288)","v":""},null,null,null,null,null,null,null,null,null,null,null,null,{"$f":"IF(AND(内訳明細書入力画面!N288=\"\",内訳明細書入力画面!M288=\"\"),\"\",IF(内訳明細書入力画面!N288=\"\",内訳明細書入力画面!M288,内訳明細書入力画面!N288))","v":""},null,null,null,{"$f":"IF(内訳明細書入力画面!O288=\"\",\"\",内訳明細書入力画面!O288)","v":""},null,null,{"$f":"IF(AND(内訳明細書入力画面!R288=\"\",内訳明細書入力画面!P288=\"\"),\"\",IF(内訳明細書入力画面!R288=\"\",内訳明細書入力画面!P288,内訳明細書入力画面!R288))","v":""},null,null,null,{"$f":"IF(AND(内訳明細書入力画面!V288=\"\",内訳明細書入力画面!T288=\"\"),\"\",IF(内訳明細書入力画面!V288=\"\",内訳明細書入力画面!T288,内訳明細書入力画面!V288))","v":""},null,null,null,null,null,null,null,null,null,null,null,null,null,null,null,"",null,null,null,"",null,null,null,""]
[null,{"$f":"IF(内訳明細書入力画面!B289=\"\",\"\",内訳明細書入力画面!B289)","v":""},null,null,null,null,null,null,null,null,null,null,null,null,{"$f":"IF(AND(内訳明細書入力画面!N289=\"\",内訳明細書入力画面!M289=\"\"),\"\",IF(内訳明細書入力画面!N289=\"\",内訳明細書入力画面!M289,内訳明細書入力画面!N289))","v":""},null,null,null,{"$f":"IF(内訳明細書入力画面!O289=\"\",\"\",内訳明細書入力画面!O289)","v":""},null,null,{"$f":"IF(AND(内訳明細書入力画面!R289=\"\",内訳明細書入力画面!P289=\"\"),\"\",IF(内訳明細書入力画面!R289=\"\",内訳明細書入力画面!P289,内訳明細書入力画面!R289))","v":""},null,null,null,{"$f":"IF(AND(内訳明細書入力画面!V289=\"\",内訳明細書入力画面!T289=\"\"),\"\",IF(内訳明細書入力画面!V289=\"\",内訳明細書入力画面!T289,内訳明細書入力画面!V289))","v":""},null,null,null,null,null,null,null,null,null,null,null,null,null,null,null,"",null,null,null,"",null,null,null,""]
[null,{"$f":"IF(内訳明細書入力画面!B290=\"\",\"\",内訳明細書入力画面!B290)","v":""},null,null,null,null,null,null,null,null,null,null,null,null,{"$f":"IF(AND(内訳明細書入力画面!N290=\"\",内訳明細書入力画面!M290=\"\"),\"\",IF(内訳明細書入力画面!N290=\"\",内訳明細書入力画面!M290,内訳明細書入力画面!N290))","v":""},null,null,null,{"$f":"IF(内訳明細書入力画面!O290=\"\",\"\",内訳明細書入力画面!O290)","v":""},null,null,{"$f":"IF(AND(内訳明細書入力画面!R290=\"\",内訳明細書入力画面!P290=\"\"),\"\",IF(内訳明細書入力画面!R290=\"\",内訳明細書入力画面!P290,内訳明細書入力画面!R290))","v":""},null,null,null,{"$f":"IF(AND(内訳明細書入力画面!V290=\"\",内訳明細書入力画面!T290=\"\"),\"\",IF(内訳明細書入力画面!V290=\"\",内訳明細書入力画面!T290,内訳明細書入力画面!V290))","v":""},null,null,null,null,null,null,null,null,null,null,null,null,null,null,null,"",null,null,null,"",null,null,null,""]
[null,{"$f":"IF(内訳明細書入力画面!B291=\"\",\"\",内訳明細書入力画面!B291)","v":""},null,null,null,null,null,null,null,null,null,null,null,null,{"$f":"IF(AND(内訳明細書入力画面!N291=\"\",内訳明細書入力画面!M291=\"\"),\"\",IF(内訳明細書入力画面!N291=\"\",内訳明細書入力画面!M291,内訳明細書入力画面!N291))","v":""},null,null,null,{"$f":"IF(内訳明細書入力画面!O291=\"\",\"\",内訳明細書入力画面!O291)","v":""},null,null,{"$f":"IF(AND(内訳明細書入力画面!R291=\"\",内訳明細書入力画面!P291=\"\"),\"\",IF(内訳明細書入力画面!R291=\"\",内訳明細書入力画面!P291,内訳明細書入力画面!R291))","v":""},null,null,null,{"$f":"IF(AND(内訳明細書入力画面!V291=\"\",内訳明細書入力画面!T291=\"\"),\"\",IF(内訳明細書入力画面!V291=\"\",内訳明細書入力画面!T291,内訳明細書入力画面!V291))","v":""},null,null,null,null,null,null,null,null,null,null,null,null,null,null,null,"",null,null,null,"",null,null,null,""]
[null,{"$f":"IF(内訳明細書入力画面!B292=\"\",\"\",内訳明細書入力画面!B292)","v":""},null,null,null,null,null,null,null,null,null,null,null,null,{"$f":"IF(AND(内訳明細書入力画面!N292=\"\",内訳明細書入力画面!M292=\"\"),\"\",IF(内訳明細書入力画面!N292=\"\",内訳明細書入力画面!M292,内訳明細書入力画面!N292))","v":""},null,null,null,{"$f":"IF(内訳明細書入力画面!O292=\"\",\"\",内訳明細書入力画面!O292)","v":""},null,null,{"$f":"IF(AND(内訳明細書入力画面!R292=\"\",内訳明細書入力画面!P292=\"\"),\"\",IF(内訳明細書入力画面!R292=\"\",内訳明細書入力画面!P292,内訳明細書入力画面!R292))","v":""},null,null,null,{"$f":"IF(AND(内訳明細書入力画面!V292=\"\",内訳明細書入力画面!T292=\"\"),\"\",IF(内訳明細書入力画面!V292=\"\",内訳明細書入力画面!T292,内訳明細書入力画面!V292))","v":""},null,null,null,null,null,null,null,null,null,null,null,null,null,null,null,"",null,null,null,"",null,null,null,""]
[null,{"$f":"IF(内訳明細書入力画面!B293=\"\",\"\",内訳明細書入力画面!B293)","v":""},null,null,null,null,null,null,null,null,null,null,null,null,{"$f":"IF(AND(内訳明細書入力画面!N293=\"\",内訳明細書入力画面!M293=\"\"),\"\",IF(内訳明細書入力画面!N293=\"\",内訳明細書入力画面!M293,内訳明細書入力画面!N293))","v":""},null,null,null,{"$f":"IF(内訳明細書入力画面!O293=\"\",\"\",内訳明細書入力画面!O293)","v":""},null,null,{"$f":"IF(AND(内訳明細書入力画面!R293=\"\",内訳明細書入力画面!P293=\"\"),\"\",IF(内訳明細書入力画面!R293=\"\",内訳明細書入力画面!P293,内訳明細書入力画面!R293))","v":""},null,null,null,{"$f":"IF(AND(内訳明細書入力画面!V293=\"\",内訳明細書入力画面!T293=\"\"),\"\",IF(内訳明細書入力画面!V293=\"\",内訳明細書入力画面!T293,内訳明細書入力画面!V293))","v":""},null,null,null,null,null,null,null,null,null,null,null,null,null,null,null,"",null,null,null,"",null,null,null,""]
[null,{"$f":"IF(内訳明細書入力画面!B294=\"\",\"\",内訳明細書入力画面!B294)","v":""},null,null,null,null,null,null,null,null,null,null,null,null,{"$f":"IF(AND(内訳明細書入力画面!N294=\"\",内訳明細書入力画面!M294=\"\"),\"\",IF(内訳明細書入力画面!N294=\"\",内訳明細書入力画面!M294,内訳明細書入力画面!N294))","v":""},null,null,null,{"$f":"IF(内訳明細書入力画面!O294=\"\",\"\",内訳明細書入力画面!O294)","v":""},null,null,{"$f":"IF(AND(内訳明細書入力画面!R294=\"\",内訳明細書入力画面!P294=\"\"),\"\",IF(内訳明細書入力画面!R294=\"\",内訳明細書入力画面!P294,内訳明細書入力画面!R294))","v":""},null,null,null,{"$f":"IF(AND(内訳明細書入力画面!V294=\"\",内訳明細書入力画面!T294=\"\"),\"\",IF(内訳明細書入力画面!V294=\"\",内訳明細書入力画面!T294,内訳明細書入力画面!V294))","v":""},null,null,null,null,null,null,null,null,null,null,null,null,null,null,null,"",null,null,null,"",null,null,null,""]
[null,{"$f":"IF(内訳明細書入力画面!B295=\"\",\"\",内訳明細書入力画面!B295)","v":""},null,null,null,null,null,null,null,null,null,null,null,null,{"$f":"IF(AND(内訳明細書入力画面!N295=\"\",内訳明細書入力画面!M295=\"\"),\"\",IF(内訳明細書入力画面!N295=\"\",内訳明細書入力画面!M295,内訳明細書入力画面!N295))","v":""},null,null,null,{"$f":"IF(内訳明細書入力画面!O295=\"\",\"\",内訳明細書入力画面!O295)","v":""},null,null,{"$f":"IF(AND(内訳明細書入力画面!R295=\"\",内訳明細書入力画面!P295=\"\"),\"\",IF(内訳明細書入力画面!R295=\"\",内訳明細書入力画面!P295,内訳明細書入力画面!R295))","v":""},null,null,null,{"$f":"IF(AND(内訳明細書入力画面!V295=\"\",内訳明細書入力画面!T295=\"\"),\"\",IF(内訳明細書入力画面!V295=\"\",内訳明細書入力画面!T295,内訳明細書入力画面!V295))","v":""},null,null,null,null,null,null,null,null,null,null,null,null,null,null,null,"",null,null,null,"",null,null,null,""]
[{"$f":"((ROW()-11)+15)/15","v":20},{"$f":"IF(内訳明細書入力画面!B296=\"\",\"\",内訳明細書入力画面!B296)","v":""},null,null,null,null,null,null,null,null,null,null,null,null,{"$f":"IF(AND(内訳明細書入力画面!N296=\"\",内訳明細書入力画面!M296=\"\"),\"\",IF(内訳明細書入力画面!N296=\"\",内訳明細書入力画面!M296,内訳明細書入力画面!N296))","v":""},null,null,null,{"$f":"IF(内訳明細書入力画面!O296=\"\",\"\",内訳明細書入力画面!O296)","v":""},null,null,{"$f":"IF(AND(内訳明細書入力画面!R296=\"\",内訳明細書入力画面!P296=\"\"),\"\",IF(内訳明細書入力画面!R296=\"\",内訳明細書入力画面!P296,内訳明細書入力画面!R296))","v":""},null,null,null,{"$f":"IF(AND(内訳明細書入力画面!V296=\"\",内訳明細書入力画面!T296=\"\"),\"\",IF(内訳明細書入力画面!V296=\"\",内訳明細書入力画面!T296,内訳明細書入力画面!V296))","v":""},null,null,null,null,null,null,null,null,null,null,null,null,null,null,null,"",null,null,null,"",null,null,null,""]
[null,{"$f":"IF(内訳明細書入力画面!B297=\"\",\"\",内訳明細書入力画面!B297)","v":""},null,null,null,null,null,null,null,null,null,null,null,null,{"$f":"IF(AND(内訳明細書入力画面!N297=\"\",内訳明細書入力画面!M297=\"\"),\"\",IF(内訳明細書入力画面!N297=\"\",内訳明細書入力画面!M297,内訳明細書入力画面!N297))","v":""},null,null,null,{"$f":"IF(内訳明細書入力画面!O297=\"\",\"\",内訳明細書入力画面!O297)","v":""},null,null,{"$f":"IF(AND(内訳明細書入力画面!R297=\"\",内訳明細書入力画面!P297=\"\"),\"\",IF(内訳明細書入力画面!R297=\"\",内訳明細書入力画面!P297,内訳明細書入力画面!R297))","v":""},null,null,null,{"$f":"IF(AND(内訳明細書入力画面!V297=\"\",内訳明細書入力画面!T297=\"\"),\"\",IF(内訳明細書入力画面!V297=\"\",内訳明細書入力画面!T297,内訳明細書入力画面!V297))","v":""},null,null,null,null,null,null,null,null,null,null,null,null,null,null,null,"",null,null,null,"",null,null,null,""]
[null,{"$f":"IF(内訳明細書入力画面!B298=\"\",\"\",内訳明細書入力画面!B298)","v":""},null,null,null,null,null,null,null,null,null,null,null,null,{"$f":"IF(AND(内訳明細書入力画面!N298=\"\",内訳明細書入力画面!M298=\"\"),\"\",IF(内訳明細書入力画面!N298=\"\",内訳明細書入力画面!M298,内訳明細書入力画面!N298))","v":""},null,null,null,{"$f":"IF(内訳明細書入力画面!O298=\"\",\"\",内訳明細書入力画面!O298)","v":""},null,null,{"$f":"IF(AND(内訳明細書入力画面!R298=\"\",内訳明細書入力画面!P298=\"\"),\"\",IF(内訳明細書入力画面!R298=\"\",内訳明細書入力画面!P298,内訳明細書入力画面!R298))","v":""},null,null,null,{"$f":"IF(AND(内訳明細書入力画面!V298=\"\",内訳明細書入力画面!T298=\"\"),\"\",IF(内訳明細書入力画面!V298=\"\",内訳明細書入力画面!T298,内訳明細書入力画面!V298))","v":""},null,null,null,null,null,null,null,null,null,null,null,null,null,null,null,"",null,null,null,"",null,null,null,""]
[null,{"$f":"IF(内訳明細書入力画面!B299=\"\",\"\",内訳明細書入力画面!B299)","v":""},null,null,null,null,null,null,null,null,null,null,null,null,{"$f":"IF(AND(内訳明細書入力画面!N299=\"\",内訳明細書入力画面!M299=\"\"),\"\",IF(内訳明細書入力画面!N299=\"\",内訳明細書入力画面!M299,内訳明細書入力画面!N299))","v":""},null,null,null,{"$f":"IF(内訳明細書入力画面!O299=\"\",\"\",内訳明細書入力画面!O299)","v":""},null,null,{"$f":"IF(AND(内訳明細書入力画面!R299=\"\",内訳明細書入力画面!P299=\"\"),\"\",IF(内訳明細書入力画面!R299=\"\",内訳明細書入力画面!P299,内訳明細書入力画面!R299))","v":""},null,null,null,{"$f":"IF(AND(内訳明細書入力画面!V299=\"\",内訳明細書入力画面!T299=\"\"),\"\",IF(内訳明細書入力画面!V299=\"\",内訳明細書入力画面!T299,内訳明細書入力画面!V299))","v":""},null,null,null,null,null,null,null,null,null,null,null,null,null,null,null,"",null,null,null,"",null,null,null,""]
[null,{"$f":"IF(内訳明細書入力画面!B300=\"\",\"\",内訳明細書入力画面!B300)","v":""},null,null,null,null,null,null,null,null,null,null,null,null,{"$f":"IF(AND(内訳明細書入力画面!N300=\"\",内訳明細書入力画面!M300=\"\"),\"\",IF(内訳明細書入力画面!N300=\"\",内訳明細書入力画面!M300,内訳明細書入力画面!N300))","v":""},null,null,null,{"$f":"IF(内訳明細書入力画面!O300=\"\",\"\",内訳明細書入力画面!O300)","v":""},null,null,{"$f":"IF(AND(内訳明細書入力画面!R300=\"\",内訳明細書入力画面!P300=\"\"),\"\",IF(内訳明細書入力画面!R300=\"\",内訳明細書入力画面!P300,内訳明細書入力画面!R300))","v":""},null,null,null,{"$f":"IF(AND(内訳明細書入力画面!V300=\"\",内訳明細書入力画面!T300=\"\"),\"\",IF(内訳明細書入力画面!V300=\"\",内訳明細書入力画面!T300,内訳明細書入力画面!V300))","v":""},null,null,null,null,null,null,null,null,null,null,null,null,null,null,null,"",null,null,null,"",null,null,null,""]
[null,{"$f":"IF(内訳明細書入力画面!B301=\"\",\"\",内訳明細書入力画面!B301)","v":""},null,null,null,null,null,null,null,null,null,null,null,null,{"$f":"IF(AND(内訳明細書入力画面!N301=\"\",内訳明細書入力画面!M301=\"\"),\"\",IF(内訳明細書入力画面!N301=\"\",内訳明細書入力画面!M301,内訳明細書入力画面!N301))","v":""},null,null,null,{"$f":"IF(内訳明細書入力画面!O301=\"\",\"\",内訳明細書入力画面!O301)","v":""},null,null,{"$f":"IF(AND(内訳明細書入力画面!R301=\"\",内訳明細書入力画面!P301=\"\"),\"\",IF(内訳明細書入力画面!R301=\"\",内訳明細書入力画面!P301,内訳明細書入力画面!R301))","v":""},null,null,null,{"$f":"IF(AND(内訳明細書入力画面!V301=\"\",内訳明細書入力画面!T301=\"\"),\"\",IF(内訳明細書入力画面!V301=\"\",内訳明細書入力画面!T301,内訳明細書入力画面!V301))","v":""},null,null,null,null,null,null,null,null,null,null,null,null,null,null,null,"",null,null,null,"",null,null,null,""]
[null,{"$f":"IF(内訳明細書入力画面!B302=\"\",\"\",内訳明細書入力画面!B302)","v":""},null,null,null,null,null,null,null,null,null,null,null,null,{"$f":"IF(AND(内訳明細書入力画面!N302=\"\",内訳明細書入力画面!M302=\"\"),\"\",IF(内訳明細書入力画面!N302=\"\",内訳明細書入力画面!M302,内訳明細書入力画面!N302))","v":""},null,null,null,{"$f":"IF(内訳明細書入力画面!O302=\"\",\"\",内訳明細書入力画面!O302)","v":""},null,null,{"$f":"IF(AND(内訳明細書入力画面!R302=\"\",内訳明細書入力画面!P302=\"\"),\"\",IF(内訳明細書入力画面!R302=\"\",内訳明細書入力画面!P302,内訳明細書入力画面!R302))","v":""},null,null,null,{"$f":"IF(AND(内訳明細書入力画面!V302=\"\",内訳明細書入力画面!T302=\"\"),\"\",IF(内訳明細書入力画面!V302=\"\",内訳明細書入力画面!T302,内訳明細書入力画面!V302))","v":""},null,null,null,null,null,null,null,null,null,null,null,null,null,null,null,"",null,null,null,"",null,null,null,""]
[null,{"$f":"IF(内訳明細書入力画面!B303=\"\",\"\",内訳明細書入力画面!B303)","v":""},null,null,null,null,null,null,null,null,null,null,null,null,{"$f":"IF(AND(内訳明細書入力画面!N303=\"\",内訳明細書入力画面!M303=\"\"),\"\",IF(内訳明細書入力画面!N303=\"\",内訳明細書入力画面!M303,内訳明細書入力画面!N303))","v":""},null,null,null,{"$f":"IF(内訳明細書入力画面!O303=\"\",\"\",内訳明細書入力画面!O303)","v":""},null,null,{"$f":"IF(AND(内訳明細書入力画面!R303=\"\",内訳明細書入力画面!P303=\"\"),\"\",IF(内訳明細書入力画面!R303=\"\",内訳明細書入力画面!P303,内訳明細書入力画面!R303))","v":""},null,null,null,{"$f":"IF(AND(内訳明細書入力画面!V303=\"\",内訳明細書入力画面!T303=\"\"),\"\",IF(内訳明細書入力画面!V303=\"\",内訳明細書入力画面!T303,内訳明細書入力画面!V303))","v":""},null,null,null,null,null,null,null,null,null,null,null,null,null,null,null,"",null,null,null,"",null,null,null,""]
[null,{"$f":"IF(内訳明細書入力画面!B304=\"\",\"\",内訳明細書入力画面!B304)","v":""},null,null,null,null,null,null,null,null,null,null,null,null,{"$f":"IF(AND(内訳明細書入力画面!N304=\"\",内訳明細書入力画面!M304=\"\"),\"\",IF(内訳明細書入力画面!N304=\"\",内訳明細書入力画面!M304,内訳明細書入力画面!N304))","v":""},null,null,null,{"$f":"IF(内訳明細書入力画面!O304=\"\",\"\",内訳明細書入力画面!O304)","v":""},null,null,{"$f":"IF(AND(内訳明細書入力画面!R304=\"\",内訳明細書入力画面!P304=\"\"),\"\",IF(内訳明細書入力画面!R304=\"\",内訳明細書入力画面!P304,内訳明細書入力画面!R304))","v":""},null,null,null,{"$f":"IF(AND(内訳明細書入力画面!V304=\"\",内訳明細書入力画面!T304=\"\"),\"\",IF(内訳明細書入力画面!V304=\"\",内訳明細書入力画面!T304,内訳明細書入力画面!V304))","v":""},null,null,null,null,null,null,null,null,null,null,null,null,null,null,null,"",null,null,null,"",null,null,null,""]
[null,{"$f":"IF(内訳明細書入力画面!B305=\"\",\"\",内訳明細書入力画面!B305)","v":""},null,null,null,null,null,null,null,null,null,null,null,null,{"$f":"IF(AND(内訳明細書入力画面!N305=\"\",内訳明細書入力画面!M305=\"\"),\"\",IF(内訳明細書入力画面!N305=\"\",内訳明細書入力画面!M305,内訳明細書入力画面!N305))","v":""},null,null,null,{"$f":"IF(内訳明細書入力画面!O305=\"\",\"\",内訳明細書入力画面!O305)","v":""},null,null,{"$f":"IF(AND(内訳明細書入力画面!R305=\"\",内訳明細書入力画面!P305=\"\"),\"\",IF(内訳明細書入力画面!R305=\"\",内訳明細書入力画面!P305,内訳明細書入力画面!R305))","v":""},null,null,null,{"$f":"IF(AND(内訳明細書入力画面!V305=\"\",内訳明細書入力画面!T305=\"\"),\"\",IF(内訳明細書入力画面!V305=\"\",内訳明細書入力画面!T305,内訳明細書入力画面!V305))","v":""},null,null,null,null,null,null,null,null,null,null,null,null,null,null,null,"",null,null,null,"",null,null,null,""]
[null,{"$f":"IF(内訳明細書入力画面!B306=\"\",\"\",内訳明細書入力画面!B306)","v":""},null,null,null,null,null,null,null,null,null,null,null,null,{"$f":"IF(AND(内訳明細書入力画面!N306=\"\",内訳明細書入力画面!M306=\"\"),\"\",IF(内訳明細書入力画面!N306=\"\",内訳明細書入力画面!M306,内訳明細書入力画面!N306))","v":""},null,null,null,{"$f":"IF(内訳明細書入力画面!O306=\"\",\"\",内訳明細書入力画面!O306)","v":""},null,null,{"$f":"IF(AND(内訳明細書入力画面!R306=\"\",内訳明細書入力画面!P306=\"\"),\"\",IF(内訳明細書入力画面!R306=\"\",内訳明細書入力画面!P306,内訳明細書入力画面!R306))","v":""},null,null,null,{"$f":"IF(AND(内訳明細書入力画面!V306=\"\",内訳明細書入力画面!T306=\"\"),\"\",IF(内訳明細書入力画面!V306=\"\",内訳明細書入力画面!T306,内訳明細書入力画面!V306))","v":""},null,null,null,null,null,null,null,null,null,null,null,null,null,null,null,"",null,null,null,"",null,null,null,""]
[null,{"$f":"IF(内訳明細書入力画面!B307=\"\",\"\",内訳明細書入力画面!B307)","v":""},null,null,null,null,null,null,null,null,null,null,null,null,{"$f":"IF(AND(内訳明細書入力画面!N307=\"\",内訳明細書入力画面!M307=\"\"),\"\",IF(内訳明細書入力画面!N307=\"\",内訳明細書入力画面!M307,内訳明細書入力画面!N307))","v":""},null,null,null,{"$f":"IF(内訳明細書入力画面!O307=\"\",\"\",内訳明細書入力画面!O307)","v":""},null,null,{"$f":"IF(AND(内訳明細書入力画面!R307=\"\",内訳明細書入力画面!P307=\"\"),\"\",IF(内訳明細書入力画面!R307=\"\",内訳明細書入力画面!P307,内訳明細書入力画面!R307))","v":""},null,null,null,{"$f":"IF(AND(内訳明細書入力画面!V307=\"\",内訳明細書入力画面!T307=\"\"),\"\",IF(内訳明細書入力画面!V307=\"\",内訳明細書入力画面!T307,内訳明細書入力画面!V307))","v":""},null,null,null,null,null,null,null,null,null,null,null,null,null,null,null,"",null,null,null,"",null,null,null,""]
[null,{"$f":"IF(内訳明細書入力画面!B308=\"\",\"\",内訳明細書入力画面!B308)","v":""},null,null,null,null,null,null,null,null,null,null,null,null,{"$f":"IF(AND(内訳明細書入力画面!N308=\"\",内訳明細書入力画面!M308=\"\"),\"\",IF(内訳明細書入力画面!N308=\"\",内訳明細書入力画面!M308,内訳明細書入力画面!N308))","v":""},null,null,null,{"$f":"IF(内訳明細書入力画面!O308=\"\",\"\",内訳明細書入力画面!O308)","v":""},null,null,{"$f":"IF(AND(内訳明細書入力画面!R308=\"\",内訳明細書入力画面!P308=\"\"),\"\",IF(内訳明細書入力画面!R308=\"\",内訳明細書入力画面!P308,内訳明細書入力画面!R308))","v":""},null,null,null,{"$f":"IF(AND(内訳明細書入力画面!V308=\"\",内訳明細書入力画面!T308=\"\"),\"\",IF(内訳明細書入力画面!V308=\"\",内訳明細書入力画面!T308,内訳明細書入力画面!V308))","v":""},null,null,null,null,null,null,null,null,null,null,null,null,null,null,null,"",null,null,null,"",null,null,null,""]
[null,{"$f":"IF(内訳明細書入力画面!B309=\"\",\"\",内訳明細書入力画面!B309)","v":""},null,null,null,null,null,null,null,null,null,null,null,null,{"$f":"IF(AND(内訳明細書入力画面!N309=\"\",内訳明細書入力画面!M309=\"\"),\"\",IF(内訳明細書入力画面!N309=\"\",内訳明細書入力画面!M309,内訳明細書入力画面!N309))","v":""},null,null,null,{"$f":"IF(内訳明細書入力画面!O309=\"\",\"\",内訳明細書入力画面!O309)","v":""},null,null,{"$f":"IF(AND(内訳明細書入力画面!R309=\"\",内訳明細書入力画面!P309=\"\"),\"\",IF(内訳明細書入力画面!R309=\"\",内訳明細書入力画面!P309,内訳明細書入力画面!R309))","v":""},null,null,null,{"$f":"IF(AND(内訳明細書入力画面!V309=\"\",内訳明細書入力画面!T309=\"\"),\"\",IF(内訳明細書入力画面!V309=\"\",内訳明細書入力画面!T309,内訳明細書入力画面!V309))","v":""},null,null,null,null,null,null,null,null,null,null,null,null,null,null,null,"",null,null,null,"",null,null,null,""]
[null,{"$f":"IF(内訳明細書入力画面!B310=\"\",\"\",内訳明細書入力画面!B310)","v":""},null,null,null,null,null,null,null,null,null,null,null,null,{"$f":"IF(AND(内訳明細書入力画面!N310=\"\",内訳明細書入力画面!M310=\"\"),\"\",IF(内訳明細書入力画面!N310=\"\",内訳明細書入力画面!M310,内訳明細書入力画面!N310))","v":""},null,null,null,{"$f":"IF(内訳明細書入力画面!O310=\"\",\"\",内訳明細書入力画面!O310)","v":""},null,null,{"$f":"IF(AND(内訳明細書入力画面!R310=\"\",内訳明細書入力画面!P310=\"\"),\"\",IF(内訳明細書入力画面!R310=\"\",内訳明細書入力画面!P310,内訳明細書入力画面!R310))","v":""},null,null,null,{"$f":"IF(AND(内訳明細書入力画面!V310=\"\",内訳明細書入力画面!T310=\"\"),\"\",IF(内訳明細書入力画面!V310=\"\",内訳明細書入力画面!T310,内訳明細書入力画面!V310))","v":""},null,null,null,null,null,null,null,null,null,null,null,null,null,null,null,"",null,null,null,"",null,null,null,""]
[{"$f":"((ROW()-11)+15)/15","v":21},{"$f":"IF(内訳明細書入力画面!B311=\"\",\"\",内訳明細書入力画面!B311)","v":""},null,null,null,null,null,null,null,null,null,null,null,null,{"$f":"IF(AND(内訳明細書入力画面!N311=\"\",内訳明細書入力画面!M311=\"\"),\"\",IF(内訳明細書入力画面!N311=\"\",内訳明細書入力画面!M311,内訳明細書入力画面!N311))","v":""},null,null,null,{"$f":"IF(内訳明細書入力画面!O311=\"\",\"\",内訳明細書入力画面!O311)","v":""},null,null,{"$f":"IF(AND(内訳明細書入力画面!R311=\"\",内訳明細書入力画面!P311=\"\"),\"\",IF(内訳明細書入力画面!R311=\"\",内訳明細書入力画面!P311,内訳明細書入力画面!R311))","v":""},null,null,null,{"$f":"IF(AND(内訳明細書入力画面!V311=\"\",内訳明細書入力画面!T311=\"\"),\"\",IF(内訳明細書入力画面!V311=\"\",内訳明細書入力画面!T311,内訳明細書入力画面!V311))","v":""},null,null,null,null,null,null,null,null,null,null,null,null,null,null,null,{"$f":"IF(AL311=\"\",\"\",ROUNDDOWN(N(V311)*N(AL311),0))","v":""},null,null,null,{"$f":"IF(AND(AD311=\"\",AL311=\"\"),\"\",N(AD311)+N(AL311))","v":""},null,null,null,{"$f":"IF(AND(AH311=\"\",AP311=\"\"),\"\",N(AH311)+N(AP311))","v":""}]
[null,{"$f":"IF(内訳明細書入力画面!B312=\"\",\"\",内訳明細書入力画面!B312)","v":""},null,null,null,null,null,null,null,null,null,null,null,null,{"$f":"IF(AND(内訳明細書入力画面!N312=\"\",内訳明細書入力画面!M312=\"\"),\"\",IF(内訳明細書入力画面!N312=\"\",内訳明細書入力画面!M312,内訳明細書入力画面!N312))","v":""},null,null,null,{"$f":"IF(内訳明細書入力画面!O312=\"\",\"\",内訳明細書入力画面!O312)","v":""},null,null,{"$f":"IF(AND(内訳明細書入力画面!R312=\"\",内訳明細書入力画面!P312=\"\"),\"\",IF(内訳明細書入力画面!R312=\"\",内訳明細書入力画面!P312,内訳明細書入力画面!R312))","v":""},null,null,null,{"$f":"IF(AND(内訳明細書入力画面!V312=\"\",内訳明細書入力画面!T312=\"\"),\"\",IF(内訳明細書入力画面!V312=\"\",内訳明細書入力画面!T312,内訳明細書入力画面!V312))","v":""},null,null,null,null,null,null,null,null,null,null,null,null,null,null,null,"",null,null,null,"",null,null,null,""]
[null,{"$f":"IF(内訳明細書入力画面!B313=\"\",\"\",内訳明細書入力画面!B313)","v":""},null,null,null,null,null,null,null,null,null,null,null,null,{"$f":"IF(AND(内訳明細書入力画面!N313=\"\",内訳明細書入力画面!M313=\"\"),\"\",IF(内訳明細書入力画面!N313=\"\",内訳明細書入力画面!M313,内訳明細書入力画面!N313))","v":""},null,null,null,{"$f":"IF(内訳明細書入力画面!O313=\"\",\"\",内訳明細書入力画面!O313)","v":""},null,null,{"$f":"IF(AND(内訳明細書入力画面!R313=\"\",内訳明細書入力画面!P313=\"\"),\"\",IF(内訳明細書入力画面!R313=\"\",内訳明細書入力画面!P313,内訳明細書入力画面!R313))","v":""},null,null,null,{"$f":"IF(AND(内訳明細書入力画面!V313=\"\",内訳明細書入力画面!T313=\"\"),\"\",IF(内訳明細書入力画面!V313=\"\",内訳明細書入力画面!T313,内訳明細書入力画面!V313))","v":""},null,null,null,null,null,null,null,null,null,null,null,null,null,null,null,"",null,null,null,"",null,null,null,""]
[null,{"$f":"IF(内訳明細書入力画面!B314=\"\",\"\",内訳明細書入力画面!B314)","v":""},null,null,null,null,null,null,null,null,null,null,null,null,{"$f":"IF(AND(内訳明細書入力画面!N314=\"\",内訳明細書入力画面!M314=\"\"),\"\",IF(内訳明細書入力画面!N314=\"\",内訳明細書入力画面!M314,内訳明細書入力画面!N314))","v":""},null,null,null,{"$f":"IF(内訳明細書入力画面!O314=\"\",\"\",内訳明細書入力画面!O314)","v":""},null,null,{"$f":"IF(AND(内訳明細書入力画面!R314=\"\",内訳明細書入力画面!P314=\"\"),\"\",IF(内訳明細書入力画面!R314=\"\",内訳明細書入力画面!P314,内訳明細書入力画面!R314))","v":""},null,null,null,{"$f":"IF(AND(内訳明細書入力画面!V314=\"\",内訳明細書入力画面!T314=\"\"),\"\",IF(内訳明細書入力画面!V314=\"\",内訳明細書入力画面!T314,内訳明細書入力画面!V314))","v":""},null,null,null,null,null,null,null,null,null,null,null,null,null,null,null,"",null,null,null,"",null,null,null,""]
[null,{"$f":"IF(内訳明細書入力画面!B315=\"\",\"\",内訳明細書入力画面!B315)","v":""},null,null,null,null,null,null,null,null,null,null,null,null,{"$f":"IF(AND(内訳明細書入力画面!N315=\"\",内訳明細書入力画面!M315=\"\"),\"\",IF(内訳明細書入力画面!N315=\"\",内訳明細書入力画面!M315,内訳明細書入力画面!N315))","v":""},null,null,null,{"$f":"IF(内訳明細書入力画面!O315=\"\",\"\",内訳明細書入力画面!O315)","v":""},null,null,{"$f":"IF(AND(内訳明細書入力画面!R315=\"\",内訳明細書入力画面!P315=\"\"),\"\",IF(内訳明細書入力画面!R315=\"\",内訳明細書入力画面!P315,内訳明細書入力画面!R315))","v":""},null,null,null,{"$f":"IF(AND(内訳明細書入力画面!V315=\"\",内訳明細書入力画面!T315=\"\"),\"\",IF(内訳明細書入力画面!V315=\"\",内訳明細書入力画面!T315,内訳明細書入力画面!V315))","v":""},null,null,null,null,null,null,null,null,null,null,null,null,null,null,null,"",null,null,null,"",null,null,null,""]
[null,{"$f":"IF(内訳明細書入力画面!B316=\"\",\"\",内訳明細書入力画面!B316)","v":""},null,null,null,null,null,null,null,null,null,null,null,null,{"$f":"IF(AND(内訳明細書入力画面!N316=\"\",内訳明細書入力画面!M316=\"\"),\"\",IF(内訳明細書入力画面!N316=\"\",内訳明細書入力画面!M316,内訳明細書入力画面!N316))","v":""},null,null,null,{"$f":"IF(内訳明細書入力画面!O316=\"\",\"\",内訳明細書入力画面!O316)","v":""},null,null,{"$f":"IF(AND(内訳明細書入力画面!R316=\"\",内訳明細書入力画面!P316=\"\"),\"\",IF(内訳明細書入力画面!R316=\"\",内訳明細書入力画面!P316,内訳明細書入力画面!R316))","v":""},null,null,null,{"$f":"IF(AND(内訳明細書入力画面!V316=\"\",内訳明細書入力画面!T316=\"\"),\"\",IF(内訳明細書入力画面!V316=\"\",内訳明細書入力画面!T316,内訳明細書入力画面!V316))","v":""},null,null,null,null,null,null,null,null,null,null,null,null,null,null,null,"",null,null,null,"",null,null,null,""]
[null,{"$f":"IF(内訳明細書入力画面!B317=\"\",\"\",内訳明細書入力画面!B317)","v":""},null,null,null,null,null,null,null,null,null,null,null,null,{"$f":"IF(AND(内訳明細書入力画面!N317=\"\",内訳明細書入力画面!M317=\"\"),\"\",IF(内訳明細書入力画面!N317=\"\",内訳明細書入力画面!M317,内訳明細書入力画面!N317))","v":""},null,null,null,{"$f":"IF(内訳明細書入力画面!O317=\"\",\"\",内訳明細書入力画面!O317)","v":""},null,null,{"$f":"IF(AND(内訳明細書入力画面!R317=\"\",内訳明細書入力画面!P317=\"\"),\"\",IF(内訳明細書入力画面!R317=\"\",内訳明細書入力画面!P317,内訳明細書入力画面!R317))","v":""},null,null,null,{"$f":"IF(AND(内訳明細書入力画面!V317=\"\",内訳明細書入力画面!T317=\"\"),\"\",IF(内訳明細書入力画面!V317=\"\",内訳明細書入力画面!T317,内訳明細書入力画面!V317))","v":""},null,null,null,null,null,null,null,null,null,null,null,null,null,null,null,"",null,null,null,"",null,null,null,""]
[null,{"$f":"IF(内訳明細書入力画面!B318=\"\",\"\",内訳明細書入力画面!B318)","v":""},null,null,null,null,null,null,null,null,null,null,null,null,{"$f":"IF(AND(内訳明細書入力画面!N318=\"\",内訳明細書入力画面!M318=\"\"),\"\",IF(内訳明細書入力画面!N318=\"\",内訳明細書入力画面!M318,内訳明細書入力画面!N318))","v":""},null,null,null,{"$f":"IF(内訳明細書入力画面!O318=\"\",\"\",内訳明細書入力画面!O318)","v":""},null,null,{"$f":"IF(AND(内訳明細書入力画面!R318=\"\",内訳明細書入力画面!P318=\"\"),\"\",IF(内訳明細書入力画面!R318=\"\",内訳明細書入力画面!P318,内訳明細書入力画面!R318))","v":""},null,null,null,{"$f":"IF(AND(内訳明細書入力画面!V318=\"\",内訳明細書入力画面!T318=\"\"),\"\",IF(内訳明細書入力画面!V318=\"\",内訳明細書入力画面!T318,内訳明細書入力画面!V318))","v":""},null,null,null,null,null,null,null,null,null,null,null,null,null,null,null,"",null,null,null,"",null,null,null,""]
[null,{"$f":"IF(内訳明細書入力画面!B319=\"\",\"\",内訳明細書入力画面!B319)","v":""},null,null,null,null,null,null,null,null,null,null,null,null,{"$f":"IF(AND(内訳明細書入力画面!N319=\"\",内訳明細書入力画面!M319=\"\"),\"\",IF(内訳明細書入力画面!N319=\"\",内訳明細書入力画面!M319,内訳明細書入力画面!N319))","v":""},null,null,null,{"$f":"IF(内訳明細書入力画面!O319=\"\",\"\",内訳明細書入力画面!O319)","v":""},null,null,{"$f":"IF(AND(内訳明細書入力画面!R319=\"\",内訳明細書入力画面!P319=\"\"),\"\",IF(内訳明細書入力画面!R319=\"\",内訳明細書入力画面!P319,内訳明細書入力画面!R319))","v":""},null,null,null,{"$f":"IF(AND(内訳明細書入力画面!V319=\"\",内訳明細書入力画面!T319=\"\"),\"\",IF(内訳明細書入力画面!V319=\"\",内訳明細書入力画面!T319,内訳明細書入力画面!V319))","v":""},null,null,null,null,null,null,null,null,null,null,null,null,null,null,null,"",null,null,null,"",null,null,null,""]
[null,{"$f":"IF(内訳明細書入力画面!B320=\"\",\"\",内訳明細書入力画面!B320)","v":""},null,null,null,null,null,null,null,null,null,null,null,null,{"$f":"IF(AND(内訳明細書入力画面!N320=\"\",内訳明細書入力画面!M320=\"\"),\"\",IF(内訳明細書入力画面!N320=\"\",内訳明細書入力画面!M320,内訳明細書入力画面!N320))","v":""},null,null,null,{"$f":"IF(内訳明細書入力画面!O320=\"\",\"\",内訳明細書入力画面!O320)","v":""},null,null,{"$f":"IF(AND(内訳明細書入力画面!R320=\"\",内訳明細書入力画面!P320=\"\"),\"\",IF(内訳明細書入力画面!R320=\"\",内訳明細書入力画面!P320,内訳明細書入力画面!R320))","v":""},null,null,null,{"$f":"IF(AND(内訳明細書入力画面!V320=\"\",内訳明細書入力画面!T320=\"\"),\"\",IF(内訳明細書入力画面!V320=\"\",内訳明細書入力画面!T320,内訳明細書入力画面!V320))","v":""},null,null,null,null,null,null,null,null,null,null,null,null,null,null,null,"",null,null,null,"",null,null,null,""]
[null,{"$f":"IF(内訳明細書入力画面!B321=\"\",\"\",内訳明細書入力画面!B321)","v":""},null,null,null,null,null,null,null,null,null,null,null,null,{"$f":"IF(AND(内訳明細書入力画面!N321=\"\",内訳明細書入力画面!M321=\"\"),\"\",IF(内訳明細書入力画面!N321=\"\",内訳明細書入力画面!M321,内訳明細書入力画面!N321))","v":""},null,null,null,{"$f":"IF(内訳明細書入力画面!O321=\"\",\"\",内訳明細書入力画面!O321)","v":""},null,null,{"$f":"IF(AND(内訳明細書入力画面!R321=\"\",内訳明細書入力画面!P321=\"\"),\"\",IF(内訳明細書入力画面!R321=\"\",内訳明細書入力画面!P321,内訳明細書入力画面!R321))","v":""},null,null,null,{"$f":"IF(AND(内訳明細書入力画面!V321=\"\",内訳明細書入力画面!T321=\"\"),\"\",IF(内訳明細書入力画面!V321=\"\",内訳明細書入力画面!T321,内訳明細書入力画面!V321))","v":""},null,null,null,null,null,null,null,null,null,null,null,null,null,null,null,"",null,null,null,"",null,null,null,""]
[null,{"$f":"IF(内訳明細書入力画面!B322=\"\",\"\",内訳明細書入力画面!B322)","v":""},null,null,null,null,null,null,null,null,null,null,null,null,{"$f":"IF(AND(内訳明細書入力画面!N322=\"\",内訳明細書入力画面!M322=\"\"),\"\",IF(内訳明細書入力画面!N322=\"\",内訳明細書入力画面!M322,内訳明細書入力画面!N322))","v":""},null,null,null,{"$f":"IF(内訳明細書入力画面!O322=\"\",\"\",内訳明細書入力画面!O322)","v":""},null,null,{"$f":"IF(AND(内訳明細書入力画面!R322=\"\",内訳明細書入力画面!P322=\"\"),\"\",IF(内訳明細書入力画面!R322=\"\",内訳明細書入力画面!P322,内訳明細書入力画面!R322))","v":""},null,null,null,{"$f":"IF(AND(内訳明細書入力画面!V322=\"\",内訳明細書入力画面!T322=\"\"),\"\",IF(内訳明細書入力画面!V322=\"\",内訳明細書入力画面!T322,内訳明細書入力画面!V322))","v":""},null,null,null,null,null,null,null,null,null,null,null,null,null,null,null,"",null,null,null,"",null,null,null,""]
[null,{"$f":"IF(内訳明細書入力画面!B323=\"\",\"\",内訳明細書入力画面!B323)","v":""},null,null,null,null,null,null,null,null,null,null,null,null,{"$f":"IF(AND(内訳明細書入力画面!N323=\"\",内訳明細書入力画面!M323=\"\"),\"\",IF(内訳明細書入力画面!N323=\"\",内訳明細書入力画面!M323,内訳明細書入力画面!N323))","v":""},null,null,null,{"$f":"IF(内訳明細書入力画面!O323=\"\",\"\",内訳明細書入力画面!O323)","v":""},null,null,{"$f":"IF(AND(内訳明細書入力画面!R323=\"\",内訳明細書入力画面!P323=\"\"),\"\",IF(内訳明細書入力画面!R323=\"\",内訳明細書入力画面!P323,内訳明細書入力画面!R323))","v":""},null,null,null,{"$f":"IF(AND(内訳明細書入力画面!V323=\"\",内訳明細書入力画面!T323=\"\"),\"\",IF(内訳明細書入力画面!V323=\"\",内訳明細書入力画面!T323,内訳明細書入力画面!V323))","v":""},null,null,null,null,null,null,null,null,null,null,null,null,null,null,null,"",null,null,null,"",null,null,null,""]
[null,{"$f":"IF(内訳明細書入力画面!B324=\"\",\"\",内訳明細書入力画面!B324)","v":""},null,null,null,null,null,null,null,null,null,null,null,null,{"$f":"IF(AND(内訳明細書入力画面!N324=\"\",内訳明細書入力画面!M324=\"\"),\"\",IF(内訳明細書入力画面!N324=\"\",内訳明細書入力画面!M324,内訳明細書入力画面!N324))","v":""},null,null,null,{"$f":"IF(内訳明細書入力画面!O324=\"\",\"\",内訳明細書入力画面!O324)","v":""},null,null,{"$f":"IF(AND(内訳明細書入力画面!R324=\"\",内訳明細書入力画面!P324=\"\"),\"\",IF(内訳明細書入力画面!R324=\"\",内訳明細書入力画面!P324,内訳明細書入力画面!R324))","v":""},null,null,null,{"$f":"IF(AND(内訳明細書入力画面!V324=\"\",内訳明細書入力画面!T324=\"\"),\"\",IF(内訳明細書入力画面!V324=\"\",内訳明細書入力画面!T324,内訳明細書入力画面!V324))","v":""},null,null,null,null,null,null,null,null,null,null,null,null,null,null,null,"",null,null,null,"",null,null,null,""]
[null,{"$f":"IF(内訳明細書入力画面!B325=\"\",\"\",内訳明細書入力画面!B325)","v":""},null,null,null,null,null,null,null,null,null,null,null,null,{"$f":"IF(AND(内訳明細書入力画面!N325=\"\",内訳明細書入力画面!M325=\"\"),\"\",IF(内訳明細書入力画面!N325=\"\",内訳明細書入力画面!M325,内訳明細書入力画面!N325))","v":""},null,null,null,{"$f":"IF(内訳明細書入力画面!O325=\"\",\"\",内訳明細書入力画面!O325)","v":""},null,null,{"$f":"IF(AND(内訳明細書入力画面!R325=\"\",内訳明細書入力画面!P325=\"\"),\"\",IF(内訳明細書入力画面!R325=\"\",内訳明細書入力画面!P325,内訳明細書入力画面!R325))","v":""},null,null,null,{"$f":"IF(AND(内訳明細書入力画面!V325=\"\",内訳明細書入力画面!T325=\"\"),\"\",IF(内訳明細書入力画面!V325=\"\",内訳明細書入力画面!T325,内訳明細書入力画面!V325))","v":""},null,null,null,null,null,null,null,null,null,null,null,null,null,null,null,"",null,null,null,"",null,null,null,""]

{"sheet":"請求明細書入力印刷画面_保存","index":8,"n_rows":0,"n_cols":0,"rows_kept":0,"cut":false,"hidden":true,"merged":[]}

{"sheet":"請求明細印刷（取極め用）","index":9,"n_rows":37,"n_cols":101,"rows_kept":37,"cut":false,"hidden":true,"merged":[[2,0,2,3],[1,36,1,49],[2,36,2,49],[6,22,6,25],[6,26,6,29],[6,30,6,33],[5,0,6,10],[5,42,5,49],[6,11,6,14],[6,15,6,17],[6,18,6,21],[6,42,6,45],[6,46,6,49],[5,26,5,33],[5,34,5,41],[6,34,6,37],[5,11,5,25],[6,38,6,41],[3,33,3,37],[7,42,7,45],[7,46,7,49],[7,30,7,33],[7,34,7,37],[7,38,7,41],[7,11,7,14],[8,11,8,14],[8,15,8,17],[8,18,8,21],[8,22,8,25],[8,26,8,29],[8,30,8,33],[7,22,7,25],[7,15,7,17],[7,18,7,21],[8,38,8,41],[8,42,8,45],[8,46,8,49],[11,38,11,41],[10,22,10,25],[9,34,9,37],[9,26,9,29],[9,30,9,33],[8,34,8,37],[7,26,7,29],[7,0,7,10],[8,0,8,10],[10,26,10,29],[10,30,10,33],[10,34,10,37],[9,11,9,14],[9,15,9,17],[9,18,9,21],[9,22,9,25],[9,0,9,10],[9,38,9,41],[9,42,9,45],[9,46,9,49],[12,11,12,14],[12,15,12,17],[12,18,12,21],[11,34,11,37],[11,11,11,14],[11,15,11,17],[11,18,11,21],[11,22,11,25],[11,26,11,29],[11,30,11,33],[12,22,12,25],[12,26,12,29],[12,30,12,33],[12,34,12,37],[11,42,11,45],[11,46,11,49],[10,38,10,41],[10,42,10,45],[10,46,10,49],[10,11,10,14],[10,15,10,17],[10,18,10,21],[13,34,13,37],[13,38,13,41],[13,42,13,45],[13,11,13,14],[13,15,13,17],[13,18,13,21],[13,22,13,25],[13,26,13,29],[13,30,13,33],[15,42,15,45],[15,46,15,49],[14,38,14,41],[14,42,14,45],[14,46,14,49],[13,46,13,49],[12,38,12,41],[12,42,12,45],[12,46,12,49],[14,11,14,14],[14,15,14,17],[14,18,14,21],[15,38,15,41],[15,11,15,14],[17,22,17,25],[17,26,17,29],[17,30,17,33],[15,34,15,37],[15,22,15,25],[15,26,15,29],[15,30,15,33],[16,34,16,37],[17,11,17,14],[15,15,15,17],[15,18,15,21],[14,22,14,25],[14,26,14,29],[14,30,14,33],[14,34,14,37],[16,11,16,14],[20,38,20,41],[17,46,17,49],[16,38,16,41],[16,42,16,45],[16,46,16,49],[17,38,17,41],[17,42,17,45],[20,34,20,37],[18,15,18,17],[18,18,18,21],[17,34,17,37],[17,15,17,17],[18,22,18,25],[18,26,18,29],[18,30,18,33],[18,34,18,37],[16,26,16,29],[16,30,16,33],[16,15,16,17],[16,18,16,21],[17,18,17,21],[23,44,23,45],[19,26,19,29],[20,30,20,33],[21,18,21,21],[21,22,21,25],[21,34,21,37],[23,42,23,43],[18,46,18,49],[19,30,19,33],[19,34,19,37],[19,38,19,41],[18,38,18,41],[21,30,21,33],[21,46,21,49],[21,38,21,41],[23,47,23,48],[21,42,21,45],[18,42,18,45],[20,22,20,25],[20,26,20,29],[20,46,20,49],[19,46,19,49],[20,42,20,45],[19,42,19,45],[16,0,16,10],[18,0,18,10],[21,26,21,29],[19,11,19,14],[19,15,19,17],[19,18,19,21],[19,22,19,25],[20,18,20,21],[20,11,20,14],[13,0,13,10],[21,0,21,10],[14,0,14,10],[3,38,3,49],[1,0,1,30],[0,32,0,35],[1,32,1,35],[2,32,2,35],[3,0,3,3],[3,4,3,28],[0,37,0,38],[0,40,0,41],[10,0,10,10],[11,0,11,10],[12,0,12,10],[17,0,17,10],[19,0,19,10],[20,0,20,10],[16,22,16,25],[21,11,21,14],[21,15,21,17],[20,15,20,17],[18,11,18,14],[15,0,15,10]]}
[null,null,null,null,null,null,null,null,null,null,null,null,null,null,null,null,null,null,null,null,null,null,null,null,null,null,null,null,null,null,null,null,"住        所",null,null,null,"〒",{"$f":"IF(BA1=\"\",\"\",BA1)","v":""},null,"－",{"$f":"IF(BB1=\"\",\"\",BB1)","v":""},null,null,null,null,null,null,null,null,null,null,"郵便番号"]
["請 求 明 細 書 　（取極め用）",null,null,null,null,null,null,null,null,null,null,null,null,null,null,null,null,null,null,null,null,null,null,null,null,null,null,null,null,null,null,null,null,null,null,null,{"$f":"IF(BA2=\"\",\"\",BA2)","v":""},null,null,null,null,null,null,null,null,null,null,null,null,null,null,"住所"]
[null,null,null,null,null,null,null,null,null,null,null,null,null,null,null,null,null,null,null,null,null,null,null,null,null,null,null,null,null,null,null,null,"会  社  名",null,null,null,{"$f":"IF(BA3=\"\",\"\",BA3)","v":""},null,null,null,null,null,null,null,null,null,null,null,null,null,null,"会社名"]
["工事名称：",null,null,null,{"$f":"IF(BA4=\"\",\"\",BA4)","v":""},null,null,null,null,null,null,null,null,null,null,null,null,null,null,null,null,null,null,null,null,null,null,null,null,null,null,null,null,"  支店・営業所名",null,null,null,null,{"$f":"IF(BC4=\"\",\"\",BC4)","v":""},null,null,null,null,null,null,null,null,null,null,null,null,"工事名称",null,"支店営業所"]
[null,null,null,null,null,null,null,null,null,null,null,null,null,null,null,null,null,null,null,null,null,null,null,null,null,null,null,null,null,null,null,null,null,null,null,null,null,null,null,null,null,null,null,null,null,null,null,null,null,null,null,null,"工事種目／品目",null,null,null,null,null,null,null,null,null,null,null,null,"①　現在注文金額",null,null,null,null,null,null,null,null,null,null,null,null,null,null,"②　前回までの請求累計額",null,null,null,null,null,null,null,"③　今回請求金額　",null,null,null,null,null,null,null,"②＋③　請求累計額"]
["工事種目／品目",null,null,null,null,null,null,null,null,null,null,"①　現在注文金額",null,null,null,null,null,null,null,null,null,null,null,null,null,null,"②　前回までの請求累計額",null,null,null,null,null,null,null,"③　今回請求金額　",null,null,null,null,null,null,null,"②＋③　請求累計額",null,null,null,null,null,null,null,null,null,null,null,null,null,null,null,null,null,null,null,null,null,null,"数  量",null,null,null,"単位",null,null,"単  価",null,null,null,"金  額",null,null,null,"数量",null,null,null,"金額",null,null,null,"数量",null,null,null,"金額",null,null,null,"数量",null,null,null,"金額"]
[null,null,null,null,null,null,null,null,null,null,null,"数  量",null,null,null,"単位",null,null,"単  価",null,null,null,"金  額",null,null,null,"数量",null,null,null,"金額",null,null,null,"数量",null,null,null,"金額",null,null,null,"数量",null,null,null,"金額",null,null,null,null,"明細1"]
[{"$f":"IF(BA7=\"\",\"\",BA7)","v":""},null,null,null,null,null,null,null,null,null,null,{"$f":"IF(BN7=\"\",\"\",BN7)","v":""},null,null,null,{"$f":"IF(BR7=\"\",\"\",BR7)","v":""},null,null,{"$f":"IF(BU7=\"\",\"\",BU7)","v":""},null,null,null,{"$f":"IF(BY7=\"\",\"\",BY7)","v":""},null,null,null,{"$f":"IF(CC7=\"\",\"\",CC7)","v":""},null,null,null,{"$f":"IF(CG7=\"\",\"\",CG7)","v":""},null,null,null,{"$f":"IF(CK7=\"\",\"\",CK7)","v":""},null,null,null,{"$f":"IF(CO7=\"\",\"\",CO7)","v":""},null,null,null,{"$f":"IF(CS7=\"\",\"\",CS7)","v":""},null,null,null,{"$f":"IF(CW7=\"\",\"\",CW7)","v":""},null,null,null,null,"明細2"]
[{"$f":"IF(BA8=\"\",\"\",BA8)","v":""},null,null,null,null,null,null,null,null,null,null,{"$f":"IF(BN8=\"\",\"\",BN8)","v":""},null,null,null,{"$f":"IF(BR8=\"\",\"\",BR8)","v":""},null,null,{"$f":"IF(BU8=\"\",\"\",BU8)","v":""},null,null,null,{"$f":"IF(BY8=\"\",\"\",BY8)","v":""},null,null,null,{"$f":"IF(CC8=\"\",\"\",CC8)","v":""},null,null,null,{"$f":"IF(CG8=\"\",\"\",CG8)","v":""},null,null,null,{"$f":"IF(CK8=\"\",\"\",CK8)","v":""},null,null,null,{"$f":"IF(CO8=\"\",\"\",CO8)","v":""},null,null,null,{"$f":"IF(CS8=\"\",\"\",CS8)","v":""},null,null,null,{"$f":"IF(CW8=\"\",\"\",CW8)","v":""},null,null,null,null,"明細3"]
["",null,null,null,null,null,null,null,null,null,null,"",null,null,null,"",null,null,"",null,null,null,"",null,null,null,"",null,null,null,"",null,null,null,"",null,null,null,"",null,null,null,"",null,null,null,"",null,null,null,null,"明細4"]
["",null,null,null,null,null,null,null,null,null,null,"",null,null,null,"",null,null,"",null,null,null,"",null,null,null,"",null,null,null,"",null,null,null,"",null,null,null,"",null,null,null,"",null,null,null,"",null,null,null,null,"明細5"]
["",null,null,null,null,null,null,null,null,null,null,"",null,null,null,"",null,null,"",null,null,null,"",null,null,null,"",null,null,null,"",null,null,null,"",null,null,null,"",null,null,null,"",null,null,null,"",null,null,null,null,"明細6"]
["",null,null,null,null,null,null,null,null,null,null,"",null,null,null,"",null,null,"",null,null,null,"",null,null,null,"",null,null,null,"",null,null,null,"",null,null,null,"",null,null,null,"",null,null,null,"",null,null,null,null,"明細7"]
["",null,null,null,null,null,null,null,null,null,null,"",null,null,null,"",null,null,"",null,null,null,"",null,null,null,"",null,null,null,"",null,null,null,"",null,null,null,"",null,null,null,"",null,null,null,"",null,null,null,null,"明細8"]
["",null,null,null,null,null,null,null,null,null,null,"",null,null,null,"",null,null,"",null,null,null,"",null,null,null,"",null,null,null,"",null,null,null,"",null,null,null,"",null,null,null,"",null,null,null,"",null,null,null,null,"明細9"]
["",null,null,null,null,null,null,null,null,null,null,"",null,null,null,"",null,null,"",null,null,null,"",null,null,null,"",null,null,null,"",null,null,null,"",null,null,null,"",null,null,null,"",null,null,null,"",null,null,null,null,"明細10"]
["",null,null,null,null,null,null,null,null,null,null,"",null,null,null,"",null,null,"",null,null,null,"",null,null,null,"",null,null,null,"",null,null,null,"",null,null,null,"",null,null,null,"",null,null,null,"",null,null,null,null,"明細11"]
["",null,null,null,null,null,null,null,null,null,null,"",null,null,null,"",null,null,"",null,null,null,"",null,null,null,"",null,null,null,"",null,null,null,"",null,null,null,"",null,null,null,"",null,null,null,"",null,null,null,null,"明細12"]
["",null,null,null,null,null,null,null,null,null,null,"",null,null,null,"",null,null,"",null,null,null,"",null,null,null,"",null,null,null,"",null,null,null,"",null,null,null,"",null,null,null,"",null,null,null,"",null,null,null,null,"明細13"]
["",null,null,null,null,null,null,null,null,null,null,"",null,null,null,"",null,null,"",null,null,null,"",null,null,null,"",null,null,null,"",null,null,null,"",null,null,null,"",null,null,null,"",null,null,null,"",null,null,null,null,"明細14"]
["",null,null,null,null,null,null,null,null,null,null,"",null,null,null,"",null,null,"",null,null,null,"",null,null,null,"",null,null,null,"",null,null,null,"",null,null,null,"",null,null,null,"",null,null,null,"",null,null,null,null,"明細15"]
["",null,null,null,null,null,null,null,null,null,null,"",null,null,null,"",null,null,"",null,null,null,"",null,null,null,"",null,null,null,"",null,null,null,"",null,null,null,"",null,null,null,"",null,null,null,"",null,null,null,null,"注文№"]
[null,null,null,null,null,null,null,null,null,null,null,null,null,null,null,null,null,null,null,null,null,null,null,null,null,null,null,null,null,null,null,null,null,null,null,null,null,null,null,null,null,null,null,null,null,null,null,null,null,null,null,"頁"]
[null,"注文№",null,{"$f":"A31","v":""},"","","","","","","","",{"$f":"J31","v":"0"},"－",{"$f":"A33","v":""},{"$f":"B33","v":""},{"$f":"C33","v":"0"},"－",{"$f":"A35","v":""},{"$f":"B35","v":"0"},null,null,null,null,null,null,null,null,null,null,null,null,null,null,null,null,null,null,null,null,null,null,{"$f":"IF(BA23=\"\",\"\",BA23)","v":""},null,"頁中",null,"／",{"$f":"IF(BB23=\"\",\"\",BB23)","v":""},null,"頁"]
[]
[]
[]
[]
["作業テーブル"]
["工事番号"]
[{"$f":"TRIM(MID(TEXT(基本入力画面!$E$21,REPT(\"?\",10)),COLUMN(A31),1))","v":""},{"$f":"IF(G37>=9,TRIM(MID(TEXT(基本入力画面!$E$21,REPT(0,10)),COLUMN(B31),1)),\"\")","v":""},{"$f":"IF(G37>=8,TRIM(MID(TEXT(基本入力画面!$E$21,REPT(0,10)),COLUMN(C31),1)),\"\")","v":""},{"$f":"IF(G37>=7,TRIM(MID(TEXT(基本入力画面!$E$21,REPT(0,10)),COLUMN(D31),1)),\"\")","v":""},{"$f":"IF(G37>=6,TRIM(MID(TEXT(基本入力画面!$E$21,REPT(0,10)),COLUMN(E31),1)),\"\")","v":""},{"$f":"IF(G37>=5,TRIM(MID(TEXT(基本入力画面!$E$21,REPT(0,10)),COLUMN(F31),1)),\"\")","v":""},{"$f":"IF(G37>=4,TRIM(MID(TEXT(基本入力画面!$E$21,REPT(0,10)),COLUMN(G31),1)),\"\")","v":""},{"$f":"IF(G37>=3,TRIM(MID(TEXT(基本入力画面!$E$21,REPT(0,10)),COLUMN(H31),1)),\"\")","v":""},{"$f":"IF(G37>=2,TRIM(MID(TEXT(基本入力画面!$E$21,REPT(0,10)),COLUMN(I31),1)),\"\")","v":""},{"$f":"IF(G37>=1,TRIM(MID(TEXT(基本入力画面!$E$21,REPT(0,10)),COLUMN(J31),1)),\"\")","v":"0"}]
["枝番"]
[{"$f":"IF(基本入力画面!$L$21=\"\",\"\",TRIM(MID(TEXT(基本入力画面!$L$21,REPT(0,3)),COLUMN(A33),1)))","v":""},{"$f":"IF(基本入力画面!$L$21=\"\",\"\",TRIM(MID(TEXT(基本入力画面!$L$21,REPT(0,3)),COLUMN(B33),1)))","v":""},{"$f":"TRIM(MID(TEXT(基本入力画面!$L$21,REPT(0,3)),COLUMN(C33),1))","v":"0"}]
["発注番号"]
[{"$f":"IF(基本入力画面!$O$21=\"\",\"\",TRIM(MID(TEXT(基本入力画面!$O$21,REPT(0,2)),COLUMN(A35),1)))","v":""},{"$f":"TRIM(MID(TEXT(基本入力画面!$O$21,REPT(0,2)),COLUMN(B35),1))","v":"0"}]
["工事番号の桁数"]
[{"$f":"基本入力画面!E21","v":0},null,null,null,null,null,{"$f":"LEN(A37)","v":1}]

{"sheet":"請求明細出力（取極め用）","index":10,"n_rows":8,"n_cols":64,"rows_kept":8,"cut":false,"hidden":true,"merged":[[2,9,2,12],[1,0,1,7],[1,9,1,12],[6,8,6,9],[7,8,7,9],[3,9,3,12],[7,0,7,1],[5,0,6,1],[5,2,5,5],[5,6,5,7],[5,8,5,10],[5,11,5,12],[3,1,3,6]]}
[null,null,null,null,null,null,null,null,"住        所 ","〒 999 － 9999"]
["請 求 明 細 書 　（取極め用）"]
["契約№： ",null,null,null,null,null,null,null,"会  社  名 "]
["工事名称： ",{"$f":"IF(P4=\"\",\"\",P4)","v":""},null,null,null,null,null,null,"支店・営業所名"]
[]
["工事種目／品目",null,"①　現在注文金額",null,null,null,"②　前回までの請求累計額",null,"③　今回請求金額　",null,null,"②＋③　請求累計額",null,null,null,null,null,null,null,null,null,null,null,null,null,null,null,null,"①　現在注文金額",null,null,null,null,null,null,null,null,null,null,null,null,null,null,"②　前回までの請求累計額",null,null,null,null,null,null,null,"③　今回請求金額　",null,null,null,null,null,null,null,"②＋③　請求累計額"]
[null,null,"数  量","単位","単  価","金  額","数量","金額","数量",null,"金額","数量","金額",null,null,"工事種目／品目",null,null,null,null,null,null,null,null,null,null,null,null,"数  量",null,null,null,"単位",null,null,"単  価",null,null,null,"金  額",null,null,null,"数量",null,null,null,"金額",null,null,null,"数量",null,null,null,"金額",null,null,null,"数量",null,null,null,"金額"]
[{"$f":"IF(P8=\"\",\"\",P8)","v":""},null,null,null,null,null,null,null,{"$f":"IF(AZ8=\"\",\"\",AZ8)","v":""},null,null,null,null,null,"明細"]

{"sheet":"請求書表紙納品検収書入力印刷画面","index":11,"n_rows":47,"n_cols":51,"rows_kept":47,"cut":false,"hidden":true,"merged":[[7,4,8,15],[13,24,13,29],[14,24,14,29],[13,31,13,35],[13,36,13,40],[13,41,13,45],[14,31,14,35],[14,36,14,40],[14,41,14,45],[11,41,11,45],[10,36,10,40],[10,41,10,45],[9,36,9,40],[11,36,11,40],[24,4,24,15],[9,31,9,35],[10,31,10,35],[11,31,11,35],[12,31,12,35],[15,31,15,35],[35,31,35,35],[10,24,10,30],[12,24,12,29],[35,16,35,20],[33,16,33,20],[26,21,26,25],[21,26,21,30],[25,21,25,25],[24,21,24,25],[25,26,25,30],[24,26,24,30],[31,26,31,30],[32,16,32,20],[31,21,31,25],[32,26,32,30],[33,21,33,25],[34,26,34,30],[28,31,28,35],[28,36,28,40],[42,1,42,3],[41,4,41,15],[42,4,42,15],[41,21,41,25],[36,26,36,30],[39,31,39,35],[36,36,36,40],[41,1,41,3],[37,4,37,15],[37,16,37,20],[37,31,37,35],[37,26,37,30],[33,36,33,40],[29,26,29,30],[31,31,31,35],[37,36,37,40],[31,16,31,20],[35,21,35,25],[42,31,42,35],[41,36,41,40],[42,36,42,40],[40,21,40,25],[29,1,29,3],[28,41,28,45],[29,41,29,45],[30,41,30,45],[31,41,31,45],[36,41,36,45],[34,41,34,45],[33,41,33,45],[32,41,32,45],[32,1,32,3],[31,36,31,40],[32,36,32,40],[28,21,28,25],[29,36,29,40],[30,36,30,40],[32,4,32,15],[29,31,29,35],[30,31,30,35],[32,31,32,35],[31,1,31,3],[28,4,28,15],[29,4,29,15],[30,4,30,15],[31,4,31,15],[28,1,28,3],[30,1,30,3],[25,1,25,3],[24,1,24,3],[24,31,24,35],[19,4,20,15],[20,26,20,30],[23,31,23,35],[23,36,23,40],[23,1,23,3],[27,21,27,25],[30,26,30,30],[30,16,30,20],[22,21,22,25],[23,26,23,30],[24,16,24,20],[28,26,28,30],[21,31,21,35],[22,31,22,35],[25,31,25,35],[19,16,19,30],[22,1,22,3],[25,4,25,15],[27,4,27,15],[21,36,21,40],[15,36,15,40],[12,36,12,40],[27,36,27,40],[15,41,15,45],[25,36,25,40],[20,36,20,40],[19,31,19,45],[20,31,20,35],[22,36,22,40],[12,41,12,45],[47,26,47,30],[47,31,47,35],[46,41,46,45],[46,26,46,30],[46,31,46,35],[46,36,46,40],[44,46,44,48],[43,26,43,30],[43,31,43,35],[45,26,45,30],[45,31,45,35],[45,36,45,40],[47,41,47,45],[44,41,44,45],[43,36,43,40],[43,41,43,45],[47,36,47,40],[40,46,40,48],[39,41,39,45],[39,26,39,30],[43,46,43,48],[44,1,44,3],[43,21,43,25],[44,26,44,30],[44,31,44,35],[44,36,44,40],[43,1,43,3],[41,26,41,30],[42,26,42,30],[41,31,41,35],[39,46,39,48],[40,1,40,3],[39,21,39,25],[40,26,40,30],[40,31,40,35],[40,36,40,40],[40,41,40,45],[39,1,39,3],[39,36,39,40],[40,16,40,20],[44,21,44,25],[34,16,34,20],[34,4,34,15],[37,41,37,45],[37,1,37,3],[35,46,35,48],[34,31,34,35],[34,36,34,40],[36,46,36,48],[38,1,38,3],[37,21,37,25],[38,26,38,30],[38,31,38,35],[38,36,38,40],[38,41,38,45],[34,46,34,48],[35,1,35,3],[34,21,34,25],[35,26,35,30],[35,36,35,40],[35,41,35,45],[38,21,38,25],[36,31,36,35],[1,38,1,39],[1,41,1,42],[5,31,5,34],[5,35,5,48],[1,44,1,45],[4,31,4,33],[2,31,2,33],[20,41,20,45],[5,4,5,28],[6,31,6,33],[6,14,6,15],[6,16,6,17],[6,19,6,20],[6,21,6,22],[6,24,6,25],[20,16,20,20],[9,41,9,45],[6,4,6,8],[6,9,6,13],[9,23,9,30],[20,21,20,25],[6,26,6,27],[11,24,11,30],[15,24,15,29],[46,11,46,15],[21,41,21,45],[3,4,3,10],[3,12,3,14],[3,16,3,17],[3,18,3,21],[3,23,3,24],[3,26,3,28],[3,31,3,33],[7,31,7,35],[3,34,3,48],[21,46,21,48],[43,4,43,15],[44,4,44,15],[35,4,35,15],[36,4,36,15],[38,4,38,15],[39,4,39,15],[40,4,40,15],[23,46,23,48],[24,46,24,48],[25,46,25,48],[22,4,22,15],[22,46,22,48],[2,18,2,21],[46,16,46,20],[43,16,43,20],[41,16,41,20],[42,16,42,20],[44,16,44,20],[6,34,6,35],[6,37,6,38],[6,40,6,41],[45,21,45,25],[45,16,45,20],[24,41,24,45],[26,41,26,45],[22,16,22,20],[26,16,26,20],[25,16,25,20],[29,16,29,20],[27,16,27,20],[28,16,28,20],[46,21,46,25],[2,38,2,39],[4,34,4,48],[2,35,2,36],[38,46,38,48],[0,1,0,28],[2,1,2,3],[4,4,4,28],[21,1,21,3],[19,1,20,3],[2,4,2,5],[25,41,25,45],[27,26,27,30],[30,21,30,25],[26,26,26,30],[24,36,24,40],[23,21,23,25],[27,41,27,45],[26,31,26,35],[26,36,26,40],[27,31,27,35],[21,4,21,15],[21,16,21,20],[23,4,23,15],[23,16,23,20],[22,26,22,30],[22,41,22,45],[23,41,23,45],[21,21,21,25],[27,46,27,48],[33,46,33,48],[27,1,27,3],[26,1,26,3],[26,4,26,15],[45,1,45,3],[45,4,45,15],[33,1,33,3],[33,4,33,15],[26,46,26,48],[45,41,45,45],[29,21,29,25],[36,21,36,25],[42,21,42,25],[32,21,32,25],[33,26,33,30],[33,31,33,35],[41,41,41,45],[42,41,42,45],[36,1,36,3],[36,16,36,20],[38,16,38,20],[39,16,39,20],[34,1,34,3]]}
[null,"　　　請求書表紙・納品・検収書（取極め用）　入力印刷画面"]
[null,null,null,null,null,null,null,null,null,null,null,null,null,null,null,null,null,null,null,null,null,null,null,null,null,null,null,null,null,null,null,null,null,null,null,null,"（西暦）",null,{"$f":"IF(請求明細書入力印刷画面!F4=\"\",\"\",請求明細書入力印刷画面!F4)","v":""},null,"年",{"$f":"IF(請求明細書入力印刷画面!J4=\"\",\"\",請求明細書入力印刷画面!J4)","v":""},null,"月",{"$f":"IF(請求明細書入力印刷画面!M4=\"\",\"\",請求明細書入力印刷画面!M4)","v":""},null,"日","請求"]
[null,"印刷部数選択",null,null,null,null,null,null,null,null,null,null,null,null,null,null,null,null,null,null,null,null,null,null,null,null,null,null,null,null,null,"住        所",null,null,"〒",{"$f":"IF(基本入力画面!F9=\"\",\"\",基本入力画面!F9)","v":""},null,"－",{"$f":"IF(基本入力画面!I9=\"\",\"\",基本入力画面!I9)","v":""}]
[null,null,"注　文　№",null,{"$f":"IF(基本入力画面!E21=\"\",\"\",基本入力画面!E21)","v":""},null,null,null,null,null,null,"－",{"$f":"IF(基本入力画面!L21=\"\",\"\",基本入力画面!L21)","v":""},null,null,"－",{"$f":"IF(基本入力画面!O21=\"\",\"\",基本入力画面!O21)","v":""},null,"注文区分",null,null,null,{"$f":"IF(基本入力画面!Z27=TRUE,\"■\",\"□\")","v":"□"},"工事",null,{"$f":"IF(基本入力画面!Z28=TRUE,\"■\",\"□\")","v":"□"},"資機材",null,null,null,null,null,null,null,{"$f":"IF(基本入力画面!E11=\"\",\"\",基本入力画面!E11)","v":""}]
[null,null,"工事名称",null,{"$f":"IF(基本入力画面!E15=\"\",\"\",基本入力画面!E15)","v":""},null,null,null,null,null,null,null,null,null,null,null,null,null,null,null,null,null,null,null,null,null,null,null,null,null,null,"会  社  名",null,null,{"$f":"IF(基本入力画面!E5=\"\",\"\",基本入力画面!E5)","v":""}]
[null,null,"注文件名",null,{"$f":"IF(基本入力画面!E25=\"\",\"\",基本入力画面!E25)","v":""},null,null,null,null,null,null,null,null,null,null,null,null,null,null,null,null,null,null,null,null,null,null,null,null,null,null,"支店・営業所名",null,null,null,{"$f":"IF(基本入力画面!E7=\"\",\"\",基本入力画面!E7)","v":""},null,null,null,null,null,null,null,null,null,null,null,null,null,null,false]
[null,null,"支払条件",null,null,null,null,null,null,null,null,null,null,null,"現金",null,null,null,"％","手形",null,null,null,"％","サイト",null,null,null,"日",null,null,"ＴＥＬ",null,null,{"$f":"IF(基本入力画面!E13=\"\",\"\",基本入力画面!E13)","v":""},null,"－",{"$f":"IF(基本入力画面!H13=\"\",\"\",基本入力画面!H13)","v":""},null,"－",{"$f":"IF(基本入力画面!K13=\"\",\"\",基本入力画面!K13)","v":""},null,null,null,null,null,null,null,null,null,false]
[null,null,"登録番号",null,null,null,null,null,null,null,null,null,null,null,null,null,null,null,null,null,null,null,null,null,null,null,null,null,null,null,null,"仕入先コード",null,null,null,null,{"$f":"IF(基本入力画面!G23=\"\",\"\",基本入力画面!G23)","v":""}]
[]
[null,null,null,null,null,null,null,null,null,null,null,null,null,null,null,null,null,null,null,null,null,null,null,null,null,null,null,null,null,null,null,"税別金額",null,null,null,null,"消費税額",null,null,null,null,"税込金額"]
[null,null,null,null,null,null,null,null,null,null,null,null,null,null,null,null,null,null,null,null,null,null,null,null,"②前回までの請求累計額"]
[null,null,null,null,null,null,null,null,null,null,null,null,null,null,null,null,null,null,null,null,null,null,null,null,"③ 今 回 課税対象額（10％）"]
[null,null,null,null,null,null,null,null,null,null,null,null,null,null,null,null,null,null,null,null,null,null,null,null,"④不/非課税額"]
[null,null,null,null,null,null,null,null,null,null,null,null,null,null,null,null,null,null,null,null,null,null,null,null,"⑤今回請求額計"]
[null,null,null,null,null,null,null,null,null,null,null,null,null,null,null,null,null,null,null,null,null,null,null,null,"⑥　　　　②+⑤計"]
[null,null,"以下の明細行は注文書表紙をそのまま転記してください",null,null,null,null,null,null,null,null,null,null,null,null,null,null,null,null,null,null,null,null,null,"発注（契約）残高"]
[]
[]
[]
[null,"工種コード",null,null,"注　文　明　細",null,null,null,null,null,null,null,null,null,null,null,"①現　在　注　文　内　容",null,null,null,null,null,null,null,null,null,null,null,null,null,null,"②今回請求金額"]
[null,null,null,null,null,null,null,null,null,null,null,null,null,null,null,null,"税別金額",null,null,null,null,"消費税額",null,null,null,null,"税込金額",null,null,null,null,"税別金額",null,null,null,null,"消費税額",null,null,null,null,"税込金額"]
[]
[]
[]
[]
[]
[]
[]
[]
[]
[]
[]
[]
[]
[]
[]
[]
[]
[]
[]
[]
[]
[]
[]
[]
[]
[null,null,null,null,null,null,null,null,null,null,null,"計",null,null,null,null,{"$f":"SUM(Q22:U45)","v":0},null,null,null,null,{"$f":"SUM(V22:Z45)","v":0},null,null,null,null,{"$f":"SUM(AA22:AE45)","v":0},null,null,null,null,{"$f":"SUM(AF22:AJ45)","v":0},null,null,null,null,{"$f":"SUM(AK22:AO45)","v":0},null,null,null,null,{"$f":"SUM(AP22:AT45)","v":0}]

{"sheet":"請求書表紙印刷（取極め用）1","index":12,"n_rows":26,"n_cols":49,"rows_kept":26,"cut":false,"hidden":true,"merged":[[7,18,7,19],[7,21,7,22],[7,6,7,9],[8,31,8,35],[11,17,11,21],[11,22,11,26],[11,27,11,31],[11,32,11,36],[0,39,0,49],[1,36,1,49],[6,4,6,29],[4,13,4,15],[4,17,4,18],[4,19,4,22],[4,27,4,29],[5,31,5,33],[6,31,6,35],[4,34,4,49],[5,34,5,47],[2,45,2,46],[5,4,5,29],[4,4,4,11],[4,24,4,25],[3,31,3,33],[2,42,2,43],[3,38,3,39],[4,31,4,33],[1,1,1,30],[12,1,12,3],[12,4,12,16],[12,17,12,21],[12,22,12,26],[12,27,12,31],[12,32,12,36],[14,1,14,3],[3,35,3,36],[2,39,2,40],[13,1,13,3],[13,4,13,16],[12,37,12,41],[14,4,14,16],[14,17,14,21],[14,22,14,26],[14,27,14,31],[14,32,14,36],[14,37,14,41],[7,23,7,24],[10,1,11,3],[10,4,11,16],[10,17,10,31],[7,12,7,15],[7,16,7,17],[14,42,14,46],[15,17,15,21],[15,22,15,26],[15,27,15,31],[15,32,15,36],[15,37,15,41],[15,42,15,46],[13,17,13,21],[13,22,13,26],[13,27,13,31],[13,32,13,36],[12,42,12,46],[15,1,15,3],[15,4,15,16],[25,2,25,7],[25,9,25,14],[25,15,25,19],[25,20,25,24],[24,2,24,7],[24,9,24,14],[24,15,24,19],[24,20,24,24],[20,2,20,7],[20,9,20,14],[20,15,20,19],[20,20,20,24],[21,2,21,7],[21,9,21,14],[21,15,21,19],[21,20,21,24],[23,32,23,37],[23,15,23,19],[23,20,23,24],[23,29,23,31],[22,2,22,7],[22,9,22,14],[22,15,22,19],[22,20,22,24],[23,43,23,49],[17,32,17,36],[16,27,16,31],[16,32,16,36],[17,37,17,41],[17,42,17,46],[16,47,16,49],[16,37,16,41],[16,42,16,46],[19,1,19,8],[19,9,19,14],[19,15,19,19],[19,20,19,24],[17,12,17,16],[17,27,17,31],[16,1,16,3],[16,4,16,16],[16,17,16,21],[16,22,16,26],[17,17,17,21],[17,22,17,26],[24,38,25,42],[24,26,25,28],[24,29,25,31],[24,32,25,37],[23,26,23,28],[23,2,23,7],[23,9,23,14],[6,36,6,48],[8,36,8,48],[13,47,13,49],[10,47,11,49],[11,37,11,41],[11,42,11,46],[10,32,10,46],[7,34,7,35],[12,47,12,49],[7,36,7,37],[7,39,7,40],[7,42,7,43],[14,47,14,49],[13,37,13,41],[13,42,13,46],[23,38,23,42],[15,47,15,49]]}
[null,null,null,null,null,null,null,null,null,null,null,null,null,null,null,null,null,null,null,null,null,null,null,null,null,null,null,null,null,null,null,null,{"$f":"最終頁請求","v":0},"-",1,null,"登録番号",null,null,{"$f":"請求書表紙納品検収書入力印刷画面!$E$8","v":0}]
[null,"請　　　求　　　書　　（取極め用）",null,null,null,null,null,null,null,null,null,null,null,null,null,null,null,null,null,null,null,null,null,null,null,null,null,null,null,null,null,null,null,null,null,null,"適格請求発行事業者ではない場合はチェックしてください。■チェック"]
[null,"株式会社　水倉組　御中",null,null,null,null,null,null,null,null,null,null,null,null,null,null,null,null,null,null,null,null,null,null,null,null,null,null,null,null,null,null,null,null,null,null,null,"（西暦）",null,{"$f":"請求書表紙納品検収書入力印刷画面!$AM$2","v":""},null,"年",{"$f":"請求書表紙納品検収書入力印刷画面!$AP$2","v":""},null,"月",{"$f":"請求書表紙納品検収書入力印刷画面!$AS$2","v":""},null,"日","請求"]
[null,"　　下記のとおり請求いたします",null,null,null,null,null,null,null,null,null,null,null,null,null,null,null,null,null,null,null,null,null,null,null,null,null,null,null,null,null,"住      所",null,null,"〒",{"$f":"請求書表紙納品検収書入力印刷画面!$AJ$3","v":""},null,"－",{"$f":"請求書表紙納品検収書入力印刷画面!$AM$3","v":""}]
[null,null,"注　文　№",null,{"$f":"請求書表紙納品検収書入力印刷画面!$E$4","v":""},null,null,null,null,null,null,null,"－",{"$f":"請求書表紙納品検収書入力印刷画面!$M$4","v":""},null,null,"－",{"$f":"請求書表紙納品検収書入力印刷画面!$Q$4","v":""},null,"注文区分",null,null,null,{"$f":"請求書表紙納品検収書入力印刷画面!$W$4","v":"□"},"工事",null,{"$f":"請求書表紙納品検収書入力印刷画面!$Z$4","v":"□"},"資機材",null,null,null,null,null,null,{"$f":"請求書表紙納品検収書入力印刷画面!$AI$4","v":""}]
[null,null,"工事名称",null,{"$f":"請求書表紙納品検収書入力印刷画面!$E$5","v":""},null,null,null,null,null,null,null,null,null,null,null,null,null,null,null,null,null,null,null,null,null,null,null,null,null,null,"会 社 名",null,null,{"$f":"請求書表紙納品検収書入力印刷画面!$AI$5","v":""},null,null,null,null,null,null,null,null,null,null,null,null,null,"㊞"]
[null,null,"注文件名",null,{"$f":"請求書表紙納品検収書入力印刷画面!$E$6","v":""},null,null,null,null,null,null,null,null,null,null,null,null,null,null,null,null,null,null,null,null,null,null,null,null,null,null,"支店・営業所名",null,null,null,null,{"$f":"請求書表紙納品検収書入力印刷画面!AJ6","v":""}]
[null,null,"支払条件",null,null,{"$f":"IF(請求書表紙納品検収書入力印刷画面!$AY$6=TRUE,\"■\",\"□\")","v":"□"},"出来高支払",null,null,null,null,{"$f":"IF(請求書表紙納品検収書入力印刷画面!$AY$7=TRUE,\"■\",\"□\")","v":"□"},"入金後支払",null,null,null,"現金",null,{"$f":"IF(請求書表紙納品検収書入力印刷画面!$Q$7=\"\",\"\",請求書表紙納品検収書入力印刷画面!$Q$7)","v":""},null,"％","手形",null,{"$f":"IF(請求書表紙納品検収書入力印刷画面!$V$7=\"\",\"\",請求書表紙納品検収書入力印刷画面!$V$7)","v":""},null,"％","（サイト",null,{"$f":"IF(請求書表紙納品検収書入力印刷画面!$AA$7=\"\",\"\",請求書表紙納品検収書入力印刷画面!$AA$7)","v":""},"日）",null,null,null,null,"ＴＥＬ",null,{"$f":"請求書表紙納品検収書入力印刷画面!$AI$7","v":""},null,"－",{"$f":"請求書表紙納品検収書入力印刷画面!$AL$7","v":""},null,"－",{"$f":"請求書表紙納品検収書入力印刷画面!$AO$7","v":""}]
[null,null,null,null,null,null,null,null,null,null,null,null,null,null,null,null,null,null,null,null,null,null,null,null,null,null,null,null,null,null,null,"仕入先コード",null,null,null,null,{"$f":"請求書表紙納品検収書入力印刷画面!$AK$8","v":""}]
[]
[null,"工種コード",null,null,"注　文　明　細",null,null,null,null,null,null,null,null,null,null,null,null,"①　現在注文金額",null,null,null,null,null,null,null,null,null,null,null,null,null,null,"③④　今回請求金額",null,null,null,null,null,null,null,null,null,null,null,null,null,null,"完了"]
[null,null,null,null,null,null,null,null,null,null,null,null,null,null,null,null,null,"税別金額",null,null,null,null,"消費税額",null,null,null,null,"税込金額",null,null,null,null,"税別金額",null,null,null,null,"消費税額",null,null,null,null,"税込金額"]
[null,{"$f":"IF(請求書表紙納品検収書入力印刷画面!B22=\"\",\"\",請求書表紙納品検収書入力印刷画面!B22)","v":""},null,null,{"$f":"IF(請求書表紙納品検収書入力印刷画面!E22=\"\",\"\",請求書表紙納品検収書入力印刷画面!E22)","v":""},null,null,null,null,null,null,null,null,null,null,null,null,{"$f":"IF(請求書表紙納品検収書入力印刷画面!Q22=\"\",\"\",請求書表紙納品検収書入力印刷画面!Q22)","v":""},null,null,null,null,{"$f":"IF(請求書表紙納品検収書入力印刷画面!V22=\"\",\"\",請求書表紙納品検収書入力印刷画面!V22)","v":""},null,null,null,null,{"$f":"IF(請求書表紙納品検収書入力印刷画面!AA22=\"\",\"\",請求書表紙納品検収書入力印刷画面!AA22)","v":""},null,null,null,null,{"$f":"IF(請求書表紙納品検収書入力印刷画面!AF22=\"\",\"\",請求書表紙納品検収書入力印刷画面!AF22)","v":""},null,null,null,null,{"$f":"IF(請求書表紙納品検収書入力印刷画面!AK22=\"\",\"\",請求書表紙納品検収書入力印刷画面!AK22)","v":""},null,null,null,null,{"$f":"IF(請求書表紙納品検収書入力印刷画面!AP22=\"\",\"\",請求書表紙納品検収書入力印刷画面!AP22)","v":""},null,null,null,null,{"$f":"IF(請求書表紙納品検収書入力印刷画面!AY22=TRUE,\"■\",\"□\")","v":"□"}]
[null,{"$f":"IF(請求書表紙納品検収書入力印刷画面!B23=\"\",\"\",請求書表紙納品検収書入力印刷画面!B23)","v":""},null,null,{"$f":"IF(請求書表紙納品検収書入力印刷画面!E23=\"\",\"\",請求書表紙納品検収書入力印刷画面!E23)","v":""},null,null,null,null,null,null,null,null,null,null,null,null,{"$f":"IF(請求書表紙納品検収書入力印刷画面!Q23=\"\",\"\",請求書表紙納品検収書入力印刷画面!Q23)","v":""},null,null,null,null,{"$f":"IF(請求書表紙納品検収書入力印刷画面!V23=\"\",\"\",請求書表紙納品検収書入力印刷画面!V23)","v":""},null,null,null,null,{"$f":"IF(請求書表紙納品検収書入力印刷画面!AA23=\"\",\"\",請求書表紙納品検収書入力印刷画面!AA23)","v":""},null,null,null,null,{"$f":"IF(請求書表紙納品検収書入力印刷画面!AF23=\"\",\"\",請求書表紙納品検収書入力印刷画面!AF23)","v":""},null,null,null,null,{"$f":"IF(請求書表紙納品検収書入力印刷画面!AK23=\"\",\"\",請求書表紙納品検収書入力印刷画面!AK23)","v":""},null,null,null,null,{"$f":"IF(請求書表紙納品検収書入力印刷画面!AP23=\"\",\"\",請求書表紙納品検収書入力印刷画面!AP23)","v":""},null,null,null,null,{"$f":"IF(請求書表紙納品検収書入力印刷画面!AY23=TRUE,\"■\",\"□\")","v":"□"}]
[null,{"$f":"IF(請求書表紙納品検収書入力印刷画面!B24=\"\",\"\",請求書表紙納品検収書入力印刷画面!B24)","v":""},null,null,{"$f":"IF(請求書表紙納品検収書入力印刷画面!E24=\"\",\"\",請求書表紙納品検収書入力印刷画面!E24)","v":""},null,null,null,null,null,null,null,null,null,null,null,null,{"$f":"IF(請求書表紙納品検収書入力印刷画面!Q24=\"\",\"\",請求書表紙納品検収書入力印刷画面!Q24)","v":""},null,null,null,null,{"$f":"IF(請求書表紙納品検収書入力印刷画面!V24=\"\",\"\",請求書表紙納品検収書入力印刷画面!V24)","v":""},null,null,null,null,{"$f":"IF(請求書表紙納品検収書入力印刷画面!AA24=\"\",\"\",請求書表紙納品検収書入力印刷画面!AA24)","v":""},null,null,null,null,{"$f":"IF(請求書表紙納品検収書入力印刷画面!AF24=\"\",\"\",請求書表紙納品検収書入力印刷画面!AF24)","v":""},null,null,null,null,{"$f":"IF(請求書表紙納品検収書入力印刷画面!AK24=\"\",\"\",請求書表紙納品検収書入力印刷画面!AK24)","v":""},null,null,null,null,{"$f":"IF(請求書表紙納品検収書入力印刷画面!AP24=\"\",\"\",請求書表紙納品検収書入力印刷画面!AP24)","v":""},null,null,null,null,{"$f":"IF(請求書表紙納品検収書入力印刷画面!AY24=TRUE,\"■\",\"□\")","v":"□"}]
[null,{"$f":"IF(請求書表紙納品検収書入力印刷画面!B28=\"\",\"\",請求書表紙納品検収書入力印刷画面!B28)","v":""},null,null,{"$f":"IF(請求書表紙納品検収書入力印刷画面!E28=\"\",\"\",請求書表紙納品検収書入力印刷画面!E28)","v":""},null,null,null,null,null,null,null,null,null,null,null,null,{"$f":"IF(請求書表紙納品検収書入力印刷画面!Q28=\"\",\"\",請求書表紙納品検収書入力印刷画面!Q28)","v":""},null,null,null,null,{"$f":"IF(請求書表紙納品検収書入力印刷画面!V28=\"\",\"\",請求書表紙納品検収書入力印刷画面!V28)","v":""},null,null,null,null,{"$f":"IF(請求書表紙納品検収書入力印刷画面!AA28=\"\",\"\",請求書表紙納品検収書入力印刷画面!AA28)","v":""},null,null,null,null,{"$f":"IF(請求書表紙納品検収書入力印刷画面!AF28=\"\",\"\",請求書表紙納品検収書入力印刷画面!AF28)","v":""},null,null,null,null,{"$f":"IF(請求書表紙納品検収書入力印刷画面!AK28=\"\",\"\",請求書表紙納品検収書入力印刷画面!AK28)","v":""},null,null,null,null,{"$f":"IF(請求書表紙納品検収書入力印刷画面!AP28=\"\",\"\",請求書表紙納品検収書入力印刷画面!AP28)","v":""},null,null,null,null,{"$f":"IF(請求書表紙納品検収書入力印刷画面!AY28=TRUE,\"■\",\"□\")","v":"□"}]
[null,{"$f":"IF(請求書表紙納品検収書入力印刷画面!B29=\"\",\"\",請求書表紙納品検収書入力印刷画面!B29)","v":""},null,null,{"$f":"IF(請求書表紙納品検収書入力印刷画面!E29=\"\",\"\",請求書表紙納品検収書入力印刷画面!E29)","v":""},null,null,null,null,null,null,null,null,null,null,null,null,{"$f":"IF(請求書表紙納品検収書入力印刷画面!Q29=\"\",\"\",請求書表紙納品検収書入力印刷画面!Q29)","v":""},null,null,null,null,{"$f":"IF(請求書表紙納品検収書入力印刷画面!V29=\"\",\"\",請求書表紙納品検収書入力印刷画面!V29)","v":""},null,null,null,null,{"$f":"IF(請求書表紙納品検収書入力印刷画面!AA29=\"\",\"\",請求書表紙納品検収書入力印刷画面!AA29)","v":""},null,null,null,null,{"$f":"IF(請求書表紙納品検収書入力印刷画面!AF29=\"\",\"\",請求書表紙納品検収書入力印刷画面!AF29)","v":""},null,null,null,null,{"$f":"IF(請求書表紙納品検収書入力印刷画面!AK29=\"\",\"\",請求書表紙納品検収書入力印刷画面!AK29)","v":""},null,null,null,null,{"$f":"IF(請求書表紙納品検収書入力印刷画面!AP29=\"\",\"\",請求書表紙納品検収書入力印刷画面!AP29)","v":""},null,null,null,null,{"$f":"IF(請求書表紙納品検収書入力印刷画面!AY29=TRUE,\"■\",\"□\")","v":"□"}]
[null,null,null,null,null,null,null,null,null,null,null,null,"計",null,null,null,null,{"$f":"IF(AT2=AV2,請求書表紙納品検収書入力印刷画面!$Q$47,\"－－－－－－ \")","v":0},null,null,null,null,{"$f":"IF(AT2=AV2,請求書表紙納品検収書入力印刷画面!$V$47,\"－－－－－－ \")","v":0},null,null,null,null,{"$f":"IF(AT2=AV2,請求書表紙納品検収書入力印刷画面!$AA$47,\"－－－－－－－ \")","v":0},null,null,null,null,{"$f":"IF(AT2=AV2,請求書表紙納品検収書入力印刷画面!$AF$47,\"－－－－－－ \")","v":0},null,null,null,null,{"$f":"IF(AT2=AV2,請求書表紙納品検収書入力印刷画面!$AK$47,\"－－－－－－ \")","v":0},null,null,null,null,{"$f":"IF(AT2=AV2,請求書表紙納品検収書入力印刷画面!$AP$47,\"－－－－－－－ \")","v":0}]
[]
[null,null,null,null,null,null,null,null,null,"税別金額",null,null,null,null,null,"消費税額",null,null,null,null,"税込金額"]
[null,null,"②　前回までの請求累計額",null,null,null,null,null,null,{"$f":"請求書表紙納品検収書入力印刷画面!AF11","v":0},null,null,null,null,null,{"$f":"請求書表紙納品検収書入力印刷画面!AK11","v":0},null,null,null,null,{"$f":"請求書表紙納品検収書入力印刷画面!AP11","v":0}]
[null,null,"③　今回課税対象額（10％）",null,null,null,null,null,null,{"$f":"請求書表紙納品検収書入力印刷画面!AF12","v":0},null,null,null,null,null,{"$f":"請求書表紙納品検収書入力印刷画面!AK12","v":0},null,null,null,null,{"$f":"請求書表紙納品検収書入力印刷画面!AP12","v":0}]
[null,null,"④　今回不/非課税対象額",null,null,null,null,null,null,{"$f":"請求書表紙納品検収書入力印刷画面!AF13","v":0},null,null,null,null,null,{"$f":"請求書表紙納品検収書入力印刷画面!AK13","v":0},null,null,null,null,{"$f":"請求書表紙納品検収書入力印刷画面!AP13","v":0}]
[null,null,"⑤今回請求金額計",null,null,null,null,null,null,{"$f":"請求書表紙納品検収書入力印刷画面!AF14","v":0},null,null,null,null,null,{"$f":"請求書表紙納品検収書入力印刷画面!AK14","v":0},null,null,null,null,{"$f":"請求書表紙納品検収書入力印刷画面!AP14","v":0},null,null,null,null,null,"経理検収",null,null,"入力者",null,null,"工事管理部",null,null,null,null,null,"作業所検収",null,null,null,null,"相殺"]
[null,null,"⑥　　　　　　　　　②＋⑤　　計",null,null,null,null,null,null,{"$f":"請求書表紙納品検収書入力印刷画面!AF15","v":0},null,null,null,null,null,{"$f":"請求書表紙納品検収書入力印刷画面!AK15","v":0},null,null,null,null,{"$f":"請求書表紙納品検収書入力印刷画面!AP15","v":0},null,null,null,null,null,null,null,null,null,null,null,null,null,null,null,null,null,null,null,null,null,null,"　（有　無）"]
[null,null,"契約残高（①－⑥）",null,null,null,null,null,null,{"$f":"請求書表紙納品検収書入力印刷画面!AF16","v":0},null,null,null,null,null,{"$f":"請求書表紙納品検収書入力印刷画面!AK16","v":0},null,null,null,null,{"$f":"請求書表紙納品検収書入力印刷画面!AP16","v":0}]

{"sheet":"請求書表紙印刷（取極め用）2","index":13,"n_rows":20,"n_cols":49,"rows_kept":20,"cut":false,"hidden":true,"merged":[[11,42,11,46],[12,27,12,31],[12,32,12,36],[12,37,12,41],[12,42,12,46],[11,27,11,31],[19,42,19,46],[18,27,18,31],[18,32,18,36],[18,37,18,41],[18,42,18,46],[14,42,14,46],[13,32,13,36],[13,37,13,41],[13,42,13,46],[19,12,19,16],[19,17,19,21],[19,22,19,26],[19,27,19,31],[19,32,19,36],[19,37,19,41],[18,47,18,49],[17,27,17,31],[17,32,17,36],[17,37,17,41],[17,42,17,46],[18,1,18,3],[18,4,18,16],[18,17,18,21],[18,22,18,26],[16,47,16,49],[17,1,17,3],[17,4,17,16],[17,17,17,21],[17,22,17,26],[17,47,17,49],[16,37,16,41],[16,42,16,46],[14,1,14,3],[14,4,14,16],[15,47,15,49],[16,1,16,3],[16,4,16,16],[16,17,16,21],[16,22,16,26],[16,27,16,31],[16,32,16,36],[15,1,15,3],[15,32,15,36],[15,4,15,16],[15,17,15,21],[15,22,15,26],[15,27,15,31],[15,42,15,46],[15,37,15,41],[12,17,12,21],[12,22,12,26],[13,47,13,49],[14,17,14,21],[14,22,14,26],[14,27,14,31],[14,32,14,36],[14,47,14,49],[14,37,14,41],[11,47,11,49],[9,47,10,49],[12,47,12,49],[13,1,13,3],[13,4,13,16],[13,17,13,21],[13,22,13,26],[13,27,13,31],[12,1,12,3],[12,4,12,16],[11,1,11,3],[11,4,11,16],[11,17,11,21],[11,22,11,26],[10,37,10,41],[11,32,11,36],[11,37,11,41],[9,1,10,3],[9,4,10,16],[9,17,9,31],[9,32,9,46],[10,17,10,21],[10,22,10,26],[10,27,10,31],[1,45,1,46],[10,32,10,36],[10,42,10,46],[4,31,4,33],[3,34,3,49],[6,21,6,22],[6,23,6,24],[5,4,5,29],[6,6,6,9],[6,12,6,15],[6,16,6,17],[6,18,6,19],[5,31,5,35],[4,4,4,29],[3,24,3,25],[3,27,3,29],[3,4,3,11],[3,13,3,15],[3,17,3,18],[4,34,4,47],[5,36,5,48],[7,31,7,35],[7,36,7,48],[6,34,6,35],[6,39,6,40],[6,42,6,43],[0,1,0,33],[1,39,1,40],[3,19,3,22],[1,42,1,43],[2,31,2,33],[2,35,2,36],[2,38,2,39],[3,31,3,33],[6,36,6,37]]}
[null,"請　　　求　　　書　　（取極め用）",null,null,null,null,null,null,null,null,null,null,null,null,null,null,null,null,null,null,null,null,null,null,null,null,null,null,null,null,null,null,null,null,null,null,null,null,null,null,null,null,null,null,null,{"$f":"最終頁請求","v":0},"-",2]
[null,"株式会社　水倉組　御中",null,null,null,null,null,null,null,null,null,null,null,null,null,null,null,null,null,null,null,null,null,null,null,null,null,null,null,null,null,null,null,null,null,null,null,"（西暦）",null,{"$f":"請求書表紙納品検収書入力印刷画面!$AM$2","v":""},null,"年",{"$f":"請求書表紙納品検収書入力印刷画面!$AP$2","v":""},null,"月",{"$f":"請求書表紙納品検収書入力印刷画面!$AS$2","v":""},null,"日","請求"]
[null,"　　下記のとおり請求いたします",null,null,null,null,null,null,null,null,null,null,null,null,null,null,null,null,null,null,null,null,null,null,null,null,null,null,null,null,null,"住      所",null,null,"〒",{"$f":"請求書表紙納品検収書入力印刷画面!$AJ$3","v":""},null,"－",{"$f":"請求書表紙納品検収書入力印刷画面!$AM$3","v":""}]
[null,null,"注　文　№",null,{"$f":"請求書表紙納品検収書入力印刷画面!$E$4","v":""},null,null,null,null,null,null,null,"－",{"$f":"請求書表紙納品検収書入力印刷画面!$M$4","v":""},null,null,"－",{"$f":"請求書表紙納品検収書入力印刷画面!$Q$4","v":""},null,"注文区分",null,null,null,{"$f":"請求書表紙納品検収書入力印刷画面!$W$4","v":"□"},"工事",null,{"$f":"請求書表紙納品検収書入力印刷画面!$Z$4","v":"□"},"資機材",null,null,null,null,null,null,{"$f":"請求書表紙納品検収書入力印刷画面!$AI$4","v":""}]
[null,null,"工事名称",null,{"$f":"請求書表紙納品検収書入力印刷画面!$E$5","v":""},null,null,null,null,null,null,null,null,null,null,null,null,null,null,null,null,null,null,null,null,null,null,null,null,null,null,"会 社 名",null,null,{"$f":"請求書表紙納品検収書入力印刷画面!$AI$5","v":""},null,null,null,null,null,null,null,null,null,null,null,null,null,"㊞"]
[null,null,"注文件名",null,{"$f":"請求書表紙納品検収書入力印刷画面!$E$6","v":""},null,null,null,null,null,null,null,null,null,null,null,null,null,null,null,null,null,null,null,null,null,null,null,null,null,null,"支店・営業所名",null,null,null,null,{"$f":"請求書表紙納品検収書入力印刷画面!AJ6","v":""}]
[null,null,"支払条件",null,null,{"$f":"IF(請求書表紙納品検収書入力印刷画面!$AY$6=TRUE,\"■\",\"□\")","v":"□"},"出来高支払",null,null,null,null,{"$f":"IF(請求書表紙納品検収書入力印刷画面!$AY$7=TRUE,\"■\",\"□\")","v":"□"},"入金後支払",null,null,null,"現金",null,{"$f":"IF(請求書表紙納品検収書入力印刷画面!$Q$7=\"\",\"\",請求書表紙納品検収書入力印刷画面!$Q$7)","v":""},null,"％","手形",null,{"$f":"IF(請求書表紙納品検収書入力印刷画面!$V$7=\"\",\"\",請求書表紙納品検収書入力印刷画面!$V$7)","v":""},null,"％","（サイト",null,{"$f":"IF(請求書表紙納品検収書入力印刷画面!$AA$7=\"\",\"\",請求書表紙納品検収書入力印刷画面!$AA$7)","v":""},"日）",null,null,null,null,"ＴＥＬ",null,{"$f":"請求書表紙納品検収書入力印刷画面!$AI$7","v":""},null,"－",{"$f":"請求書表紙納品検収書入力印刷画面!$AL$7","v":""},null,"－",{"$f":"請求書表紙納品検収書入力印刷画面!$AO$7","v":""}]
[null,null,null,null,null,null,null,null,null,null,null,null,null,null,null,null,null,null,null,null,null,null,null,null,null,null,null,null,null,null,null,"仕入先コード",null,null,null,null,{"$f":"請求書表紙納品検収書入力印刷画面!$AK$8","v":""}]
[]
[null,"工種コード",null,null,"注　文　明　細",null,null,null,null,null,null,null,null,null,null,null,null,"①　現在注文金額",null,null,null,null,null,null,null,null,null,null,null,null,null,null,"③④　今回請求金額",null,null,null,null,null,null,null,null,null,null,null,null,null,null,"完了"]
[null,null,null,null,null,null,null,null,null,null,null,null,null,null,null,null,null,"税別金額",null,null,null,null,"消費税額",null,null,null,null,"税込金額",null,null,null,null,"税別金額",null,null,null,null,"消費税額",null,null,null,null,"税込金額"]
[null,{"$f":"IF(請求書表紙納品検収書入力印刷画面!B30=\"\",\"\",請求書表紙納品検収書入力印刷画面!B30)","v":""},null,null,{"$f":"IF(請求書表紙納品検収書入力印刷画面!E30=\"\",\"\",請求書表紙納品検収書入力印刷画面!E30)","v":""},null,null,null,null,null,null,null,null,null,null,null,null,{"$f":"IF(請求書表紙納品検収書入力印刷画面!Q30=\"\",\"\",請求書表紙納品検収書入力印刷画面!Q30)","v":""},null,null,null,null,{"$f":"IF(請求書表紙納品検収書入力印刷画面!V30=\"\",\"\",請求書表紙納品検収書入力印刷画面!V30)","v":""},null,null,null,null,{"$f":"IF(請求書表紙納品検収書入力印刷画面!AA30=\"\",\"\",請求書表紙納品検収書入力印刷画面!AA30)","v":""},null,null,null,null,{"$f":"IF(請求書表紙納品検収書入力印刷画面!AF30=\"\",\"\",請求書表紙納品検収書入力印刷画面!AF30)","v":""},null,null,null,null,{"$f":"IF(請求書表紙納品検収書入力印刷画面!AK30=\"\",\"\",請求書表紙納品検収書入力印刷画面!AK30)","v":""},null,null,null,null,{"$f":"IF(請求書表紙納品検収書入力印刷画面!AP30=\"\",\"\",請求書表紙納品検収書入力印刷画面!AP30)","v":""},null,null,null,null,{"$f":"IF(請求書表紙納品検収書入力印刷画面!AY30=TRUE,\"■\",\"□\")","v":"□"}]
[null,{"$f":"IF(請求書表紙納品検収書入力印刷画面!B31=\"\",\"\",請求書表紙納品検収書入力印刷画面!B31)","v":""},null,null,{"$f":"IF(請求書表紙納品検収書入力印刷画面!E31=\"\",\"\",請求書表紙納品検収書入力印刷画面!E31)","v":""},null,null,null,null,null,null,null,null,null,null,null,null,{"$f":"IF(請求書表紙納品検収書入力印刷画面!Q31=\"\",\"\",請求書表紙納品検収書入力印刷画面!Q31)","v":""},null,null,null,null,{"$f":"IF(請求書表紙納品検収書入力印刷画面!V31=\"\",\"\",請求書表紙納品検収書入力印刷画面!V31)","v":""},null,null,null,null,{"$f":"IF(請求書表紙納品検収書入力印刷画面!AA31=\"\",\"\",請求書表紙納品検収書入力印刷画面!AA31)","v":""},null,null,null,null,{"$f":"IF(請求書表紙納品検収書入力印刷画面!AF31=\"\",\"\",請求書表紙納品検収書入力印刷画面!AF31)","v":""},null,null,null,null,{"$f":"IF(請求書表紙納品検収書入力印刷画面!AK31=\"\",\"\",請求書表紙納品検収書入力印刷画面!AK31)","v":""},null,null,null,null,{"$f":"IF(請求書表紙納品検収書入力印刷画面!AP31=\"\",\"\",請求書表紙納品検収書入力印刷画面!AP31)","v":""},null,null,null,null,{"$f":"IF(請求書表紙納品検収書入力印刷画面!AY31=TRUE,\"■\",\"□\")","v":"□"}]
[null,{"$f":"IF(請求書表紙納品検収書入力印刷画面!B32=\"\",\"\",請求書表紙納品検収書入力印刷画面!B32)","v":""},null,null,{"$f":"IF(請求書表紙納品検収書入力印刷画面!E32=\"\",\"\",請求書表紙納品検収書入力印刷画面!E32)","v":""},null,null,null,null,null,null,null,null,null,null,null,null,{"$f":"IF(請求書表紙納品検収書入力印刷画面!Q32=\"\",\"\",請求書表紙納品検収書入力印刷画面!Q32)","v":""},null,null,null,null,{"$f":"IF(請求書表紙納品検収書入力印刷画面!V32=\"\",\"\",請求書表紙納品検収書入力印刷画面!V32)","v":""},null,null,null,null,{"$f":"IF(請求書表紙納品検収書入力印刷画面!AA32=\"\",\"\",請求書表紙納品検収書入力印刷画面!AA32)","v":""},null,null,null,null,{"$f":"IF(請求書表紙納品検収書入力印刷画面!AF32=\"\",\"\",請求書表紙納品検収書入力印刷画面!AF32)","v":""},null,null,null,null,{"$f":"IF(請求書表紙納品検収書入力印刷画面!AK32=\"\",\"\",請求書表紙納品検収書入力印刷画面!AK32)","v":""},null,null,null,null,{"$f":"IF(請求書表紙納品検収書入力印刷画面!AP32=\"\",\"\",請求書表紙納品検収書入力印刷画面!AP32)","v":""},null,null,null,null,{"$f":"IF(請求書表紙納品検収書入力印刷画面!AY32=TRUE,\"■\",\"□\")","v":"□"}]
[null,{"$f":"IF(請求書表紙納品検収書入力印刷画面!B33=\"\",\"\",請求書表紙納品検収書入力印刷画面!B33)","v":""},null,null,{"$f":"IF(請求書表紙納品検収書入力印刷画面!E33=\"\",\"\",請求書表紙納品検収書入力印刷画面!E33)","v":""},null,null,null,null,null,null,null,null,null,null,null,null,{"$f":"IF(請求書表紙納品検収書入力印刷画面!Q33=\"\",\"\",請求書表紙納品検収書入力印刷画面!Q33)","v":""},null,null,null,null,{"$f":"IF(請求書表紙納品検収書入力印刷画面!V33=\"\",\"\",請求書表紙納品検収書入力印刷画面!V33)","v":""},null,null,null,null,{"$f":"IF(請求書表紙納品検収書入力印刷画面!AA33=\"\",\"\",請求書表紙納品検収書入力印刷画面!AA33)","v":""},null,null,null,null,{"$f":"IF(請求書表紙納品検収書入力印刷画面!AF33=\"\",\"\",請求書表紙納品検収書入力印刷画面!AF33)","v":""},null,null,null,null,{"$f":"IF(請求書表紙納品検収書入力印刷画面!AK33=\"\",\"\",請求書表紙納品検収書入力印刷画面!AK33)","v":""},null,null,null,null,{"$f":"IF(請求書表紙納品検収書入力印刷画面!AP33=\"\",\"\",請求書表紙納品検収書入力印刷画面!AP33)","v":""},null,null,null,null,{"$f":"IF(請求書表紙納品検収書入力印刷画面!AY33=TRUE,\"■\",\"□\")","v":"□"}]
[null,{"$f":"IF(請求書表紙納品検収書入力印刷画面!B34=\"\",\"\",請求書表紙納品検収書入力印刷画面!B34)","v":""},null,null,{"$f":"IF(請求書表紙納品検収書入力印刷画面!E34=\"\",\"\",請求書表紙納品検収書入力印刷画面!E34)","v":""},null,null,null,null,null,null,null,null,null,null,null,null,{"$f":"IF(請求書表紙納品検収書入力印刷画面!Q34=\"\",\"\",請求書表紙納品検収書入力印刷画面!Q34)","v":""},null,null,null,null,{"$f":"IF(請求書表紙納品検収書入力印刷画面!V34=\"\",\"\",請求書表紙納品検収書入力印刷画面!V34)","v":""},null,null,null,null,{"$f":"IF(請求書表紙納品検収書入力印刷画面!AA34=\"\",\"\",請求書表紙納品検収書入力印刷画面!AA34)","v":""},null,null,null,null,{"$f":"IF(請求書表紙納品検収書入力印刷画面!AF34=\"\",\"\",請求書表紙納品検収書入力印刷画面!AF34)","v":""},null,null,null,null,{"$f":"IF(請求書表紙納品検収書入力印刷画面!AK34=\"\",\"\",請求書表紙納品検収書入力印刷画面!AK34)","v":""},null,null,null,null,{"$f":"IF(請求書表紙納品検収書入力印刷画面!AP34=\"\",\"\",請求書表紙納品検収書入力印刷画面!AP34)","v":""},null,null,null,null,{"$f":"IF(請求書表紙納品検収書入力印刷画面!AY34=TRUE,\"■\",\"□\")","v":"□"}]
[null,{"$f":"IF(請求書表紙納品検収書入力印刷画面!B35=\"\",\"\",請求書表紙納品検収書入力印刷画面!B35)","v":""},null,null,{"$f":"IF(請求書表紙納品検収書入力印刷画面!E35=\"\",\"\",請求書表紙納品検収書入力印刷画面!E35)","v":""},null,null,null,null,null,null,null,null,null,null,null,null,{"$f":"IF(請求書表紙納品検収書入力印刷画面!Q35=\"\",\"\",請求書表紙納品検収書入力印刷画面!Q35)","v":""},null,null,null,null,{"$f":"IF(請求書表紙納品検収書入力印刷画面!V35=\"\",\"\",請求書表紙納品検収書入力印刷画面!V35)","v":""},null,null,null,null,{"$f":"IF(請求書表紙納品検収書入力印刷画面!AA35=\"\",\"\",請求書表紙納品検収書入力印刷画面!AA35)","v":""},null,null,null,null,{"$f":"IF(請求書表紙納品検収書入力印刷画面!AF35=\"\",\"\",請求書表紙納品検収書入力印刷画面!AF35)","v":""},null,null,null,null,{"$f":"IF(請求書表紙納品検収書入力印刷画面!AK35=\"\",\"\",請求書表紙納品検収書入力印刷画面!AK35)","v":""},null,null,null,null,{"$f":"IF(請求書表紙納品検収書入力印刷画面!AP35=\"\",\"\",請求書表紙納品検収書入力印刷画面!AP35)","v":""},null,null,null,null,{"$f":"IF(請求書表紙納品検収書入力印刷画面!AY35=TRUE,\"■\",\"□\")","v":"□"}]
[null,{"$f":"IF(請求書表紙納品検収書入力印刷画面!B36=\"\",\"\",請求書表紙納品検収書入力印刷画面!B36)","v":""},null,null,{"$f":"IF(請求書表紙納品検収書入力印刷画面!E36=\"\",\"\",請求書表紙納品検収書入力印刷画面!E36)","v":""},null,null,null,null,null,null,null,null,null,null,null,null,{"$f":"IF(請求書表紙納品検収書入力印刷画面!Q36=\"\",\"\",請求書表紙納品検収書入力印刷画面!Q36)","v":""},null,null,null,null,{"$f":"IF(請求書表紙納品検収書入力印刷画面!V36=\"\",\"\",請求書表紙納品検収書入力印刷画面!V36)","v":""},null,null,null,null,{"$f":"IF(請求書表紙納品検収書入力印刷画面!AA36=\"\",\"\",請求書表紙納品検収書入力印刷画面!AA36)","v":""},null,null,null,null,{"$f":"IF(請求書表紙納品検収書入力印刷画面!AF36=\"\",\"\",請求書表紙納品検収書入力印刷画面!AF36)","v":""},null,null,null,null,{"$f":"IF(請求書表紙納品検収書入力印刷画面!AK36=\"\",\"\",請求書表紙納品検収書入力印刷画面!AK36)","v":""},null,null,null,null,{"$f":"IF(請求書表紙納品検収書入力印刷画面!AP36=\"\",\"\",請求書表紙納品検収書入力印刷画面!AP36)","v":""},null,null,null,null,{"$f":"IF(請求書表紙納品検収書入力印刷画面!AY36=TRUE,\"■\",\"□\")","v":"□"}]
[null,{"$f":"IF(請求書表紙納品検収書入力印刷画面!B37=\"\",\"\",請求書表紙納品検収書入力印刷画面!B37)","v":""},null,null,{"$f":"IF(請求書表紙納品検収書入力印刷画面!E37=\"\",\"\",請求書表紙納品検収書入力印刷画面!E37)","v":""},null,null,null,null,null,null,null,null,null,null,null,null,{"$f":"IF(請求書表紙納品検収書入力印刷画面!Q37=\"\",\"\",請求書表紙納品検収書入力印刷画面!Q37)","v":""},null,null,null,null,{"$f":"IF(請求書表紙納品検収書入力印刷画面!V37=\"\",\"\",請求書表紙納品検収書入力印刷画面!V37)","v":""},null,null,null,null,{"$f":"IF(請求書表紙納品検収書入力印刷画面!AA37=\"\",\"\",請求書表紙納品検収書入力印刷画面!AA37)","v":""},null,null,null,null,{"$f":"IF(請求書表紙納品検収書入力印刷画面!AF37=\"\",\"\",請求書表紙納品検収書入力印刷画面!AF37)","v":""},null,null,null,null,{"$f":"IF(請求書表紙納品検収書入力印刷画面!AK37=\"\",\"\",請求書表紙納品検収書入力印刷画面!AK37)","v":""},null,null,null,null,{"$f":"IF(請求書表紙納品検収書入力印刷画面!AP37=\"\",\"\",請求書表紙納品検収書入力印刷画面!AP37)","v":""},null,null,null,null,{"$f":"IF(請求書表紙納品検収書入力印刷画面!AY37=TRUE,\"■\",\"□\")","v":"□"}]
[null,null,null,null,null,null,null,null,null,null,null,null,"計",null,null,null,null,{"$f":"IF(AT1=AV1,請求書表紙納品検収書入力印刷画面!$Q$47,\"－－－－－－ \")","v":"－－－－－－ "},null,null,null,null,{"$f":"IF(AT1=AV1,請求書表紙納品検収書入力印刷画面!$V$47,\"－－－－－－ \")","v":"－－－－－－ "},null,null,null,null,{"$f":"IF(AT1=AV1,請求書表紙納品検収書入力印刷画面!$AA$47,\"－－－－－－－ \")","v":"－－－－－－－ "},null,null,null,null,{"$f":"IF(AT1=AV1,請求書表紙納品検収書入力印刷画面!$AF$47,\"－－－－－－ \")","v":"－－－－－－ "},null,null,null,null,{"$f":"IF(AT1=AV1,請求書表紙納品検収書入力印刷画面!$AK$47,\"－－－－－－ \")","v":"－－－－－－ "},null,null,null,null,{"$f":"IF(AT1=AV1,請求書表紙納品検収書入力印刷画面!$AP$47,\"－－－－－－－ \")","v":"－－－－－－－ "}]

{"sheet":"請求書表紙印刷（取極め用）3","index":14,"n_rows":20,"n_cols":49,"rows_kept":20,"cut":false,"hidden":true,"merged":[[11,42,11,46],[19,42,19,46],[18,27,18,31],[18,32,18,36],[18,37,18,41],[18,42,18,46],[15,42,15,46],[17,27,17,31],[17,32,17,36],[17,37,17,41],[17,42,17,46],[19,12,19,16],[19,17,19,21],[19,22,19,26],[19,27,19,31],[19,32,19,36],[19,37,19,41],[17,47,17,49],[18,1,18,3],[18,4,18,16],[18,17,18,21],[18,22,18,26],[18,47,18,49],[17,1,17,3],[17,4,17,16],[17,17,17,21],[17,22,17,26],[15,47,15,49],[16,1,16,3],[16,4,16,16],[16,17,16,21],[16,22,16,26],[16,27,16,31],[16,32,16,36],[16,37,16,41],[16,42,16,46],[16,47,16,49],[15,17,15,21],[15,22,15,26],[14,1,14,3],[14,4,14,16],[15,1,15,3],[15,4,15,16],[13,37,13,41],[13,42,13,46],[15,27,15,31],[15,32,15,36],[15,37,15,41],[14,37,14,41],[14,42,14,46],[14,27,14,31],[14,32,14,36],[13,4,13,16],[13,17,13,21],[13,22,13,26],[9,1,10,3],[9,4,10,16],[9,17,9,31],[9,32,9,46],[9,47,10,49],[10,17,10,21],[10,22,10,26],[10,27,10,31],[10,32,10,36],[10,42,10,46],[10,37,10,41],[14,47,14,49],[11,47,11,49],[12,1,12,3],[12,4,12,16],[12,17,12,21],[12,22,12,26],[13,1,13,3],[11,1,11,3],[11,4,11,16],[11,17,11,21],[11,22,11,26],[11,27,11,31],[11,32,11,36],[12,47,12,49],[13,47,13,49],[12,27,12,31],[12,32,12,36],[12,37,12,41],[12,42,12,46],[13,27,13,31],[11,37,11,41],[14,17,14,21],[13,32,13,36],[14,22,14,26],[6,21,6,22],[6,23,6,24],[5,4,5,29],[6,6,6,9],[6,12,6,15],[6,16,6,17],[6,18,6,19],[3,31,3,33],[4,4,4,29],[4,31,4,33],[3,24,3,25],[3,27,3,29],[3,4,3,11],[3,13,3,15],[3,17,3,18],[3,34,3,49],[0,1,0,33],[3,19,3,22],[2,35,2,36],[2,38,2,39],[2,31,2,33],[1,39,1,40],[1,42,1,43],[1,45,1,46],[5,36,5,48],[7,31,7,35],[7,36,7,48],[6,34,6,35],[6,36,6,37],[6,39,6,40],[6,42,6,43],[5,31,5,35],[4,34,4,47]]}
[null,"請　　　求　　　書　　（取極め用）",null,null,null,null,null,null,null,null,null,null,null,null,null,null,null,null,null,null,null,null,null,null,null,null,null,null,null,null,null,null,null,null,null,null,null,null,null,null,null,null,null,null,null,{"$f":"最終頁請求","v":0},"-",3]
[null,"株式会社　水倉組　御中",null,null,null,null,null,null,null,null,null,null,null,null,null,null,null,null,null,null,null,null,null,null,null,null,null,null,null,null,null,null,null,null,null,null,null,"（西暦）",null,{"$f":"請求書表紙納品検収書入力印刷画面!$AM$2","v":""},null,"年",{"$f":"請求書表紙納品検収書入力印刷画面!$AP$2","v":""},null,"月",{"$f":"請求書表紙納品検収書入力印刷画面!$AS$2","v":""},null,"日","請求"]
[null,"　　下記のとおり請求いたします",null,null,null,null,null,null,null,null,null,null,null,null,null,null,null,null,null,null,null,null,null,null,null,null,null,null,null,null,null,"住      所",null,null,"〒",{"$f":"請求書表紙納品検収書入力印刷画面!$AJ$3","v":""},null,"－",{"$f":"請求書表紙納品検収書入力印刷画面!$AM$3","v":""}]
[null,null,"注　文　№",null,{"$f":"請求書表紙納品検収書入力印刷画面!$E$4","v":""},null,null,null,null,null,null,null,"－",{"$f":"請求書表紙納品検収書入力印刷画面!$M$4","v":""},null,null,"－",{"$f":"請求書表紙納品検収書入力印刷画面!$Q$4","v":""},null,"注文区分",null,null,null,{"$f":"請求書表紙納品検収書入力印刷画面!$W$4","v":"□"},"工事",null,{"$f":"請求書表紙納品検収書入力印刷画面!$Z$4","v":"□"},"資機材",null,null,null,null,null,null,{"$f":"請求書表紙納品検収書入力印刷画面!$AI$4","v":""}]
[null,null,"工事名称",null,{"$f":"請求書表紙納品検収書入力印刷画面!$E$5","v":""},null,null,null,null,null,null,null,null,null,null,null,null,null,null,null,null,null,null,null,null,null,null,null,null,null,null,"会 社 名",null,null,{"$f":"請求書表紙納品検収書入力印刷画面!$AI$5","v":""},null,null,null,null,null,null,null,null,null,null,null,null,null,"㊞"]
[null,null,"注文件名",null,{"$f":"請求書表紙納品検収書入力印刷画面!$E$6","v":""},null,null,null,null,null,null,null,null,null,null,null,null,null,null,null,null,null,null,null,null,null,null,null,null,null,null,"支店・営業所名",null,null,null,null,{"$f":"請求書表紙納品検収書入力印刷画面!AJ6","v":""}]
[null,null,"支払条件",null,null,{"$f":"IF(請求書表紙納品検収書入力印刷画面!$AY$6=TRUE,\"■\",\"□\")","v":"□"},"出来高支払",null,null,null,null,{"$f":"IF(請求書表紙納品検収書入力印刷画面!$AY$7=TRUE,\"■\",\"□\")","v":"□"},"入金後支払",null,null,null,"現金",null,{"$f":"IF(請求書表紙納品検収書入力印刷画面!$Q$7=\"\",\"\",請求書表紙納品検収書入力印刷画面!$Q$7)","v":""},null,"％","手形",null,{"$f":"IF(請求書表紙納品検収書入力印刷画面!$V$7=\"\",\"\",請求書表紙納品検収書入力印刷画面!$V$7)","v":""},null,"％","（サイト",null,{"$f":"IF(請求書表紙納品検収書入力印刷画面!$AA$7=\"\",\"\",請求書表紙納品検収書入力印刷画面!$AA$7)","v":""},"日）",null,null,null,null,"ＴＥＬ",null,{"$f":"請求書表紙納品検収書入力印刷画面!$AI$7","v":""},null,"－",{"$f":"請求書表紙納品検収書入力印刷画面!$AL$7","v":""},null,"－",{"$f":"請求書表紙納品検収書入力印刷画面!$AO$7","v":""}]
[null,null,null,null,null,null,null,null,null,null,null,null,null,null,null,null,null,null,null,null,null,null,null,null,null,null,null,null,null,null,null,"仕入先コード",null,null,null,null,{"$f":"請求書表紙納品検収書入力印刷画面!$AK$8","v":""}]
[]
[null,"工種コード",null,null,"注　文　明　細",null,null,null,null,null,null,null,null,null,null,null,null,"①　現在注文金額",null,null,null,null,null,null,null,null,null,null,null,null,null,null,"③④　今回請求金額",null,null,null,null,null,null,null,null,null,null,null,null,null,null,"完了"]
[null,null,null,null,null,null,null,null,null,null,null,null,null,null,null,null,null,"税別金額",null,null,null,null,"消費税額",null,null,null,null,"税込金額",null,null,null,null,"税別金額",null,null,null,null,"消費税額",null,null,null,null,"税込金額"]
[null,{"$f":"IF(請求書表紙納品検収書入力印刷画面!B38=\"\",\"\",請求書表紙納品検収書入力印刷画面!B38)","v":""},null,null,{"$f":"IF(請求書表紙納品検収書入力印刷画面!E38=\"\",\"\",請求書表紙納品検収書入力印刷画面!E38)","v":""},null,null,null,null,null,null,null,null,null,null,null,null,{"$f":"IF(請求書表紙納品検収書入力印刷画面!Q38=\"\",\"\",請求書表紙納品検収書入力印刷画面!Q38)","v":""},null,null,null,null,{"$f":"IF(請求書表紙納品検収書入力印刷画面!V38=\"\",\"\",請求書表紙納品検収書入力印刷画面!V38)","v":""},null,null,null,null,{"$f":"IF(請求書表紙納品検収書入力印刷画面!AA38=\"\",\"\",請求書表紙納品検収書入力印刷画面!AA38)","v":""},null,null,null,null,{"$f":"IF(請求書表紙納品検収書入力印刷画面!AF38=\"\",\"\",請求書表紙納品検収書入力印刷画面!AF38)","v":""},null,null,null,null,{"$f":"IF(請求書表紙納品検収書入力印刷画面!AK38=\"\",\"\",請求書表紙納品検収書入力印刷画面!AK38)","v":""},null,null,null,null,{"$f":"IF(請求書表紙納品検収書入力印刷画面!AP38=\"\",\"\",請求書表紙納品検収書入力印刷画面!AP38)","v":""},null,null,null,null,{"$f":"IF(請求書表紙納品検収書入力印刷画面!AY38=TRUE,\"■\",\"□\")","v":"□"}]
[null,{"$f":"IF(請求書表紙納品検収書入力印刷画面!B39=\"\",\"\",請求書表紙納品検収書入力印刷画面!B39)","v":""},null,null,{"$f":"IF(請求書表紙納品検収書入力印刷画面!E39=\"\",\"\",請求書表紙納品検収書入力印刷画面!E39)","v":""},null,null,null,null,null,null,null,null,null,null,null,null,{"$f":"IF(請求書表紙納品検収書入力印刷画面!Q39=\"\",\"\",請求書表紙納品検収書入力印刷画面!Q39)","v":""},null,null,null,null,{"$f":"IF(請求書表紙納品検収書入力印刷画面!V39=\"\",\"\",請求書表紙納品検収書入力印刷画面!V39)","v":""},null,null,null,null,{"$f":"IF(請求書表紙納品検収書入力印刷画面!AA39=\"\",\"\",請求書表紙納品検収書入力印刷画面!AA39)","v":""},null,null,null,null,{"$f":"IF(請求書表紙納品検収書入力印刷画面!AF39=\"\",\"\",請求書表紙納品検収書入力印刷画面!AF39)","v":""},null,null,null,null,{"$f":"IF(請求書表紙納品検収書入力印刷画面!AK39=\"\",\"\",請求書表紙納品検収書入力印刷画面!AK39)","v":""},null,null,null,null,{"$f":"IF(請求書表紙納品検収書入力印刷画面!AP39=\"\",\"\",請求書表紙納品検収書入力印刷画面!AP39)","v":""},null,null,null,null,{"$f":"IF(請求書表紙納品検収書入力印刷画面!AY39=TRUE,\"■\",\"□\")","v":"□"}]
[null,{"$f":"IF(請求書表紙納品検収書入力印刷画面!B40=\"\",\"\",請求書表紙納品検収書入力印刷画面!B40)","v":""},null,null,{"$f":"IF(請求書表紙納品検収書入力印刷画面!E40=\"\",\"\",請求書表紙納品検収書入力印刷画面!E40)","v":""},null,null,null,null,null,null,null,null,null,null,null,null,{"$f":"IF(請求書表紙納品検収書入力印刷画面!Q40=\"\",\"\",請求書表紙納品検収書入力印刷画面!Q40)","v":""},null,null,null,null,{"$f":"IF(請求書表紙納品検収書入力印刷画面!V40=\"\",\"\",請求書表紙納品検収書入力印刷画面!V40)","v":""},null,null,null,null,{"$f":"IF(請求書表紙納品検収書入力印刷画面!AA40=\"\",\"\",請求書表紙納品検収書入力印刷画面!AA40)","v":""},null,null,null,null,{"$f":"IF(請求書表紙納品検収書入力印刷画面!AF40=\"\",\"\",請求書表紙納品検収書入力印刷画面!AF40)","v":""},null,null,null,null,{"$f":"IF(請求書表紙納品検収書入力印刷画面!AK40=\"\",\"\",請求書表紙納品検収書入力印刷画面!AK40)","v":""},null,null,null,null,{"$f":"IF(請求書表紙納品検収書入力印刷画面!AP40=\"\",\"\",請求書表紙納品検収書入力印刷画面!AP40)","v":""},null,null,null,null,{"$f":"IF(請求書表紙納品検収書入力印刷画面!AY40=TRUE,\"■\",\"□\")","v":"□"}]
[null,{"$f":"IF(請求書表紙納品検収書入力印刷画面!B41=\"\",\"\",請求書表紙納品検収書入力印刷画面!B41)","v":""},null,null,{"$f":"IF(請求書表紙納品検収書入力印刷画面!E41=\"\",\"\",請求書表紙納品検収書入力印刷画面!E41)","v":""},null,null,null,null,null,null,null,null,null,null,null,null,{"$f":"IF(請求書表紙納品検収書入力印刷画面!Q41=\"\",\"\",請求書表紙納品検収書入力印刷画面!Q41)","v":""},null,null,null,null,{"$f":"IF(請求書表紙納品検収書入力印刷画面!V41=\"\",\"\",請求書表紙納品検収書入力印刷画面!V41)","v":""},null,null,null,null,{"$f":"IF(請求書表紙納品検収書入力印刷画面!AA41=\"\",\"\",請求書表紙納品検収書入力印刷画面!AA41)","v":""},null,null,null,null,{"$f":"IF(請求書表紙納品検収書入力印刷画面!AF41=\"\",\"\",請求書表紙納品検収書入力印刷画面!AF41)","v":""},null,null,null,null,{"$f":"IF(請求書表紙納品検収書入力印刷画面!AK41=\"\",\"\",請求書表紙納品検収書入力印刷画面!AK41)","v":""},null,null,null,null,{"$f":"IF(請求書表紙納品検収書入力印刷画面!AP41=\"\",\"\",請求書表紙納品検収書入力印刷画面!AP41)","v":""},null,null,null,null,{"$f":"IF(請求書表紙納品検収書入力印刷画面!AY41=TRUE,\"■\",\"□\")","v":"□"}]
[null,{"$f":"IF(請求書表紙納品検収書入力印刷画面!B42=\"\",\"\",請求書表紙納品検収書入力印刷画面!B42)","v":""},null,null,{"$f":"IF(請求書表紙納品検収書入力印刷画面!E42=\"\",\"\",請求書表紙納品検収書入力印刷画面!E42)","v":""},null,null,null,null,null,null,null,null,null,null,null,null,{"$f":"IF(請求書表紙納品検収書入力印刷画面!Q42=\"\",\"\",請求書表紙納品検収書入力印刷画面!Q42)","v":""},null,null,null,null,{"$f":"IF(請求書表紙納品検収書入力印刷画面!V42=\"\",\"\",請求書表紙納品検収書入力印刷画面!V42)","v":""},null,null,null,null,{"$f":"IF(請求書表紙納品検収書入力印刷画面!AA42=\"\",\"\",請求書表紙納品検収書入力印刷画面!AA42)","v":""},null,null,null,null,{"$f":"IF(請求書表紙納品検収書入力印刷画面!AF42=\"\",\"\",請求書表紙納品検収書入力印刷画面!AF42)","v":""},null,null,null,null,{"$f":"IF(請求書表紙納品検収書入力印刷画面!AK42=\"\",\"\",請求書表紙納品検収書入力印刷画面!AK42)","v":""},null,null,null,null,{"$f":"IF(請求書表紙納品検収書入力印刷画面!AP42=\"\",\"\",請求書表紙納品検収書入力印刷画面!AP42)","v":""},null,null,null,null,{"$f":"IF(請求書表紙納品検収書入力印刷画面!AY42=TRUE,\"■\",\"□\")","v":"□"}]
[null,{"$f":"IF(請求書表紙納品検収書入力印刷画面!B43=\"\",\"\",請求書表紙納品検収書入力印刷画面!B43)","v":""},null,null,{"$f":"IF(請求書表紙納品検収書入力印刷画面!E43=\"\",\"\",請求書表紙納品検収書入力印刷画面!E43)","v":""},null,null,null,null,null,null,null,null,null,null,null,null,{"$f":"IF(請求書表紙納品検収書入力印刷画面!Q43=\"\",\"\",請求書表紙納品検収書入力印刷画面!Q43)","v":""},null,null,null,null,{"$f":"IF(請求書表紙納品検収書入力印刷画面!V43=\"\",\"\",請求書表紙納品検収書入力印刷画面!V43)","v":""},null,null,null,null,{"$f":"IF(請求書表紙納品検収書入力印刷画面!AA43=\"\",\"\",請求書表紙納品検収書入力印刷画面!AA43)","v":""},null,null,null,null,{"$f":"IF(請求書表紙納品検収書入力印刷画面!AF43=\"\",\"\",請求書表紙納品検収書入力印刷画面!AF43)","v":""},null,null,null,null,{"$f":"IF(請求書表紙納品検収書入力印刷画面!AK43=\"\",\"\",請求書表紙納品検収書入力印刷画面!AK43)","v":""},null,null,null,null,{"$f":"IF(請求書表紙納品検収書入力印刷画面!AP43=\"\",\"\",請求書表紙納品検収書入力印刷画面!AP43)","v":""},null,null,null,null,{"$f":"IF(請求書表紙納品検収書入力印刷画面!AY43=TRUE,\"■\",\"□\")","v":"□"}]
[null,{"$f":"IF(請求書表紙納品検収書入力印刷画面!B44=\"\",\"\",請求書表紙納品検収書入力印刷画面!B44)","v":""},null,null,{"$f":"IF(請求書表紙納品検収書入力印刷画面!E44=\"\",\"\",請求書表紙納品検収書入力印刷画面!E44)","v":""},null,null,null,null,null,null,null,null,null,null,null,null,{"$f":"IF(請求書表紙納品検収書入力印刷画面!Q44=\"\",\"\",請求書表紙納品検収書入力印刷画面!Q44)","v":""},null,null,null,null,{"$f":"IF(請求書表紙納品検収書入力印刷画面!V44=\"\",\"\",請求書表紙納品検収書入力印刷画面!V44)","v":""},null,null,null,null,{"$f":"IF(請求書表紙納品検収書入力印刷画面!AA44=\"\",\"\",請求書表紙納品検収書入力印刷画面!AA44)","v":""},null,null,null,null,{"$f":"IF(請求書表紙納品検収書入力印刷画面!AF44=\"\",\"\",請求書表紙納品検収書入力印刷画面!AF44)","v":""},null,null,null,null,{"$f":"IF(請求書表紙納品検収書入力印刷画面!AK44=\"\",\"\",請求書表紙納品検収書入力印刷画面!AK44)","v":""},null,null,null,null,{"$f":"IF(請求書表紙納品検収書入力印刷画面!AP44=\"\",\"\",請求書表紙納品検収書入力印刷画面!AP44)","v":""},null,null,null,null,{"$f":"IF(請求書表紙納品検収書入力印刷画面!AY44=TRUE,\"■\",\"□\")","v":"□"}]
[null,{"$f":"IF(請求書表紙納品検収書入力印刷画面!B45=\"\",\"\",請求書表紙納品検収書入力印刷画面!B45)","v":""},null,null,{"$f":"IF(請求書表紙納品検収書入力印刷画面!E45=\"\",\"\",請求書表紙納品検収書入力印刷画面!E45)","v":""},null,null,null,null,null,null,null,null,null,null,null,null,{"$f":"IF(請求書表紙納品検収書入力印刷画面!Q45=\"\",\"\",請求書表紙納品検収書入力印刷画面!Q45)","v":""},null,null,null,null,{"$f":"IF(請求書表紙納品検収書入力印刷画面!V45=\"\",\"\",請求書表紙納品検収書入力印刷画面!V45)","v":""},null,null,null,null,{"$f":"IF(請求書表紙納品検収書入力印刷画面!AA45=\"\",\"\",請求書表紙納品検収書入力印刷画面!AA45)","v":""},null,null,null,null,{"$f":"IF(請求書表紙納品検収書入力印刷画面!AF45=\"\",\"\",請求書表紙納品検収書入力印刷画面!AF45)","v":""},null,null,null,null,{"$f":"IF(請求書表紙納品検収書入力印刷画面!AK45=\"\",\"\",請求書表紙納品検収書入力印刷画面!AK45)","v":""},null,null,null,null,{"$f":"IF(請求書表紙納品検収書入力印刷画面!AP45=\"\",\"\",請求書表紙納品検収書入力印刷画面!AP45)","v":""},null,null,null,null,{"$f":"IF(請求書表紙納品検収書入力印刷画面!AY45=TRUE,\"■\",\"□\")","v":"□"}]
[null,null,null,null,null,null,null,null,null,null,null,null,"計",null,null,null,null,{"$f":"IF(AT1=AV1,請求書表紙納品検収書入力印刷画面!$Q$47,\"－－－－－－ \")","v":"－－－－－－ "},null,null,null,null,{"$f":"IF(AT1=AV1,請求書表紙納品検収書入力印刷画面!$V$47,\"－－－－－－ \")","v":"－－－－－－ "},null,null,null,null,{"$f":"IF(AT1=AV1,請求書表紙納品検収書入力印刷画面!$AA$47,\"－－－－－－－ \")","v":"－－－－－－－ "},null,null,null,null,{"$f":"IF(AT1=AV1,請求書表紙納品検収書入力印刷画面!$AF$47,\"－－－－－－ \")","v":"－－－－－－ "},null,null,null,null,{"$f":"IF(AT1=AV1,請求書表紙納品検収書入力印刷画面!$AK$47,\"－－－－－－ \")","v":"－－－－－－ "},null,null,null,null,{"$f":"IF(AT1=AV1,請求書表紙納品検収書入力印刷画面!$AP$47,\"－－－－－－－ \")","v":"－－－－－－－ "}]

{"sheet":"納品・検収書印刷（取極め用）1","index":15,"n_rows":26,"n_cols":49,"rows_kept":26,"cut":false,"hidden":true,"merged":[[1,1,1,31],[0,39,0,49],[1,36,1,49],[4,32,4,34],[4,35,4,49],[5,32,5,34],[6,38,6,48],[2,42,2,43],[4,13,4,15],[4,17,4,18],[4,19,4,22],[3,32,3,34],[6,32,6,37],[3,36,3,37],[2,45,2,46],[2,32,2,35],[2,39,2,40],[3,39,3,40],[7,16,7,17],[7,18,7,19],[7,21,7,22],[5,4,5,29],[6,4,6,29],[7,38,7,45],[10,47,11,49],[11,17,11,21],[11,22,11,26],[11,27,11,31],[11,32,11,36],[11,37,11,41],[11,42,11,46],[10,4,11,16],[10,17,10,31],[10,32,10,46],[7,32,7,36],[7,23,7,24],[5,35,5,48],[12,37,12,41],[12,42,12,46],[12,17,12,21],[12,22,12,26],[12,27,12,31],[12,32,12,36],[10,1,11,3],[12,47,12,49],[13,1,13,3],[13,4,13,16],[13,17,13,21],[13,22,13,26],[13,27,13,31],[13,32,13,36],[12,1,12,3],[12,4,12,16],[13,37,13,41],[13,42,13,46],[13,47,13,49],[16,4,16,16],[15,1,15,3],[15,4,15,16],[15,17,15,21],[14,27,14,31],[14,32,14,36],[15,22,15,26],[14,22,14,26],[16,47,16,49],[15,47,15,49],[14,37,14,41],[14,42,14,46],[14,47,14,49],[24,2,24,7],[24,9,24,14],[22,2,22,7],[22,9,22,14],[22,15,22,19],[22,20,22,24],[17,42,17,46],[14,1,14,3],[14,4,14,16],[14,17,14,21],[16,1,16,3],[16,17,16,21],[16,22,16,26],[17,12,17,16],[17,17,17,21],[17,22,17,26],[15,27,15,31],[15,32,15,36],[15,37,15,41],[15,42,15,46],[16,27,16,31],[16,32,16,36],[16,37,16,41],[16,42,16,46],[22,41,22,49],[23,28,23,32],[23,33,24,40],[23,41,24,47],[22,33,22,40],[24,28,24,32],[22,28,22,32],[23,20,23,24],[17,37,17,41],[17,27,17,31],[25,31,25,49],[4,24,4,25],[4,27,4,29],[7,6,7,9],[7,12,7,15],[4,4,4,11],[25,2,25,7],[23,48,24,49],[8,32,8,36],[8,37,8,49],[25,28,25,30],[23,2,23,7],[23,9,23,14],[24,20,24,24],[24,15,24,19],[22,27,25,27],[23,15,23,19],[25,20,25,24],[25,9,25,14],[25,15,25,19],[21,9,21,14],[21,15,21,19],[21,20,21,24],[17,32,17,36],[19,1,19,8],[19,9,19,14],[19,15,19,19],[19,20,19,24],[20,2,20,7],[20,9,20,14],[20,15,20,19],[20,20,20,24],[21,2,21,7]]}
[null,null,null,null,null,null,null,null,null,null,null,null,null,null,null,null,null,null,null,null,null,null,null,null,null,null,null,null,null,null,null,null,{"$f":"最終頁請求","v":0},"-",1,null,"登録番号",null,null,{"$f":"請求書表紙納品検収書入力印刷画面!$E$8","v":0}]
[null,"納　品　・　検　収　書　　（取極め用）",null,null,null,null,null,null,null,null,null,null,null,null,null,null,null,null,null,null,null,null,null,null,null,null,null,null,null,null,null,null,null,null,null,null,"適格請求発行事業者ではない場合はチェックしてください。■チェック"]
[null,"株式会社　水倉組　御中",null,null,null,null,null,null,null,null,null,null,null,null,null,null,null,null,null,null,null,null,null,null,null,null,null,null,null,null,null,null,"納品日",null,null,null,null,"（西暦）",null,{"$f":"請求書表紙納品検収書入力印刷画面!$AM$2","v":""},null,"年",{"$f":"請求書表紙納品検収書入力印刷画面!$AP$2","v":""},null,"月",{"$f":"請求書表紙納品検収書入力印刷画面!$AS$2","v":""},null,"日"]
[null,"　　下記のとおり納品いたしますので検収をお願いいたします。",null,null,null,null,null,null,null,null,null,null,null,null,null,null,null,null,null,null,null,null,null,null,null,null,null,null,null,null,null,null,"住      所",null,null,"〒",{"$f":"請求書表紙納品検収書入力印刷画面!$AJ$3","v":""},null,"－",{"$f":"請求書表紙納品検収書入力印刷画面!$AM$3","v":""}]
[null,null,"注　文　№",null,{"$f":"請求書表紙納品検収書入力印刷画面!$E$4","v":""},null,null,null,null,null,null,null,"－",{"$f":"請求書表紙納品検収書入力印刷画面!$M$4","v":""},null,null,"－",{"$f":"請求書表紙納品検収書入力印刷画面!$Q$4","v":""},null,"注文区分",null,null,null,{"$f":"請求書表紙納品検収書入力印刷画面!$W$4","v":"□"},"工事",null,{"$f":"請求書表紙納品検収書入力印刷画面!$Z$4","v":"□"},"資機材",null,null,null,null,null,null,null,{"$f":"請求書表紙納品検収書入力印刷画面!$AI$4","v":""}]
[null,null,"工事名称",null,{"$f":"請求書表紙納品検収書入力印刷画面!$E$5","v":""},null,null,null,null,null,null,null,null,null,null,null,null,null,null,null,null,null,null,null,null,null,null,null,null,null,null,null,"会 社 名",null,null,{"$f":"請求書表紙納品検収書入力印刷画面!$AI$5","v":""}]
[null,null,"注文件名",null,{"$f":"請求書表紙納品検収書入力印刷画面!$E$6","v":""},null,null,null,null,null,null,null,null,null,null,null,null,null,null,null,null,null,null,null,null,null,null,null,null,null,null,null,"支店・営業所名",null,null,null,null,null,{"$f":"請求書表紙納品検収書入力印刷画面!AJ6","v":""}]
[null,null,"支払条件",null,null,{"$f":"IF(請求書表紙納品検収書入力印刷画面!$AY$6=TRUE,\"■\",\"□\")","v":"□"},"出来高支払",null,null,null,null,{"$f":"IF(請求書表紙納品検収書入力印刷画面!$AY$7=TRUE,\"■\",\"□\")","v":"□"},"入金後支払",null,null,null,"現金",null,{"$f":"IF(請求書表紙納品検収書入力印刷画面!$Q$7=\"\",\"\",請求書表紙納品検収書入力印刷画面!$Q$7)","v":""},null,"％","手形",null,{"$f":"IF(請求書表紙納品検収書入力印刷画面!$V$7=\"\",\"\",請求書表紙納品検収書入力印刷画面!$V$7)","v":""},null,"％","（サイト",null,{"$f":"IF(請求書表紙納品検収書入力印刷画面!$AA$7=\"\",\"\",請求書表紙納品検収書入力印刷画面!$AA$7)","v":""},"日）",null,null,"   現 場 担 当 者",null,null,null,null,null,null,null,null,null,null,null,null,null,"印"]
[null,null,null,null,null,null,null,null,null,null,null,null,null,null,null,null,null,null,null,null,null,null,null,null,null,null,null,null,null,null,null,null,"仕入先コード",null,null,null,null,{"$f":"請求書表紙納品検収書入力印刷画面!$AK$8","v":""}]
[]
[null,"工種コード",null,null,"注　文　明　細",null,null,null,null,null,null,null,null,null,null,null,null,"①　現在注文金額",null,null,null,null,null,null,null,null,null,null,null,null,null,null,"③④　今回請求金額",null,null,null,null,null,null,null,null,null,null,null,null,null,null,"完了"]
[null,null,null,null,null,null,null,null,null,null,null,null,null,null,null,null,null,"税別金額",null,null,null,null,"消費税額",null,null,null,null,"税込金額",null,null,null,null,"税別金額",null,null,null,null,"消費税額",null,null,null,null,"税込金額"]
[null,{"$f":"IF(請求書表紙納品検収書入力印刷画面!B22=\"\",\"\",請求書表紙納品検収書入力印刷画面!B22)","v":""},null,null,{"$f":"IF(請求書表紙納品検収書入力印刷画面!E22=\"\",\"\",請求書表紙納品検収書入力印刷画面!E22)","v":""},null,null,null,null,null,null,null,null,null,null,null,null,{"$f":"IF(請求書表紙納品検収書入力印刷画面!Q22=\"\",\"\",請求書表紙納品検収書入力印刷画面!Q22)","v":""},null,null,null,null,{"$f":"IF(請求書表紙納品検収書入力印刷画面!V22=\"\",\"\",請求書表紙納品検収書入力印刷画面!V22)","v":""},null,null,null,null,{"$f":"IF(請求書表紙納品検収書入力印刷画面!AA22=\"\",\"\",請求書表紙納品検収書入力印刷画面!AA22)","v":""},null,null,null,null,{"$f":"IF(請求書表紙納品検収書入力印刷画面!AF22=\"\",\"\",請求書表紙納品検収書入力印刷画面!AF22)","v":""},null,null,null,null,{"$f":"IF(請求書表紙納品検収書入力印刷画面!AK22=\"\",\"\",請求書表紙納品検収書入力印刷画面!AK22)","v":""},null,null,null,null,{"$f":"IF(請求書表紙納品検収書入力印刷画面!AP22=\"\",\"\",請求書表紙納品検収書入力印刷画面!AP22)","v":""},null,null,null,null,{"$f":"IF(請求書表紙納品検収書入力印刷画面!AY21=TRUE,\"■\",\"□\")","v":"□"}]
[null,{"$f":"IF(請求書表紙納品検収書入力印刷画面!B23=\"\",\"\",請求書表紙納品検収書入力印刷画面!B23)","v":""},null,null,{"$f":"IF(請求書表紙納品検収書入力印刷画面!E23=\"\",\"\",請求書表紙納品検収書入力印刷画面!E23)","v":""},null,null,null,null,null,null,null,null,null,null,null,null,{"$f":"IF(請求書表紙納品検収書入力印刷画面!Q23=\"\",\"\",請求書表紙納品検収書入力印刷画面!Q23)","v":""},null,null,null,null,{"$f":"IF(請求書表紙納品検収書入力印刷画面!V23=\"\",\"\",請求書表紙納品検収書入力印刷画面!V23)","v":""},null,null,null,null,{"$f":"IF(請求書表紙納品検収書入力印刷画面!AA23=\"\",\"\",請求書表紙納品検収書入力印刷画面!AA23)","v":""},null,null,null,null,{"$f":"IF(請求書表紙納品検収書入力印刷画面!AF23=\"\",\"\",請求書表紙納品検収書入力印刷画面!AF23)","v":""},null,null,null,null,{"$f":"IF(請求書表紙納品検収書入力印刷画面!AK23=\"\",\"\",請求書表紙納品検収書入力印刷画面!AK23)","v":""},null,null,null,null,{"$f":"IF(請求書表紙納品検収書入力印刷画面!AP23=\"\",\"\",請求書表紙納品検収書入力印刷画面!AP23)","v":""},null,null,null,null,{"$f":"IF(請求書表紙納品検収書入力印刷画面!AY22=TRUE,\"■\",\"□\")","v":"□"}]
[null,{"$f":"IF(請求書表紙納品検収書入力印刷画面!B27=\"\",\"\",請求書表紙納品検収書入力印刷画面!B27)","v":""},null,null,{"$f":"IF(請求書表紙納品検収書入力印刷画面!E27=\"\",\"\",請求書表紙納品検収書入力印刷画面!E27)","v":""},null,null,null,null,null,null,null,null,null,null,null,null,{"$f":"IF(請求書表紙納品検収書入力印刷画面!Q27=\"\",\"\",請求書表紙納品検収書入力印刷画面!Q27)","v":""},null,null,null,null,{"$f":"IF(請求書表紙納品検収書入力印刷画面!V27=\"\",\"\",請求書表紙納品検収書入力印刷画面!V27)","v":""},null,null,null,null,{"$f":"IF(請求書表紙納品検収書入力印刷画面!AA27=\"\",\"\",請求書表紙納品検収書入力印刷画面!AA27)","v":""},null,null,null,null,{"$f":"IF(請求書表紙納品検収書入力印刷画面!AF27=\"\",\"\",請求書表紙納品検収書入力印刷画面!AF27)","v":""},null,null,null,null,{"$f":"IF(請求書表紙納品検収書入力印刷画面!AK27=\"\",\"\",請求書表紙納品検収書入力印刷画面!AK27)","v":""},null,null,null,null,{"$f":"IF(請求書表紙納品検収書入力印刷画面!AP27=\"\",\"\",請求書表紙納品検収書入力印刷画面!AP27)","v":""},null,null,null,null,{"$f":"IF(請求書表紙納品検収書入力印刷画面!AY26=TRUE,\"■\",\"□\")","v":"□"}]
[null,{"$f":"IF(請求書表紙納品検収書入力印刷画面!B28=\"\",\"\",請求書表紙納品検収書入力印刷画面!B28)","v":""},null,null,{"$f":"IF(請求書表紙納品検収書入力印刷画面!E28=\"\",\"\",請求書表紙納品検収書入力印刷画面!E28)","v":""},null,null,null,null,null,null,null,null,null,null,null,null,{"$f":"IF(請求書表紙納品検収書入力印刷画面!Q28=\"\",\"\",請求書表紙納品検収書入力印刷画面!Q28)","v":""},null,null,null,null,{"$f":"IF(請求書表紙納品検収書入力印刷画面!V28=\"\",\"\",請求書表紙納品検収書入力印刷画面!V28)","v":""},null,null,null,null,{"$f":"IF(請求書表紙納品検収書入力印刷画面!AA28=\"\",\"\",請求書表紙納品検収書入力印刷画面!AA28)","v":""},null,null,null,null,{"$f":"IF(請求書表紙納品検収書入力印刷画面!AF28=\"\",\"\",請求書表紙納品検収書入力印刷画面!AF28)","v":""},null,null,null,null,{"$f":"IF(請求書表紙納品検収書入力印刷画面!AK28=\"\",\"\",請求書表紙納品検収書入力印刷画面!AK28)","v":""},null,null,null,null,{"$f":"IF(請求書表紙納品検収書入力印刷画面!AP28=\"\",\"\",請求書表紙納品検収書入力印刷画面!AP28)","v":""},null,null,null,null,{"$f":"IF(請求書表紙納品検収書入力印刷画面!AY27=TRUE,\"■\",\"□\")","v":"□"}]
[null,{"$f":"IF(請求書表紙納品検収書入力印刷画面!B29=\"\",\"\",請求書表紙納品検収書入力印刷画面!B29)","v":""},null,null,{"$f":"IF(請求書表紙納品検収書入力印刷画面!E29=\"\",\"\",請求書表紙納品検収書入力印刷画面!E29)","v":""},null,null,null,null,null,null,null,null,null,null,null,null,{"$f":"IF(請求書表紙納品検収書入力印刷画面!Q29=\"\",\"\",請求書表紙納品検収書入力印刷画面!Q29)","v":""},null,null,null,null,{"$f":"IF(請求書表紙納品検収書入力印刷画面!V29=\"\",\"\",請求書表紙納品検収書入力印刷画面!V29)","v":""},null,null,null,null,{"$f":"IF(請求書表紙納品検収書入力印刷画面!AA29=\"\",\"\",請求書表紙納品検収書入力印刷画面!AA29)","v":""},null,null,null,null,{"$f":"IF(請求書表紙納品検収書入力印刷画面!AF29=\"\",\"\",請求書表紙納品検収書入力印刷画面!AF29)","v":""},null,null,null,null,{"$f":"IF(請求書表紙納品検収書入力印刷画面!AK29=\"\",\"\",請求書表紙納品検収書入力印刷画面!AK29)","v":""},null,null,null,null,{"$f":"IF(請求書表紙納品検収書入力印刷画面!AP29=\"\",\"\",請求書表紙納品検収書入力印刷画面!AP29)","v":""},null,null,null,null,{"$f":"IF(請求書表紙納品検収書入力印刷画面!AY33=TRUE,\"■\",\"□\")","v":"□"}]
[null,null,null,null,null,null,null,null,null,null,null,null,"計",null,null,null,null,{"$f":"IF(AG1=AI1,請求書表紙納品検収書入力印刷画面!$Q$47,\"－－－－－－ \")","v":"－－－－－－ "},null,null,null,null,{"$f":"IF(AG1=AI1,請求書表紙納品検収書入力印刷画面!$V$47,\"－－－－－－ \")","v":"－－－－－－ "},null,null,null,null,{"$f":"IF(AG1=AI1,請求書表紙納品検収書入力印刷画面!$AA$47,\"－－－－－－－ \")","v":"－－－－－－－ "},null,null,null,null,{"$f":"IF(AG1=AI1,請求書表紙納品検収書入力印刷画面!$AF$47,\"－－－－－－ \")","v":"－－－－－－ "},null,null,null,null,{"$f":"IF(AG1=AI1,請求書表紙納品検収書入力印刷画面!$AK$47,\"－－－－－－ \")","v":"－－－－－－ "},null,null,null,null,{"$f":"IF(AG1=AI1,請求書表紙納品検収書入力印刷画面!$AP$47,\"－－－－－－－ \")","v":"－－－－－－－ "}]
[]
[null,null,null,null,null,null,null,null,null,"税別金額",null,null,null,null,null,"消費税額",null,null,null,null,"税込金額"]
[null,null,"②　前回までの請求累計額",null,null,null,null,null,null,{"$f":"請求書表紙納品検収書入力印刷画面!AF11","v":0},null,null,null,null,null,{"$f":"請求書表紙納品検収書入力印刷画面!AK11","v":0},null,null,null,null,{"$f":"請求書表紙納品検収書入力印刷画面!AP11","v":0}]
[null,null,"③　今回課税対象額（10％）",null,null,null,null,null,null,{"$f":"請求書表紙納品検収書入力印刷画面!AF12","v":0},null,null,null,null,null,{"$f":"請求書表紙納品検収書入力印刷画面!AK12","v":0},null,null,null,null,{"$f":"請求書表紙納品検収書入力印刷画面!AP12","v":0},null,null,null,null,null,null,"上記の納品について検収しました。"]
[null,null,"④　今回不/非課税対象額",null,null,null,null,null,null,{"$f":"請求書表紙納品検収書入力印刷画面!AF13","v":0},null,null,null,null,null,{"$f":"請求書表紙納品検収書入力印刷画面!AK13","v":0},null,null,null,null,{"$f":"請求書表紙納品検収書入力印刷画面!AP13","v":0},null,null,null,null,null,null,"水倉組記入欄","検収区分",null,null,null,null,"検収（受領）日",null,null,null,null,null,null,null,"作業所長検収"]
[null,null,"⑤今回請求金額計",null,null,null,null,null,null,{"$f":"請求書表紙納品検収書入力印刷画面!AF14","v":0},null,null,null,null,null,{"$f":"請求書表紙納品検収書入力印刷画面!AK14","v":0},null,null,null,null,{"$f":"請求書表紙納品検収書入力印刷画面!AP14","v":0},null,null,null,null,null,null,null,"部分検収",null,null,null,null,"　　　　　　　　/　　　　　/",null,null,null,null,null,null,null,null,null,null,null,null,null,null,"印"]
[null,null,"⑥　　　　　　　　　②＋⑤　　計",null,null,null,null,null,null,{"$f":"請求書表紙納品検収書入力印刷画面!AF15","v":0},null,null,null,null,null,{"$f":"請求書表紙納品検収書入力印刷画面!AK15","v":0},null,null,null,null,{"$f":"請求書表紙納品検収書入力印刷画面!AP15","v":0},null,null,null,null,null,null,null,"完成検収"]
[null,null,"契約残高（①－⑥）",null,null,null,null,null,null,{"$f":"請求書表紙納品検収書入力印刷画面!AF16","v":0},null,null,null,null,null,{"$f":"請求書表紙納品検収書入力印刷画面!AK16","v":0},null,null,null,null,{"$f":"請求書表紙納品検収書入力印刷画面!AP16","v":0},null,null,null,null,null,null,null,"特記事項"]

{"sheet":"納品・検収書印刷（取極め用）2","index":16,"n_rows":20,"n_cols":48,"rows_kept":20,"cut":false,"hidden":true,"merged":[[17,47,17,49],[18,47,18,49],[17,37,17,41],[17,42,17,46],[18,37,18,41],[18,42,18,46],[17,32,17,36],[19,42,19,46],[19,32,19,36],[19,37,19,41],[19,12,19,16],[19,17,19,21],[19,22,19,26],[19,27,19,31],[18,27,18,31],[18,32,18,36],[12,32,12,36],[12,37,12,41],[15,37,15,41],[13,37,13,41],[15,32,15,36],[14,32,14,36],[14,37,14,41],[16,22,16,26],[16,27,16,31],[12,17,12,21],[12,22,12,26],[16,32,16,36],[16,37,16,41],[12,27,12,31],[13,32,13,36],[17,1,17,3],[17,4,17,16],[17,17,17,21],[17,22,17,26],[18,1,18,3],[18,4,18,16],[18,17,18,21],[18,22,18,26],[17,27,17,31],[16,47,16,49],[15,47,15,49],[15,42,15,46],[16,42,16,46],[13,47,13,49],[14,1,14,3],[14,4,14,16],[14,17,14,21],[14,22,14,26],[14,27,14,31],[13,1,13,3],[13,4,13,16],[13,17,13,21],[13,22,13,26],[15,1,15,3],[15,4,15,16],[15,17,15,21],[15,22,15,26],[15,27,15,31],[16,1,16,3],[16,4,16,16],[16,17,16,21],[13,42,13,46],[13,27,13,31],[14,47,14,49],[14,42,14,46],[4,35,4,48],[5,4,5,29],[4,4,4,29],[11,17,11,21],[11,27,11,31],[6,12,6,15],[6,16,6,17],[5,38,5,48],[7,32,7,36],[6,38,6,45],[7,37,7,49],[6,18,6,19],[6,21,6,22],[6,23,6,24],[11,1,11,3],[11,4,11,16],[12,1,12,3],[12,4,12,16],[10,17,10,21],[12,42,12,46],[12,47,12,49],[11,47,11,49],[9,32,9,46],[10,32,10,36],[10,37,10,41],[10,27,10,31],[9,47,10,49],[10,42,10,46],[11,37,11,41],[11,22,11,26],[11,32,11,36],[11,42,11,46],[0,1,0,33],[1,32,1,35],[3,4,3,11],[5,32,5,37],[6,32,6,36],[9,1,10,3],[9,4,10,16],[9,17,9,31],[1,42,1,43],[3,35,3,49],[2,32,2,34],[1,45,1,46],[1,39,1,40],[2,36,2,37],[2,39,2,40],[6,6,6,9],[10,22,10,26],[3,13,3,15],[3,17,3,18],[4,32,4,34],[3,19,3,22],[3,24,3,25],[3,27,3,29],[3,32,3,34]]}
[null,"納　品　・　検　収　書　　（取極め用）",null,null,null,null,null,null,null,null,null,null,null,null,null,null,null,null,null,null,null,null,null,null,null,null,null,null,null,null,null,null,null,null,null,null,null,null,null,null,null,null,null,null,null,{"$f":"最終頁請求","v":0},"-",2]
[null,"株式会社　水倉組　御中",null,null,null,null,null,null,null,null,null,null,null,null,null,null,null,null,null,null,null,null,null,null,null,null,null,null,null,null,null,null,"納品日",null,null,null,null,"（西暦）",null,{"$f":"請求書表紙納品検収書入力印刷画面!$AM$2","v":""},null,"年",{"$f":"請求書表紙納品検収書入力印刷画面!$AP$2","v":""},null,"月",{"$f":"請求書表紙納品検収書入力印刷画面!$AS$2","v":""},null,"日"]
[null,"　　下記のとおり納品いたしますので検収をお願いいたします。",null,null,null,null,null,null,null,null,null,null,null,null,null,null,null,null,null,null,null,null,null,null,null,null,null,null,null,null,null,null,"住      所",null,null,"〒",{"$f":"請求書表紙納品検収書入力印刷画面!$AJ$3","v":""},null,"－",{"$f":"請求書表紙納品検収書入力印刷画面!$AM$3","v":""}]
[null,null,"注　文　№",null,{"$f":"請求書表紙納品検収書入力印刷画面!$E$4","v":""},null,null,null,null,null,null,null,"－",{"$f":"請求書表紙納品検収書入力印刷画面!$M$4","v":""},null,null,"－",{"$f":"請求書表紙納品検収書入力印刷画面!$Q$4","v":""},null,"注文区分",null,null,null,{"$f":"請求書表紙納品検収書入力印刷画面!$W$4","v":"□"},"工事",null,{"$f":"請求書表紙納品検収書入力印刷画面!$Z$4","v":"□"},"資機材",null,null,null,null,null,null,null,{"$f":"請求書表紙納品検収書入力印刷画面!$AI$4","v":""}]
[null,null,"工事名称",null,{"$f":"請求書表紙納品検収書入力印刷画面!$E$5","v":""},null,null,null,null,null,null,null,null,null,null,null,null,null,null,null,null,null,null,null,null,null,null,null,null,null,null,null,"会 社 名",null,null,{"$f":"請求書表紙納品検収書入力印刷画面!$AI$5","v":""}]
[null,null,"注文件名",null,{"$f":"請求書表紙納品検収書入力印刷画面!$E$6","v":""},null,null,null,null,null,null,null,null,null,null,null,null,null,null,null,null,null,null,null,null,null,null,null,null,null,null,null,"支店・営業所名",null,null,null,null,null,{"$f":"請求書表紙納品検収書入力印刷画面!AJ6","v":""}]
[null,null,"支払条件",null,null,{"$f":"IF(請求書表紙納品検収書入力印刷画面!$AY$6=TRUE,\"■\",\"□\")","v":"□"},"出来高支払",null,null,null,null,{"$f":"IF(請求書表紙納品検収書入力印刷画面!$AY$7=TRUE,\"■\",\"□\")","v":"□"},"入金後支払",null,null,null,"現金",null,{"$f":"IF(請求書表紙納品検収書入力印刷画面!$Q$7=\"\",\"\",請求書表紙納品検収書入力印刷画面!$Q$7)","v":""},null,"％","手形",null,{"$f":"IF(請求書表紙納品検収書入力印刷画面!$V$7=\"\",\"\",請求書表紙納品検収書入力印刷画面!$V$7)","v":""},null,"％","（サイト",null,{"$f":"IF(請求書表紙納品検収書入力印刷画面!$AA$7=\"\",\"\",請求書表紙納品検収書入力印刷画面!$AA$7)","v":""},"日）",null,null,"   現 場 担 当 者",null,null,null,null,null,null,null,null,null,null,null,null,null,"印"]
[null,null,null,null,null,null,null,null,null,null,null,null,null,null,null,null,null,null,null,null,null,null,null,null,null,null,null,null,null,null,null,null,"仕入先コード",null,null,null,null,{"$f":"請求書表紙納品検収書入力印刷画面!$AK$8","v":""}]
[]
[null,"工種コード",null,null,"注　文　明　細",null,null,null,null,null,null,null,null,null,null,null,null,"①　現在注文金額",null,null,null,null,null,null,null,null,null,null,null,null,null,null,"③④　今回請求金額",null,null,null,null,null,null,null,null,null,null,null,null,null,null,"完了"]
[null,null,null,null,null,null,null,null,null,null,null,null,null,null,null,null,null,"税別金額",null,null,null,null,"消費税額",null,null,null,null,"税込金額",null,null,null,null,"税別金額",null,null,null,null,"消費税額",null,null,null,null,"税込金額"]
[null,{"$f":"IF(請求書表紙納品検収書入力印刷画面!B30=\"\",\"\",請求書表紙納品検収書入力印刷画面!B30)","v":""},null,null,{"$f":"IF(請求書表紙納品検収書入力印刷画面!E30=\"\",\"\",請求書表紙納品検収書入力印刷画面!E30)","v":""},null,null,null,null,null,null,null,null,null,null,null,null,{"$f":"IF(請求書表紙納品検収書入力印刷画面!Q30=\"\",\"\",請求書表紙納品検収書入力印刷画面!Q30)","v":""},null,null,null,null,{"$f":"IF(請求書表紙納品検収書入力印刷画面!V30=\"\",\"\",請求書表紙納品検収書入力印刷画面!V30)","v":""},null,null,null,null,{"$f":"IF(請求書表紙納品検収書入力印刷画面!AA30=\"\",\"\",請求書表紙納品検収書入力印刷画面!AA30)","v":""},null,null,null,null,{"$f":"IF(請求書表紙納品検収書入力印刷画面!AF30=\"\",\"\",請求書表紙納品検収書入力印刷画面!AF30)","v":""},null,null,null,null,{"$f":"IF(請求書表紙納品検収書入力印刷画面!AK30=\"\",\"\",請求書表紙納品検収書入力印刷画面!AK30)","v":""},null,null,null,null,{"$f":"IF(請求書表紙納品検収書入力印刷画面!AP30=\"\",\"\",請求書表紙納品検収書入力印刷画面!AP30)","v":""},null,null,null,null,{"$f":"IF(請求書表紙納品検収書入力印刷画面!AY29=TRUE,\"■\",\"□\")","v":"□"}]
[null,{"$f":"IF(請求書表紙納品検収書入力印刷画面!B31=\"\",\"\",請求書表紙納品検収書入力印刷画面!B31)","v":""},null,null,{"$f":"IF(請求書表紙納品検収書入力印刷画面!E31=\"\",\"\",請求書表紙納品検収書入力印刷画面!E31)","v":""},null,null,null,null,null,null,null,null,null,null,null,null,{"$f":"IF(請求書表紙納品検収書入力印刷画面!Q31=\"\",\"\",請求書表紙納品検収書入力印刷画面!Q31)","v":""},null,null,null,null,{"$f":"IF(請求書表紙納品検収書入力印刷画面!V31=\"\",\"\",請求書表紙納品検収書入力印刷画面!V31)","v":""},null,null,null,null,{"$f":"IF(請求書表紙納品検収書入力印刷画面!AA31=\"\",\"\",請求書表紙納品検収書入力印刷画面!AA31)","v":""},null,null,null,null,{"$f":"IF(請求書表紙納品検収書入力印刷画面!AF31=\"\",\"\",請求書表紙納品検収書入力印刷画面!AF31)","v":""},null,null,null,null,{"$f":"IF(請求書表紙納品検収書入力印刷画面!AK31=\"\",\"\",請求書表紙納品検収書入力印刷画面!AK31)","v":""},null,null,null,null,{"$f":"IF(請求書表紙納品検収書入力印刷画面!AP31=\"\",\"\",請求書表紙納品検収書入力印刷画面!AP31)","v":""},null,null,null,null,{"$f":"IF(請求書表紙納品検収書入力印刷画面!AY30=TRUE,\"■\",\"□\")","v":"□"}]
[null,{"$f":"IF(請求書表紙納品検収書入力印刷画面!B32=\"\",\"\",請求書表紙納品検収書入力印刷画面!B32)","v":""},null,null,{"$f":"IF(請求書表紙納品検収書入力印刷画面!E32=\"\",\"\",請求書表紙納品検収書入力印刷画面!E32)","v":""},null,null,null,null,null,null,null,null,null,null,null,null,{"$f":"IF(請求書表紙納品検収書入力印刷画面!Q32=\"\",\"\",請求書表紙納品検収書入力印刷画面!Q32)","v":""},null,null,null,null,{"$f":"IF(請求書表紙納品検収書入力印刷画面!V32=\"\",\"\",請求書表紙納品検収書入力印刷画面!V32)","v":""},null,null,null,null,{"$f":"IF(請求書表紙納品検収書入力印刷画面!AA32=\"\",\"\",請求書表紙納品検収書入力印刷画面!AA32)","v":""},null,null,null,null,{"$f":"IF(請求書表紙納品検収書入力印刷画面!AF32=\"\",\"\",請求書表紙納品検収書入力印刷画面!AF32)","v":""},null,null,null,null,{"$f":"IF(請求書表紙納品検収書入力印刷画面!AK32=\"\",\"\",請求書表紙納品検収書入力印刷画面!AK32)","v":""},null,null,null,null,{"$f":"IF(請求書表紙納品検収書入力印刷画面!AP32=\"\",\"\",請求書表紙納品検収書入力印刷画面!AP32)","v":""},null,null,null,null,{"$f":"IF(請求書表紙納品検収書入力印刷画面!AY31=TRUE,\"■\",\"□\")","v":"□"}]
[null,{"$f":"IF(請求書表紙納品検収書入力印刷画面!B33=\"\",\"\",請求書表紙納品検収書入力印刷画面!B33)","v":""},null,null,{"$f":"IF(請求書表紙納品検収書入力印刷画面!E33=\"\",\"\",請求書表紙納品検収書入力印刷画面!E33)","v":""},null,null,null,null,null,null,null,null,null,null,null,null,{"$f":"IF(請求書表紙納品検収書入力印刷画面!Q33=\"\",\"\",請求書表紙納品検収書入力印刷画面!Q33)","v":""},null,null,null,null,{"$f":"IF(請求書表紙納品検収書入力印刷画面!V33=\"\",\"\",請求書表紙納品検収書入力印刷画面!V33)","v":""},null,null,null,null,{"$f":"IF(請求書表紙納品検収書入力印刷画面!AA33=\"\",\"\",請求書表紙納品検収書入力印刷画面!AA33)","v":""},null,null,null,null,{"$f":"IF(請求書表紙納品検収書入力印刷画面!AF33=\"\",\"\",請求書表紙納品検収書入力印刷画面!AF33)","v":""},null,null,null,null,{"$f":"IF(請求書表紙納品検収書入力印刷画面!AK33=\"\",\"\",請求書表紙納品検収書入力印刷画面!AK33)","v":""},null,null,null,null,{"$f":"IF(請求書表紙納品検収書入力印刷画面!AP33=\"\",\"\",請求書表紙納品検収書入力印刷画面!AP33)","v":""},null,null,null,null,{"$f":"IF(請求書表紙納品検収書入力印刷画面!AY32=TRUE,\"■\",\"□\")","v":"□"}]
[null,{"$f":"IF(請求書表紙納品検収書入力印刷画面!B34=\"\",\"\",請求書表紙納品検収書入力印刷画面!B34)","v":""},null,null,{"$f":"IF(請求書表紙納品検収書入力印刷画面!E34=\"\",\"\",請求書表紙納品検収書入力印刷画面!E34)","v":""},null,null,null,null,null,null,null,null,null,null,null,null,{"$f":"IF(請求書表紙納品検収書入力印刷画面!Q34=\"\",\"\",請求書表紙納品検収書入力印刷画面!Q34)","v":""},null,null,null,null,{"$f":"IF(請求書表紙納品検収書入力印刷画面!V34=\"\",\"\",請求書表紙納品検収書入力印刷画面!V34)","v":""},null,null,null,null,{"$f":"IF(請求書表紙納品検収書入力印刷画面!AA34=\"\",\"\",請求書表紙納品検収書入力印刷画面!AA34)","v":""},null,null,null,null,{"$f":"IF(請求書表紙納品検収書入力印刷画面!AF34=\"\",\"\",請求書表紙納品検収書入力印刷画面!AF34)","v":""},null,null,null,null,{"$f":"IF(請求書表紙納品検収書入力印刷画面!AK34=\"\",\"\",請求書表紙納品検収書入力印刷画面!AK34)","v":""},null,null,null,null,{"$f":"IF(請求書表紙納品検収書入力印刷画面!AP34=\"\",\"\",請求書表紙納品検収書入力印刷画面!AP34)","v":""},null,null,null,null,{"$f":"IF(請求書表紙納品検収書入力印刷画面!AY33=TRUE,\"■\",\"□\")","v":"□"}]
[null,{"$f":"IF(請求書表紙納品検収書入力印刷画面!B35=\"\",\"\",請求書表紙納品検収書入力印刷画面!B35)","v":""},null,null,{"$f":"IF(請求書表紙納品検収書入力印刷画面!E35=\"\",\"\",請求書表紙納品検収書入力印刷画面!E35)","v":""},null,null,null,null,null,null,null,null,null,null,null,null,{"$f":"IF(請求書表紙納品検収書入力印刷画面!Q35=\"\",\"\",請求書表紙納品検収書入力印刷画面!Q35)","v":""},null,null,null,null,{"$f":"IF(請求書表紙納品検収書入力印刷画面!V35=\"\",\"\",請求書表紙納品検収書入力印刷画面!V35)","v":""},null,null,null,null,{"$f":"IF(請求書表紙納品検収書入力印刷画面!AA35=\"\",\"\",請求書表紙納品検収書入力印刷画面!AA35)","v":""},null,null,null,null,{"$f":"IF(請求書表紙納品検収書入力印刷画面!AF35=\"\",\"\",請求書表紙納品検収書入力印刷画面!AF35)","v":""},null,null,null,null,{"$f":"IF(請求書表紙納品検収書入力印刷画面!AK35=\"\",\"\",請求書表紙納品検収書入力印刷画面!AK35)","v":""},null,null,null,null,{"$f":"IF(請求書表紙納品検収書入力印刷画面!AP35=\"\",\"\",請求書表紙納品検収書入力印刷画面!AP35)","v":""},null,null,null,null,{"$f":"IF(請求書表紙納品検収書入力印刷画面!AY34=TRUE,\"■\",\"□\")","v":"□"}]
[null,{"$f":"IF(請求書表紙納品検収書入力印刷画面!B36=\"\",\"\",請求書表紙納品検収書入力印刷画面!B36)","v":""},null,null,{"$f":"IF(請求書表紙納品検収書入力印刷画面!E36=\"\",\"\",請求書表紙納品検収書入力印刷画面!E36)","v":""},null,null,null,null,null,null,null,null,null,null,null,null,{"$f":"IF(請求書表紙納品検収書入力印刷画面!Q36=\"\",\"\",請求書表紙納品検収書入力印刷画面!Q36)","v":""},null,null,null,null,{"$f":"IF(請求書表紙納品検収書入力印刷画面!V36=\"\",\"\",請求書表紙納品検収書入力印刷画面!V36)","v":""},null,null,null,null,{"$f":"IF(請求書表紙納品検収書入力印刷画面!AA36=\"\",\"\",請求書表紙納品検収書入力印刷画面!AA36)","v":""},null,null,null,null,{"$f":"IF(請求書表紙納品検収書入力印刷画面!AF36=\"\",\"\",請求書表紙納品検収書入力印刷画面!AF36)","v":""},null,null,null,null,{"$f":"IF(請求書表紙納品検収書入力印刷画面!AK36=\"\",\"\",請求書表紙納品検収書入力印刷画面!AK36)","v":""},null,null,null,null,{"$f":"IF(請求書表紙納品検収書入力印刷画面!AP36=\"\",\"\",請求書表紙納品検収書入力印刷画面!AP36)","v":""},null,null,null,null,{"$f":"IF(請求書表紙納品検収書入力印刷画面!AY35=TRUE,\"■\",\"□\")","v":"□"}]
[null,{"$f":"IF(請求書表紙納品検収書入力印刷画面!B37=\"\",\"\",請求書表紙納品検収書入力印刷画面!B37)","v":""},null,null,{"$f":"IF(請求書表紙納品検収書入力印刷画面!E37=\"\",\"\",請求書表紙納品検収書入力印刷画面!E37)","v":""},null,null,null,null,null,null,null,null,null,null,null,null,{"$f":"IF(請求書表紙納品検収書入力印刷画面!Q37=\"\",\"\",請求書表紙納品検収書入力印刷画面!Q37)","v":""},null,null,null,null,{"$f":"IF(請求書表紙納品検収書入力印刷画面!V37=\"\",\"\",請求書表紙納品検収書入力印刷画面!V37)","v":""},null,null,null,null,{"$f":"IF(請求書表紙納品検収書入力印刷画面!AA37=\"\",\"\",請求書表紙納品検収書入力印刷画面!AA37)","v":""},null,null,null,null,{"$f":"IF(請求書表紙納品検収書入力印刷画面!AF37=\"\",\"\",請求書表紙納品検収書入力印刷画面!AF37)","v":""},null,null,null,null,{"$f":"IF(請求書表紙納品検収書入力印刷画面!AK37=\"\",\"\",請求書表紙納品検収書入力印刷画面!AK37)","v":""},null,null,null,null,{"$f":"IF(請求書表紙納品検収書入力印刷画面!AP37=\"\",\"\",請求書表紙納品検収書入力印刷画面!AP37)","v":""},null,null,null,null,{"$f":"IF(請求書表紙納品検収書入力印刷画面!AY36=TRUE,\"■\",\"□\")","v":"□"}]
[null,null,null,null,null,null,null,null,null,null,null,null,"計",null,null,null,null,{"$f":"IF(AT1=AV1,請求書表紙納品検収書入力印刷画面!$Q$47,\"－－－－－－ \")","v":"－－－－－－ "},null,null,null,null,{"$f":"IF(AT1=AV1,請求書表紙納品検収書入力印刷画面!$V$47,\"－－－－－－ \")","v":"－－－－－－ "},null,null,null,null,{"$f":"IF(AT1=AV1,請求書表紙納品検収書入力印刷画面!$AA$47,\"－－－－－－－ \")","v":"－－－－－－－ "},null,null,null,null,{"$f":"IF(AT1=AV1,請求書表紙納品検収書入力印刷画面!$AF$47,\"－－－－－－ \")","v":"－－－－－－ "},null,null,null,null,{"$f":"IF(AT1=AV1,請求書表紙納品検収書入力印刷画面!$AK$47,\"－－－－－－ \")","v":"－－－－－－ "},null,null,null,null,{"$f":"IF(AT1=AV1,請求書表紙納品検収書入力印刷画面!$AP$47,\"－－－－－－－ \")","v":"－－－－－－－ "}]

{"sheet":"納品・検収書印刷（取極め用）3","index":17,"n_rows":20,"n_cols":48,"rows_kept":20,"cut":false,"hidden":true,"merged":[[17,47,17,49],[18,47,18,49],[17,37,17,41],[17,42,17,46],[18,37,18,41],[18,42,18,46],[17,32,17,36],[19,42,19,46],[19,32,19,36],[19,37,19,41],[19,12,19,16],[19,17,19,21],[19,22,19,26],[19,27,19,31],[18,27,18,31],[18,32,18,36],[12,32,12,36],[12,37,12,41],[15,37,15,41],[13,37,13,41],[15,32,15,36],[14,32,14,36],[14,37,14,41],[16,22,16,26],[16,27,16,31],[12,17,12,21],[12,22,12,26],[16,32,16,36],[16,37,16,41],[12,27,12,31],[13,32,13,36],[17,1,17,3],[17,4,17,16],[17,17,17,21],[17,22,17,26],[18,1,18,3],[18,4,18,16],[18,17,18,21],[18,22,18,26],[17,27,17,31],[16,47,16,49],[15,47,15,49],[15,42,15,46],[16,42,16,46],[13,47,13,49],[14,1,14,3],[14,4,14,16],[14,17,14,21],[14,22,14,26],[14,27,14,31],[13,1,13,3],[13,4,13,16],[13,17,13,21],[13,22,13,26],[15,1,15,3],[15,4,15,16],[15,17,15,21],[15,22,15,26],[15,27,15,31],[16,1,16,3],[16,4,16,16],[16,17,16,21],[13,42,13,46],[13,27,13,31],[14,47,14,49],[14,42,14,46],[4,35,4,48],[5,4,5,29],[4,4,4,29],[11,17,11,21],[11,27,11,31],[6,12,6,15],[6,16,6,17],[5,38,5,48],[7,32,7,36],[6,38,6,45],[7,37,7,49],[6,18,6,19],[6,21,6,22],[6,23,6,24],[11,1,11,3],[11,4,11,16],[12,1,12,3],[12,4,12,16],[10,17,10,21],[12,42,12,46],[12,47,12,49],[11,47,11,49],[9,32,9,46],[10,32,10,36],[10,37,10,41],[10,27,10,31],[9,47,10,49],[10,42,10,46],[11,37,11,41],[11,22,11,26],[11,32,11,36],[11,42,11,46],[0,1,0,33],[1,32,1,35],[3,4,3,11],[5,32,5,37],[6,32,6,36],[9,1,10,3],[9,4,10,16],[9,17,9,31],[1,42,1,43],[3,35,3,49],[2,32,2,34],[1,45,1,46],[1,39,1,40],[2,36,2,37],[2,39,2,40],[6,6,6,9],[10,22,10,26],[3,13,3,15],[3,17,3,18],[4,32,4,34],[3,19,3,22],[3,24,3,25],[3,27,3,29],[3,32,3,34]]}
[null,"納　品　・　検　収　書　　（取極め用）",null,null,null,null,null,null,null,null,null,null,null,null,null,null,null,null,null,null,null,null,null,null,null,null,null,null,null,null,null,null,null,null,null,null,null,null,null,null,null,null,null,null,null,{"$f":"最終頁請求","v":0},"-",3]
[null,"株式会社　水倉組　御中",null,null,null,null,null,null,null,null,null,null,null,null,null,null,null,null,null,null,null,null,null,null,null,null,null,null,null,null,null,null,"納品日",null,null,null,null,"（西暦）",null,{"$f":"請求書表紙納品検収書入力印刷画面!$AM$2","v":""},null,"年",{"$f":"請求書表紙納品検収書入力印刷画面!$AP$2","v":""},null,"月",{"$f":"請求書表紙納品検収書入力印刷画面!$AS$2","v":""},null,"日"]
[null,"　　下記のとおり納品いたしますので検収をお願いいたします。",null,null,null,null,null,null,null,null,null,null,null,null,null,null,null,null,null,null,null,null,null,null,null,null,null,null,null,null,null,null,"住      所",null,null,"〒",{"$f":"請求書表紙納品検収書入力印刷画面!$AJ$3","v":""},null,"－",{"$f":"請求書表紙納品検収書入力印刷画面!$AM$3","v":""}]
[null,null,"注　文　№",null,{"$f":"請求書表紙納品検収書入力印刷画面!$E$4","v":""},null,null,null,null,null,null,null,"－",{"$f":"請求書表紙納品検収書入力印刷画面!$M$4","v":""},null,null,"－",{"$f":"請求書表紙納品検収書入力印刷画面!$Q$4","v":""},null,"注文区分",null,null,null,{"$f":"請求書表紙納品検収書入力印刷画面!$W$4","v":"□"},"工事",null,{"$f":"請求書表紙納品検収書入力印刷画面!$Z$4","v":"□"},"資機材",null,null,null,null,null,null,null,{"$f":"請求書表紙納品検収書入力印刷画面!$AI$4","v":""}]
[null,null,"工事名称",null,{"$f":"請求書表紙納品検収書入力印刷画面!$E$5","v":""},null,null,null,null,null,null,null,null,null,null,null,null,null,null,null,null,null,null,null,null,null,null,null,null,null,null,null,"会 社 名",null,null,{"$f":"請求書表紙納品検収書入力印刷画面!$AI$5","v":""}]
[null,null,"注文件名",null,{"$f":"請求書表紙納品検収書入力印刷画面!$E$6","v":""},null,null,null,null,null,null,null,null,null,null,null,null,null,null,null,null,null,null,null,null,null,null,null,null,null,null,null,"支店・営業所名",null,null,null,null,null,{"$f":"請求書表紙納品検収書入力印刷画面!AJ6","v":""}]
[null,null,"支払条件",null,null,{"$f":"IF(請求書表紙納品検収書入力印刷画面!$AY$6=TRUE,\"■\",\"□\")","v":"□"},"出来高支払",null,null,null,null,{"$f":"IF(請求書表紙納品検収書入力印刷画面!$AY$7=TRUE,\"■\",\"□\")","v":"□"},"入金後支払",null,null,null,"現金",null,{"$f":"IF(請求書表紙納品検収書入力印刷画面!$Q$7=\"\",\"\",請求書表紙納品検収書入力印刷画面!$Q$7)","v":""},null,"％","手形",null,{"$f":"IF(請求書表紙納品検収書入力印刷画面!$V$7=\"\",\"\",請求書表紙納品検収書入力印刷画面!$V$7)","v":""},null,"％","（サイト",null,{"$f":"IF(請求書表紙納品検収書入力印刷画面!$AA$7=\"\",\"\",請求書表紙納品検収書入力印刷画面!$AA$7)","v":""},"日）",null,null,"   現 場 担 当 者",null,null,null,null,null,null,null,null,null,null,null,null,null,"印"]
[null,null,null,null,null,null,null,null,null,null,null,null,null,null,null,null,null,null,null,null,null,null,null,null,null,null,null,null,null,null,null,null,"仕入先コード",null,null,null,null,{"$f":"請求書表紙納品検収書入力印刷画面!$AK$8","v":""}]
[]
[null,"工種コード",null,null,"注　文　明　細",null,null,null,null,null,null,null,null,null,null,null,null,"①　現在注文金額",null,null,null,null,null,null,null,null,null,null,null,null,null,null,"③④今回請求金額",null,null,null,null,null,null,null,null,null,null,null,null,null,null,"完了"]
[null,null,null,null,null,null,null,null,null,null,null,null,null,null,null,null,null,"税別金額",null,null,null,null,"消費税額",null,null,null,null,"税込金額",null,null,null,null,"税別金額",null,null,null,null,"消費税額",null,null,null,null,"税込金額"]
[null,{"$f":"IF(請求書表紙納品検収書入力印刷画面!B38=\"\",\"\",請求書表紙納品検収書入力印刷画面!B38)","v":""},null,null,{"$f":"IF(請求書表紙納品検収書入力印刷画面!E38=\"\",\"\",請求書表紙納品検収書入力印刷画面!E38)","v":""},null,null,null,null,null,null,null,null,null,null,null,null,{"$f":"IF(請求書表紙納品検収書入力印刷画面!Q38=\"\",\"\",請求書表紙納品検収書入力印刷画面!Q38)","v":""},null,null,null,null,{"$f":"IF(請求書表紙納品検収書入力印刷画面!V38=\"\",\"\",請求書表紙納品検収書入力印刷画面!V38)","v":""},null,null,null,null,{"$f":"IF(請求書表紙納品検収書入力印刷画面!AA38=\"\",\"\",請求書表紙納品検収書入力印刷画面!AA38)","v":""},null,null,null,null,{"$f":"IF(請求書表紙納品検収書入力印刷画面!AF38=\"\",\"\",請求書表紙納品検収書入力印刷画面!AF38)","v":""},null,null,null,null,{"$f":"IF(請求書表紙納品検収書入力印刷画面!AK38=\"\",\"\",請求書表紙納品検収書入力印刷画面!AK38)","v":""},null,null,null,null,{"$f":"IF(請求書表紙納品検収書入力印刷画面!AP38=\"\",\"\",請求書表紙納品検収書入力印刷画面!AP38)","v":""},null,null,null,null,{"$f":"IF(請求書表紙納品検収書入力印刷画面!AY37=TRUE,\"■\",\"□\")","v":"□"}]
[null,{"$f":"IF(請求書表紙納品検収書入力印刷画面!B39=\"\",\"\",請求書表紙納品検収書入力印刷画面!B39)","v":""},null,null,{"$f":"IF(請求書表紙納品検収書入力印刷画面!E39=\"\",\"\",請求書表紙納品検収書入力印刷画面!E39)","v":""},null,null,null,null,null,null,null,null,null,null,null,null,{"$f":"IF(請求書表紙納品検収書入力印刷画面!Q39=\"\",\"\",請求書表紙納品検収書入力印刷画面!Q39)","v":""},null,null,null,null,{"$f":"IF(請求書表紙納品検収書入力印刷画面!V39=\"\",\"\",請求書表紙納品検収書入力印刷画面!V39)","v":""},null,null,null,null,{"$f":"IF(請求書表紙納品検収書入力印刷画面!AA39=\"\",\"\",請求書表紙納品検収書入力印刷画面!AA39)","v":""},null,null,null,null,{"$f":"IF(請求書表紙納品検収書入力印刷画面!AF39=\"\",\"\",請求書表紙納品検収書入力印刷画面!AF39)","v":""},null,null,null,null,{"$f":"IF(請求書表紙納品検収書入力印刷画面!AK39=\"\",\"\",請求書表紙納品検収書入力印刷画面!AK39)","v":""},null,null,null,null,{"$f":"IF(請求書表紙納品検収書入力印刷画面!AP39=\"\",\"\",請求書表紙納品検収書入力印刷画面!AP39)","v":""},null,null,null,null,{"$f":"IF(請求書表紙納品検収書入力印刷画面!AY38=TRUE,\"■\",\"□\")","v":"□"}]
[null,{"$f":"IF(請求書表紙納品検収書入力印刷画面!B40=\"\",\"\",請求書表紙納品検収書入力印刷画面!B40)","v":""},null,null,{"$f":"IF(請求書表紙納品検収書入力印刷画面!E40=\"\",\"\",請求書表紙納品検収書入力印刷画面!E40)","v":""},null,null,null,null,null,null,null,null,null,null,null,null,{"$f":"IF(請求書表紙納品検収書入力印刷画面!Q40=\"\",\"\",請求書表紙納品検収書入力印刷画面!Q40)","v":""},null,null,null,null,{"$f":"IF(請求書表紙納品検収書入力印刷画面!V40=\"\",\"\",請求書表紙納品検収書入力印刷画面!V40)","v":""},null,null,null,null,{"$f":"IF(請求書表紙納品検収書入力印刷画面!AA40=\"\",\"\",請求書表紙納品検収書入力印刷画面!AA40)","v":""},null,null,null,null,{"$f":"IF(請求書表紙納品検収書入力印刷画面!AF40=\"\",\"\",請求書表紙納品検収書入力印刷画面!AF40)","v":""},null,null,null,null,{"$f":"IF(請求書表紙納品検収書入力印刷画面!AK40=\"\",\"\",請求書表紙納品検収書入力印刷画面!AK40)","v":""},null,null,null,null,{"$f":"IF(請求書表紙納品検収書入力印刷画面!AP40=\"\",\"\",請求書表紙納品検収書入力印刷画面!AP40)","v":""},null,null,null,null,{"$f":"IF(請求書表紙納品検収書入力印刷画面!AY39=TRUE,\"■\",\"□\")","v":"□"}]
[null,{"$f":"IF(請求書表紙納品検収書入力印刷画面!B41=\"\",\"\",請求書表紙納品検収書入力印刷画面!B41)","v":""},null,null,{"$f":"IF(請求書表紙納品検収書入力印刷画面!E41=\"\",\"\",請求書表紙納品検収書入力印刷画面!E41)","v":""},null,null,null,null,null,null,null,null,null,null,null,null,{"$f":"IF(請求書表紙納品検収書入力印刷画面!Q41=\"\",\"\",請求書表紙納品検収書入力印刷画面!Q41)","v":""},null,null,null,null,{"$f":"IF(請求書表紙納品検収書入力印刷画面!V41=\"\",\"\",請求書表紙納品検収書入力印刷画面!V41)","v":""},null,null,null,null,{"$f":"IF(請求書表紙納品検収書入力印刷画面!AA41=\"\",\"\",請求書表紙納品検収書入力印刷画面!AA41)","v":""},null,null,null,null,{"$f":"IF(請求書表紙納品検収書入力印刷画面!AF41=\"\",\"\",請求書表紙納品検収書入力印刷画面!AF41)","v":""},null,null,null,null,{"$f":"IF(請求書表紙納品検収書入力印刷画面!AK41=\"\",\"\",請求書表紙納品検収書入力印刷画面!AK41)","v":""},null,null,null,null,{"$f":"IF(請求書表紙納品検収書入力印刷画面!AP41=\"\",\"\",請求書表紙納品検収書入力印刷画面!AP41)","v":""},null,null,null,null,{"$f":"IF(請求書表紙納品検収書入力印刷画面!AY40=TRUE,\"■\",\"□\")","v":"□"}]
[null,{"$f":"IF(請求書表紙納品検収書入力印刷画面!B42=\"\",\"\",請求書表紙納品検収書入力印刷画面!B42)","v":""},null,null,{"$f":"IF(請求書表紙納品検収書入力印刷画面!E42=\"\",\"\",請求書表紙納品検収書入力印刷画面!E42)","v":""},null,null,null,null,null,null,null,null,null,null,null,null,{"$f":"IF(請求書表紙納品検収書入力印刷画面!Q42=\"\",\"\",請求書表紙納品検収書入力印刷画面!Q42)","v":""},null,null,null,null,{"$f":"IF(請求書表紙納品検収書入力印刷画面!V42=\"\",\"\",請求書表紙納品検収書入力印刷画面!V42)","v":""},null,null,null,null,{"$f":"IF(請求書表紙納品検収書入力印刷画面!AA42=\"\",\"\",請求書表紙納品検収書入力印刷画面!AA42)","v":""},null,null,null,null,{"$f":"IF(請求書表紙納品検収書入力印刷画面!AF42=\"\",\"\",請求書表紙納品検収書入力印刷画面!AF42)","v":""},null,null,null,null,{"$f":"IF(請求書表紙納品検収書入力印刷画面!AK42=\"\",\"\",請求書表紙納品検収書入力印刷画面!AK42)","v":""},null,null,null,null,{"$f":"IF(請求書表紙納品検収書入力印刷画面!AP42=\"\",\"\",請求書表紙納品検収書入力印刷画面!AP42)","v":""},null,null,null,null,{"$f":"IF(請求書表紙納品検収書入力印刷画面!AY41=TRUE,\"■\",\"□\")","v":"□"}]
[null,{"$f":"IF(請求書表紙納品検収書入力印刷画面!B43=\"\",\"\",請求書表紙納品検収書入力印刷画面!B43)","v":""},null,null,{"$f":"IF(請求書表紙納品検収書入力印刷画面!E43=\"\",\"\",請求書表紙納品検収書入力印刷画面!E43)","v":""},null,null,null,null,null,null,null,null,null,null,null,null,{"$f":"IF(請求書表紙納品検収書入力印刷画面!Q43=\"\",\"\",請求書表紙納品検収書入力印刷画面!Q43)","v":""},null,null,null,null,{"$f":"IF(請求書表紙納品検収書入力印刷画面!V43=\"\",\"\",請求書表紙納品検収書入力印刷画面!V43)","v":""},null,null,null,null,{"$f":"IF(請求書表紙納品検収書入力印刷画面!AA43=\"\",\"\",請求書表紙納品検収書入力印刷画面!AA43)","v":""},null,null,null,null,{"$f":"IF(請求書表紙納品検収書入力印刷画面!AF43=\"\",\"\",請求書表紙納品検収書入力印刷画面!AF43)","v":""},null,null,null,null,{"$f":"IF(請求書表紙納品検収書入力印刷画面!AK43=\"\",\"\",請求書表紙納品検収書入力印刷画面!AK43)","v":""},null,null,null,null,{"$f":"IF(請求書表紙納品検収書入力印刷画面!AP43=\"\",\"\",請求書表紙納品検収書入力印刷画面!AP43)","v":""},null,null,null,null,{"$f":"IF(請求書表紙納品検収書入力印刷画面!AY42=TRUE,\"■\",\"□\")","v":"□"}]
[null,{"$f":"IF(請求書表紙納品検収書入力印刷画面!B44=\"\",\"\",請求書表紙納品検収書入力印刷画面!B44)","v":""},null,null,{"$f":"IF(請求書表紙納品検収書入力印刷画面!E44=\"\",\"\",請求書表紙納品検収書入力印刷画面!E44)","v":""},null,null,null,null,null,null,null,null,null,null,null,null,{"$f":"IF(請求書表紙納品検収書入力印刷画面!Q44=\"\",\"\",請求書表紙納品検収書入力印刷画面!Q44)","v":""},null,null,null,null,{"$f":"IF(請求書表紙納品検収書入力印刷画面!V44=\"\",\"\",請求書表紙納品検収書入力印刷画面!V44)","v":""},null,null,null,null,{"$f":"IF(請求書表紙納品検収書入力印刷画面!AA44=\"\",\"\",請求書表紙納品検収書入力印刷画面!AA44)","v":""},null,null,null,null,{"$f":"IF(請求書表紙納品検収書入力印刷画面!AF44=\"\",\"\",請求書表紙納品検収書入力印刷画面!AF44)","v":""},null,null,null,null,{"$f":"IF(請求書表紙納品検収書入力印刷画面!AK44=\"\",\"\",請求書表紙納品検収書入力印刷画面!AK44)","v":""},null,null,null,null,{"$f":"IF(請求書表紙納品検収書入力印刷画面!AP44=\"\",\"\",請求書表紙納品検収書入力印刷画面!AP44)","v":""},null,null,null,null,{"$f":"IF(請求書表紙納品検収書入力印刷画面!AY43=TRUE,\"■\",\"□\")","v":"□"}]
[null,{"$f":"IF(請求書表紙納品検収書入力印刷画面!B45=\"\",\"\",請求書表紙納品検収書入力印刷画面!B45)","v":""},null,null,{"$f":"IF(請求書表紙納品検収書入力印刷画面!E45=\"\",\"\",請求書表紙納品検収書入力印刷画面!E45)","v":""},null,null,null,null,null,null,null,null,null,null,null,null,{"$f":"IF(請求書表紙納品検収書入力印刷画面!Q45=\"\",\"\",請求書表紙納品検収書入力印刷画面!Q45)","v":""},null,null,null,null,{"$f":"IF(請求書表紙納品検収書入力印刷画面!V45=\"\",\"\",請求書表紙納品検収書入力印刷画面!V45)","v":""},null,null,null,null,{"$f":"IF(請求書表紙納品検収書入力印刷画面!AA45=\"\",\"\",請求書表紙納品検収書入力印刷画面!AA45)","v":""},null,null,null,null,{"$f":"IF(請求書表紙納品検収書入力印刷画面!AF45=\"\",\"\",請求書表紙納品検収書入力印刷画面!AF45)","v":""},null,null,null,null,{"$f":"IF(請求書表紙納品検収書入力印刷画面!AK45=\"\",\"\",請求書表紙納品検収書入力印刷画面!AK45)","v":""},null,null,null,null,{"$f":"IF(請求書表紙納品検収書入力印刷画面!AP45=\"\",\"\",請求書表紙納品検収書入力印刷画面!AP45)","v":""},null,null,null,null,{"$f":"IF(請求書表紙納品検収書入力印刷画面!AY44=TRUE,\"■\",\"□\")","v":"□"}]
[null,null,null,null,null,null,null,null,null,null,null,null,"計",null,null,null,null,{"$f":"IF(AT1=AV1,請求書表紙納品検収書入力印刷画面!$Q$47,\"－－－－－－ \")","v":"－－－－－－ "},null,null,null,null,{"$f":"IF(AT1=AV1,請求書表紙納品検収書入力印刷画面!$V$47,\"－－－－－－ \")","v":"－－－－－－ "},null,null,null,null,{"$f":"IF(AT1=AV1,請求書表紙納品検収書入力印刷画面!$AA$47,\"－－－－－－－ \")","v":"－－－－－－－ "},null,null,null,null,{"$f":"IF(AT1=AV1,請求書表紙納品検収書入力印刷画面!$AF$47,\"－－－－－－ \")","v":"－－－－－－ "},null,null,null,null,{"$f":"IF(AT1=AV1,請求書表紙納品検収書入力印刷画面!$AK$47,\"－－－－－－ \")","v":"－－－－－－ "},null,null,null,null,{"$f":"IF(AT1=AV1,請求書表紙納品検収書入力印刷画面!$AP$47,\"－－－－－－－ \")","v":"－－－－－－－ "}]

{"sheet":"設定","index":18,"n_rows":36,"n_cols":6,"rows_kept":36,"cut":false,"hidden":true,"merged":[]}
["最大頁",20," ← 明細を作成済の最大頁"]
["最終頁",0," ← 明細データが入力してある最終頁"]
["最終頁請求",0," ← 請求書表紙明細データが入力してある最終頁"]
[]
["明細削除",0," ← ０：無、１：有"]
["　　　コメント",{"$f":"IF(AND(削除モード=1,最大頁>20),\"（カーソルのある画面頁が削除されます）\",\"\")","v":""}," ← 1：削除モードの場合に表示される"]
["累計クリア",0," ← ０：無、１：有"]
["　　　コメント",{"$f":"IF(クリアモード=1,\"（前回までの請求累計額欄がクリアされます。）\",\"\")","v":""}," ← 1：クリアモードの場合に表示される"]
["印刷モード",0," ← ０：プリンタ選択、１：通常使うプリンタ"]
["プレビュー表示",0," ← ０：無、１：有"]
[]
["内訳明細ﾃﾞｰﾀ出力先","\\\\192.168.1.251\\CIWEB連携\\CIWEB_add"]
["出来高明細ﾃﾞｰﾀ出力先","Desktop"]
[]
[null,"印刷部数",null,"請求年","請求月","請求日"]
[null,1,null,2011,1,25]
[null,2,null,2012,2,26]
[null,3,null,2013,3,27]
[null,4,null,2014,4,28]
[null,5,null,2015,5,29]
[null,null,null,2016,6,30]
[null,null,null,2017,7,31]
[null,null,null,2018,8]
[null,null,null,2019,9]
[null,null,null,2020,10]
[null,null,null,2021,11]
[null,null,null,2022,12]
[null,null,null,2023]
[null,null,null,2024]
[null,null,null,2025]
[null,null,null,2026]
[null,null,null,2027]
[null,null,null,2028]
[null,null,null,2029]
[null,null,null,2030]
[null,null,null,2031]